Workbook

Sheet 1
F1: Հավելված N 1
F2: ՀՀ կառավարության
F3: 2018 թվականի ----- N ----Ն որոշման
A5: «ՀԱՅԱՍՏԱՆԻ ՀԱՆՐԱՊԵՏՈՒԹՅԱՆ 2018 ԹՎԱԿԱՆԻ ՊԵՏԱԿԱՆ ԲՅՈՒՋԵԻ ՄԱՍԻՆ» ՀԱՅԱՍՏԱՆԻ ՀԱՆՐԱՊԵՏՈՒԹՅԱՆ ՕՐԵՆՔԻ N 1 ՀԱՎԵԼՎԱԾՈՒՄ ԿԱՏԱՐՎՈՂ ՎԵՐԱԲԱՇԽՈՒՄԸ ԵՎ ՀԱՅԱՍՏԱՆԻ ՀԱՆՐԱՊԵՏՈՒԹՅԱՆ ԿԱՌԱՎԱՐՈՒԹՅԱՆ 2017 ԹՎԱԿԱՆԻ ԴԵԿՏԵՄԲԵՐԻ 28-Ի N 1717-Ն ՈՐՈՇՄԱՆ N 5 ՀԱՎԵԼՎԱԾՈՒՄ ԿԱՏԱՐՎՈՂ ՓՈՓՈԽՈՒԹՅՈՒՆՆԵՐԸ ԵՎ ԼՐԱՑՈՒՄԸ
A7: Բաժինը | B7: Խումբը | C7: Դասը | D7: Բյուջետային ծախսերի գործառական դասակարգման բաժինների, խմբերի և դասերի անվանումները | E7: Ցուցանիշների փոփոխությունը (ավելացումները նշված են դրական նշանով, իսկ նվազեցումները` փակագծերում)
E8: Ինն ամիս | F8: Տարի
A9: 1 | B9: 2 | C9: 3 | D9: 4 | E9: 5 | F9: 6
D10: ԸՆԴԱՄԵՆԸ` ԾԱԽՍԵՐ | E10: =+ROUND(E12+E26,1) -> 0 | F10: =+ROUND(F12+F26,1) -> 0
D11: այդ թվում`
A12: 07 | D12: ԱՌՈՂՋԱՊԱՀՈՒԹՅՈՒՆ | E12: =+E14 -> -2057.3 | F12: =+F14 -> -2057.3
D13: այդ թվում`
B14: 06 | D14: Առողջապահություն (այլ դասերին չպատկանող) | E14: =E16 -> -2057.3 | F14: =F16 -> -2057.3
D15: այդ թվում`
C16: 01 | D16: Առողջապահական հարակից ծառայություններ և ծրագրեր | E16: =+E18+E22 -> -2057.3 | F16: =+F18+F22 -> -2057.3
D17: այդ թվում`
D18: 04. Առողջ ապրելակերպի խթանման և հանրային իրազեկման ծառայություններ | E18: =E19 -> -10000 | F18: =F19 -> -22057.3
D19: ՀՀ առողջապահության նախարարություն | E19: =E21 -> -10000 | F19: =F21 -> -22057.3
D20: որից`
D21: Ընդհանուր բնույթի այլ ծառայություններ | E21: -10000 | F21: -22057.3
D22: 05. Բժշկական օգնության մասնագիտական, խորհրդատվական և կազմակերպամեթոդական աջակցության ծառայություններ | E22: =E23 -> 7942.7 | F22: =F23 -> 20000
D23: ՀՀ առողջապահության նախարարություն | E23: =E25 -> 7942.7 | F23: =F25 -> 20000
D24: որից`
D25: Ընդհանուր բնույթի այլ ծառայություններ | E25: 7942.7 | F25: 20000
A26: 11 | D26: ՀԻՄՆԱԿԱՆ ԲԱԺԻՆՆԵՐԻՆ ՉԴԱՍՎՈՂ ՊԱՀՈՒՍՏԱՅԻՆ ՖՈՆԴԵՐ | E26: =E28 -> 2057.3 | F26: =F28 -> 2057.3
D27: որից`
B28: 01 | D28: ՀՀ կառավարության և համայնքների պահուստային ֆոնդ | E28: =E30 -> 2057.3 | F28: =F30 -> 2057.3
D29: որից`
C30: 01 | D30: ՀՀ կառավարության պահուստային ֆոնդ | E30: =E32 -> 2057.3 | F30: =F32 -> 2057.3
D31: այդ թվում`
D32: 01. ՀՀ կառավարության պահուստային ֆոնդ | E32: =E33 -> 2057.3 | F32: =F33 -> 2057.3
D33: ՀՀ կառավարություն | E33: 2057.3 | F33: 2057.3

Sheet 2
G1: Հավելված N 2
G2: ՀՀ կառավարության
G3: 2018 թվականի ----- N ----Ն որոշման
G4: Աղյուսակ 1
A5: ՀԱՅԱՍՏԱՆԻ ՀԱՆՐԱՊԵՏՈՒԹՅԱՆ ԿԱՌԱՎԱՐՈՒԹՅԱՆ 2017 ԹՎԱԿԱՆԻ ԴԵԿՏԵՄԲԵՐԻ 28-Ի N 1717-Ն ՈՐՈՇՄԱՆ N 11 ՀԱՎԵԼՎԱԾԻ N 11.9 ԱՂՅՈՒՍԱԿՈՒՄ ԿԱՏԱՐՎՈՂ ՓՈՓՈԽՈՒԹՅՈՒՆՆԵՐԸ
A7: Չափորոշիչներ | D7: Ցուցանիշների փոփոխությունը (ավելացումները նշված են դրական նշանով, իսկ նվազեցումները` փակագծերում)
D8: ոչ ֆինանսական ցուցանիշներ | F8: ֆինանսական ցուցանիշներ
D9: Ինն ամիս | E9: Տարի | F9: Ինն ամիս | G9: Տարի
A10: ՄԱՍ Բ: Կառավարչական հիմնարկի անմիջական գործունեության արդյունքները
A11: 2.Հանրային սեփականության կառավարման արդյունքների ցուցանիշները
A12: 2.1 Կարողությունների զարգացում
A13: 2.1.1 Ֆիզիկական կապիտալ, կառավարչական հիմնարկի կողմից ուղղակիորեն օգտագործվող ակտիվներ (ակտիվների ձեռքբերում, կաուցում կամ հիմնանորոգւմ)
A14: Ծրագրային դասիչը | C14: Ակտիվի անվանումը
C15: Վարչական սարքավորումներ
C16: Նկարագրությունը
C17: ՀՀ առողջապահության նախարարության աշխատակազմի հեռախոսակապի ապահովման նպատակով անհրաժեշտ հեռախոսների ձեռքբերում
A18: 1001 | B18: ԿՀ 17
A19: Չափորոշիչներ
A20: Քանակական | C20: Հեռախոսներ | D20: 65 | E20: 65
A21: Տվյալ տարվա պետական բյուջեից ակտիվի ձեռբերման ծախսերը (հազար դրամ) | D21: X | E21: X | F21: =+F23 -> 2057.3 | G21: =+G23 -> 2057.3
A22: Ակտիվի ծառայության կանխատեսվող ժամկետը
A23: Ակտիվի ընդհանուր արժեքը (հազար դրամ) | F23: =+'1'!E33 -> 2057.3 | G23: =+'1'!F33 -> 2057.3
A24: Տվյալ բյուջետային տարվան նախորդող բյուջետային տարիների ընթացքում ակտիվի վրա կատարված ծախսերը (հազար դրամ) | F24: 0 | G24: 0
A25: Ակտիվն օգտագործող կազմակերպության անվանումը
A26: ՀՀ առողջապահության նախարարություն
A27: Փոխարինվող ակտիվների նկարագրությունը
A28: Մշակված չէ
A29: Ազդեցությունը կազմակերպության կարողությունների զարգացման վրա, մասնավորապես
A30: Քանակական | C30: Մշակված չէ
A31: Ծախսային | C31: Մշակված չէ
A32: Ծրագիրը (ծրագրերը), որի (որոնց) շրջանակներում իրականացվում է քաղաքականության միջոցառումը
A33: 1001 Պետական քաղաքականության մշակման, ծրագրերի համակարգման և մոնիտորինգի ծրագիր
A34: Վերջնական արդյունքի նկարագրությունը
A35: Առողջապահական ծառայությունների որակի և մատչելիության բարձրացում, առողջապահական համակարգի գործունեության արդյունավետության բարձրացում
A36: ՄԱՍ Գ: Մարմնի ղեկավարի պատասխանատվության ներքո իրականացվող քաղաքականության միջոցառումների և ֆինանսական կառավարման արդյունքների ցուցանիշները
A37: 1. Քաղաքականության միջոցառումներ
A38: 1.1.Ծառայություններ
A39: Ծրագրային դասիչը | C39: Անվանումը
C40: Առողջ ապրելակերպի խթանման և հանրային իրազեկման ծառայություններ
C41: Նկարագրությունը
...

Sheet 3
E1: Հավելված N 2
E2: ՀՀ կառավարության
E3: 2018 թվականի ----- N ----Ն որոշման
E5: Աղյուսակ 2
A6: ՀԱՅԱՍՏԱՆԻ ՀԱՆՐԱՊԵՏՈՒԹՅԱՆ ԿԱՌԱՎԱՐՈՒԹՅԱՆ 2017 ԹՎԱԿԱՆԻ ԴԵԿՏԵՄԲԵՐԻ 28-Ի N 1717-Ն ՈՐՈՇՄԱՆ N 11 ՀԱՎԵԼՎԱԾԻ N 12 ԱՂՅՈՒՍԱԿՈՒՄ ԿԱՏԱՐՎՈՂ ՓՈՓՈԽՈՒԹՅՈՒՆԸ
A8: ՀՀ առողջապահության նախարարություն
A9: Բաժին 2
A10: Գերատեսչության կողմից իրականացվող քաղաքականության միջոցառումների ծրագրային խմբավորումը
A11: Ծրագրային դասիչը | C11: Գործառական դասիչը (բաժին/խումբ/դաս) | D11: Ծրագիրը/քաղաքականության միջոցառումը | E11: ՀՀ 2018 թվականի պետական բյուջե (հազար դրամ)
A12: ծրագիրը | B12: միջոցառումը | E12: Ցուցանիշների փոփոխությունը (ավելացումները նշված են դրական նշանով, իսկ նվազեցումները` փակագծերում)
A13: 1001 | D13: ԾՐԱԳԻՐ
D14: Պետական քաղաքականության մշակման, ծրագրերի համակարգման և մոնիտորինգի ծրագիր | E14: =+E20+E25 -> -20000
D15: Ծրագրի նկարագրությունը
D16: Քաղաքականության մշակման և դրա կատարման համակարգման, պետական ծրագրերի պլանավորման, մշակման, իրականացման և մոնիտորինգի (վերահսկման) ծառայություններ
D17: Վերջնական արդյունքի նկարագրությունը
D18: Ծրագիրը նպաստում է ՀՀ նախարարության կողմից իրականացվող ծրագրերի գծով նախատեսված արդյունքների ապահովմանը
D19: Քաղաքականության միջոցառումներ. Ծառայություններ
B20: =+'2'!B43 -> ԱԾ17 | D20: =+'2'!C40 -> Առողջ ապրելակերպի խթանման և հանրային իրազեկման ծառայություններ | E20: =+'2'!G49 -> -22057.3
D21: Մատուցվող ծրագրի նկարագրությունը
D22: =+'2'!C42 -> Ամենամյա պետական նպատակային ծրագրերի շրջանակներում «Պետության կողմից երաշխավորված անվճար բժշկական օգնության և սպասարկման մասին» ՀՀ կառավարության որոշման ու դրանից բխող` ՀՀ առողջապահության նախարարության կողմից մշակված և ընդունված նորմատիվային ակտերի լուսաբանման աշխատանքներ
D23: Ծառայություն մատուցող անվանումը
D24: =+'2'!A55 -> Առողջապահական կազմակերպություններ, ԶԼՄ-ներ
B25: =+'2'!B18 -> ԿՀ 17 | D25: Ակտիվի անվանումը | E25: =+'2'!G23 -> 2057.3
D26: Վարչական սարքավորումներ
D27: Ակտիվի նկարագրությունը
D28: =+'2'!C17 -> ՀՀ առողջապահության նախարարության աշխատակազմի հեռախոսակապի ապահովման նպատակով անհրաժեշտ հեռախոսների ձեռքբերում
A29: 1142 | D29: ԾՐԱԳԻՐ
D30: Բժշկական օգնություն, հարբժշկական, փորձագիտական ծառայությունների ծրագիր | E30: =+E36 -> 20000
D31: Ծրագրի նկարագրությունը
D32: Բժշկական օգնություն և ծառայություններ հանրապետության բարձրաստիճան պաշտոնյաների համար, հատուկ խմբերում ընդգրկված անձանց պրոթեզավորում, պաթանատոմիական, դատական և գենետիկական փորձաքննություններ և այլ ծառայություններ
D33: Վերջնական արդյունքի նկարագրությունը
D34: Բնակչության առողջության պահպանում, բարելավում, հիվանդությունների արգելակում և հակադարձում, բուժօգնության և ծառայությունների որակի ու մատչելիության բարձրացում
D35: Քաղաքականության միջոցառումներ. Ծառայություններ
B36: =+'2'!B60 -> ԱԾ04 | D36: =+'2'!C57 -> Բժշկական օգնության մասնագիտական, խորհրդատվական և կազմակերպամեթոդական աջակցության ծառայություններ | E36: =+'2'!G72 -> 20000
D37: Մատուցվող ծրագրի նկարագրությունը
D38: =+'2'!C59 -> Կազմակերպչամեթոդական օգնության ծառայություններ, կլինիկական ու բժշկատնտեսագիտական ստանդարտների մշակման, առողջապահության ոլորտի նորմատիվային բազայի բարելավման ծառայություններ: Բնակչության առողջության պահպանման առողջապահության ոլորտի կազմակերպման մեթոդական հարցերի, ձեռնարկների մշակում տպագրում
D39: Ծառայություն մատուցող անվանումը
D40: =+'2'!A78 -> Առողջապահական կազմակերպություններ (դիսպանսերներ, «Ակադեմիկոս Ս. Խ. Ավդալμեկյանի անվան առողջապահության ազգային ինստիտուտ» ՓԲԸ, այլ կազմակերպություններ)

Sheet 4
J1: Հավելված N 3
J2: ՀՀ կառավարության
J3: 2018 թվականի ----- N ----Ն որոշման
B5: ՀԱՅԱՍՏԱՆԻ ՀԱՆՐԱՊԵՏՈՒԹՅԱՆ ԿԱՌԱՎԱՐՈՒԹՅԱՆ 2017 ԹՎԱԿԱՆԻ ԴԵԿՏԵՄԲԵՐԻ 28-Ի N 1717-Ն ՈՐՈՇՄԱՆ N 12 ՀԱՎԵԼՎԱԾՈՒՄ ԿԱՏԱՐՎՈՂ ՓՈՓՈԽՈՒԹՅՈՒՆՆԵՐԸ
B6: ՀՀ առողջապահության նախարարություն
B8: Գնման առարկայի | F8: Գնման ձևը (ընթացակարգը) | G8: Չափի միավորը | H8: Միավորի գինը (ՀՀ դրամ) | I8: Քանակը | J8: Ցուցանիշների փոփոխությունը (ավելացումները նշված են դրական նշանով, իսկ նվազեցումները` փակագծերում) (հազ. դրամ)
B9: Միջանցիկ կոդը` ըստ CPV դասակարգման | C9: անվանումը
B10: 1 | C10: 2 | F10: 3 | G10: 4 | H10: 5 | I10: 6 | J10: 7
B11: Բաժին 07 | C11: Խումբ 06 | D11: Դաս 01 | E11: Առողջապահական հարակից ծառայություններ և ծրագրեր | J11: =J12+J15 -> -2057.3
B12: =+'1'!D18 -> 04. Առողջ ապրելակերպի խթանման և հանրային իրազեկման ծառայություններ | J12: =+J13 -> -22057.3
C13: ՄԱՍ III.ԾԱՌԱՅՈՒԹՅՈՒՆՆԵՐ | J13: =+J14 -> -22057.3
B14: 85141290-1 | C14: բժշկական վերլուծության ծառայություններ | F14: ԳՀ | G14: դրամ | H14: =+J14*1000 -> -22057300 | I14: 1 | J14: -22057.3
B15: =+'1'!D22 -> 05. Բժշկական օգնության մասնագիտական, խորհրդատվական և կազմակերպամեթոդական աջակցության ծառայություններ | J15: =+J16 -> 20000
C16: ՄԱՍ III.ԾԱՌԱՅՈՒԹՅՈՒՆՆԵՐ | J16: =+J17 -> 20000
B17: 85141290-1 | C17: բժշկական վերլուծության ծառայություններ | F17: ՄԱ | G17: դրամ | H17: =+J17*1000 -> 20000000 | I17: 1 | J17: 20000
B18: Բաժին 11 | C18: Խումբ 01 | D18: Դաս 01 | E18: ՀՀ կառավարության պահուստային ֆոնդ | J18: =J19 -> 2057.3
B19: 1. ՀՀ կառավարության պահուստային ֆոնդ | J19: =+J20 -> 2057.3
C20: ՄԱՍ I. ԱՊՐԱՆՔՆԵՐ | J20: =+J21 -> 2057.3
B21: 32551190-301 | C21: հանրային հեռախոսներ | F21: ԳՀ | G21: հատ | H21: 31650 | I21: 65 | J21: 2057.3
