Workbook
Name AgencyCode: #REF!
Name AgencyCode: #REF!
Name AgencyCode: #REF!
Name AgencyCode: #REF!
Name AgencyCode: #REF!
Name AgencyName: #REF!
Name AgencyName: #REF!
Name AgencyName: #REF!
Name AgencyName: #REF!
Name davit: #REF!
Name davit: #REF!
Name davit: #REF!
Name Functional1: #REF!
Name Functional1: #REF!
Name Functional1: #REF!
Name Functional1: #REF!
Name ggg: #REF!
Name ggg: #REF!
Name ggg: #REF!
Name PANature: #REF!
Name PANature: #REF!
Name PANature: #REF!
Name PANature: #REF!
Name PAType: #REF!
Name PAType: #REF!
Name PAType: #REF!
Name PAType: #REF!
Name Performance2: #REF!
Name Performance2: #REF!
Name Performance2: #REF!
Name Performance2: #REF!
Name PerformanceType: #REF!
Name PerformanceType: #REF!
Name PerformanceType: #REF!
Name PerformanceType: #REF!
Name Հավելված: #REF!
Name Հավելված: #REF!
Name Հավելված: #REF!
Name Մաս: #REF!
Name Մաս: #REF!
Name Մաս: #REF!
Name շախմատիստ: #REF!
Name շախմատիստ: #REF!
Name շախմատիստ: #REF!

Sheet Havelvats 1
C1: Հավելված N 1
C2: ՀՀ կառավարության 2020 թվականի
C3: ______________ ի ___Ն որոշման
A5: «ՀԱՅԱUՏԱՆԻ ՀԱՆՐԱՊԵՏՈՒԹՅԱՆ 2020 ԹՎԱԿԱՆԻ ՊԵՏԱԿԱՆ ԲՅՈՒՋԵԻ ՄԱUԻՆ» ՀԱՅԱUՏԱՆԻ ՀԱՆՐԱՊԵՏՈՒԹՅԱՆ OՐԵՆՔԻ N 1 ՀԱՎԵԼՎԱԾԻ N 2 ԱՂՅՈՒՍԱԿՈՒՄ ԿԱՏԱՐՎՈՂ ՎԵՐԱԲԱՇԽՈՒՄԸ ԵՎ ՀԱՅԱՍՏԱՆԻ ՀԱՆՐԱՊԵՏՈՒԹՅԱՆ ԿԱՌԱՎԱՐՈՒԹՅԱՆ 2019 ԹՎԱԿԱՆԻ ԴԵԿՏԵՄԲԵՐԻ 26-Ի N 1919-Ն ՈՐՈՇՄԱՆ N 5 ՀԱՎԵԼՎԱԾԻ N 1 ԱՂՅՈՒՍԱԿՈՒՄ ԿԱՏԱՐՎՈՂ ՓՈՓՈԽՈՒԹՅՈՒՆՆԵՐԸ ԵՎ ԼՐԱՑՈՒՄՆԵՐԸ
D7: հազ. դրամներով
A8: Ծրագրային դասիչը | C8: Բյուջետային հատկացումների գլխավոր կարգադրիչների, ծրագրերի և միջոցառումների անվանումները
A9: Ծրագիր | B9: Միջոցառում | D9: Ինն ամիս | E9: Տարի
A10: 1192 | C10: ԸՆԴԱՄԵՆԸ | D10: =+D12+D180 -> 0 | E10: =+E12+E180 -> 0
C11: այդ թվում
B12: ՀՀ Կրթության, գիտության, մշակույթի և սպորտի նախարարություն | D12: =+D14+D27+D46+D59+D78+D91+D104+D117+D130+D155+D168 -> 0 | E12: =+E14+E27+E46+E59+E78+E91+E104+E117+E130+E155+E168 -> 0
A13: 1045 | C13: Ծրագրի անվանումը`
C14: Նախնական (արհեստագործական) և միջին մասնագիտական կրթություն | D14: =+D21 -> 0 | E14: =+E21 -> 20858.7
C15: Ծրագրի նպատակը`
C16: Աշխատաշուկայի արդի պահանջներին համապատասխան նախնական մասնագիտական (արհեստագործական) և միջին մասնագիտական կրթության որակավորում ունեցող մասնագետների պատրաստում, կրթության մատչելիության ապահովում:
C17: Վերջնական արդյունքի նկարագրությունը`
C18: Նախնական (արհեստագործական) և միջին մասնագիտական կրթության գրավչության բարձրացում, մատչելի և մրցունակ նախնական (արհեստագործական) և միջին մասնագիտական կրթության ապահովում
C19: Ծրագրի միջոցառումներ
B20: 32001 | C20: Միջոցառման անվանումը`
C21: Նախնական մասնագիտական (արհեստագործական) և միջին մասնագիտական ուսումնական հաստատությունների շենքային պայմանների բարելավում | D21: 0 | E21: =+'Havelvats 4'!F12+'Havelvats 5'!G12 -> 20858.7
C22: Միջոցառման նկարագրությունը`
C23: ՆՄՄԿՈՒ հաստատությունների շենքերի հիմնանորոգման և նախագծման (շինարարական աշխատանքներ, ջեռուցման համակարգի ստեղծում, ներքին հարդարում, տարածքի բարեկարգում) աշխատանքների իրականացում
C24: Միջոցառման տեսակը
C25: Այլ պետական կազմակերպությունների կողմից օգտագործվող ոչ ֆինանսական ակտիվների հետ գործառնություններ
A26: 1056 | C26: Ծրագրի անվանումը`
C27: Կինեմատոգրաֆիայի ծրագիր | D27: =+D34+D40 -> 0 | E27: =+E34+E40 -> 67715.7
C28: Ծրագրի նպատակը`
C29: Կինոարվեստին և կինոարտադրությանն աջակցություն, հայկական ավանդույթների շարունակականության ապահովում և կինոարվեստի հանրահռչակում
C30: Վերջնական արդյունքի նկարագրությունը`
C31: Կինոարտադրության ընդլայնում և տարածում, հասարակության կինոհաղորդակցության բարելավում
C32: Ծրագրի միջոցառումներ
B33: 11001 | C33: Միջոցառման անվանումը`
C34: Կինոնկարների արտադրություն | D34: =+'Havelvats 4'!E12 -> 0 | E34: -35000
C35: Միջոցառման նկարագրությունը`
C36: Խաղարկային, մուլտիպլիկացիոն և վավերագրական կինոնկարների արտադրություն
C37: Միջոցառման տեսակը
C38: Ծառայությունների մատուցում
B39: 32001 | C39: Միջոցառման անվանումը`
C40: Ներդրումներ «Հայաստանի ազգային կինոկենտրոն» ՊՈԱԿ-ի տարածքի վերակառուցման համար | D40: 0 | E40: =+'Havelvats 2 '!H84 -> 102715.7
C41: Միջոցառման նկարագրությունը`
C42: «Հայաստանի ազգային կինոկենտրոն» ՊՈԱԿ-ի տարածքի վերակառուցման նախագծանախահաշվային փաստաթղթերի մշակում
...

Sheet Havelvats 2 
F1: Հավելված N 2
F2: ՀՀ կառավարության 2020 թվականի
F3: ______________ ի ___Ն որոշման
A5: ՀԱՅԱՍՏԱՆԻ ՀԱՆՐԱՊԵՏՈՒԹՅԱՆ ԿԱՌԱՎԱՐՈՒԹՅԱՆ 2019 ԹՎԱԿԱՆԻ ԴԵԿՏԵՄԲԵՐԻ 26-Ի N 1919-Ն ՈՐՈՇՄԱՆ N 3 ԵՎ N 4 ՀԱՎԵԼՎԱԾՆԵՐՈՒՄ ԿԱՏԱՐՎՈՂ ՓՈՓՈԽՈՒԹՅՈՒՆՆԵՐԸ ԵՎ ԼՐԱՑՈՒՄՆԵՐԸ
G7: հազ. դրամներով
A8: Գործառական դասիչը | D8: Ծրագրային դասիչը | F8: Բյուջետային հատկացումների գլխավոր կարգադրիչների, ծրագրերի, միջոցառումների և միջոցառումները կատարող պետական մարմինների անվանումները
A9: Բաժին | B9: Խումբ | C9: Դաս | D9: Ծրագիր | E9: Միջոցառում | G9: Ինն ամիս | H9: Տարի
F10: ԸՆԴԱՄԵՆԸ | G10: =+G12+G243 -> 0 | H10: =+H12+H243 -> 0
F11: այդ թվում
F12: ՀՀ Կրթության, գիտության, մշակույթի և սպորտի նախարարություն | G12: =+G13+G110 -> 0 | H12: =+H13+H110 -> 0
A13: 08 | F13: ՀԱՆԳԻՍՏ, ՄՇԱԿՈՒՅԹ ԵՎ ԿՐՈՆ | G13: =+G15+G93 -> -24520.2 | H13: =+H15+H93 -> -67728.8
F14: այդ թվում`
B15: 02 | F15: Մշակութային ծառայություններ | G15: =+G17+G32+G69 -> -21296.6 | H15: =+H17+H32+H69 -> -64505.2
F16: այդ թվում`
C17: 02 | F17: Թանգարաններ և ցուցասրահներ | G17: =+G19 -> 2983.1 | H17: =+H19 -> 2983.1
F18: այդ թվում`
F19: ՀՀ կրթության, գիտության, մշակույթի և սպորտի նախարարություն | G19: =+G21 -> 2983.1 | H19: =+H21 -> 2983.1
F20: այդ թվում`
D21: 1075 | E21: Մշակութային ժառանգության ծրագիր | G21: =+G23 -> 2983.1 | H21: =+H23 -> 2983.1
E22: 32002 | F22: այդ թվում`
F23: «Պատմամշակութային ժառանգության գիտահետազոտական կենտրոն» ՊՈԱԿ-ի նյութատեխնիկական բազայի համալրում և գույքով ապահովում | G23: =G25 -> 2983.1 | H23: =H25 -> 2983.1
F24: այդ թվում`ըստ կատարողների
F25: ՀՀ կրթության, գիտության, մշակույթի և սպորտի նախարարություն | G25: =G27 -> 2983.1 | H25: =H27 -> 2983.1
F26: այդ թվում`բյուջետային ծախսերի տնտեսագիտական դասակարգման հոդվածներ
F27: ԸՆԴԱՄԵՆԸ ԾԱԽՍԵՐ | G27: =+G28 -> 2983.1 | H27: =+H28 -> 2983.1
F28: ԸՆԹԱՑԻԿ ԾԱԽՍԵՐ | G28: =G29 -> 2983.1 | H28: =H29 -> 2983.1
F29: ԴՐԱՄԱՇՆՈՐՀՆԵՐ | G29: =G30 -> 2983.1 | H29: =H30 -> 2983.1
F30: Կապիտալ դրամաշնորհներ պետական հատվածի այլ մակարդակներին | G30: =G31 -> 2983.1 | H30: =H31 -> 2983.1
F31: - Կապիտալ դրամաշնորհներ պետական և համայնքային ոչ առևտրային կազմակերպություններին | G31: =+'Havelvats 5'!G20 -> 2983.1 | H31: =+G31+0 -> 2983.1
C32: 05 | F32: Արվեստ | G32: =+G34 -> -24279.7 | H32: =+H34 -> -135204
F33: այդ թվում`
F34: ՀՀ կրթության, գիտության, մշակույթի և սպորտի նախարարություն | G34: =+G36 -> -24279.7 | H34: =+H36 -> -135204
F35: այդ թվում`
D36: 1168 | E36: Արվեստների ծրագիր | G36: =+G38+G51+G60 -> -24279.7 | H36: =+H38+H51+H60 -> -135204
E37: 32001 | F37: այդ թվում`
F38: Ներդրումներ թատրոնների շենքերի կապիտալ վերանորոգման համար | G38: =G40 -> -29802.9 | H38: =H40 -> 29475.3
F39: այդ թվում`ըստ կատարողների
F40: ՀՀ կրթության, գիտության, մշակույթի և սպորտի նախարարություն | G40: =G42 -> -29802.9 | H40: =H42 -> 29475.3
F41: այդ թվում`բյուջետային ծախսերի տնտեսագիտական դասակարգման հոդվածներ
F42: ԸՆԴԱՄԵՆԸ ԾԱԽՍԵՐ | G42: =+G43+G47 -> -29802.9 | H42: =+H43+H47 -> 29475.3
...

Sheet Havelvats 3
F1: Հավելված N 3
F2: ՀՀ կառավարության 2020 թվականի
F3: ______________ ի ___Ն որոշման
A5: «ՀԱՅԱUՏԱՆԻ ՀԱՆՐԱՊԵՏՈՒԹՅԱՆ 2020 ԹՎԱԿԱՆԻ ՊԵՏԱԿԱՆ ԲՅՈՒՋԵԻ ՄԱUԻՆ» ՀԱՅԱUՏԱՆԻ ՀԱՆՐԱՊԵՏՈՒԹՅԱՆ OՐԵՆՔԻ N 1 ՀԱՎԵԼՎԱԾԻ N 3 ԱՂՅՈՒՍԱԿՈՒՄ ԿԱՏԱՐՎՈՂ ՓՈՓՈԽՈՒԹՅՈՒՆՆԵՐԸ ԵՎ ԼՐԱՑՈՒՄԸ
G8: հազ. դրամներով
A9: Ծրագրային դասիչ | C9: Բյուջետային գլխավոր կարգադրիչների, ծրագրերի, միջոցառումների և ուղղությունների անվանումները | D9: Ընդամենը, | E9: այդ թվում՝
A10: Ծրագիր | B10: Միջոցառում | E10: Կառուցման աշխատանքներ | F10: Վերակառուցման, վերանորոգման և վերականգնման աշխատանքներ | G10: Նախագծահե- տազոտական, գեոդեզիա- քարտեզագրա- կան աշխա- տանքներ | H10: Ոչ ֆինանսական այլ ակտիվների ձեռքբերում
C11: ԸՆԴԱՄԵՆԸ | D11: =SUM(E11:H11) -> -232037 | E11: =+E13 -> -191744.3 | F11: =+F13 -> -38692.7 | G11: =+G13 -> -1600 | H11: =+H13 -> 0
C12: այդ թվում՝
C13: ՀՀ ԿՐԹՈՒԹՅԱՆ, ԳԻՏՈՒԹՅԱՆ, ՄՇԱԿՈՒՅԹԻ ԵՎ ՍՊՈՐՏԻ ՆԱԽԱՐԱՐՈՒԹՅՈՒՆ | D13: =SUM(E13:H13) -> -232037 | E13: =+E15+E19+E23+E27+E28 -> -191744.3 | F13: =+F15+F19+F23+F27+F28 -> -38692.7 | G13: =+G15+G19+G23+G27+G28 -> -1600 | H13: =+H15+H19+H23+H27+H28 -> 0
C14: այդ թվում`
A15: 1045 | B15: 32001 | C15: Նախնական մասնագիտական (արհեստագործական) և միջին մասնագիտական ուսումնական հաստատությունների շենքային պայմանների բարելավում | D15: =SUM(E15:H15) -> -8141.3 | E15: =+E17 -> 0 | F15: =+F17 -> -8141.3 | G15: =+G17 -> 0 | H15: =+H17 -> 0
C16: այդ թվում`
C17: ՀՀ Լոռու մարզ | D17: =SUM(E17:H17) -> -8141.3 | F17: =+F18 -> -8141.3
C18: ք. Վանաձորի գյուղատնտեսական պետական քոլեջի վերակառուցում | D18: =+E18+F18+G18+H18 -> -8141.3 | F18: -8141.3
A19: 1163 | B19: 32001 | C19: Մարզական օբյեկտների շինարարություն | D19: =SUM(E19:H19) -> -785.4 | E19: =+E21 -> -785.4 | F19: =+F21 -> 0 | G19: =+G21 -> 0 | H19: =+H21 -> 0
C20: այդ թվում`
C21: Երևան քաղաք | D21: =SUM(E21:H21) -> -785.4 | E21: =+E22 -> -785.4
C22: Օլիմպիական հերթափոխի պետական մարզական քոլեջի հանրակացարանային նոր մասնաշենք | D22: =+E22+F22+G22+H22 -> -785.4 | E22: -785.4
A23: 1168 | B23: 32001 | C23: Ներդրումներ թատրոնների շենքերի կապիտալ վերանորոգման համար | D23: =SUM(E23:H23) -> -29802.9 | E23: =+E25 -> 0 | F23: =+F25 -> -29802.9 | G23: =+G25 -> 0 | H23: =+H25 -> 0
C24: այդ թվում`
C25: Երևան քաղաք | D25: =SUM(E25:H25) -> -29802.9 | F25: =+F26 -> -29802.9
C26: «Գ. Սունդուկյանի անվան ազգային ակադեմիական թատրոն» ՊՈԱԿ | D26: =SUM(E26:H26) -> -29802.9 | F26: =+'Havelvats 8'!I13 -> -29802.9
A27: 1168 | B27: 32002 | C27: Ներդրումներ թատրոնների շենքերի կառուցման համար | D27: =SUM(E27:H27) -> -190958.9 | E27: -190958.9
A28: 1183 | B28: 32001 | C28: Կրթական օբյեկտների շենքային պայմանների բարելավում | D28: =SUM(E28:H28) -> -2348.5 | E28: =+E30+E32 -> 0 | F28: =+F30+F32 -> -748.5 | G28: =+G30+G32 -> -1600 | H28: =+H30+H32 -> 0
C29: այդ թվում`
C30: Երևան քաղաք | D30: =SUM(E30:H30) -> -748.5 | F30: =SUM(F31:F33) -> -748.5
C31: թիվ 22 հիմնական դպրոց | D31: =+E31+F31+G31+H31 -> -748.5 | F31: -748.5
C32: ՀՀ Գեղարքունիքի մարզ | D32: =SUM(E32:H32) -> -1600 | G32: =+G33 -> -1600
C33: «Վարդենիկի կրթահամալիր» ՊՈԱԿ | D33: =+E33+F33+G33+H33 -> -1600 | G33: -1600

Sheet Havelvats 4
D1: Հավելված N 4
D2: ՀՀ կառավարության 2020 թվականի
D3: ______________ ի ___Ն որոշման
B5: ՀԱՅԱՍՏԱՆԻ ՀԱՆՐԱՊԵՏՈՒԹՅԱՆ ԿԱՌԱՎԱՐՈՒԹՅԱՆ 2019 ԹՎԱԿԱՆԻ ԴԵԿՏԵՄԲԵՐԻ 26-Ի N 1919-Ն ՈՐՈՇՄԱՆ N 5 ՀԱՎԵԼՎԱԾԻ N 2 ԱՂՅՈՒՍԱԿՈՒՄ ԿԱՏԱՐՎՈՂ ՓՈՓՈԽՈՒԹՅՈՒՆՆԵՐԸ ԵՎ ԼՐԱՑՈՒՄԸ
F7: հազ. դրամներով
B8: Ծրագրային դասիչ | D8: Բյուջետային գլխավոր կարգադրիչների, ծրագրերի, միջոցառումների, միջոցառումները կատարող պետական մարմինների և ուղղությունների անվանումները | E8: Իննը ամիս | F8: Տարի
B9: Ծրագիր | C9: Միջոցառում
D10: ՀՀ ԿՐԹՈՒԹՅԱՆ, ԳԻՏՈՒԹՅԱՆ, ՄՇԱԿՈՒՅԹԻ ԵՎ ՍՊՈՐՏԻ ՆԱԽԱՐԱՐՈՒԹՅՈՒՆ | E10: =+E12+E18+E24+E30+E33 -> -29802.9 | F10: =+F12+F18+F24+F30+F33 -> -232037
D11: այդ թվում՝
B12: 1045 | C12: 32001 | D12: Նախնական մասնագիտական (արհեստագործական) և միջին մասնագիտական ուսումնական հաստատությունների շենքային պայմանների բարելավում | E12: =+E14 -> 0 | F12: =+F14 -> -8141.3
D13: այդ թվում` ըստ կատարողների
D14: ՀՀ քաղաքաշինության կոմիտե | E14: =+E16 -> 0 | F14: =+F16 -> -8141.3
D15: այդ թվում`ըստ ուղղությունների
D16: ՀՀ Լոռու մարզ | E16: =+E17 -> 0 | F16: =+F17 -> -8141.3
D17: ք. Վանաձորի գյուղատնտեսական պետական քոլեջի վերակառուցում | E17: 0 | F17: =+'Havelvats 3'!D18 -> -8141.3
B18: 1163 | C18: 32001 | D18: Մարզական օբյեկտների շինարարություն | E18: =+E20 -> 0 | F18: =+F20 -> -785.4
D19: այդ թվում` ըստ կատարողների
D20: ՀՀ քաղաքաշինության կոմիտե | E20: =+E22 -> 0 | F20: =+F22 -> -785.4
D21: այդ թվում`ըստ ուղղությունների
D22: Երևան քաղաք | E22: =+E23 -> 0 | F22: =+F23 -> -785.4
D23: Օլիմպիական հերթափոխի պետական մարզական քոլեջի հանրակացարանային նոր մասնաշենք | E23: 0 | F23: -785.4
B24: 1168 | C24: 32001 | D24: Ներդրումներ թատրոնների շենքերի կապիտալ վերանորոգման համար | E24: =+E26 -> -29802.9 | F24: =+F26 -> -29802.9
D25: այդ թվում` ըստ կատարողների
D26: ՀՀ կրթության, գիտության, մշակույթի և սպորտի նախարարություն | E26: =+E28 -> -29802.9 | F26: =+F28 -> -29802.9
D27: այդ թվում`ըստ ուղղությունների
D28: Երևան քաղաք | E28: =+E29 -> -29802.9 | F28: =+F29 -> -29802.9
D29: «Գ. Սունդուկյանի անվան ազգային ակադեմիական թատրոն» ՊՈԱԿ | E29: =+'Havelvats 3'!D26 -> -29802.9 | F29: =+E29 -> -29802.9
B30: 1168 | C30: 32002 | D30: Ներդրումներ թատրոնների շենքերի կառուցման համար | E30: =+E32 -> 0 | F30: =+F32 -> -190958.9
D31: այդ թվում` ըստ կատարողների
D32: ՀՀ կառավարություն | E32: 0 | F32: -190958.9
B33: 1183 | C33: 32001 | D33: Կրթական օբյեկտների շենքային պայմանների բարելավում | E33: =+E35 -> 0 | F33: =+F35 -> -2348.5
D34: այդ թվում` ըստ կատարողների
D35: ՀՀ քաղաքաշինության կոմիտե | E35: =+E37+E39 -> 0 | F35: =+F37+F39 -> -2348.5
D36: այդ թվում`ըստ ուղղությունների
D37: Երևան քաղաք | E37: =+E38 -> 0 | F37: =+F38 -> -748.5
D38: թիվ 22 հիմնական դպրոց | E38: 0 | F38: -748.5
D39: ՀՀ Գեղարքունիքի մարզ | E39: =+E40 -> 0 | F39: =+F40 -> -1600
D40: «Վարդենիկի կրթահամալիր» ՊՈԱԿ | F40: -1600

Sheet Havelvats 5
F1: Հավելված 5
F2: ՀՀ կառավարության 2020 թվականի
F3: ______________ ի ___Ն որոշման
A6: ՀԱՅԱՍՏԱՆԻ ՀԱՆՐԱՊԵՏՈՒԹՅԱՆ ԿԱՌԱՎԱՐՈՒԹՅԱՆ 2019 ԹՎԱԿԱՆԻ ԴԵԿՏԵՄԲԵՐԻ 26-Ի N 1919-Ն ՈՐՈՇՄԱՆ N 5 ՀԱՎԵԼՎԱԾԻ N 7 ԱՂՅՈՒՍԱԿՈՒՄ ԿԱՏԱՐՎՈՂ ՓՈՓՈԽՈՒԹՅՈՒՆՆԵՐԸ ԵՎ ԼՐԱՑՈՒՄՆԵՐԸ
G7: հազար դրամ
A8: Ծրագրային դասիչը | C8: Բյուջետային հատկացումների գլխավոր կարգադրիչների, ծրագրերի, միջոցառումների և միջոցառումները կատարող պետական մարմինների անվանումները | F8: Միջոցառումները կատարող պետական մարմինների և դրամաշնորհ ստացող տնտեսվարող սուբյեկտների անվանումները | G8: Ցուցանիշների փոփոխությունը (ավելացումները նշված են դրական նշանով)
A9: Ծրագիր | B9: Միջոցառում | G9: Տարի
A10: ՀՀ կրթության, գիտության, մշակույթի և սպորտի նախարարություն | G10: =+G11+G14+G19+G22+G27+G30+G37+G41 -> 236508.6
A11: 1045 | B11: Նախնական (արհեստագործական) և միջին մասնագիտական կրթություն | G11: =+G12 -> 29000
B12: 32001 | C12: Նախնական մասնագիտական (արհեստագործական) և միջին մասնագիտական ուսումնական հաստատությունների շենքային պայմանների բարելավում | F12: ՀՀ կրթության, գիտության, մշակույթի և սպորտի նախարարություն | G12: =+G13 -> 29000
F13: «Աբովյանի բազմագործառութային պետական քոլեջ» ՊՈԱԿ | G13: 29000
A14: 1056 | B14: Կինեմատոգրաֆիայի ծրագիր | G14: =+G15+G17 -> 67715.7
B15: 11001 | C15: Կինոնկարների արտադրություն | F15: ՀՀ կրթության, գիտության, մշակույթի և սպորտի նախարարություն | G15: =+G16 -> -35000
F16: «Հայաստանի ազգային կինոկենտրոն» ՊՈԱԿ | G16: -35000
B17: 32001 | C17: Ներդրումներ «Հայաստանի ազգային կինոկենտրոն» ՊՈԱԿ-ի տարածքի վերակառուցման համար | F17: ՀՀ կրթության, գիտության, մշակույթի և սպորտի նախարարություն | G17: =+G18 -> 102715.7
F18: «Հայաստանի ազգային կինոկենտրոն» ՊՈԱԿ | G18: 102715.7
A19: 1075 | B19: Մշակութային ժառանգության ծրագիր | G19: =+G20 -> 2983.1
B20: 32002 | C20: «Պատմամշակութային ժառանգության գիտահետազոտական կենտրոն» ՊՈԱԿ-ի նյութատեխնիկական բազայի համալրում և գույքով ապահովում | F20: ՀՀ կրթության, գիտության, մշակույթի և սպորտի նախարարություն | G20: =+G21 -> 2983.1
F21: «Պատմամշակութային ժառանգության գիտահետազոտական կենտրոն» ՊՈԱԿ | G21: 2983.1
A22: 1111 | B22: Բարձրագույն և հետբուհական մասնագիտական կրթության ծրագիր | G22: =+G23+G25 -> 60000
B23: 32002 | C23: Բարձրագույն ուսումնական հաստատությունների շենքերի նորոգում | F23: ՀՀ կրթության, գիտության, մշակույթի և սպորտի նախարարություն | G23: =+G24 -> 37490.3
F24: «Հայաստանի ազգային ագրարային համալսարան» հիմնադրամ | G24: 37490.3
B25: 32003 | C25: Բարձրագույն ուսումնական հաստատությունների և «Զեյթուն» ուսանողական ավան» հիմնադրամի նյութատեխնիկական բազայի համալրում և գույքով ապահովում | F25: ՀՀ կրթության, գիտության, մշակույթի և սպորտի նախարարություն | G25: =+G26 -> 22509.7
F26: «Հայաստանի ազգային ագրարային համալսարան» հիմնադրամ | G26: =60000-G24 -> 22509.7
A27: 1146 | B27: Հանրակրթության ծրագիր | G27: =+G28 -> 7766.5
B28: 11019 | C28: «Ազգային երգ ու պար» առարկայի ներդրում հանրակրթական ուսումնական հաստատություններում | F28: ՀՀ կրթության, գիտության, մշակույթի և սպորտի նախարարություն | G28: =+G29 -> 7766.5
F29: «Ազգային երգ ու պարի ակադեմիա» կրթամշակութային հիմնադրամ | G29: =7766.5 -> 7766.5
A30: 1168 | B30: Արվեստների ծրագիր | G30: =+G31+G34 -> 85557.8
B31: 32001 | C31: Ներդրումներ թատրոնների շենքերի կապիտալ վերանորոգման համար | F31: ՀՀ կրթության, գիտության, մշակույթի և սպորտի նախարարություն | G31: =SUM(G32:G33) -> 59278.2
F32: «Գ. Սունդուկյանի անվան ազգային ակադեմիական թատրոն» ՊՈԱԿ | G32: =(28128+11721)*1.2 -> 47818.8
F33: «Կ. Ստանիսլավսկու անվան ռուսական դրամատիկական թատրոն» ՊՈԱԿ | G33: =9549.5*1.2 -> 11459.4
B34: 32007 | C34: Թատերահամերգային կազմակերպությունների նյութատեխնիկական բազայի համալրում | F34: ՀՀ կրթության, գիտության, մշակույթի և սպորտի նախարարություն | G34: =SUM(G35:G36) -> 26279.6
F35: «Երևանի Հ. Թումանյանի անվան պետական տիկնիկային թատրոն» ՊՈԱԿ | G35: =17297*1.2 -> 20756.4
F36: «Ալ. Սպենդիարյանի անվան օպերային և բալետի ազգային ակադեմիական թատրոն» ՊՈԱԿ | G36: 5523.2
A37: 1183 | B37: Ապահով դպրոց | G37: =+G38 -> 47089.8
B38: 32001 | C38: Կրթական օբյեկտների շենքային պայմանների բարելավում | F38: ՀՀ կրթության, գիտության, մշակույթի և սպորտի նախարարություն | G38: =+G39+G40 -> 47089.8
F39: «ԵՊՀ-ին առընթեր Արտաշես Շահինյանի անվան ֆիզիկամաթեմատիկական հատուկ դպրոց» ՊՈԱԿ | G39: 35000
F40: «Իջևանի Գ. Անանյանի անվան ավագ դպրոց» ՊՈԱԿ | G40: 12089.8
A41: 1192 | B41: Կրթության որակի ապահովում | G41: =+G42 -> -63604.3
B42: 11009 | C42: Գնահատման և թեստավորման ծառայություններ | F42: ՀՀ կրթության, գիտության, մշակույթի և սպորտի նախարարություն | G42: =+G43 -> -63604.3
...

Sheet Havelvats 6
C1: Հավելված 6
C2: ՀՀ կառավարության 2020 թվականի
C3: ______________ ի ___Ն որոշման
B5: ՀԱՅԱՍՏԱՆԻ ՀԱՆՐԱՊԵՏՈՒԹՅԱՆ ԿԱՌԱՎԱՐՈՒԹՅԱՆ 2019 ԹՎԱԿԱՆԻ ԴԵԿՏԵՄԲԵՐԻ 26-Ի N 1919-Ն ՈՐՈՇՄԱՆ N 9 ՀԱՎԵԼՎԱԾԻ N 9.14 ԵՎ 9․47 ԱՂՅՈՒՍԱԿՆԵՐՈՒՄ ԿԱՏԱՐՎՈՂ ՓՈՓՈԽՈՒԹՅՈՒՆՆԵՐԸ ԵՎ ԼՐԱՑՈՒՄՆԵՐԸ
A8: Աղյուսակ 9․14
C9: ՀՀ կրթության, գիտության, մշակույթի և սպորտի նախարարություն
B10: ՄԱՍ 2. ՊԵՏԱԿԱՆ ՄԱՐՄՆԻ ԳԾՈՎ ԱՐԴՅՈՒՆՔԱՅԻՆ (ԿԱՏԱՐՈՂԱԿԱՆ) ՑՈՒՑԱՆԻՇՆԵՐԸ
B13: Ծրագրի դասիչը | C13: Ծրագրի անվանումը
B14: 1045 | C14: Նախնական (արհեստագործական) և միջին մասնագիտական կրթություն
B15: Ծրագրի միջոցառումները
B16: Ծրագրի դասիչը` | C16: 1045 | D16: Ցուցանիշների փոփոխությունը (նվազեցումները նշված են փակագծերում)
B17: Միջոցառման դասիչը` | C17: 32001 | D17: Ինն ամիս | E17: Տարի
B18: Միջոցառման անվանումը` | C18: Նախնական մասնագիտական (արհեստագործական) և միջին մասնագիտական ուսումնական հաստատությունների շենքային պայմանների բարելավում
B19: Նկարագրությունը` | C19: ՆՄՄԿՈՒ հաստատությունների շենքերի հիմնանորոգման և նախագծման (շինարարական աշխատանքներ՝ ջեռուցման համակարգի ստեղծում՝ ներքին հարդարում՝ տարածքի բարեկարգում) աշխատանքների իրականացում
B20: Միջոցառման տեսակը` | C20: Այլ պետական կազմակերպությունների կողմից օգտագործվող ոչ ֆինանսական ակտիվների հետ գործառնություններ
B21: Միջոցառումն իրականացնողի անվանումը | C21: Միջին մասնագիտական ուսումնական հաստատություններ
B22: Արդյունքի չափորոշիչներ
B23: Հիմնանորոգվող միջին մասնագիտական ուսումնական հաստատությունների քանակ, հատ | E23: 1
B24: Միջոցառման վրա կատարվող ծախսը (հազար դրամ) | D24: =+'Havelvats 1'!D21 -> 0 | E24: =+'Havelvats 1'!E21 -> 20858.7
B26: Ծրագրի դասիչը | C26: Ծրագրի անվանումը
B27: 1056 | C27: Կինեմատոգրաֆիայի ծրագիր
B28: Ծրագրի միջոցառումները
B29: Ծրագրի դասիչը` | C29: 1056 | D29: Ցուցանիշների փոփոխությունը (նվազեցումները նշված են փակագծերում)
B30: Միջոցառման դասիչը` | C30: 11001 | D30: Ինն ամիս | E30: Տարի
B31: Միջոցառման անվանումը` | C31: Կինոնկարների արտադրություն
B32: Նկարագրությունը` | C32: Խաղարկային՝ մուլտիպլիկացիոն և վավերագրական կինոնկարների արտադրություն
B33: Միջոցառման տեսակը` | C33: Ծառայությունների մատուցում
B34: Միջոցառումն իրականացնողի անվանումը | C34: Մասնագիտացված կազմակերպություններ
B35: Արդյունքի չափորոշիչներ
B36: Միջոցառման վրա կատարվող ծախսը (հազար դրամ) | D36: =+'Havelvats 1'!D34 -> 0 | E36: =+'Havelvats 1'!E34 -> -35000
B38: Ծրագրի դասիչը` | C38: 1056 | D38: Ցուցանիշների փոփոխությունը (նվազեցումները նշված են փակագծերում)
B39: Միջոցառման դասիչը` | C39: 32001 | D39: Ինն ամիս | E39: Տարի
B40: Միջոցառման անվանումը` | C40: Ներդրումներ «Հայաստանի ազգային կինոկենտրոն» ՊՈԱԿ-ի տարածքի վերակառուցման համար
B41: Նկարագրությունը` | C41: «Հայաստանի ազգային կինոկենտրոն» ՊՈԱԿ-ի տարածքի վերակառուցման նախագծանախահաշվային փաստաթղթերի մշակում
B42: Միջոցառման տեսակը` | C42: Այլ պետական կազմակերպությունների կողմից օգտագործվող ոչ ֆինանսական ակտիվների հետ գործառնություններ
B43: Ակտիվն օգտագործող կազմակերպությունների անվանումները | C43: «Հայաստանի ազգային կինոկենտրոն» ՊՈԱԿ
B44: Արդյունքի չափորոշիչներ
B45: Կազմակերպությունների թիվը, որտեղ կատարվում են ներդրումները, հատ | E45: 1
B46: Աշխատանքների ավարտվածության աստիճանը, % | E46: 100
B47: Միջոցառման վրա կատարվող ծախսը (հազար դրամ) | D47: =+'Havelvats 1'!D40 -> 0 | E47: =+'Havelvats 1'!E40 -> 102715.7
...

Sheet Havelvats 7
C1: Հավելված 7
C2: ՀՀ կառավարության 2020 թվականի
C3: ______________ ի ___Ն որոշման
B5: ՀԱՅԱՍՏԱՆԻ ՀԱՆՐԱՊԵՏՈՒԹՅԱՆ ԿԱՌԱՎԱՐՈՒԹՅԱՆ 2019 ԹՎԱԿԱՆԻ ԴԵԿՏԵՄԲԵՐԻ 26-Ի N 1919-Ն ՈՐՈՇՄԱՆ N 9.1 ՀԱՎԵԼՎԱԾԻ 9.1.14, 9.1.42 ԵՎ 9.1.58 ԱՂՅՈՒՍԱԿՆԵՐՈՒՄ ԿԱՏԱՐՎՈՂ ՓՈՓՈԽՈՒԹՅՈՒՆՆԵՐԸ ԵՎ ԼՐԱՑՈՒՄՆԵՐԸ
A8: Աղյուսակ 9․1․14
C9: ՀՀ կրթության, գիտության, մշակույթի և սպորտի նախարարություն
B10: ՄԱՍ 1. ՊԵՏԱԿԱՆ ՄԱՐՄՆԻ ԳԾՈՎ ԱՐԴՅՈՒՆՔԱՅԻՆ (ԿԱՏԱՐՈՂԱԿԱՆ) ՑՈՒՑԱՆԻՇՆԵՐԸ
B13: Ծրագրի դասիչը | C13: Ծրագրի անվանումը
B14: 1045 | C14: Նախնական (արհեստագործական) և միջին մասնագիտական կրթություն
B15: Ծրագրի միջոցառումները
B16: Ծրագրի դասիչը` | C16: 1045 | D16: Ցուցանիշների փոփոխությունը (նվազեցումները նշված են փակագծերում)
B17: Միջոցառման դասիչը` | C17: 32001 | D17: Ինն ամիս | E17: Տարի
B18: Միջոցառման անվանումը` | C18: Նախնական մասնագիտական (արհեստագործական) և միջին մասնագիտական ուսումնական հաստատությունների շենքային պայմանների բարելավում
B19: Նկարագրությունը` | C19: ՆՄՄԿՈՒ հաստատությունների շենքերի հիմնանորոգման և նախագծման (շինարարական աշխատանքներ՝ ջեռուցման համակարգի ստեղծում՝ ներքին հարդարում՝ տարածքի բարեկարգում) աշխատանքների իրականացում
B20: Միջոցառման տեսակը` | C20: Այլ պետական կազմակերպությունների կողմից օգտագործվող ոչ ֆինանսական ակտիվների հետ գործառնություններ
B21: Միջոցառումն իրականացնողի անվանումը | C21: Միջին մասնագիտական ուսումնական հաստատություններ
B22: Արդյունքի չափորոշիչներ
B23: Հիմնանորոգվող միջին մասնագիտական ուսումնական հաստատությունների քանակ, հատ | E23: 1
B24: Միջոցառման վրա կատարվող ծախսը (հազար դրամ) | D24: =+'Havelvats 2 '!G134 -> 0 | E24: =+'Havelvats 2 '!H134 -> 29000
B26: Ծրագրի դասիչը | C26: Ծրագրի անվանումը
B27: 1056 | C27: Կինեմատոգրաֆիայի ծրագիր
B28: Ծրագրի միջոցառումները
B29: Ծրագրի դասիչը` | C29: 1056 | D29: Ցուցանիշների փոփոխությունը (նվազեցումները նշված են փակագծերում)
B30: Միջոցառման դասիչը` | C30: 11001 | D30: Ինն ամիս | E30: Տարի
B31: Միջոցառման անվանումը` | C31: Կինոնկարների արտադրություն
B32: Նկարագրությունը` | C32: Խաղարկային՝ մուլտիպլիկացիոն և վավերագրական կինոնկարների արտադրություն
B33: Միջոցառման տեսակը` | C33: Ծառայությունների մատուցում
B34: Միջոցառումն իրականացնողի անվանումը | C34: Մասնագիտացված կազմակերպություններ
B35: Արդյունքի չափորոշիչներ
B36: Միջոցառման վրա կատարվող ծախսը (հազար դրամ) | D36: =+'Havelvats 2 '!G83 -> 0 | E36: =+'Havelvats 2 '!H83 -> -35000
B38: Ծրագրի դասիչը` | C38: 1056 | D38: Ցուցանիշների փոփոխությունը (նվազեցումները նշված են փակագծերում)
B39: Միջոցառման դասիչը` | C39: 32001 | D39: Ինն ամիս | E39: Տարի
B40: Միջոցառման անվանումը` | C40: Ներդրումներ «Հայաստանի ազգային կինոկենտրոն» ՊՈԱԿ-ի տարածքի վերակառուցման համար
B41: Նկարագրությունը` | C41: «Հայաստանի ազգային կինոկենտրոն» ՊՈԱԿ-ի տարածքի վերակառուցման նախագծանախահաշվային փաստաթղթերի մշակում
B42: Միջոցառման տեսակը` | C42: Այլ պետական կազմակերպությունների կողմից օգտագործվող ոչ ֆինանսական ակտիվների հետ գործառնություններ
B43: Ակտիվն օգտագործող կազմակերպությունների անվանումները | C43: «Հայաստանի ազգային կինոկենտրոն» ՊՈԱԿ
B44: Արդյունքի չափորոշիչներ
B45: Կազմակերպությունների թիվը, որտեղ կատարվում են ներդրումները, հատ | E45: 1
B46: Աշխատանքների ավարտվածության աստիճանը, % | E46: 100
B47: Միջոցառման վրա կատարվող ծախսը (հազար դրամ) | D47: =+'Havelvats 2 '!G92 -> 0 | E47: =+'Havelvats 2 '!H92 -> 102715.7
...

Sheet Havelvats 8
H1: Հավելված N 8
H2: ՀՀ կառավարության 2020 թվականի
H3: ______________ ի ___Ն որոշման
A5: ՀԱՅԱՍՏԱՆԻ ՀԱՆՐԱՊԵՏՈՒԹՅԱՆ ԿԱՌԱՎԱՐՈՒԹՅԱՆ 2019 ԹՎԱԿԱՆԻ ԴԵԿՏԵՄԲԵՐԻ 26-Ի N 1919-Ն ՈՐՈՇՄԱՆ N 10 ՀԱՎԵԼՎԱԾՈՒՄ ԿԱՏԱՐՎՈՂ ՓՈՓՈԽՈՒԹՅՈՒՆՆԵՐԸ ԵՎ ԼՐԱՑՈՒՄՆԵՐԸ
A7: Կոդը | B7: Անվանումը | E7: Գնման ձևը | F7: Չափման միավորը | G7: Միավորի գինը | H7: Քանակը | I7: Ցուցանիշների փոփոխությունը (ավելացումները նշված են դրական նշանով, իսկ նվազեցումները` փակագծերում)
I8: Գումարը (հազար դրամ)
A10: 1 | B10: 2 | E10: 3 | F10: 4 | H10: 6 | I10: 7
A11: ՀՀ կրթության, գիտության, մշակույթի և սպորտի նախարարություն | I11: =+I12+I17+I22 -> -34274.5
A12: Բաժին N 08 | B12: Խումբ N 02 | C12: Դաս N 05 | D12: Արվեստ | I12: =+I13 -> -29802.9
A13: 1168-32001 | B13: Ներդրումներ թատրոնների շենքերի կապիտալ վերանորոգման համար | I13: =+I14 -> -29802.9
B14: ՄԱՍ II. ԱՇԽԱՏԱՆՔՆԵՐ | I14: =+I15 -> -29802.9
A15: 45451700-2 | B15: վերակառուցման աշխատանքներ | E15: ՀԲՄ | F15: դրամ | I15: -29802.9
A17: Բաժին N 08 | B17: Խումբ N 04 | C17: Դաս N 01 | D17: Երիտասարդական ծրագրեր | I17: =+I18 -> -3223.6
A18: 1115-11001 | B18: Երիտասարդական պետական քաղաքականությանն ուղղված ծրագրեր և միջոցառումներ | I18: =+I19 -> -3223.6
B19: ՄԱՍ III. ԾԱՌԱՅՈՒԹՅՈՒՆՆԵՐ | I19: =+I20 -> -3223.6
A20: 79951100-1 | B20: միջոցառումների հետ կապված ծառայություններ | E20: ԳՀ | F20: դրամ | G20: 3223600 | H20: -1 | I20: -3223.6
A22: Բաժին N 09 | B22: Խումբ N 06 | C22: Դաս N 01 | D22: Կրթությանը տրամադրվող օժանդակ ծառայություններ | I22: =+I23 -> -1248
A23: 1130-11001 | B23: Կրթության, գիտության, մշակույթի և սպորտի բնագավառի պետական քաղաքականության մշակման, ծրագրերի համակարգման և մոնիտորինգի ծառայություններ | I23: =+I24 -> -1248
B24: ՄԱՍ III. ԾԱՌԱՅՈՒԹՅՈՒՆՆԵՐ | I24: =+I25 -> -1248
A25: 92511110-1 | B25: արխիվային ծառայություններ | E25: ԳՀ | F25: դրամ | G25: 1650000 | H25: -1 | I25: -1248
A27: ՀՀ քաղաքաշինության կոմիտե | I27: =+I28 -> -11275.2
A28: Բաժին N 09 | B28: Խումբ N 06 | C28: Դաս N 01 | D28: Կրթությանը տրամադրվող օժանդակ ծառայություններ | I28: =+I29+I34+I37 -> -11275.2
A29: 1045-32001 | B29: Նախնական մասնագիտական (արհեստագործական) և միջին մասնագիտական ուսումնական հաստատությունների շենքային պայմանների բարելավում | I29: =+I30+I32 -> -8141.3
B30: ՄԱՍ II. ԱՇԽԱՏԱՆՔՆԵՐ | I30: =SUM(I31:I31) -> -6949.8
A31: 45611100-1 | B31: կրթական օբյեկտների հիմնանորոգում | E31: ԲՄ | F31: դրամ | I31: -6949.8
B32: ՄԱՍ III. ԾԱՌԱՅՈՒԹՅՈՒՆՆԵՐ | I32: =+I33 -> -1191.5
A33: 71351540-1 | B33: տեխնիկական հսկողության ծառայություններ | E33: ԳՀ | F33: դրամ | I33: -1191.5
A34: 1163-32001 | B34: Մարզական օբյեկտների շինարարություն | I34: =+I35+I53 -> -785.4
B35: ՄԱՍ II. ԱՇԽԱՏԱՆՔՆԵՐ | I35: =SUM(I36:I36) -> -785.4
A36: 45211131-1 | B36: մարզական օբյեկտների շինարարական աշխատանքներ | E36: ԲՄ | F36: դրամ | I36: -785.4
A37: 1183-32001 | B37: Կրթական օբյեկտների շենքային պայմանների բարելավում | I37: =+I38+I40 -> -2348.5
B38: ՄԱՍ II. ԱՇԽԱՏԱՆՔՆԵՐ | I38: =SUM(I39:I39) -> -748.5
A39: 45611100-1 | B39: կրթական օբյեկտների հիմնանորոգում | E39: ԲՄ | F39: դրամ | I39: -748.5
B40: ՄԱՍ III. ԾԱՌԱՅՈՒԹՅՈՒՆՆԵՐ | I40: =+I41 -> -1600
A41: 71241200-112 | B41: նախագծերի պատրաստում, ծախսերի գնահատում | E41: ԳՀ | F41: դրամ | I41: -1600

Sheet Havelvats 9 
F1: Հավելված N 9
F2: ՀՀ կառավարության 2020 թվականի
F3: ______________ ի ___Ն որոշման
A6: ՀԱՅԱՍՏԱՆԻ ՀԱՆՐԱՊԵՏՈՒԹՅԱՆ 2020 ԹՎԱԿԱՆԻ ՊԵՏԱԿԱՆ ԲՅՈՒՋԵՈՎ ՆԱԽԱՏԵՍՎԱԾ՝ ՀԱՅԱՍՏԱՆԻ ՀԱՆՐԱՊԵՏՈՒԹՅԱՆ ԿԱՌԱՎԱՐՈՒԹՅԱՆ ՊԱՀՈՒՍՏԱՅԻՆ ՖՈՆԴԻՑ ՀԱՏԿԱՑՈՒՄՆԵՐ ԿԱՏԱՐԵԼՈՒ ՎԵՐԱԲԵՐՅԱԼ
G8: հազ. դրամներով
A9: Գործառական դասիչը | D9: Ծրագրային դասիչը | F9: Բյուջետային հատկացումների գլխավոր կարգադրիչների, ծրագրերի, միջոցառումների և միջոցառումները կատարող պետական մարմինների անվանումները
A10: Բաժին | B10: Խումբ | C10: Դաս | D10: Ծրագիր | E10: Միջոցառում | G10: Ինն ամիս | H10: Տարի
F11: ԸՆԴԱՄԵՆԸ | G11: =+G13+G32 -> 0 | H11: =+H13+H32 -> 0
F12: այդ թվում
F13: ՀՀ կառավարություն | G13: =+G14 -> -2983.1 | H13: =+H14 -> -165698.8
A14: 11 | F14: ՀԻՄՆԱԿԱՆ ԲԱԺԻՆՆԵՐԻՆ ՉԴԱՍՎՈՂ ՊԱՀՈՒՍՏԱՅԻՆ ՖՈՆԴԵՐ | G14: =+G16 -> -2983.1 | H14: =+H16 -> -165698.8
F15: այդ թվում`
B16: 01 | F16: ՀՀ կառավարության և համայնքների պահուստային ֆոնդ | G16: =+G18 -> -2983.1 | H16: =+H18 -> -165698.8
F17: այդ թվում`
C18: 01 | F18: ՀՀ կառավարության պահուստային ֆոնդ | G18: =+G20 -> -2983.1 | H18: =+H20 -> -165698.8
F19: այդ թվում`
F20: ՀՀ կառավարություն | G20: =+G22 -> -2983.1 | H20: =+H22 -> -165698.8
F21: այդ թվում`
D22: 1139 | E22: ՀՀ կառավարության պահուստային ֆոնդ | F22: ՀՀ կառավարության պահուստային ֆոնդ | G22: =+G24 -> -2983.1 | H22: =+H24 -> -165698.8
E23: 11001 | F23: այդ թվում`
F24: ՀՀ կառավարության պահուստային ֆոնդ | G24: =+G26 -> -2983.1 | H24: =+H26 -> -165698.8
F25: այդ թվում` ըստ կատարողների
F26: ՀՀ կառավարություն | G26: =+G28 -> -2983.1 | H26: =+H28 -> -165698.8
F27: այդ թվում` բյուջետային ծախսերի տնտեսագիտական դասակարգման հոդվածներ
F28: ԸՆԴԱՄԵՆԸ ԾԱԽՍԵՐ | G28: =+G29 -> -2983.1 | H28: =+H29 -> -165698.8
F29: ԸՆԹԱՑԻԿ ԾԱԽՍԵՐ | G29: =+G30 -> -2983.1 | H29: =+H30 -> -165698.8
F30: ԱՅԼ ԾԱԽՍԵՐ | G30: =+G31 -> -2983.1 | H30: =+H31 -> -165698.8
F31: Պահուստային միջոցներ | G31: =+'Havelvats 2 '!G269 -> -2983.1 | H31: =+'Havelvats 2 '!H269 -> -165698.8
F32: ՀՀ Կրթության, գիտության, մշակույթի և սպորտի նախարարություն | G32: =+G33+G67 -> 2983.1 | H32: =+H33+H67 -> 165698.8
A33: 08 | F33: ՀԱՆԳԻՍՏ, ՄՇԱԿՈՒՅԹ ԵՎ ԿՐՈՆ | G33: =+G35+G124 -> 2983.1 | H33: =+H35+H124 -> 105698.8
F34: այդ թվում`
B35: 02 | F35: Մշակութային ծառայություններ | G35: =+G37+G52 -> 2983.1 | H35: =+H37+H52 -> 105698.8
F36: այդ թվում`
C37: 02 | F37: Թանգարաններ և ցուցասրահներ | G37: =+G39 -> 2983.1 | H37: =+H39 -> 2983.1
F38: այդ թվում`
F39: ՀՀ կրթության, գիտության, մշակույթի և սպորտի նախարարություն | G39: =+G41 -> 2983.1 | H39: =+H41 -> 2983.1
F40: այդ թվում`
D41: 1075 | E41: Մշակութային ժառանգության ծրագիր | G41: =+G43 -> 2983.1 | H41: =+H43 -> 2983.1
E42: 32002 | F42: այդ թվում`
F43: «Պատմամշակութային ժառանգության գիտահետազոտական կենտրոն» ՊՈԱԿ-ի նյութատեխնիկական բազայի համալրում և գույքով ապահովում | G43: =G45 -> 2983.1 | H43: =H45 -> 2983.1
...
