Workbook
Name AgencyCode: #REF!
Name AgencyCode: #REF!
Name AgencyCode: #REF!
Name AgencyCode: #REF!
Name AgencyCode: #REF!
Name AgencyName: #REF!
Name AgencyName: #REF!
Name AgencyName: #REF!
Name AgencyName: #REF!
Name davit: #REF!
Name davit: #REF!
Name davit: #REF!
Name Functional1: #REF!
Name Functional1: #REF!
Name Functional1: #REF!
Name Functional1: #REF!
Name ggg: #REF!
Name ggg: #REF!
Name ggg: #REF!
Name PANature: #REF!
Name PANature: #REF!
Name PANature: #REF!
Name PANature: #REF!
Name PAType: #REF!
Name PAType: #REF!
Name PAType: #REF!
Name PAType: #REF!
Name Performance2: #REF!
Name Performance2: #REF!
Name Performance2: #REF!
Name Performance2: #REF!
Name PerformanceType: #REF!
Name PerformanceType: #REF!
Name PerformanceType: #REF!
Name PerformanceType: #REF!
Name Հավելված: #REF!
Name Հավելված: #REF!
Name Հավելված: #REF!
Name Մաս: #REF!
Name Մաս: #REF!
Name Մաս: #REF!
Name շախմատիստ: #REF!
Name շախմատիստ: #REF!
Name շախմատիստ: #REF!

Sheet Havelvats 1
C1: Հավելված N 1
C2: ՀՀ կառավարության 2020 թվականի
C3: ______________ ի ___Ն որոշման
A5: «ՀԱՅԱUՏԱՆԻ ՀԱՆՐԱՊԵՏՈՒԹՅԱՆ 2020 ԹՎԱԿԱՆԻ ՊԵՏԱԿԱՆ ԲՅՈՒՋԵԻ ՄԱUԻՆ» ՀԱՅԱUՏԱՆԻ ՀԱՆՐԱՊԵՏՈՒԹՅԱՆ OՐԵՆՔԻ N 1 ՀԱՎԵԼՎԱԾԻ N 2 ԱՂՅՈՒՍԱԿՈՒՄ ԿԱՏԱՐՎՈՂ ՎԵՐԱԲԱՇԽՈՒՄԸ ԵՎ ՀԱՅԱՍՏԱՆԻ ՀԱՆՐԱՊԵՏՈՒԹՅԱՆ ԿԱՌԱՎԱՐՈՒԹՅԱՆ 2019 ԹՎԱԿԱՆԻ ԴԵԿՏԵՄԲԵՐԻ 26-Ի N 1919-Ն ՈՐՈՇՄԱՆ N 5 ՀԱՎԵԼՎԱԾԻ N 1 ԱՂՅՈՒՍԱԿՈՒՄ ԿԱՏԱՐՎՈՂ ՓՈՓՈԽՈՒԹՅՈՒՆՆԵՐԸ ԵՎ ԼՐԱՑՈՒՄՆԵՐԸ
D7: հազ. դրամներով
A8: Ծրագրային դասիչը | C8: Բյուջետային հատկացումների գլխավոր կարգադրիչների, ծրագրերի և միջոցառումների անվանումները
A9: Ծրագիր | B9: Միջոցառում | D9: Ինն ամիս | E9: Տարի
A10: 1192 | C10: ԸՆԴԱՄԵՆԸ | D10: =+D12+D180 -> 0 | E10: =+E12+E180 -> 0
C11: այդ թվում
B12: ՀՀ Կրթության, գիտության, մշակույթի և սպորտի նախարարություն | D12: =+D14+D27+D46+D59+D78+D91+D104+D117+D130+D155+D168 -> 0 | E12: =+E14+E27+E46+E59+E78+E91+E104+E117+E130+E155+E168 -> 0
A13: 1045 | C13: Ծրագրի անվանումը`
C14: Նախնական (արհեստագործական) և միջին մասնագիտական կրթություն | D14: =+D21 -> 0 | E14: =+E21 -> 20858.7
C15: Ծրագրի նպատակը`
C16: Աշխատաշուկայի արդի պահանջներին համապատասխան նախնական մասնագիտական (արհեստագործական) և միջին մասնագիտական կրթության որակավորում ունեցող մասնագետների պատրաստում, կրթության մատչելիության ապահովում:
C17: Վերջնական արդյունքի նկարագրությունը`
C18: Նախնական (արհեստագործական) և միջին մասնագիտական կրթության գրավչության բարձրացում, մատչելի և մրցունակ նախնական (արհեստագործական) և միջին մասնագիտական կրթության ապահովում
C19: Ծրագրի միջոցառումներ
B20: 32001 | C20: Միջոցառման անվանումը`
C21: Նախնական մասնագիտական (արհեստագործական) և միջին մասնագիտական ուսումնական հաստատությունների շենքային պայմանների բարելավում | D21: 0 | E21: =+'Havelvats 4'!F12+'Havelvats 5'!G12 -> 20858.7
C22: Միջոցառման նկարագրությունը`
C23: ՆՄՄԿՈՒ հաստատությունների շենքերի հիմնանորոգման և նախագծման (շինարարական աշխատանքներ, ջեռուցման համակարգի ստեղծում, ներքին հարդարում, տարածքի բարեկարգում) աշխատանքների իրականացում
C24: Միջոցառման տեսակը
C25: Այլ պետական կազմակերպությունների կողմից օգտագործվող ոչ ֆինանսական ակտիվների հետ գործառնություններ
A26: 1056 | C26: Ծրագրի անվանումը`
C27: Կինեմատոգրաֆիայի ծրագիր | D27: =+D34+D40 -> 0 | E27: =+E34+E40 -> 67715.7
C28: Ծրագրի նպատակը`
C29: Կինոարվեստին և կինոարտադրությանն աջակցություն, հայկական ավանդույթների շարունակականության ապահովում և կինոարվեստի հանրահռչակում
C30: Վերջնական արդյունքի նկարագրությունը`
C31: Կինոարտադրության ընդլայնում և տարածում, հասարակության կինոհաղորդակցության բարելավում
C32: Ծրագրի միջոցառումներ
B33: 11001 | C33: Միջոցառման անվանումը`
C34: Կինոնկարների արտադրություն | D34: =+'Havelvats 4'!E12 -> 0 | E34: -35000
C35: Միջոցառման նկարագրությունը`
C36: Խաղարկային, մուլտիպլիկացիոն և վավերագրական կինոնկարների արտադրություն
C37: Միջոցառման տեսակը
C38: Ծառայությունների մատուցում
B39: 32001 | C39: Միջոցառման անվանումը`
C40: Ներդրումներ «Հայաստանի ազգային կինոկենտրոն» ՊՈԱԿ-ի տարածքի վերակառուցման համար | D40: 0 | E40: =+'Havelvats 2 '!H84 -> 102715.7
C41: Միջոցառման նկարագրությունը`
C42: «Հայաստանի ազգային կինոկենտրոն» ՊՈԱԿ-ի տարածքի վերակառուցման նախագծանախահաշվային փաստաթղթերի մշակում
C43: Միջոցառման տեսակը
C44: Այլ պետական կազմակերպությունների կողմից օգտագործվող ոչ ֆինանսական ակտիվների հետ գործառնություններ
A45: 1075 | C45: Ծրագրի անվանումը`
C46: Մշակութային ժառանգությսն ծրագիր | D46: =+D53 -> 2983.1 | E46: =+E53 -> 2983.1
C47: Ծրագրի նպատակը`
C48: Մշակութային ժառանգության պահպանում, օգտագործում, համալրում և հանրահռչակում
C49: Վերջնական արդյունքի նկարագրությունը`
C50: Մշակութային ժառանգության շարունակական պահպանում, մշակութային զբոսաշրջության զարգացում և խթանում
C51: Ծրագրի միջոցառումներ
B52: 32002 | C52: Միջոցառման անվանումը`
C53: «Պատմամշակութային ժառանգության գիտահետազոտական կենտրոն» ՊՈԱԿ-ի նյութատեխնիկական բազայի համալրում և գույքով ապահովում | D53: =+'Havelvats 2 '!G23 -> 2983.1 | E53: =+'Havelvats 2 '!H23 -> 2983.1
C54: Միջոցառման նկարագրությունը`
C55: «Պատմամշակութային ժառանգության գիտահետազոտական կենտրոն» ՊՈԱԿ-ի համար անհրաժեշտ տեխնիկայի, սարքավորումենրի և կահույքի ձեռքբերում
C56: Միջոցառման տեսակը
C57: Այլ պետական կազմակերպությունների կողմից օգտագործվող ոչ ֆինանսական ակտիվների հետ գործառնություններ
A58: 1111 | C58: Ծրագրի անվանումը`
C59: Բարձրագույն և հետբուհական մասնագիտական կրթության ծրագիր | D59: =+D66+D72 -> 0 | E59: =+E66+E72 -> 60000
C60: Ծրագրի նպատակը`
C61: Ապահովել մատչելի, որակյալ և մրցունակ բարձրագույն և հետբուհական մասնագիտական կրթություն
C62: Վերջնական արդյունքի նկարագրությունը`
C63: Գիտելիքների տնտեսության և գիտության զարգացման արդի պահանջներին համապատասխան բարձրագույն և հետբուհական մասնագիտական որակավորում ունեցող մասնագետների պատրաստում
C64: Ծրագրի միջոցառումներ
B65: 32002 | C65: Միջոցառման անվանումը`
C66: Բարձրագույն ուսումնական հաստատությունների շենքերի նորոգում | D66: =+'Havelvats 4'!E31 -> 0 | E66: =+'Havelvats 5'!G23 -> 37490.3
C67: Միջոցառման նկարագրությունը`
C68: Բարձրագույն ուսումնական հաստատությունների շենքերի, մասնաշենքերի նորոգում, հիմնանորոգում, վերակառուցում
C69: Միջոցառման տեսակը
C70: Այլ պետական կազմակերպությունների կողմից օգտագործվող ոչ ֆինանսական ակտիվների հետ գործառնություններ
B71: 32003 | C71: Միջոցառման անվանումը`
C72: Բարձրագույն ուսումնական հաստատությունների և «Զեյթուն» ուսանողական ավան» հիմնադրամի նյութատեխնիկական բազայի համալրում և գույքով ապահովում | D72: =+'Havelvats 2 '!G146 -> 0 | E72: =+'Havelvats 2 '!H146 -> 22509.7
C73: Միջոցառման նկարագրությունը`
C74: Բարձրագույն ուսումնական հաստատությունների և «Զեյթուն» ուսանողական ավան» հիմնադրամի համար անհրաժեշտ լաբորատոր և այլ սարքավորումների, տեխնիկայի, կահույքի ձեռքբերում
C75: Միջոցառման տեսակը
C76: Այլ պետական կազմակերպությունների կողմից օգտագործվող ոչ ֆինանսական ակտիվների հետ գործառնություններ
A77: 1115 | C77: Ծրագրի անվանումը`
C78: Երիտասարդության ծրագիր | D78: =+D85 -> -3223.6 | E78: =+E85 -> -3223.6
C79: Ծրագրի նպատակը`
C80: Նպաստել սոցիալ-տնտեսական, քաղաքական և մշակութային կյանքին երիտասարդների լիարժեք ներգրավմանը և նրանց ստեղծագործական ներուժի ամբողջական դրսևորմանը
C81: Վերջնական արդյունքի նկարագրությունը`
C82: Հասարակական կյանքում երիտասարդների արդյունավետ ներգրավվածության և դրսևորման ընդլայնում
C83: Ծրագրի միջոցառումներ
B84: 11001 | C84: Միջոցառման անվանումը`
C85: Երիտասարդական պետական քաղաքականությանն ուղղված ծրագրեր և միջոցառումներ | D85: -3223.6 | E85: -3223.6
C86: Միջոցառման նկարագրությունը`
C87: Հասարակական կյանքին երիտասարդների ակտիվ մասնակցության, երիտասարդության շրջանում առողջ ապրելակերպի, հոգևոր-մշակութային, հայրենասիրական դաստիարակության խթանում, երիտասարդների զբաղվածության հնարավորությունների մեծացում
C88: Միջոցառման տեսակը
C89: Ծառայությունների մատուցում
A90: 1130 | C90: Ծրագրի անվանումը`
C91: Կրթության, գիտության, մշակույթի և սպորտի բնագավառի պետական քաղաքականության մշակում, ծրագրերի համակարգում և մոնիտորինգ | D91: =+D98 -> 0 | E91: =+E98 -> -1248
C92: Ծրագրի նպատակը`
C93: Ապահովել համընդհանուր, հավասարապես հասանելի, ներառական և որակյալ կրթություն՛ բավարարելով տնտեսության ու հասարակության պահանջները, լիարժեք ծառայելով ազգային շահերին
C94: Վերջնական արդյունքի նկարագրությունը`
C95: Կրթության, գիտության, մշակույթի և սպորտի բնագավառում իրականացվող ծրագրերի ազդեցության և արդյունավետության բարելավում
C96: Ծրագրի միջոցառումներ
B97: 11001 | C97: Միջոցառման անվանումը`
C98: Կրթության, գիտության, մշակույթի և սպորտի բնագավառի պետական քաղաքականության մշակման, ծրագրերի համակարգման և մոնիտորինգի ծառայություններ | D98: =+'Havelvats 2 '!G157 -> 0 | E98: =+'Havelvats 2 '!H157 -> -1248
C99: Միջոցառման նկարագրությունը`
C100: Կրթության, գիտության, մշակույթի և սպորտի բնագավառի պետական քաղաքականության մշակման, ծրագրերի համակարգման և մոնիտորինգի ծառայությունների ապահովում
C101: Միջոցառման տեսակը
C102: Ծառայությունների մատուցում
...

Sheet Havelvats 2 
F1: Հավելված N 2
F2: ՀՀ կառավարության 2020 թվականի
F3: ______________ ի ___Ն որոշման
A5: ՀԱՅԱՍՏԱՆԻ ՀԱՆՐԱՊԵՏՈՒԹՅԱՆ ԿԱՌԱՎԱՐՈՒԹՅԱՆ 2019 ԹՎԱԿԱՆԻ ԴԵԿՏԵՄԲԵՐԻ 26-Ի N 1919-Ն ՈՐՈՇՄԱՆ N 3 ԵՎ N 4 ՀԱՎԵԼՎԱԾՆԵՐՈՒՄ ԿԱՏԱՐՎՈՂ ՓՈՓՈԽՈՒԹՅՈՒՆՆԵՐԸ ԵՎ ԼՐԱՑՈՒՄՆԵՐԸ
G7: հազ. դրամներով
A8: Գործառական դասիչը | D8: Ծրագրային դասիչը | F8: Բյուջետային հատկացումների գլխավոր կարգադրիչների, ծրագրերի, միջոցառումների և միջոցառումները կատարող պետական մարմինների անվանումները
A9: Բաժին | B9: Խումբ | C9: Դաս | D9: Ծրագիր | E9: Միջոցառում | G9: Ինն ամիս | H9: Տարի
F10: ԸՆԴԱՄԵՆԸ | G10: =+G12+G243 -> 0 | H10: =+H12+H243 -> 0
F11: այդ թվում
F12: ՀՀ Կրթության, գիտության, մշակույթի և սպորտի նախարարություն | G12: =+G13+G110 -> 0 | H12: =+H13+H110 -> 0
A13: 08 | F13: ՀԱՆԳԻՍՏ, ՄՇԱԿՈՒՅԹ ԵՎ ԿՐՈՆ | G13: =+G15+G93 -> -24520.2 | H13: =+H15+H93 -> -67728.8
F14: այդ թվում`
B15: 02 | F15: Մշակութային ծառայություններ | G15: =+G17+G32+G69 -> -21296.6 | H15: =+H17+H32+H69 -> -64505.2
F16: այդ թվում`
C17: 02 | F17: Թանգարաններ և ցուցասրահներ | G17: =+G19 -> 2983.1 | H17: =+H19 -> 2983.1
F18: այդ թվում`
F19: ՀՀ կրթության, գիտության, մշակույթի և սպորտի նախարարություն | G19: =+G21 -> 2983.1 | H19: =+H21 -> 2983.1
F20: այդ թվում`
D21: 1075 | E21: Մշակութային ժառանգության ծրագիր | G21: =+G23 -> 2983.1 | H21: =+H23 -> 2983.1
E22: 32002 | F22: այդ թվում`
F23: «Պատմամշակութային ժառանգության գիտահետազոտական կենտրոն» ՊՈԱԿ-ի նյութատեխնիկական բազայի համալրում և գույքով ապահովում | G23: =G25 -> 2983.1 | H23: =H25 -> 2983.1
F24: այդ թվում`ըստ կատարողների
F25: ՀՀ կրթության, գիտության, մշակույթի և սպորտի նախարարություն | G25: =G27 -> 2983.1 | H25: =H27 -> 2983.1
F26: այդ թվում`բյուջետային ծախսերի տնտեսագիտական դասակարգման հոդվածներ
F27: ԸՆԴԱՄԵՆԸ ԾԱԽՍԵՐ | G27: =+G28 -> 2983.1 | H27: =+H28 -> 2983.1
F28: ԸՆԹԱՑԻԿ ԾԱԽՍԵՐ | G28: =G29 -> 2983.1 | H28: =H29 -> 2983.1
F29: ԴՐԱՄԱՇՆՈՐՀՆԵՐ | G29: =G30 -> 2983.1 | H29: =H30 -> 2983.1
F30: Կապիտալ դրամաշնորհներ պետական հատվածի այլ մակարդակներին | G30: =G31 -> 2983.1 | H30: =H31 -> 2983.1
F31: - Կապիտալ դրամաշնորհներ պետական և համայնքային ոչ առևտրային կազմակերպություններին | G31: =+'Havelvats 5'!G20 -> 2983.1 | H31: =+G31+0 -> 2983.1
C32: 05 | F32: Արվեստ | G32: =+G34 -> -24279.7 | H32: =+H34 -> -135204
F33: այդ թվում`
F34: ՀՀ կրթության, գիտության, մշակույթի և սպորտի նախարարություն | G34: =+G36 -> -24279.7 | H34: =+H36 -> -135204
F35: այդ թվում`
D36: 1168 | E36: Արվեստների ծրագիր | G36: =+G38+G51+G60 -> -24279.7 | H36: =+H38+H51+H60 -> -135204
E37: 32001 | F37: այդ թվում`
F38: Ներդրումներ թատրոնների շենքերի կապիտալ վերանորոգման համար | G38: =G40 -> -29802.9 | H38: =H40 -> 29475.3
F39: այդ թվում`ըստ կատարողների
F40: ՀՀ կրթության, գիտության, մշակույթի և սպորտի նախարարություն | G40: =G42 -> -29802.9 | H40: =H42 -> 29475.3
F41: այդ թվում`բյուջետային ծախսերի տնտեսագիտական դասակարգման հոդվածներ
F42: ԸՆԴԱՄԵՆԸ ԾԱԽՍԵՐ | G42: =+G43+G47 -> -29802.9 | H42: =+H43+H47 -> 29475.3
F43: ՈՉ ՖԻՆԱՆՍԱԿԱՆ ԱԿՏԻՎՆԵՐԻ ԳԾՈՎ ԾԱԽՍԵՐ | G43: =G44 -> -29802.9 | H43: =H44 -> -29802.9
F44: ՀԻՄՆԱԿԱՆ ՄԻՋՈՑՆԵՐ | G44: =G45 -> -29802.9 | H44: =H45 -> -29802.9
F45: ՇԵՆՔԵՐ ԵՎ ՇԻՆՈՒԹՅՈՒՆՆԵՐ | G45: =G46 -> -29802.9 | H45: =H46 -> -29802.9
F46: - Շենքերի և շինությունների կապիտալ վերանորոգում | G46: =+'Havelvats 8'!I13 -> -29802.9 | H46: =+G46+0 -> -29802.9
F47: ԸՆԹԱՑԻԿ ԾԱԽՍԵՐ | G47: =G48 -> 0 | H47: =H48 -> 59278.2
F48: ԴՐԱՄԱՇՆՈՐՀՆԵՐ | G48: =G49 -> 0 | H48: =H49 -> 59278.2
F49: Կապիտալ դրամաշնորհներ պետական հատվածի այլ մակարդակներին | G49: =G50 -> 0 | H49: =H50 -> 59278.2
F50: - Կապիտալ դրամաշնորհներ պետական և համայնքային ոչ առևտրային կազմակերպություններին | G50: 0 | H50: =+'Havelvats 5'!G31 -> 59278.2
E51: 32002 | F51: Ներդրումներ թատրոնների շենքերի կառուցման համար | G51: =G53 -> 0 | H51: =H53 -> -190958.9
F52: այդ թվում`ըստ կատարողների
F53: ՀՀ կառավարություն | G53: =G55 -> 0 | H53: =H55 -> -190958.9
F54: այդ թվում`բյուջետային ծախսերի տնտեսագիտական դասակարգման հոդվածներ
F55: ԸՆԴԱՄԵՆԸ ԾԱԽՍԵՐ | G55: =G56 -> 0 | H55: =H56 -> -190958.9
F56: ՈՉ ՖԻՆԱՆՍԱԿԱՆ ԱԿՏԻՎՆԵՐԻ ԳԾՈՎ ԾԱԽՍԵՐ | G56: =G57 -> 0 | H56: =H57 -> -190958.9
F57: ՀԻՄՆԱԿԱՆ ՄԻՋՈՑՆԵՐ | G57: =G58 -> 0 | H57: =H58 -> -190958.9
F58: ՇԵՆՔԵՐ ԵՎ ՇԻՆՈՒԹՅՈՒՆՆԵՐ | G58: =G59 -> 0 | H58: =H59 -> -190958.9
F59: - Շենքերի և շինությունների շինարարություն | G59: =+'Havelvats 4'!E30 -> 0 | H59: =+'Havelvats 4'!F30 -> -190958.9
E60: 32007 | F60: Թատերահամերգային կազմակերպությունների նյութատեխնիկական բազայի համալրում | G60: =G62 -> 5523.2 | H60: =H62 -> 26279.6
F61: այդ թվում`ըստ կատարողների
F62: ՀՀ կրթության, գիտության, մշակույթի և սպորտի նախարարություն | G62: =G64 -> 5523.2 | H62: =H64 -> 26279.6
F63: այդ թվում`բյուջետային ծախսերի տնտեսագիտական դասակարգման հոդվածներ
F64: ԸՆԴԱՄԵՆԸ ԾԱԽՍԵՐ | G64: =G65 -> 5523.2 | H64: =H65 -> 26279.6
F65: ԸՆԹԱՑԻԿ ԾԱԽՍԵՐ | G65: =G66 -> 5523.2 | H65: =H66 -> 26279.6
F66: ԴՐԱՄԱՇՆՈՐՀՆԵՐ | G66: =G67 -> 5523.2 | H66: =H67 -> 26279.6
F67: Կապիտալ դրամաշնորհներ պետական հատվածի այլ մակարդակներին | G67: =G68 -> 5523.2 | H67: =H68 -> 26279.6
F68: - Կապիտալ դրամաշնորհներ պետական և համայնքային ոչ առևտրային կազմակերպություններին | G68: =+'Havelvats 5'!G36 -> 5523.2 | H68: =+G68+'Havelvats 5'!G35 -> 26279.6
C69: 06 | F69: Կինեմատոգրաֆիա | G69: =+G71 -> 0 | H69: =+H71 -> 67715.7
F70: այդ թվում`
F71: ՀՀ կրթության, գիտության, մշակույթի և սպորտի նախարարություն | G71: =+G73 -> 0 | H71: =+H73 -> 67715.7
F72: այդ թվում`
D73: 1056 | E73: Կինեմատոգրաֆիայի ծրագիր | G73: =+G75+G84 -> 0 | H73: =+H75+H84 -> 67715.7
E74: 11001 | F74: այդ թվում`
F75: Կինոնկարների արտադրություն | G75: =G77 -> 0 | H75: =H77 -> -35000
F76: այդ թվում`ըստ կատարողների
F77: ՀՀ կրթության, գիտության, մշակույթի և սպորտի նախարարություն | G77: =G79 -> 0 | H77: =H79 -> -35000
F78: այդ թվում`բյուջետային ծախսերի տնտեսագիտական դասակարգման հոդվածներ
F79: ԸՆԴԱՄԵՆԸ ԾԱԽՍԵՐ | G79: =G80 -> 0 | H79: =H80 -> -35000
F80: ԸՆԹԱՑԻԿ ԾԱԽՍԵՐ | G80: =G81 -> 0 | H80: =H81 -> -35000
F81: ԴՐԱՄԱՇՆՈՐՀՆԵՐ | G81: =G82 -> 0 | H81: =H82 -> -35000
F82: Ընթացիկ դրամաշնորհներ պետական հատվածի այլ մակարդակներին | G82: =G83 -> 0 | H82: =H83 -> -35000
F83: -Ընթացիկ դրամաշնորհներ պետական և համայնքային ոչ առևտրային կազմակերպություններին | G83: =+'Havelvats 1'!D34 -> 0 | H83: =+'Havelvats 1'!E34 -> -35000
E84: 32001 | F84: Ներդրումներ «Հայաստանի ազգային կինոկենտրոն» ՊՈԱԿ-ի տարածքի վերակառուցման համար | G84: =G86 -> 0 | H84: =H86 -> 102715.7
F85: այդ թվում`ըստ կատարողների
F86: ՀՀ կրթության, գիտության, մշակույթի և սպորտի նախարարություն | G86: =G88 -> 0 | H86: =H88 -> 102715.7
F87: այդ թվում`բյուջետային ծախսերի տնտեսագիտական դասակարգման հոդվածներ
F88: ԸՆԴԱՄԵՆԸ ԾԱԽՍԵՐ | G88: =G89 -> 0 | H88: =H89 -> 102715.7
F89: ՈՉ ՖԻՆԱՆՍԱԿԱՆ ԱԿՏԻՎՆԵՐԻ ԳԾՈՎ ԾԱԽՍԵՐ | G89: =G90 -> 0 | H89: =H90 -> 102715.7
F90: ՀԻՄՆԱԿԱՆ ՄԻՋՈՑՆԵՐ | G90: =G91 -> 0 | H90: =H91 -> 102715.7
F91: ՇԵՆՔԵՐ ԵՎ ՇԻՆՈՒԹՅՈՒՆՆԵՐ | G91: =G92 -> 0 | H91: =H92 -> 102715.7
F92: - Կապիտալ դրամաշնորհներ պետական և համայնքային ոչ առևտրային կազմակերպություններին | G92: 0 | H92: =+'Havelvats 5'!G18 -> 102715.7
B93: 04 | F93: Կրոնական և հասարակական այլ ծառայություններ | G93: =G95 -> -3223.6 | H93: =H95 -> -3223.6
F94: այդ թվում`
C95: 01 | F95: Երիտասարդական ծրագրեր | G95: =+G97 -> -3223.6 | H95: =+H97 -> -3223.6
F96: այդ թվում`
F97: ՀՀ կրթության, գիտության, մշակույթի և սպորտի նախարարություն | G97: =+G99 -> -3223.6 | H97: =+H99 -> -3223.6
F98: այդ թվում`
D99: 1115 | E99: Երիտասարդության ծրագիր | G99: =+G101+G243 -> -3223.6 | H99: =+H101+H243 -> -3223.6
E100: 11001 | F100: այդ թվում`
F101: Երիտասարդական պետական քաղաքականությանն ուղղված ծրագրեր և միջոցառումներ | G101: =G103 -> -3223.6 | H101: =H103 -> -3223.6
F102: այդ թվում`ըստ կատարողների
...

Sheet Havelvats 3
F1: Հավելված N 3
F2: ՀՀ կառավարության 2020 թվականի
F3: ______________ ի ___Ն որոշման
A5: «ՀԱՅԱUՏԱՆԻ ՀԱՆՐԱՊԵՏՈՒԹՅԱՆ 2020 ԹՎԱԿԱՆԻ ՊԵՏԱԿԱՆ ԲՅՈՒՋԵԻ ՄԱUԻՆ» ՀԱՅԱUՏԱՆԻ ՀԱՆՐԱՊԵՏՈՒԹՅԱՆ OՐԵՆՔԻ N 1 ՀԱՎԵԼՎԱԾԻ N 3 ԱՂՅՈՒՍԱԿՈՒՄ ԿԱՏԱՐՎՈՂ ՓՈՓՈԽՈՒԹՅՈՒՆՆԵՐԸ ԵՎ ԼՐԱՑՈՒՄԸ
G8: հազ. դրամներով
A9: Ծրագրային դասիչ | C9: Բյուջետային գլխավոր կարգադրիչների, ծրագրերի, միջոցառումների և ուղղությունների անվանումները | D9: Ընդամենը, | E9: այդ թվում՝
A10: Ծրագիր | B10: Միջոցառում | E10: Կառուցման աշխատանքներ | F10: Վերակառուցման, վերանորոգման և վերականգնման աշխատանքներ | G10: Նախագծահե- տազոտական, գեոդեզիա- քարտեզագրա- կան աշխա- տանքներ | H10: Ոչ ֆինանսական այլ ակտիվների ձեռքբերում
C11: ԸՆԴԱՄԵՆԸ | D11: =SUM(E11:H11) -> -232037 | E11: =+E13 -> -191744.3 | F11: =+F13 -> -38692.7 | G11: =+G13 -> -1600 | H11: =+H13 -> 0
C12: այդ թվում՝
C13: ՀՀ ԿՐԹՈՒԹՅԱՆ, ԳԻՏՈՒԹՅԱՆ, ՄՇԱԿՈՒՅԹԻ ԵՎ ՍՊՈՐՏԻ ՆԱԽԱՐԱՐՈՒԹՅՈՒՆ | D13: =SUM(E13:H13) -> -232037 | E13: =+E15+E19+E23+E27+E28 -> -191744.3 | F13: =+F15+F19+F23+F27+F28 -> -38692.7 | G13: =+G15+G19+G23+G27+G28 -> -1600 | H13: =+H15+H19+H23+H27+H28 -> 0
C14: այդ թվում`
A15: 1045 | B15: 32001 | C15: Նախնական մասնագիտական (արհեստագործական) և միջին մասնագիտական ուսումնական հաստատությունների շենքային պայմանների բարելավում | D15: =SUM(E15:H15) -> -8141.3 | E15: =+E17 -> 0 | F15: =+F17 -> -8141.3 | G15: =+G17 -> 0 | H15: =+H17 -> 0
C16: այդ թվում`
C17: ՀՀ Լոռու մարզ | D17: =SUM(E17:H17) -> -8141.3 | F17: =+F18 -> -8141.3
C18: ք. Վանաձորի գյուղատնտեսական պետական քոլեջի վերակառուցում | D18: =+E18+F18+G18+H18 -> -8141.3 | F18: -8141.3
A19: 1163 | B19: 32001 | C19: Մարզական օբյեկտների շինարարություն | D19: =SUM(E19:H19) -> -785.4 | E19: =+E21 -> -785.4 | F19: =+F21 -> 0 | G19: =+G21 -> 0 | H19: =+H21 -> 0
C20: այդ թվում`
C21: Երևան քաղաք | D21: =SUM(E21:H21) -> -785.4 | E21: =+E22 -> -785.4
C22: Օլիմպիական հերթափոխի պետական մարզական քոլեջի հանրակացարանային նոր մասնաշենք | D22: =+E22+F22+G22+H22 -> -785.4 | E22: -785.4
A23: 1168 | B23: 32001 | C23: Ներդրումներ թատրոնների շենքերի կապիտալ վերանորոգման համար | D23: =SUM(E23:H23) -> -29802.9 | E23: =+E25 -> 0 | F23: =+F25 -> -29802.9 | G23: =+G25 -> 0 | H23: =+H25 -> 0
C24: այդ թվում`
C25: Երևան քաղաք | D25: =SUM(E25:H25) -> -29802.9 | F25: =+F26 -> -29802.9
C26: «Գ. Սունդուկյանի անվան ազգային ակադեմիական թատրոն» ՊՈԱԿ | D26: =SUM(E26:H26) -> -29802.9 | F26: =+'Havelvats 8'!I13 -> -29802.9
A27: 1168 | B27: 32002 | C27: Ներդրումներ թատրոնների շենքերի կառուցման համար | D27: =SUM(E27:H27) -> -190958.9 | E27: -190958.9
A28: 1183 | B28: 32001 | C28: Կրթական օբյեկտների շենքային պայմանների բարելավում | D28: =SUM(E28:H28) -> -2348.5 | E28: =+E30+E32 -> 0 | F28: =+F30+F32 -> -748.5 | G28: =+G30+G32 -> -1600 | H28: =+H30+H32 -> 0
C29: այդ թվում`
C30: Երևան քաղաք | D30: =SUM(E30:H30) -> -748.5 | F30: =SUM(F31:F33) -> -748.5
C31: թիվ 22 հիմնական դպրոց | D31: =+E31+F31+G31+H31 -> -748.5 | F31: -748.5
C32: ՀՀ Գեղարքունիքի մարզ | D32: =SUM(E32:H32) -> -1600 | G32: =+G33 -> -1600
C33: «Վարդենիկի կրթահամալիր» ՊՈԱԿ | D33: =+E33+F33+G33+H33 -> -1600 | G33: -1600

Sheet Havelvats 4
D1: Հավելված N 4
D2: ՀՀ կառավարության 2020 թվականի
D3: ______________ ի ___Ն որոշման
B5: ՀԱՅԱՍՏԱՆԻ ՀԱՆՐԱՊԵՏՈՒԹՅԱՆ ԿԱՌԱՎԱՐՈՒԹՅԱՆ 2019 ԹՎԱԿԱՆԻ ԴԵԿՏԵՄԲԵՐԻ 26-Ի N 1919-Ն ՈՐՈՇՄԱՆ N 5 ՀԱՎԵԼՎԱԾԻ N 2 ԱՂՅՈՒՍԱԿՈՒՄ ԿԱՏԱՐՎՈՂ ՓՈՓՈԽՈՒԹՅՈՒՆՆԵՐԸ ԵՎ ԼՐԱՑՈՒՄԸ
F7: հազ. դրամներով
B8: Ծրագրային դասիչ | D8: Բյուջետային գլխավոր կարգադրիչների, ծրագրերի, միջոցառումների, միջոցառումները կատարող պետական մարմինների և ուղղությունների անվանումները | E8: Իննը ամիս | F8: Տարի
B9: Ծրագիր | C9: Միջոցառում
D10: ՀՀ ԿՐԹՈՒԹՅԱՆ, ԳԻՏՈՒԹՅԱՆ, ՄՇԱԿՈՒՅԹԻ ԵՎ ՍՊՈՐՏԻ ՆԱԽԱՐԱՐՈՒԹՅՈՒՆ | E10: =+E12+E18+E24+E30+E33 -> -29802.9 | F10: =+F12+F18+F24+F30+F33 -> -232037
D11: այդ թվում՝
B12: 1045 | C12: 32001 | D12: Նախնական մասնագիտական (արհեստագործական) և միջին մասնագիտական ուսումնական հաստատությունների շենքային պայմանների բարելավում | E12: =+E14 -> 0 | F12: =+F14 -> -8141.3
D13: այդ թվում` ըստ կատարողների
D14: ՀՀ քաղաքաշինության կոմիտե | E14: =+E16 -> 0 | F14: =+F16 -> -8141.3
D15: այդ թվում`ըստ ուղղությունների
D16: ՀՀ Լոռու մարզ | E16: =+E17 -> 0 | F16: =+F17 -> -8141.3
D17: ք. Վանաձորի գյուղատնտեսական պետական քոլեջի վերակառուցում | E17: 0 | F17: =+'Havelvats 3'!D18 -> -8141.3
B18: 1163 | C18: 32001 | D18: Մարզական օբյեկտների շինարարություն | E18: =+E20 -> 0 | F18: =+F20 -> -785.4
D19: այդ թվում` ըստ կատարողների
D20: ՀՀ քաղաքաշինության կոմիտե | E20: =+E22 -> 0 | F20: =+F22 -> -785.4
D21: այդ թվում`ըստ ուղղությունների
D22: Երևան քաղաք | E22: =+E23 -> 0 | F22: =+F23 -> -785.4
D23: Օլիմպիական հերթափոխի պետական մարզական քոլեջի հանրակացարանային նոր մասնաշենք | E23: 0 | F23: -785.4
B24: 1168 | C24: 32001 | D24: Ներդրումներ թատրոնների շենքերի կապիտալ վերանորոգման համար | E24: =+E26 -> -29802.9 | F24: =+F26 -> -29802.9
D25: այդ թվում` ըստ կատարողների
D26: ՀՀ կրթության, գիտության, մշակույթի և սպորտի նախարարություն | E26: =+E28 -> -29802.9 | F26: =+F28 -> -29802.9
D27: այդ թվում`ըստ ուղղությունների
D28: Երևան քաղաք | E28: =+E29 -> -29802.9 | F28: =+F29 -> -29802.9
D29: «Գ. Սունդուկյանի անվան ազգային ակադեմիական թատրոն» ՊՈԱԿ | E29: =+'Havelvats 3'!D26 -> -29802.9 | F29: =+E29 -> -29802.9
B30: 1168 | C30: 32002 | D30: Ներդրումներ թատրոնների շենքերի կառուցման համար | E30: =+E32 -> 0 | F30: =+F32 -> -190958.9
D31: այդ թվում` ըստ կատարողների
D32: ՀՀ կառավարություն | E32: 0 | F32: -190958.9
B33: 1183 | C33: 32001 | D33: Կրթական օբյեկտների շենքային պայմանների բարելավում | E33: =+E35 -> 0 | F33: =+F35 -> -2348.5
D34: այդ թվում` ըստ կատարողների
D35: ՀՀ քաղաքաշինության կոմիտե | E35: =+E37+E39 -> 0 | F35: =+F37+F39 -> -2348.5
D36: այդ թվում`ըստ ուղղությունների
D37: Երևան քաղաք | E37: =+E38 -> 0 | F37: =+F38 -> -748.5
D38: թիվ 22 հիմնական դպրոց | E38: 0 | F38: -748.5
D39: ՀՀ Գեղարքունիքի մարզ | E39: =+E40 -> 0 | F39: =+F40 -> -1600
D40: «Վարդենիկի կրթահամալիր» ՊՈԱԿ | F40: -1600

Sheet Havelvats 5
F1: Հավելված 5
F2: ՀՀ կառավարության 2020 թվականի
F3: ______________ ի ___Ն որոշման
A6: ՀԱՅԱՍՏԱՆԻ ՀԱՆՐԱՊԵՏՈՒԹՅԱՆ ԿԱՌԱՎԱՐՈՒԹՅԱՆ 2019 ԹՎԱԿԱՆԻ ԴԵԿՏԵՄԲԵՐԻ 26-Ի N 1919-Ն ՈՐՈՇՄԱՆ N 5 ՀԱՎԵԼՎԱԾԻ N 7 ԱՂՅՈՒՍԱԿՈՒՄ ԿԱՏԱՐՎՈՂ ՓՈՓՈԽՈՒԹՅՈՒՆՆԵՐԸ ԵՎ ԼՐԱՑՈՒՄՆԵՐԸ
G7: հազար դրամ
A8: Ծրագրային դասիչը | C8: Բյուջետային հատկացումների գլխավոր կարգադրիչների, ծրագրերի, միջոցառումների և միջոցառումները կատարող պետական մարմինների անվանումները | F8: Միջոցառումները կատարող պետական մարմինների և դրամաշնորհ ստացող տնտեսվարող սուբյեկտների անվանումները | G8: Ցուցանիշների փոփոխությունը (ավելացումները նշված են դրական նշանով)
A9: Ծրագիր | B9: Միջոցառում | G9: Տարի
A10: ՀՀ կրթության, գիտության, մշակույթի և սպորտի նախարարություն | G10: =+G11+G14+G19+G22+G27+G30+G37+G41 -> 236508.6
A11: 1045 | B11: Նախնական (արհեստագործական) և միջին մասնագիտական կրթություն | G11: =+G12 -> 29000
B12: 32001 | C12: Նախնական մասնագիտական (արհեստագործական) և միջին մասնագիտական ուսումնական հաստատությունների շենքային պայմանների բարելավում | F12: ՀՀ կրթության, գիտության, մշակույթի և սպորտի նախարարություն | G12: =+G13 -> 29000
F13: «Աբովյանի բազմագործառութային պետական քոլեջ» ՊՈԱԿ | G13: 29000
A14: 1056 | B14: Կինեմատոգրաֆիայի ծրագիր | G14: =+G15+G17 -> 67715.7
B15: 11001 | C15: Կինոնկարների արտադրություն | F15: ՀՀ կրթության, գիտության, մշակույթի և սպորտի նախարարություն | G15: =+G16 -> -35000
F16: «Հայաստանի ազգային կինոկենտրոն» ՊՈԱԿ | G16: -35000
B17: 32001 | C17: Ներդրումներ «Հայաստանի ազգային կինոկենտրոն» ՊՈԱԿ-ի տարածքի վերակառուցման համար | F17: ՀՀ կրթության, գիտության, մշակույթի և սպորտի նախարարություն | G17: =+G18 -> 102715.7
F18: «Հայաստանի ազգային կինոկենտրոն» ՊՈԱԿ | G18: 102715.7
A19: 1075 | B19: Մշակութային ժառանգության ծրագիր | G19: =+G20 -> 2983.1
B20: 32002 | C20: «Պատմամշակութային ժառանգության գիտահետազոտական կենտրոն» ՊՈԱԿ-ի նյութատեխնիկական բազայի համալրում և գույքով ապահովում | F20: ՀՀ կրթության, գիտության, մշակույթի և սպորտի նախարարություն | G20: =+G21 -> 2983.1
F21: «Պատմամշակութային ժառանգության գիտահետազոտական կենտրոն» ՊՈԱԿ | G21: 2983.1
A22: 1111 | B22: Բարձրագույն և հետբուհական մասնագիտական կրթության ծրագիր | G22: =+G23+G25 -> 60000
B23: 32002 | C23: Բարձրագույն ուսումնական հաստատությունների շենքերի նորոգում | F23: ՀՀ կրթության, գիտության, մշակույթի և սպորտի նախարարություն | G23: =+G24 -> 37490.3
F24: «Հայաստանի ազգային ագրարային համալսարան» հիմնադրամ | G24: 37490.3
B25: 32003 | C25: Բարձրագույն ուսումնական հաստատությունների և «Զեյթուն» ուսանողական ավան» հիմնադրամի նյութատեխնիկական բազայի համալրում և գույքով ապահովում | F25: ՀՀ կրթության, գիտության, մշակույթի և սպորտի նախարարություն | G25: =+G26 -> 22509.7
F26: «Հայաստանի ազգային ագրարային համալսարան» հիմնադրամ | G26: =60000-G24 -> 22509.7
A27: 1146 | B27: Հանրակրթության ծրագիր | G27: =+G28 -> 7766.5
B28: 11019 | C28: «Ազգային երգ ու պար» առարկայի ներդրում հանրակրթական ուսումնական հաստատություններում | F28: ՀՀ կրթության, գիտության, մշակույթի և սպորտի նախարարություն | G28: =+G29 -> 7766.5
F29: «Ազգային երգ ու պարի ակադեմիա» կրթամշակութային հիմնադրամ | G29: =7766.5 -> 7766.5
A30: 1168 | B30: Արվեստների ծրագիր | G30: =+G31+G34 -> 85557.8
B31: 32001 | C31: Ներդրումներ թատրոնների շենքերի կապիտալ վերանորոգման համար | F31: ՀՀ կրթության, գիտության, մշակույթի և սպորտի նախարարություն | G31: =SUM(G32:G33) -> 59278.2
F32: «Գ. Սունդուկյանի անվան ազգային ակադեմիական թատրոն» ՊՈԱԿ | G32: =(28128+11721)*1.2 -> 47818.8
F33: «Կ. Ստանիսլավսկու անվան ռուսական դրամատիկական թատրոն» ՊՈԱԿ | G33: =9549.5*1.2 -> 11459.4
B34: 32007 | C34: Թատերահամերգային կազմակերպությունների նյութատեխնիկական բազայի համալրում | F34: ՀՀ կրթության, գիտության, մշակույթի և սպորտի նախարարություն | G34: =SUM(G35:G36) -> 26279.6
F35: «Երևանի Հ. Թումանյանի անվան պետական տիկնիկային թատրոն» ՊՈԱԿ | G35: =17297*1.2 -> 20756.4
F36: «Ալ. Սպենդիարյանի անվան օպերային և բալետի ազգային ակադեմիական թատրոն» ՊՈԱԿ | G36: 5523.2
A37: 1183 | B37: Ապահով դպրոց | G37: =+G38 -> 47089.8
B38: 32001 | C38: Կրթական օբյեկտների շենքային պայմանների բարելավում | F38: ՀՀ կրթության, գիտության, մշակույթի և սպորտի նախարարություն | G38: =+G39+G40 -> 47089.8
F39: «ԵՊՀ-ին առընթեր Արտաշես Շահինյանի անվան ֆիզիկամաթեմատիկական հատուկ դպրոց» ՊՈԱԿ | G39: 35000
F40: «Իջևանի Գ. Անանյանի անվան ավագ դպրոց» ՊՈԱԿ | G40: 12089.8
A41: 1192 | B41: Կրթության որակի ապահովում | G41: =+G42 -> -63604.3
B42: 11009 | C42: Գնահատման և թեստավորման ծառայություններ | F42: ՀՀ կրթության, գիտության, մշակույթի և սպորտի նախարարություն | G42: =+G43 -> -63604.3
F43: «Գնահատման և թեստավորման կենտրոն» ՊՈԱԿ | G43: =+'Havelvats 1'!E168 -> -63604.3

Sheet Havelvats 6
C1: Հավելված 6
C2: ՀՀ կառավարության 2020 թվականի
C3: ______________ ի ___Ն որոշման
B5: ՀԱՅԱՍՏԱՆԻ ՀԱՆՐԱՊԵՏՈՒԹՅԱՆ ԿԱՌԱՎԱՐՈՒԹՅԱՆ 2019 ԹՎԱԿԱՆԻ ԴԵԿՏԵՄԲԵՐԻ 26-Ի N 1919-Ն ՈՐՈՇՄԱՆ N 9 ՀԱՎԵԼՎԱԾԻ N 9.14 ԵՎ 9․47 ԱՂՅՈՒՍԱԿՆԵՐՈՒՄ ԿԱՏԱՐՎՈՂ ՓՈՓՈԽՈՒԹՅՈՒՆՆԵՐԸ ԵՎ ԼՐԱՑՈՒՄՆԵՐԸ
A8: Աղյուսակ 9․14
C9: ՀՀ կրթության, գիտության, մշակույթի և սպորտի նախարարություն
B10: ՄԱՍ 2. ՊԵՏԱԿԱՆ ՄԱՐՄՆԻ ԳԾՈՎ ԱՐԴՅՈՒՆՔԱՅԻՆ (ԿԱՏԱՐՈՂԱԿԱՆ) ՑՈՒՑԱՆԻՇՆԵՐԸ
B13: Ծրագրի դասիչը | C13: Ծրագրի անվանումը
B14: 1045 | C14: Նախնական (արհեստագործական) և միջին մասնագիտական կրթություն
B15: Ծրագրի միջոցառումները
B16: Ծրագրի դասիչը` | C16: 1045 | D16: Ցուցանիշների փոփոխությունը (նվազեցումները նշված են փակագծերում)
B17: Միջոցառման դասիչը` | C17: 32001 | D17: Ինն ամիս | E17: Տարի
B18: Միջոցառման անվանումը` | C18: Նախնական մասնագիտական (արհեստագործական) և միջին մասնագիտական ուսումնական հաստատությունների շենքային պայմանների բարելավում
B19: Նկարագրությունը` | C19: ՆՄՄԿՈՒ հաստատությունների շենքերի հիմնանորոգման և նախագծման (շինարարական աշխատանքներ՝ ջեռուցման համակարգի ստեղծում՝ ներքին հարդարում՝ տարածքի բարեկարգում) աշխատանքների իրականացում
B20: Միջոցառման տեսակը` | C20: Այլ պետական կազմակերպությունների կողմից օգտագործվող ոչ ֆինանսական ակտիվների հետ գործառնություններ
B21: Միջոցառումն իրականացնողի անվանումը | C21: Միջին մասնագիտական ուսումնական հաստատություններ
B22: Արդյունքի չափորոշիչներ
B23: Հիմնանորոգվող միջին մասնագիտական ուսումնական հաստատությունների քանակ, հատ | E23: 1
B24: Միջոցառման վրա կատարվող ծախսը (հազար դրամ) | D24: =+'Havelvats 1'!D21 -> 0 | E24: =+'Havelvats 1'!E21 -> 20858.7
B26: Ծրագրի դասիչը | C26: Ծրագրի անվանումը
B27: 1056 | C27: Կինեմատոգրաֆիայի ծրագիր
B28: Ծրագրի միջոցառումները
B29: Ծրագրի դասիչը` | C29: 1056 | D29: Ցուցանիշների փոփոխությունը (նվազեցումները նշված են փակագծերում)
B30: Միջոցառման դասիչը` | C30: 11001 | D30: Ինն ամիս | E30: Տարի
B31: Միջոցառման անվանումը` | C31: Կինոնկարների արտադրություն
B32: Նկարագրությունը` | C32: Խաղարկային՝ մուլտիպլիկացիոն և վավերագրական կինոնկարների արտադրություն
B33: Միջոցառման տեսակը` | C33: Ծառայությունների մատուցում
B34: Միջոցառումն իրականացնողի անվանումը | C34: Մասնագիտացված կազմակերպություններ
B35: Արդյունքի չափորոշիչներ
B36: Միջոցառման վրա կատարվող ծախսը (հազար դրամ) | D36: =+'Havelvats 1'!D34 -> 0 | E36: =+'Havelvats 1'!E34 -> -35000
B38: Ծրագրի դասիչը` | C38: 1056 | D38: Ցուցանիշների փոփոխությունը (նվազեցումները նշված են փակագծերում)
B39: Միջոցառման դասիչը` | C39: 32001 | D39: Ինն ամիս | E39: Տարի
B40: Միջոցառման անվանումը` | C40: Ներդրումներ «Հայաստանի ազգային կինոկենտրոն» ՊՈԱԿ-ի տարածքի վերակառուցման համար
B41: Նկարագրությունը` | C41: «Հայաստանի ազգային կինոկենտրոն» ՊՈԱԿ-ի տարածքի վերակառուցման նախագծանախահաշվային փաստաթղթերի մշակում
B42: Միջոցառման տեսակը` | C42: Այլ պետական կազմակերպությունների կողմից օգտագործվող ոչ ֆինանսական ակտիվների հետ գործառնություններ
B43: Ակտիվն օգտագործող կազմակերպությունների անվանումները | C43: «Հայաստանի ազգային կինոկենտրոն» ՊՈԱԿ
B44: Արդյունքի չափորոշիչներ
B45: Կազմակերպությունների թիվը, որտեղ կատարվում են ներդրումները, հատ | E45: 1
B46: Աշխատանքների ավարտվածության աստիճանը, % | E46: 100
B47: Միջոցառման վրա կատարվող ծախսը (հազար դրամ) | D47: =+'Havelvats 1'!D40 -> 0 | E47: =+'Havelvats 1'!E40 -> 102715.7
B49: Ծրագրի դասիչը | C49: Ծրագրի անվանումը
B50: 1075 | C50: Մշակութային ժառանգության ծրագիր
B51: Ծրագրի միջոցառումները
B52: Ծրագրի դասիչը` | C52: 1075 | D52: Ցուցանիշների փոփոխությունը (նվազեցումները նշված են փակագծերում)
B53: Միջոցառման դասիչը` | C53: 32002 | D53: Ինն ամիս | E53: Տարի
B54: Միջոցառման անվանումը` | C54: «Պատմամշակութային ժառանգության գիտահետազոտական կենտրոն» ՊՈԱԿ-ի նյութատեխնիկական բազայի համալրում և գույքով ապահովում
B55: Նկարագրությունը` | C55: «Պատմամշակութային ժառանգության գիտահետազոտական կենտրոն» ՊՈԱԿ-ի համար անհրաժեշտ տեխնիկայի, սարքավորումենրի և կահույքի ձեռքբերում
B56: Միջոցառման տեսակը` | C56: Այլ պետական կազմակերպությունների կողմից օգտագործվող ոչ ֆինանսական ակտիվների հետ գործառնություններ
B57: Ակտիվն օգտագործող կազմակերպությունների անվանումները | C57: «Պատմամշակութային ժառանգության գիտահետազոտական կենտրոն» ՊՈԱԿ
B58: Արդյունքի չափորոշիչներ
B59: Միջոցառման վրա կատարվող ծախսը (հազար դրամ) | D59: =+'Havelvats 1'!D53 -> 2983.1 | E59: =+'Havelvats 1'!E53 -> 2983.1
B61: Ծրագրի դասիչը | C61: Ծրագրի անվանումը
B62: 1111 | C62: Բարձրագույն և հետբուհական մասնագիտական կրթության ծրագիր
B63: Ծրագրի միջոցառումները
B64: Ծրագրի դասիչը` | C64: 1111 | D64: Ցուցանիշների փոփոխությունը (նվազեցումները նշված են փակագծերում)
B65: Միջոցառման դասիչը` | C65: 32002 | D65: Ինն ամիս | E65: Տարի
B66: Միջոցառման անվանումը` | C66: Բարձրագույն ուսումնական հաստատությունների շենքերի նորոգում
B67: Նկարագրությունը` | C67: Բարձրագույն ուսումնական հաստատությունների շենքերի, մասնաշենքերի նորոգում, հիմնանորոգում, վերակառուցում
B68: Միջոցառման տեսակը` | C68: Այլ պետական կազմակերպությունների կողմից օգտագործվող ոչ ֆինանսական ակտիվների հետ գործառնություններ
B69: Ակտիվն օգտագործող կազմակերպությունների անվանումները | C69: Բարձրագույն ուսումնական հաստատություններ
B70: Արդյունքի չափորոշիչներ
B71: Կազմակերպությունների թիվը, որտեղ կատարվում են ներդրումները, հատ | E71: 1
B72: Միջոցառման վրա կատարվող ծախսը (հազար դրամ) | D72: =+'Havelvats 1'!D66 -> 0 | E72: =+'Havelvats 1'!E66 -> 37490.3
B74: Ծրագրի դասիչը` | C74: 1111 | D74: Ցուցանիշների փոփոխությունը (նվազեցումները նշված են փակագծերում)
B75: Միջոցառման դասիչը` | C75: 32003 | D75: Ինն ամիս | E75: Տարի
B76: Միջոցառման անվանումը` | C76: Բարձրագույն ուսումնական հաստատությունների և «Զեյթուն» ուսանողական ավան» հիմնադրամի նյութատեխնիկական բազայի համալրում և գույքով ապահովում
B77: Նկարագրությունը` | C77: Բարձրագույն ուսումնական հաստատությունների և «Զեյթուն» ուսանողական ավան» հիմնադրամի համար անհրաժեշտ լաբորատոր և այլ սարքավորումների, տեխնիկայի, կահույքի ձեռքբերում
B78: Միջոցառման տեսակը` | C78: Այլ պետական կազմակերպությունների կողմից օգտագործվող ոչ ֆինանսական ակտիվների հետ գործառնություններ
B79: Ակտիվն օգտագործող կազմակերպությունների անվանումները | C79: Բարձրագույն ուսումնական հաստատություններ և «Զեյթուն» ուսանողական ավան» հիմնադրամ
B80: Արդյունքի չափորոշիչներ
B81: Կազմակերպությունների թիվը, որտեղ կատարվում են ներդրումները, հատ | E81: 1
B82: Միջոցառման վրա կատարվող ծախսը (հազար դրամ) | D82: =+'Havelvats 1'!D72 -> 0 | E82: =+'Havelvats 1'!E72 -> 22509.7
B84: Ծրագրի դասիչը | C84: Ծրագրի անվանումը
B85: 1115 | C85: Երիտասարդության ծրագիր
B86: Ծրագրի միջոցառումները
B87: Ծրագրի դասիչը` | C87: 1115 | D87: Ցուցանիշների փոփոխությունը (նվազեցումները նշված են փակագծերում)
B88: Միջոցառման դասիչը` | C88: 11001 | D88: Ինն ամիս | E88: Տարի
B89: Միջոցառման անվանումը` | C89: Երիտասարդական պետական քաղաքականությանն ուղղված ծրագրեր և միջոցառումներ
B90: Նկարագրությունը` | C90: Հասարակական կյանքին երիտասարդների ակտիվ մասնակցության, երիտասարդության շրջանում առողջ ապրելակերպի, հոգևոր-մշակութային, հայրենասիրական դաստիարակության խթանում, երիտասարդների զբաղվածության հնարավորությունների մեծացում
B91: Միջոցառման տեսակը` | C91: Ծառայությունների մատուցում
B92: Ծառայությունը մատուցող կազմակերպությունների անվանումը | C92: «Գնումների մասին » ՀՀ օրենքի համաձայն ընտրված կազմակերպություն, մասնագիտացված կազմակերպություն, ՀՀ կրթության, գիտության, մշակույթի և սպորտի նախարարություն
B93: Արդյունքի չափորոշիչներ
B94: Միջոցառումների թիվ, հատ | D94: -1 | E94: -1
B95: Մասնակիցների թիվ, մարդ | D95: (34) | E95: (34)
B96: Միջոցառման վրա կատարվող ծախսը (հազար դրամ) | D96: =+'Havelvats 1'!D85 -> -3223.6 | E96: =+'Havelvats 1'!E85 -> -3223.6
B98: Ծրագրի դասիչը | C98: Ծրագրի անվանումը
B99: 1130 | C99: Կրթության, գիտության, մշակույթի և սպորտի բնագավառի պետական քաղաքականության մշակում, ծրագրերի համակարգում և մոնիտորինգ
B100: Ծրագրի միջոցառումները
B101: Ծրագրի դասիչը` | C101: 1130 | D101: Ցուցանիշների փոփոխությունը (նվազեցումները նշված են փակագծերում)
B102: Միջոցառման դասիչը` | C102: 11001 | D102: Ինն ամիս | E102: Տարի
B103: Միջոցառման անվանումը` | C103: Կրթության, գիտության, մշակույթի և սպորտի բնագավառի պետական քաղաքականության մշակման, ծրագրերի համակարգման և մոնիտորինգի ծառայություններ
B104: Նկարագրությունը` | C104: Կրթության, գիտության, մշակույթի և սպորտի բնագավառի պետական քաղաքականության մշակման, ծրագրերի համակարգման և մոնիտորինգի ծառայությունների ապահովում
B105: Միջոցառման տեսակը` | C105: Ծառայությունների մատուցում
B106: Ծառայությունը մատուցող կազմակերպությունների անվանումը | C106: ՀՀ կրթության, գիտության, մշակույթի և սպորտի նախարարություն
B107: Արդյունքի չափորոշիչներ
B108: Միջոցառման վրա կատարվող ծախսը (հազար դրամ) | D108: =+'Havelvats 1'!D98 -> 0 | E108: =+'Havelvats 1'!E98 -> -1248
B110: Ծրագրի դասիչը | C110: Ծրագրի անվանումը
B111: 1146 | C111: Հանրարթության ծրագիր
B112: Ծրագրի միջոցառումները
B113: Ծրագրի դասիչը՝ | C113: 1146 | D113: Ցուցանիշների փոփոխությունը (նվազեցումները նշված են փակագծերում)
...

Sheet Havelvats 7
C1: Հավելված 7
C2: ՀՀ կառավարության 2020 թվականի
C3: ______________ ի ___Ն որոշման
B5: ՀԱՅԱՍՏԱՆԻ ՀԱՆՐԱՊԵՏՈՒԹՅԱՆ ԿԱՌԱՎԱՐՈՒԹՅԱՆ 2019 ԹՎԱԿԱՆԻ ԴԵԿՏԵՄԲԵՐԻ 26-Ի N 1919-Ն ՈՐՈՇՄԱՆ N 9.1 ՀԱՎԵԼՎԱԾԻ 9.1.14, 9.1.42 ԵՎ 9.1.58 ԱՂՅՈՒՍԱԿՆԵՐՈՒՄ ԿԱՏԱՐՎՈՂ ՓՈՓՈԽՈՒԹՅՈՒՆՆԵՐԸ ԵՎ ԼՐԱՑՈՒՄՆԵՐԸ
A8: Աղյուսակ 9․1․14
C9: ՀՀ կրթության, գիտության, մշակույթի և սպորտի նախարարություն
B10: ՄԱՍ 1. ՊԵՏԱԿԱՆ ՄԱՐՄՆԻ ԳԾՈՎ ԱՐԴՅՈՒՆՔԱՅԻՆ (ԿԱՏԱՐՈՂԱԿԱՆ) ՑՈՒՑԱՆԻՇՆԵՐԸ
B13: Ծրագրի դասիչը | C13: Ծրագրի անվանումը
B14: 1045 | C14: Նախնական (արհեստագործական) և միջին մասնագիտական կրթություն
B15: Ծրագրի միջոցառումները
B16: Ծրագրի դասիչը` | C16: 1045 | D16: Ցուցանիշների փոփոխությունը (նվազեցումները նշված են փակագծերում)
B17: Միջոցառման դասիչը` | C17: 32001 | D17: Ինն ամիս | E17: Տարի
B18: Միջոցառման անվանումը` | C18: Նախնական մասնագիտական (արհեստագործական) և միջին մասնագիտական ուսումնական հաստատությունների շենքային պայմանների բարելավում
B19: Նկարագրությունը` | C19: ՆՄՄԿՈՒ հաստատությունների շենքերի հիմնանորոգման և նախագծման (շինարարական աշխատանքներ՝ ջեռուցման համակարգի ստեղծում՝ ներքին հարդարում՝ տարածքի բարեկարգում) աշխատանքների իրականացում
B20: Միջոցառման տեսակը` | C20: Այլ պետական կազմակերպությունների կողմից օգտագործվող ոչ ֆինանսական ակտիվների հետ գործառնություններ
B21: Միջոցառումն իրականացնողի անվանումը | C21: Միջին մասնագիտական ուսումնական հաստատություններ
B22: Արդյունքի չափորոշիչներ
B23: Հիմնանորոգվող միջին մասնագիտական ուսումնական հաստատությունների քանակ, հատ | E23: 1
B24: Միջոցառման վրա կատարվող ծախսը (հազար դրամ) | D24: =+'Havelvats 2 '!G134 -> 0 | E24: =+'Havelvats 2 '!H134 -> 29000
B26: Ծրագրի դասիչը | C26: Ծրագրի անվանումը
B27: 1056 | C27: Կինեմատոգրաֆիայի ծրագիր
B28: Ծրագրի միջոցառումները
B29: Ծրագրի դասիչը` | C29: 1056 | D29: Ցուցանիշների փոփոխությունը (նվազեցումները նշված են փակագծերում)
B30: Միջոցառման դասիչը` | C30: 11001 | D30: Ինն ամիս | E30: Տարի
B31: Միջոցառման անվանումը` | C31: Կինոնկարների արտադրություն
B32: Նկարագրությունը` | C32: Խաղարկային՝ մուլտիպլիկացիոն և վավերագրական կինոնկարների արտադրություն
B33: Միջոցառման տեսակը` | C33: Ծառայությունների մատուցում
B34: Միջոցառումն իրականացնողի անվանումը | C34: Մասնագիտացված կազմակերպություններ
B35: Արդյունքի չափորոշիչներ
B36: Միջոցառման վրա կատարվող ծախսը (հազար դրամ) | D36: =+'Havelvats 2 '!G83 -> 0 | E36: =+'Havelvats 2 '!H83 -> -35000
B38: Ծրագրի դասիչը` | C38: 1056 | D38: Ցուցանիշների փոփոխությունը (նվազեցումները նշված են փակագծերում)
B39: Միջոցառման դասիչը` | C39: 32001 | D39: Ինն ամիս | E39: Տարի
B40: Միջոցառման անվանումը` | C40: Ներդրումներ «Հայաստանի ազգային կինոկենտրոն» ՊՈԱԿ-ի տարածքի վերակառուցման համար
B41: Նկարագրությունը` | C41: «Հայաստանի ազգային կինոկենտրոն» ՊՈԱԿ-ի տարածքի վերակառուցման նախագծանախահաշվային փաստաթղթերի մշակում
B42: Միջոցառման տեսակը` | C42: Այլ պետական կազմակերպությունների կողմից օգտագործվող ոչ ֆինանսական ակտիվների հետ գործառնություններ
B43: Ակտիվն օգտագործող կազմակերպությունների անվանումները | C43: «Հայաստանի ազգային կինոկենտրոն» ՊՈԱԿ
B44: Արդյունքի չափորոշիչներ
B45: Կազմակերպությունների թիվը, որտեղ կատարվում են ներդրումները, հատ | E45: 1
B46: Աշխատանքների ավարտվածության աստիճանը, % | E46: 100
B47: Միջոցառման վրա կատարվող ծախսը (հազար դրամ) | D47: =+'Havelvats 2 '!G92 -> 0 | E47: =+'Havelvats 2 '!H92 -> 102715.7
B49: Ծրագրի դասիչը | C49: Ծրագրի անվանումը
B50: 1075 | C50: Մշակութային ժառանգության ծրագիր
B51: Ծրագրի միջոցառումները
B52: Ծրագրի դասիչը` | C52: 1075 | D52: Ցուցանիշների փոփոխությունը (նվազեցումները նշված են փակագծերում)
B53: Միջոցառման դասիչը` | C53: 32002 | D53: Ինն ամիս | E53: Տարի
B54: Միջոցառման անվանումը` | C54: «Պատմամշակութային ժառանգության գիտահետազոտական կենտրոն» ՊՈԱԿ-ի նյութատեխնիկական բազայի համալրում և գույքով ապահովում
B55: Նկարագրությունը` | C55: «Պատմամշակութային ժառանգության գիտահետազոտական կենտրոն» ՊՈԱԿ-ի համար անհրաժեշտ տեխնիկայի, սարքավորումենրի և կահույքի ձեռքբերում
B56: Միջոցառման տեսակը` | C56: Այլ պետական կազմակերպությունների կողմից օգտագործվող ոչ ֆինանսական ակտիվների հետ գործառնություններ
B57: Ակտիվն օգտագործող կազմակերպությունների անվանումները | C57: «Պատմամշակութային ժառանգության գիտահետազոտական կենտրոն» ՊՈԱԿ
B58: Արդյունքի չափորոշիչներ
B59: Միջոցառման վրա կատարվող ծախսը (հազար դրամ) | D59: =+'Havelvats 2 '!G25 -> 2983.1 | E59: =+'Havelvats 2 '!H25 -> 2983.1
B61: Ծրագրի դասիչը | C61: Ծրագրի անվանումը
B62: 1111 | C62: Բարձրագույն և հետբուհական մասնագիտական կրթության ծրագիր
B63: Ծրագրի միջոցառումները
B64: Ծրագրի դասիչը` | C64: 1111 | D64: Ցուցանիշների փոփոխությունը (նվազեցումները նշված են փակագծերում)
B65: Միջոցառման դասիչը` | C65: 32002 | D65: Ինն ամիս | E65: Տարի
B66: Միջոցառման անվանումը` | C66: Բարձրագույն ուսումնական հաստատությունների շենքերի նորոգում
B67: Նկարագրությունը` | C67: Բարձրագույն ուսումնական հաստատությունների շենքերի, մասնաշենքերի նորոգում, հիմնանորոգում, վերակառուցում
B68: Միջոցառման տեսակը` | C68: Այլ պետական կազմակերպությունների կողմից օգտագործվող ոչ ֆինանսական ակտիվների հետ գործառնություններ
B69: Ակտիվն օգտագործող կազմակերպությունների անվանումները | C69: Բարձրագույն ուսումնական հաստատություններ
B70: Արդյունքի չափորոշիչներ
B71: Կազմակերպությունների թիվը, որտեղ կատարվում են ներդրումները, հատ | E71: 1
B72: Միջոցառման վրա կատարվող ծախսը (հազար դրամ) | D72: =+'Havelvats 2 '!G145 -> 0 | E72: =+'Havelvats 2 '!H145 -> 37490.3
B74: Ծրագրի դասիչը` | C74: 1111 | D74: Ցուցանիշների փոփոխությունը (նվազեցումները նշված են փակագծերում)
B75: Միջոցառման դասիչը` | C75: 32003 | D75: Ինն ամիս | E75: Տարի
B76: Միջոցառման անվանումը` | C76: Բարձրագույն ուսումնական հաստատությունների և «Զեյթուն» ուսանողական ավան» հիմնադրամի նյութատեխնիկական բազայի համալրում և գույքով ապահովում
B77: Նկարագրությունը` | C77: Բարձրագույն ուսումնական հաստատությունների և «Զեյթուն» ուսանողական ավան» հիմնադրամի համար անհրաժեշտ լաբորատոր և այլ սարքավորումների, տեխնիկայի, կահույքի ձեռքբերում
B78: Միջոցառման տեսակը` | C78: Այլ պետական կազմակերպությունների կողմից օգտագործվող ոչ ֆինանսական ակտիվների հետ գործառնություններ
B79: Ակտիվն օգտագործող կազմակերպությունների անվանումները | C79: Բարձրագույն ուսումնական հաստատություններ և «Զեյթուն» ուսանողական ավան» հիմնադրամ
B80: Արդյունքի չափորոշիչներ
B81: Կազմակերպությունների թիվը, որտեղ կատարվում են ներդրումները, հատ | E81: 1
B82: Միջոցառման վրա կատարվող ծախսը (հազար դրամ) | D82: =+'Havelvats 2 '!G148 -> 0 | E82: =+'Havelvats 2 '!H148 -> 22509.7
B84: Ծրագրի դասիչը | C84: Ծրագրի անվանումը
B85: 1115 | C85: Երիտասարդության ծրագիր
B86: Ծրագրի միջոցառումները
B87: Ծրագրի դասիչը` | C87: 1115 | D87: Ցուցանիշների փոփոխությունը (նվազեցումները նշված են փակագծերում)
B88: Միջոցառման դասիչը` | C88: 11001 | D88: Ինն ամիս | E88: Տարի
B89: Միջոցառման անվանումը` | C89: Երիտասարդական պետական քաղաքականությանն ուղղված ծրագրեր և միջոցառումներ
B90: Նկարագրությունը` | C90: Հասարակական կյանքին երիտասարդների ակտիվ մասնակցության, երիտասարդության շրջանում առողջ ապրելակերպի, հոգևոր-մշակութային, հայրենասիրական դաստիարակության խթանում, երիտասարդների զբաղվածության հնարավորությունների մեծացում
B91: Միջոցառման տեսակը` | C91: Ծառայությունների մատուցում
B92: Ծառայությունը մատուցող կազմակերպությունների անվանումը | C92: «Գնումների մասին » ՀՀ օրենքի համաձայն ընտրված կազմակերպություն, մասնագիտացված կազմակերպություն, ՀՀ կրթության, գիտության, մշակույթի և սպորտի նախարարություն
B93: Արդյունքի չափորոշիչներ
B94: Միջոցառումների թիվ, հատ | D94: -1 | E94: -1
B95: Մասնակիցների թիվ, մարդ | D95: -34 | E95: -34
B96: Միջոցառման վրա կատարվող ծախսը (հազար դրամ) | D96: =+'Havelvats 2 '!G109 -> -3223.6 | E96: =+'Havelvats 2 '!H109 -> -3223.6
B98: Ծրագրի դասիչը | C98: Ծրագրի անվանումը
B99: 1130 | C99: Կրթության, գիտության, մշակույթի և սպորտի բնագավառի պետական քաղաքականության մշակում, ծրագրերի համակարգում և մոնիտորինգ
B100: Ծրագրի միջոցառումները
B101: Ծրագրի դասիչը` | C101: 1130 | D101: Ցուցանիշների փոփոխությունը (նվազեցումները նշված են փակագծերում)
B102: Միջոցառման դասիչը` | C102: 11001 | D102: Ինն ամիս | E102: Տարի
B103: Միջոցառման անվանումը` | C103: Կրթության, գիտության, մշակույթի և սպորտի բնագավառի պետական քաղաքականության մշակման, ծրագրերի համակարգման և մոնիտորինգի ծառայություններ
B104: Նկարագրությունը` | C104: Կրթության, գիտության, մշակույթի և սպորտի բնագավառի պետական քաղաքականության մշակման, ծրագրերի համակարգման և մոնիտորինգի ծառայությունների ապահովում
B105: Միջոցառման տեսակը` | C105: Ծառայությունների մատուցում
B106: Ծառայությունը մատուցող կազմակերպությունների անվանումը | C106: ՀՀ կրթության, գիտության, մշակույթի և սպորտի նախարարություն
B107: Արդյունքի չափորոշիչներ
B108: Միջոցառման վրա կատարվող ծախսը (հազար դրամ) | D108: =+'Havelvats 2 '!G157 -> 0 | E108: =+'Havelvats 2 '!H157 -> -1248
B110: Ծրագրի դասիչը | C110: Ծրագրի անվանումը
B111: 1146 | C111: Հանրարթության ծրագիր
B112: Ծրագրի միջոցառումները
B113: Ծրագրի դասիչը՝ | C113: 1146 | D113: Ցուցանիշների փոփոխությունը (նվազեցումները նշված են փակագծերում)
...

Sheet Havelvats 8
H1: Հավելված N 8
H2: ՀՀ կառավարության 2020 թվականի
H3: ______________ ի ___Ն որոշման
A5: ՀԱՅԱՍՏԱՆԻ ՀԱՆՐԱՊԵՏՈՒԹՅԱՆ ԿԱՌԱՎԱՐՈՒԹՅԱՆ 2019 ԹՎԱԿԱՆԻ ԴԵԿՏԵՄԲԵՐԻ 26-Ի N 1919-Ն ՈՐՈՇՄԱՆ N 10 ՀԱՎԵԼՎԱԾՈՒՄ ԿԱՏԱՐՎՈՂ ՓՈՓՈԽՈՒԹՅՈՒՆՆԵՐԸ ԵՎ ԼՐԱՑՈՒՄՆԵՐԸ
A7: Կոդը | B7: Անվանումը | E7: Գնման ձևը | F7: Չափման միավորը | G7: Միավորի գինը | H7: Քանակը | I7: Ցուցանիշների փոփոխությունը (ավելացումները նշված են դրական նշանով, իսկ նվազեցումները` փակագծերում)
I8: Գումարը (հազար դրամ)
A10: 1 | B10: 2 | E10: 3 | F10: 4 | H10: 6 | I10: 7
A11: ՀՀ կրթության, գիտության, մշակույթի և սպորտի նախարարություն | I11: =+I12+I17+I22 -> -34274.5
A12: Բաժին N 08 | B12: Խումբ N 02 | C12: Դաս N 05 | D12: Արվեստ | I12: =+I13 -> -29802.9
A13: 1168-32001 | B13: Ներդրումներ թատրոնների շենքերի կապիտալ վերանորոգման համար | I13: =+I14 -> -29802.9
B14: ՄԱՍ II. ԱՇԽԱՏԱՆՔՆԵՐ | I14: =+I15 -> -29802.9
A15: 45451700-2 | B15: վերակառուցման աշխատանքներ | E15: ՀԲՄ | F15: դրամ | I15: -29802.9
A17: Բաժին N 08 | B17: Խումբ N 04 | C17: Դաս N 01 | D17: Երիտասարդական ծրագրեր | I17: =+I18 -> -3223.6
A18: 1115-11001 | B18: Երիտասարդական պետական քաղաքականությանն ուղղված ծրագրեր և միջոցառումներ | I18: =+I19 -> -3223.6
B19: ՄԱՍ III. ԾԱՌԱՅՈՒԹՅՈՒՆՆԵՐ | I19: =+I20 -> -3223.6
A20: 79951100-1 | B20: միջոցառումների հետ կապված ծառայություններ | E20: ԳՀ | F20: դրամ | G20: 3223600 | H20: -1 | I20: -3223.6
A22: Բաժին N 09 | B22: Խումբ N 06 | C22: Դաս N 01 | D22: Կրթությանը տրամադրվող օժանդակ ծառայություններ | I22: =+I23 -> -1248
A23: 1130-11001 | B23: Կրթության, գիտության, մշակույթի և սպորտի բնագավառի պետական քաղաքականության մշակման, ծրագրերի համակարգման և մոնիտորինգի ծառայություններ | I23: =+I24 -> -1248
B24: ՄԱՍ III. ԾԱՌԱՅՈՒԹՅՈՒՆՆԵՐ | I24: =+I25 -> -1248
A25: 92511110-1 | B25: արխիվային ծառայություններ | E25: ԳՀ | F25: դրամ | G25: 1650000 | H25: -1 | I25: -1248
A27: ՀՀ քաղաքաշինության կոմիտե | I27: =+I28 -> -11275.2
A28: Բաժին N 09 | B28: Խումբ N 06 | C28: Դաս N 01 | D28: Կրթությանը տրամադրվող օժանդակ ծառայություններ | I28: =+I29+I34+I37 -> -11275.2
A29: 1045-32001 | B29: Նախնական մասնագիտական (արհեստագործական) և միջին մասնագիտական ուսումնական հաստատությունների շենքային պայմանների բարելավում | I29: =+I30+I32 -> -8141.3
B30: ՄԱՍ II. ԱՇԽԱՏԱՆՔՆԵՐ | I30: =SUM(I31:I31) -> -6949.8
A31: 45611100-1 | B31: կրթական օբյեկտների հիմնանորոգում | E31: ԲՄ | F31: դրամ | I31: -6949.8
B32: ՄԱՍ III. ԾԱՌԱՅՈՒԹՅՈՒՆՆԵՐ | I32: =+I33 -> -1191.5
A33: 71351540-1 | B33: տեխնիկական հսկողության ծառայություններ | E33: ԳՀ | F33: դրամ | I33: -1191.5
A34: 1163-32001 | B34: Մարզական օբյեկտների շինարարություն | I34: =+I35+I53 -> -785.4
B35: ՄԱՍ II. ԱՇԽԱՏԱՆՔՆԵՐ | I35: =SUM(I36:I36) -> -785.4
A36: 45211131-1 | B36: մարզական օբյեկտների շինարարական աշխատանքներ | E36: ԲՄ | F36: դրամ | I36: -785.4
A37: 1183-32001 | B37: Կրթական օբյեկտների շենքային պայմանների բարելավում | I37: =+I38+I40 -> -2348.5
B38: ՄԱՍ II. ԱՇԽԱՏԱՆՔՆԵՐ | I38: =SUM(I39:I39) -> -748.5
A39: 45611100-1 | B39: կրթական օբյեկտների հիմնանորոգում | E39: ԲՄ | F39: դրամ | I39: -748.5
B40: ՄԱՍ III. ԾԱՌԱՅՈՒԹՅՈՒՆՆԵՐ | I40: =+I41 -> -1600
A41: 71241200-112 | B41: նախագծերի պատրաստում, ծախսերի գնահատում | E41: ԳՀ | F41: դրամ | I41: -1600

Sheet Havelvats 9 
F1: Հավելված N 9
F2: ՀՀ կառավարության 2020 թվականի
F3: ______________ ի ___Ն որոշման
A6: ՀԱՅԱՍՏԱՆԻ ՀԱՆՐԱՊԵՏՈՒԹՅԱՆ 2020 ԹՎԱԿԱՆԻ ՊԵՏԱԿԱՆ ԲՅՈՒՋԵՈՎ ՆԱԽԱՏԵՍՎԱԾ՝ ՀԱՅԱՍՏԱՆԻ ՀԱՆՐԱՊԵՏՈՒԹՅԱՆ ԿԱՌԱՎԱՐՈՒԹՅԱՆ ՊԱՀՈՒՍՏԱՅԻՆ ՖՈՆԴԻՑ ՀԱՏԿԱՑՈՒՄՆԵՐ ԿԱՏԱՐԵԼՈՒ ՎԵՐԱԲԵՐՅԱԼ
G8: հազ. դրամներով
A9: Գործառական դասիչը | D9: Ծրագրային դասիչը | F9: Բյուջետային հատկացումների գլխավոր կարգադրիչների, ծրագրերի, միջոցառումների և միջոցառումները կատարող պետական մարմինների անվանումները
A10: Բաժին | B10: Խումբ | C10: Դաս | D10: Ծրագիր | E10: Միջոցառում | G10: Ինն ամիս | H10: Տարի
F11: ԸՆԴԱՄԵՆԸ | G11: =+G13+G32 -> 0 | H11: =+H13+H32 -> 0
F12: այդ թվում
F13: ՀՀ կառավարություն | G13: =+G14 -> -2983.1 | H13: =+H14 -> -165698.8
A14: 11 | F14: ՀԻՄՆԱԿԱՆ ԲԱԺԻՆՆԵՐԻՆ ՉԴԱՍՎՈՂ ՊԱՀՈՒՍՏԱՅԻՆ ՖՈՆԴԵՐ | G14: =+G16 -> -2983.1 | H14: =+H16 -> -165698.8
F15: այդ թվում`
B16: 01 | F16: ՀՀ կառավարության և համայնքների պահուստային ֆոնդ | G16: =+G18 -> -2983.1 | H16: =+H18 -> -165698.8
F17: այդ թվում`
C18: 01 | F18: ՀՀ կառավարության պահուստային ֆոնդ | G18: =+G20 -> -2983.1 | H18: =+H20 -> -165698.8
F19: այդ թվում`
F20: ՀՀ կառավարություն | G20: =+G22 -> -2983.1 | H20: =+H22 -> -165698.8
F21: այդ թվում`
D22: 1139 | E22: ՀՀ կառավարության պահուստային ֆոնդ | F22: ՀՀ կառավարության պահուստային ֆոնդ | G22: =+G24 -> -2983.1 | H22: =+H24 -> -165698.8
E23: 11001 | F23: այդ թվում`
F24: ՀՀ կառավարության պահուստային ֆոնդ | G24: =+G26 -> -2983.1 | H24: =+H26 -> -165698.8
F25: այդ թվում` ըստ կատարողների
F26: ՀՀ կառավարություն | G26: =+G28 -> -2983.1 | H26: =+H28 -> -165698.8
F27: այդ թվում` բյուջետային ծախսերի տնտեսագիտական դասակարգման հոդվածներ
F28: ԸՆԴԱՄԵՆԸ ԾԱԽՍԵՐ | G28: =+G29 -> -2983.1 | H28: =+H29 -> -165698.8
F29: ԸՆԹԱՑԻԿ ԾԱԽՍԵՐ | G29: =+G30 -> -2983.1 | H29: =+H30 -> -165698.8
F30: ԱՅԼ ԾԱԽՍԵՐ | G30: =+G31 -> -2983.1 | H30: =+H31 -> -165698.8
F31: Պահուստային միջոցներ | G31: =+'Havelvats 2 '!G269 -> -2983.1 | H31: =+'Havelvats 2 '!H269 -> -165698.8
F32: ՀՀ Կրթության, գիտության, մշակույթի և սպորտի նախարարություն | G32: =+G33+G67 -> 2983.1 | H32: =+H33+H67 -> 165698.8
A33: 08 | F33: ՀԱՆԳԻՍՏ, ՄՇԱԿՈՒՅԹ ԵՎ ԿՐՈՆ | G33: =+G35+G124 -> 2983.1 | H33: =+H35+H124 -> 105698.8
F34: այդ թվում`
B35: 02 | F35: Մշակութային ծառայություններ | G35: =+G37+G52 -> 2983.1 | H35: =+H37+H52 -> 105698.8
F36: այդ թվում`
C37: 02 | F37: Թանգարաններ և ցուցասրահներ | G37: =+G39 -> 2983.1 | H37: =+H39 -> 2983.1
F38: այդ թվում`
F39: ՀՀ կրթության, գիտության, մշակույթի և սպորտի նախարարություն | G39: =+G41 -> 2983.1 | H39: =+H41 -> 2983.1
F40: այդ թվում`
D41: 1075 | E41: Մշակութային ժառանգության ծրագիր | G41: =+G43 -> 2983.1 | H41: =+H43 -> 2983.1
E42: 32002 | F42: այդ թվում`
F43: «Պատմամշակութային ժառանգության գիտահետազոտական կենտրոն» ՊՈԱԿ-ի նյութատեխնիկական բազայի համալրում և գույքով ապահովում | G43: =G45 -> 2983.1 | H43: =H45 -> 2983.1
F44: այդ թվում`ըստ կատարողների
F45: ՀՀ կրթության, գիտության, մշակույթի և սպորտի նախարարություն | G45: =G47 -> 2983.1 | H45: =H47 -> 2983.1
F46: այդ թվում`բյուջետային ծախսերի տնտեսագիտական դասակարգման հոդվածներ
F47: ԸՆԴԱՄԵՆԸ ԾԱԽՍԵՐ | G47: =+G48 -> 2983.1 | H47: =+H48 -> 2983.1
F48: ԸՆԹԱՑԻԿ ԾԱԽՍԵՐ | G48: =G49 -> 2983.1 | H48: =H49 -> 2983.1
F49: ԴՐԱՄԱՇՆՈՐՀՆԵՐ | G49: =G50 -> 2983.1 | H49: =H50 -> 2983.1
F50: Կապիտալ դրամաշնորհներ պետական հատվածի այլ մակարդակներին | G50: =G51 -> 2983.1 | H50: =H51 -> 2983.1
F51: - Կապիտալ դրամաշնորհներ պետական և համայնքային ոչ առևտրային կազմակերպություններին | G51: =+'Havelvats 2 '!G31 -> 2983.1 | H51: =+'Havelvats 2 '!H31 -> 2983.1
C52: 06 | F52: Կինեմատոգրաֆիա | G52: =+G54 -> 0 | H52: =+H54 -> 102715.7
F53: այդ թվում`
F54: ՀՀ կրթության, գիտության, մշակույթի և սպորտի նախարարություն | G54: =+G56 -> 0 | H54: =+H56 -> 102715.7
F55: այդ թվում`
D56: 1056 | E56: Կինեմատոգրաֆիայի ծրագիր | G56: =+G58 -> 0 | H56: =+H58 -> 102715.7
E57: 32001 | F57: այդ թվում`
F58: Ներդրումներ «Հայաստանի ազգային կինոկենտրոն» ՊՈԱԿ-ի տարածքի վերակառուցման համար | G58: =G60 -> 0 | H58: =H60 -> 102715.7
F59: այդ թվում`ըստ կատարողների
F60: ՀՀ կրթության, գիտության, մշակույթի և սպորտի նախարարություն | G60: =G62 -> 0 | H60: =H62 -> 102715.7
F61: այդ թվում`բյուջետային ծախսերի տնտեսագիտական դասակարգման հոդվածներ
F62: ԸՆԴԱՄԵՆԸ ԾԱԽՍԵՐ | G62: =G63 -> 0 | H62: =H63 -> 102715.7
F63: ՈՉ ՖԻՆԱՆՍԱԿԱՆ ԱԿՏԻՎՆԵՐԻ ԳԾՈՎ ԾԱԽՍԵՐ | G63: =G64 -> 0 | H63: =H64 -> 102715.7
F64: ՀԻՄՆԱԿԱՆ ՄԻՋՈՑՆԵՐ | G64: =G65 -> 0 | H64: =H65 -> 102715.7
F65: ՇԵՆՔԵՐ ԵՎ ՇԻՆՈՒԹՅՈՒՆՆԵՐ | G65: =G66 -> 0 | H65: =H66 -> 102715.7
F66: - Կապիտալ դրամաշնորհներ պետական և համայնքային ոչ առևտրային կազմակերպություններին | G66: =+'Havelvats 2 '!G92 -> 0 | H66: =+'Havelvats 2 '!H92 -> 102715.7
A67: 09 | F67: ԿՐԹՈՒԹՅՈՒՆ | G67: =+G69+G142 -> 0 | H67: =+H69+H142 -> 60000
F68: այդ թվում`
B69: 06 | F69: Կրթությանը տրամադրվող օժանդակ ծառայություններ | G69: =+G71+G118 -> 0 | H69: =+H71+H118 -> 60000
F70: այդ թվում`
C71: 01 | F71: Կրթությանը տրամադրվող օժանդակ ծառայություններ | G71: =+G73 -> 0 | H71: =+H73 -> 60000
F72: այդ թվում`
F73: ՀՀ կրթության, գիտության, մշակույթի և սպորտի նախարարություն | G73: =+G75 -> 0 | H73: =+H75 -> 60000
F74: այդ թվում`
D75: 1111 | E75: Բարձրագույն և հետբուհական մասնագիտական կրթության ծրագիր | G75: =+G77+G86 -> 0 | H75: =+H77+H86 -> 60000
E76: 32002 | F76: այդ թվում`
F77: Բարձրագույն ուսումնական հաստատությունների շենքերի նորոգում | G77: =G79 -> 0 | H77: =H79 -> 37490.3
F78: այդ թվում`ըստ կատարողների
F79: ՀՀ կրթության, գիտության, մշակույթի և սպորտի նախարարութուն | G79: =G81 -> 0 | H79: =H81 -> 37490.3
F80: այդ թվում` բյուջետային ծախսերի տնտեսագիտական դասակարգման հոդվածներ
F81: ԸՆԴԱՄԵՆԸ ԾԱԽՍԵՐ | G81: =G82 -> 0 | H81: =H82 -> 37490.3
F82: ԸՆԹԱՑԻԿ ԾԱԽՍԵՐ | G82: =G83 -> 0 | H82: =H83 -> 37490.3
F83: ԴՐԱՄԱՇՆՈՐՀՆԵՐ | G83: =G84 -> 0 | H83: =H84 -> 37490.3
F84: Կապիտալ դրամաշնորհներ պետական հատվածի այլ մակարդակներին | G84: =G85 -> 0 | H84: =H85 -> 37490.3
F85: - Այլ կապիտալ դրամաշնորհներ | G85: =+'Havelvats 2 '!G145 -> 0 | H85: =+'Havelvats 2 '!H145 -> 37490.3
E86: 32003 | F86: Բարձրագույն ուսումնական հաստատությունների և «Զեյթուն» ուսանողական ավան» հիմնադրամի նյութատեխնիկական բազայի համալրում և գույքով ապահովում | G86: =+G88 -> 0 | H86: =+H88 -> 22509.7
F87: այդ թվում` ըստ կատարողների
F88: ՀՀ կրթության, գիտության, մշակույթի և սպորտի նախարարութուն | G88: =+G90 -> 0 | H88: =+H90 -> 22509.7
F89: այդ թվում` բյուջետային ծախսերի տնտեսագիտական դասակարգման հոդվածներ
F90: ԸՆԴԱՄԵՆԸ ԾԱԽՍԵՐ | G90: =+G91 -> 0 | H90: =+H91 -> 22509.7
F91: ԸՆԹԱՑԻԿ ԾԱԽՍԵՐ | G91: =G92 -> 0 | H91: =H92 -> 22509.7
F92: ԴՐԱՄԱՇՆՈՐՀՆԵՐ | G92: =+G93 -> 0 | H92: =+H93 -> 22509.7
F93: Կապիտալ դրամաշնորհներ պետական հատվածի այլ մակարդակներին | G93: =G94 -> 0 | H93: =H94 -> 22509.7
F94: - Այլ կապիտալ դրամաշնորհներ | G94: =+'Havelvats 2 '!G154 -> 0 | H94: =+'Havelvats 2 '!H154 -> 22509.7
