Workbook
Name åû: #REF!
Name åû: #REF!
Name åû: #REF!
Name åû: #REF!
Name åû: #REF!
Name mas: #REF!
Name mas: #REF!
Name mas: #REF!
Name mas: #REF!
Name mas: #REF!
Name mass: #REF!
Name mass: #REF!
Name mass: #REF!
Name mass: #REF!
Name mass: #REF!
Name x: #REF!
Name x: #REF!
Name x: #REF!
Name x: #REF!
Name x: #REF!

Sheet 1
G1: Հավելված N 1
G2: ՀՀ կառավարության 2021 թվականի
G3: ___________ ___-ի N _______ -Ն որոշման
A7: «ՀԱՅԱՍՏԱՆԻ ՀԱՆՐԱՊԵՏՈՒԹՅԱՆ 2021 ԹՎԱԿԱՆԻ ՊԵՏԱԿԱՆ ԲՅՈՒՋԵԻ ՄԱՍԻՆ» ՀԱՅԱՍՏԱՆԻ ՀԱՆՐԱՊԵՏՈՒԹՅԱՆ ՕՐԵՆՔԻ N 1 ՀԱՎԵԼՎԱԾԻ N 2 ԱՂՅՈՒՍԱԿՈՒՄ ԿԱՏԱՐՎՈՂ ՎԵՐԱԲԱՇԽՈՒՄԸ ԵՎ ՀԱՅԱՍՏԱՆԻ ՀԱՆՐԱՊԵՏՈՒԹՅԱՆ ԿԱՌԱՎԱՐՈՒԹՅԱՆ 2020 ԹՎԱԿԱՆԻ ԴԵԿՏԵՄԲԵՐԻ 30-Ի N 2215-Ն ՈՐՈՇՄԱՆ N 5 ՀԱՎԵԼՎԱԾԻ N 1 ԱՂՅՈՒՍԱԿՈՒՄ ԿԱՏԱՐՎՈՂ ՓՈՓՈԽՈՒԹՅՈՒՆՆԵՐԸ
G8: (հազ.դրամ)
A9: Ծրագրային դասիչը | C9: Բյուջետային հատկացումների գլխավոր կարգադրիչների, ծրագրերի և միջոցառումների անվանումները | D9: Ցուցանիշների փոփոխությունը (ավելացումները նշված են դրական նշանով, իսկ նվազեցումները` փակագծերում)
D10: Առաջին եռամսյակ | E10: Առաջին կիսամյակ | F10: Ինն ամիս | G10: Տարի
A11: Ծրագիր | B11: /Միջոցառում
C12: Ընդամենը | D12: =(D13) -> 0 | E12: =(E13) -> 0 | F12: =(F13) -> 0 | G12: =(G13) -> 0
C13: ՀՀ պաշտպանության նախարարություն | D13: =+D15 -> 0 | E13: =+E15 -> 0 | F13: =+F15 -> 0 | G13: =+G15 -> 0
C14: Ծրագրի անվանումը՝
A15: 1169 | C15: ՀՀ պաշտպանության ապահովում | D15: =+D21+D27 -> 0 | E15: =+E21+E27 -> 0 | F15: =+F21+F27 -> 0 | G15: =+G21+G27 -> 0
C16: Ծրագրի նպատակը՝
C17: ՀՀ ԶՈւ ռազմավարական ծավալումն ապահովող մարտական պատրաստականության պահպանում՝ արտաքին թշնամուց ՀՀ պետական սահմանների պաշտպանության ապահովում
C18: Վերջնական արդյունքի նկարագրությունը՝
C19: ՀՀ ԶՈւ ռազմավարական ծավալումն ապահովող մարտական պատրաստականության պահպանում
A20: Ծրագրի միջոցառումներ
B21: 11001 | C21: Միջոցառման անվանումը՝ | D21: =+'2'!G23 -> -4616509.8 | E21: =+'2'!H23 -> -4528084.8 | F21: =+'2'!I23 -> -4558128.9 | G21: =+'2'!J44 -> 0
C22: Ռազմական կարիքների բավարարում
C23: Միջոցառման նկարագրությունը՝
C24: Ընթացիկ գործունեության ապահովման գործողություններ
C25: Միջոցառման տեսակը
C26: Ծառայությունների մատուցում
B27: 31001 | C27: Միջոցառման անվանումը՝ | D27: =+'2'!G45 -> 4616509.8 | E27: =+'2'!H45 -> 4528084.8 | F27: =+'2'!I45 -> 4558128.9 | G27: =+'2'!J50 -> 0
C28: ՀՀ պաշտպանության նախարարության շենքային պայմանների բարելավում
C29: Միջոցառման նկարագրությունը՝
C30: Պաշտպանության կարիքների համար բնակելի, գրասենյակային և այլ նշանակության շենքերի և շինությունների կառուցում
C31: Միջոցառման տեսակը
C32: Պետական մարմինների կողմից օգտագործվող ոչ ֆինանսական ակտիվների հետ գործառնություններ

Sheet 2
J1: Հավելված N 2
F2: ՀՀ կառավարության 2021 թվականի
F3: ___________ ___-ի N _______ -Ն որոշման
A7: ՀԱՅԱՍՏԱՆԻ ՀԱՆՐԱՊԵՏՈՒԹՅԱՆ ԿԱՌԱՎԱՐՈՒԹՅԱՆ 2020 ԹՎԱԿԱՆԻ ԴԵԿՏԵՄԲԵՐԻ 30-Ի N 2215-Ն ՈՐՈՇՄԱՆ N 3 և 4 ՀԱՎԵԼՎԱԾՆԵՐՈՒՄ ԿԱՏԱՐՎՈՂ ՓՈՓՈԽՈՒԹՅՈՒՆՆԵՐԸ
J9: (հազ.դրամ)
A11: Գործառական դասիչը | D11: Ծրագրային դասիչը | F11: Բյուջետային ծախսերի գործառական դասակարգման բաժինների, խմբերի և դասերի, բյուջետային ծրագրերի միջոցառումների, բյուջետային հատկացումների գլխավոր կարգադրիչների անվանումները | G11: Ցուցանիշների փոփոխությունը (ավելացումները նշված են դրական նշանով, իսկ նվազեցումները` փակագծերում)
G12: Առաջին եռամսյակ | H12: Առաջին կիսամյակ | I12: Ինն ամիս | J12: Տարի
A13: Բաժին | B13: Խումբ | C13: Դաս | D13: Ծրագիր | E13: Միջոցառում
F14: ԸՆԴԱՄԵՆԸ ԾԱԽՍԵՐ այդ թվում՝ | G14: =SUM(G15) -> 0 | H14: =SUM(H15) -> 0 | I14: =SUM(I15) -> 0 | J14: =SUM(J15) -> 0
A15: 02 | F15: ՊԱՇՏՊԱՆՈՒԹՅՈՒՆ | G15: =+G17 -> 0 | H15: =+H17 -> 0 | I15: =+I17 -> 0 | J15: =+J17 -> 0
F16: այդ թվում`
B17: 01 | F17: Ռազմական պաշտպանություն | G17: =+G19 -> 0 | H17: =+H19 -> 0 | I17: =+I19 -> 0 | J17: =+J19 -> 0
F18: այդ թվում`
C19: 01 | F19: Ռազմական պաշտպանություն | G19: =+G21 -> 0 | H19: =+H21 -> 0 | I19: =+I21 -> 0 | J19: =+J21 -> 0
F20: այդ թվում`
F21: ՀՀ պաշտպանության նախարարություն | G21: =+G22+G45 -> 0 | H21: =+H22+H45 -> 0 | I21: =+I22+I45 -> 0 | J21: =+J22+J45 -> 0
D22: 1169 | F22: ՀՀ պաշտպանության ապահովում | G22: =+G23 -> -4616509.8 | H22: =+H23 -> -4528084.8 | I22: =+I23 -> -4558128.9 | J22: =+J23 -> 0
E23: 11001 | F23: Ռազմական կարիքների բավարարում | G23: =+G25 -> -4616509.8 | H23: =+H25 -> -4528084.8 | I23: =+I25 -> -4558128.9 | J23: =+J25 -> 0
F24: այդ թվում` ըստ կատարողների
F25: ՀՀ պաշտպանության նախարարություն | G25: =G27 -> -4616509.8 | H25: =H27 -> -4528084.8 | I25: =I27 -> -4558128.9 | J25: =J27 -> 0
F26: այդ թվում` բյուջետային ծախսերի տնտեսագիտական դասակարգման հոդվածներ
F27: ԸՆԴԱՄԵՆԸ ԾԱԽՍԵՐ | G27: =G28 -> -4616509.8 | H27: =H28 -> -4528084.8 | I27: =I28 -> -4558128.9 | J27: =J28 -> 0
F28: ԸՆԹԱՑԻԿ ԾԱԽՍԵՐ | G28: =G43+G29 -> -4616509.8 | H28: =H43+H29 -> -4528084.8 | I28: =I43+I29 -> -4558128.9 | J28: =J43+J29 -> 0
F29: ԾԱՌԱՅՈՒԹՅՈՒՆՆԵՐԻ ԵՎ ԱՊՐԱՆՔՆԵՐԻ ՁԵՌՔ ԲԵՐՈՒՄ | G29: =G35+G37+G39+G30+G33 -> -1957095.5 | H29: =H35+H37+H39+H30+H33 -> -1957095.5 | I29: =I35+I37+I39+I30+I33 -> -1957095.5 | J29: =J35+J37+J39+J30+J33 -> 0
F30: Շարունակական ծախսեր | G30: =SUM(G31:G32) -> -230500 | H30: =SUM(H31:H32) -> -230500 | I30: =SUM(I31:I32) -> -230500 | J30: =SUM(J31:J32) -> 0
F31: - Էներգետիկ ծառայություններ | G31: -200500 | H31: -200500 | I31: -200500 | J31: 0
F32: - Կոմունալ ծառայություններ | G32: -30000 | H32: -30000 | I32: -30000 | J32: 0
F33: Ծառայողական գործուղումների գծով ծախսեր | G33: =SUM(G34:G34) -> -25902 | H33: =SUM(H34:H34) -> -25902 | I33: =SUM(I34:I34) -> -25902 | J33: =SUM(J34:J34) -> 0
F34: - Արտասահմանյան գործուղումների գծով ծախսեր | G34: -25902 | H34: -25902 | I34: -25902 | J34: 0
F35: Պայմանագրային այլ ծառայությունների ձեռքբերում | G35: =SUM(G36:G36) -> -231493.8 | H35: =SUM(H36:H36) -> -231493.8 | I35: =SUM(I36:I36) -> -231493.8 | J35: =SUM(J36:J36) -> 0
F36: - Ընդհանուր բնույթի այլ ծառայություններ | G36: -231493.8 | H36: -231493.8 | I36: -231493.8 | J36: 0
F37: Ընթացիկ նորոգում և պահպանում (ծառայություններ և նյութեր) | G37: =SUM(G38:G38) -> -28485.5 | H37: =SUM(H38:H38) -> -28485.5 | I37: =SUM(I38:I38) -> -28485.5 | J37: =SUM(J38:J38) -> 0
F38: - Մեքենաների և սարքավորումների ընթացիկ նորոգում և պահպանում | G38: -28485.5 | H38: -28485.5 | I38: -28485.5 | J38: 0
F39: Նյութեր (Ապրանքներ) | G39: =SUM(G40:G42) -> -1440714.2 | H39: =SUM(H40:H42) -> -1440714.2 | I39: =SUM(I40:I42) -> -1440714.2 | J39: =SUM(J40:J42) -> 0
F40: - Գրասենյակային նյութեր և հագուստ | G40: -63325.1 | H40: -63325.1 | I40: -63325.1 | J40: 0
F41: - Տրանսպորտային նյութեր | G41: -1243860.6 | H41: -1243860.6 | I41: -1243860.6 | J41: 0
F42: - Հատուկ նպատակային այլ նյութեր | G42: -133528.5 | H42: -133528.5 | I42: -133528.5 | J42: 0
F43: ԱՅԼ ԾԱԽՍԵՐ | G43: =SUM(G44:G44) -> -2659414.3 | H43: =SUM(H44:H44) -> -2570989.3 | I43: =SUM(I44:I44) -> -2601033.4 | J43: =SUM(J44:J44) -> 0
F44: - Այլ ծախսեր | G44: -2659414.3 | H44: -2570989.3 | I44: -2601033.4 | J44: 0
E45: 31001 | F45: ՀՀ պաշտպանության նախարարության շենքային պայմանների բարելավում | G45: =+G47 -> 4616509.8 | H45: =+H47 -> 4528084.8 | I45: =+I47 -> 4558128.9 | J45: =+J47 -> 0
...

Sheet 3
A1: Հավելված N 3
A2: ՀՀ կառավարության 2021 թվականի
A3: ______________ ի ___Ն որոշման
A5: Հայաստանի Հանրապետության կառավարության 2020 թվականի դեկտեմբերի 30-ի N 2215-Ն որոշման N 5 հավելվածի N 2 աղյուսակում կատարվող փոփոխությունները
G6: (հազ.դրամ)
A7: Ծրագրային դասիչ | C7: Բյուջետային գլխավոր կարգադրիչների, ծրագրերի, միջոցառումների և ուղղությունների անվանումները | D7: Ցուցանիշների փոփոխությունը (ավելացումները նշված են դրական նշանով)
A8: Ծրագիր | B8: Միջոցառում | D8: Առաջին եռամսյակ | E8: Առաջին կիսամյակ | F8: Ինն ամիս | G8: Տարի
C10: ԸՆԴԱՄԵՆԸ | D10: =+D12 -> 4616509.8 | E10: =+E12 -> 4528084.8 | F10: =+F12 -> 4558128.9 | G10: =+G12 -> 0
C11: այդ թվում՝
C12: ՀՀ ՊԱՇՏՊԱՆՈՒԹՅԱՆ ՆԱԽԱՐԱՐՈՒԹՅՈՒՆ | D12: =+D14 -> 4616509.8 | E12: =+E14 -> 4528084.8 | F12: =+F14 -> 4558128.9 | G12: =+G14 -> 0
C13: այդ թվում`
A14: 1169 | B14: 31001 | C14: ՀՀ պաշտպանության նախարարության շենքային պայմաններ բարելավում | D14: =D16 -> 4616509.8 | E14: =E16 -> 4528084.8 | F14: =F16 -> 4558128.9 | G14: =G16 -> 0
C15: այդ թվում` ըստ կատարողների
C16: ՀՀ պաշտպանության նախարարություն | D16: =+'2'!G45 -> 4616509.8 | E16: =+'2'!H45 -> 4528084.8 | F16: =+'2'!I45 -> 4558128.9 | G16: =+'2'!J45 -> 0

Sheet 4
F1: Հավելված N 4
B2: ՀՀ կառավարության 2021 թվականի
B3: ______________ ի ___Ն որոշման
A6: ՀԱՅԱՍՏԱՆԻ ՀԱՆՐԱՊԵՏՈՒԹՅԱՆ ԿԱՌԱՎԱՐՈՒԹՅԱՆ 2020 ԹՎԱԿԱՆԻ ԴԵԿՏԵՄԲԵՐԻ 30-Ի N 2215-Ն ՈՐՈՇՄԱՆ N 9 ՀԱՎԵԼՎԱԾԻ N 9.15 ԵՎ N 9.1 ՀԱՎԵԼՎԱԾԻ N 9.1.15 ԱՂՅՈՒՍԱԿՆԵՐՈՒՄ ԿԱՏԱՐՎՈՂ ՓՈՓՈԽՈՒԹՅՈՒՆՆԵՐ
A7: ՀՀ պաշտպանության նախարարություն
A9: Ծրագրի դասիչը | B9: Ծրագրի անվանումը
A10: 1169 | B10: ՀՀ պաշտպանության ապահովում
A12: Ծրագրի միջոցառումները
A14: Ծրագրի դասիչը` | B14: 1169 | C14: Ցուցանիշների փոփոխությունը (նվազեցումները նշված են փակագծերում)
A15: Միջոցառման դասիչը` | B15: 11001 | C15: Առաջին եռամսյակ | D15: Առաջին կիսամյակ | E15: Ինն ամիս | F15: Տարի
A16: Միջոցառման անվանումը` | B16: Ռազմական կարիքների բավարարում
A17: Նկարագրությունը` | B17: Ընթացիկ գործունեության ապահովման գործողություններ
A18: Միջոցառման տեսակը` | B18: Ծառայությունների մատուցում
A19: Միջոցառումն իրականացնողի անվանումը | B19: ՀՀ պաշտպանության նախարարություն
A20: Արդյունքի չափորոշիչներ
A21: չի սահմանվում
A22: Միջոցառման վրա կատարվող ծախսը (հազար դրամ) | C22: =+'2'!G23 -> -4616509.8 | D22: =+'2'!H23 -> -4528084.8 | E22: =+'2'!I23 -> -4558128.9 | F22: =+'2'!J23 -> 0
A26: Ծրագրի դասիչը` | B26: 1169 | C26: Ցուցանիշների փոփոխությունը (ավելավումները նշված են դրական նշանով)
A27: Միջոցառման դասիչը` | B27: 31001 | C27: Առաջին եռամսյակ | D27: Առաջին կիսամյակ | E27: Ինն ամիս | F27: Տարի
A28: Միջոցառման անվանումը` | B28: ՀՀ պաշտպանության նախարարության շենքային պայմանների բարելավում
A29: Նկարագրությունը` | B29: Պաշտպանության կարիքների համար բնակելի, գրասենյակային և այլ նշանակության շենքերի և շինությունների կառուցում
A30: Միջոցառման տեսակը` | B30: Պետական մարմինների կողմից օգտագործվող ոչ ֆինանսական ակտիվների հետ գործառնություններ
A31: Միջոցառումն իրականացնողի անվանումը | B31: ՀՀ պաշտպանության նախարարություն
A32: Արդյունքի չափորոշիչներ
A33: չի սահմանվում
A34: Միջոցառման վրա կատարվող ծախսը (հազար դրամ) | C34: =+'2'!G45 -> 4616509.8 | D34: =+'2'!H45 -> 4528084.8 | E34: =+'2'!I45 -> 4558128.9 | F34: =+'2'!J45 -> 0

Sheet Sheet1
A1: 4239 | B1: 20939.6
A2: 4252 | B2: 4001.2
A3: 4261 | B3: 24221.5
A4: 4264 | B4: 658398.2
A5: 4267 | B5: 51113.2
A6: 4269 | B6: 58135.2
A7: 5121 | B7: 34800
A8: 5122 | B8: 30780.6
A9: 5129 | B9: 165718.2
A10: 5132 | B10: 33.2
