Workbook
Name AgencyCode: #REF!
Name AgencyCode: #REF!
Name AgencyCode: #REF!
Name AgencyName: #REF!
Name AgencyName: #REF!
Name AgencyName: #REF!
Name davit: #REF!
Name davit: #REF!
Name Functional1: #REF!
Name Functional1: #REF!
Name Functional1: #REF!
Name ggg: #REF!
Name ggg: #REF!
Name ggg: #REF!
Name PANature: #REF!
Name PANature: #REF!
Name PANature: #REF!
Name PAType: #REF!
Name PAType: #REF!
Name PAType: #REF!
Name Performance2: #REF!
Name Performance2: #REF!
Name Performance2: #REF!
Name PerformanceType: #REF!
Name PerformanceType: #REF!
Name PerformanceType: #REF!
Name Հավելված: #REF!
Name Հավելված: #REF!
Name Մաս: #REF!
Name Մաս: #REF!
Name շախմատիստ: #REF!
Name շախմատիստ: #REF!
Name շախմատիստ: #REF!

Sheet 1
D1: Հավելված N 1 ՀՀ կառավարության 2021 թվականի ––-------------------–––––––– N –––––– որոշման
A3: «ՀԱՅԱUՏԱՆԻ ՀԱՆՐԱՊԵՏՈՒԹՅԱՆ 2021 ԹՎԱԿԱՆԻ ՊԵՏԱԿԱՆ ԲՅՈՒՋԵԻ ՄԱUԻՆ» ՀԱՅԱUՏԱՆԻ ՀԱՆՐԱՊԵՏՈՒԹՅԱՆ OՐԵՆՔԻ N 1 ՀԱՎԵԼՎԱԾԻ N 2 ԱՂՅՈՒՍԱԿՈՒՄ ԿԱՏԱՐՎՈՂ ՎԵՐԱԲԱՇԽՈՒՄԸ ԵՎ ՀԱՅԱՍՏԱՆԻ ՀԱՆՐԱՊԵՏՈՒԹՅԱՆ ԿԱՌԱՎԱՐՈՒԹՅԱՆ 2020 ԹՎԱԿԱՆԻ ԴԵԿՏԵՄԲԵՐԻ 30-Ի N 2215-Ն ՈՐՈՇՄԱՆ N 5 ՀԱՎԵԼՎԱԾԻ N 1 ԱՂՅՈՒՍԱԿՈՒՄ ԿԱՏԱՐՎՈՂ ՓՈՓՈԽՈՒԹՅՈՒՆՆԵՐԸ
E5: հազ. դրամներով
A6: Ծրագրային դասիչը | C6: Բյուջետային հատկացումների գլխավոր կարգադրիչների, ծրագրերի և միջոցառումների անվանումները | D6: Ցուցանիշների փոփոխությունը (ավելացումները նշված են դրական նշանով, իսկ նվազեցումները` փակագծերում)
A7: Ծրագիր | B7: Միջոցառում | D7: Առաջին կիսամյակ | E7: Ինն ամիս | F7: Տարի
B8: ԸՆԴԱՄԵՆԸ | D8: =D9+D23 -> 0 | E8: =E9+E23 -> 0 | F8: =F9+F23 -> 0
A9: ՀՀ էկոնոմիկայի նախարարություն | D9: =D10 -> 3300000 | E9: =E10 -> 3300000 | F9: =F10 -> 3300000
A10: 1224 | C10: Ծրագրի անվանումը` | D10: =D17 -> 3300000 | E10: =E17 -> 3300000 | F10: =F17 -> 3300000
C11: Ճգնաժամերի հակազդման և արտակարգ իրավիճակների հետևանքների նվազեցման և վերացման ծրագիր
C12: Ծրագրի նպատակը`
C13: Կորոնավիրուսի (COVID-19) հետևանքով առաջացած ճգնաժամերի հակազդում և հետևանքների վերացում
C14: Վերջնական արդյունքի նկարագրությունը`
C15: Կորոնավիրուսի (COVID-19) տարածման կրճատում, տնտեսական կայունության ապահովում
C16: Ծրագրի միջոցառումներ
B17: 11009 | C17: Միջոցառման անվանումը` | D17: ='2'!G26 -> 3300000 | E17: ='2'!H26 -> 3300000 | F17: ='2'!I26 -> 3300000
C18: Կորոնավիրուսի (COVID-19) տնտեսական հետևանքների չեզոքացման 23-րդ միջոցառման շրջանակներում իրականացվող աջակցության տրամադրում
C19: Միջոցառման նկարագրությունը`
C20: Զբոսաշրջությանն ուղղակիորեն առնչվող առանձին ոլորտների տնտեսավարողներին կորոնավիրուսի տնտեսական հետևանքների չեզոքացման, գործունեության շարունակականության և աշխատատեղերի պահպանման նպատակով աջակցության տրամադրում
C21: Միջոցառման տեսակը
C22: Ծառայությունների մատուցում
A23: ՀՀ կառավարություն | D23: =D24 -> -3300000 | E23: =E24 -> -3300000 | F23: =F24 -> -3300000
A24: 1139 | C24: Ծրագրի անվանումը` | D24: =D31 -> -3300000 | E24: =E31 -> -3300000 | F24: =F31 -> -3300000
C25: ՀՀ կառավարության պահուստային ֆոնդ
C26: Ծրագրի նպատակը`
C27: Պետական բյուջեում չկանխատեսված, ինչպես նաեւ բյուջետային երաշխիքների ապահովման ծախսերի ֆինանսավորման ապահովում
C28: Վերջնական արդյունքի նկարագրությունը`
C29: Պահուստային ֆոնդի կառավարման արդյունավետության և թափանցիկության ապահովում
C30: Ծրագրի միջոցառումներ
B31: 11001 | C31: Միջոցառման անվանումը` | D31: ='2'!G44 -> -3300000 | E31: ='2'!H44 -> -3300000 | F31: ='2'!I44 -> -3300000
C32: ՀՀ կառավարության պահուստային ֆոնդ
C33: Միջոցառման նկարագրությունը`
C34: ՀՀ պետական բյուջեում նախատեսված ելքերի լրացուցիչ ֆինանսավորման, պետական բյուջեում չկանխատեսված ելքերի, ինչպես նաև բյուջետային երաշխիքների ապահովման ելքերի ֆինանսավորման ապահովում
C35: Միջոցառման տեսակը
C36: Ծառայությունների մատուցում

Sheet 2
G1: Հավելված N 2 ՀՀ կառավարության 2021 թվականի ––-------------------–––––––– N –––––– որոշման
A3: ՀԱՅԱՍՏԱՆԻ ՀԱՆՐԱՊԵՏՈՒԹՅԱՆ ԿԱՌԱՎԱՐՈՒԹՅԱՆ 2020 ԹՎԱԿԱՆԻ ԴԵԿՏԵՄԲԵՐԻ 30-Ի N 2215-Ն ՈՐՈՇՄԱՆ N 3 և N 4 ՀԱՎԵԼՎԱԾՆԵՐՈՒՄ ԿԱՏԱՐՎՈՂ ՓՈՓՈԽՈՒԹՅՈՒՆՆԵՐԸ
I4: հազ. դրամներով
A5: Գործառական դասիչը | D5: Ծրագրային դասիչը | F5: Բյուջետային ծախսերի գործառական դասակարգման բաժինների, խմբերի և դասերի, բյուջետային ծրագրերի, միջոցառումների բյուջետային հատկացումնեյի գլխավոր կարկադրիչների անվանումները | G5: Ցուցանիշների փոփոխությունը (ավելացումները նշված են դրական նշանով, իսկ նվազեցումները` փակագծերում)
A6: Բաժին | B6: Խումբ | C6: Դաս | D6: Ծրագիր | E6: Միջոցառում | G6: Առաջին կիսամյակ | H6: Ինն ամիս | I6: Տարի
F7: ԸՆԴԱՄԵՆԸ | G7: =G8+G27 -> 0 | H7: =H8+H27 -> 0 | I7: =I8+I27 -> 0
A8: 04 | F8: ՏՆՏԵՍԱԿԱՆ ՀԱՐԱԲԵՐՈՒԹՅՈՒՆՆԵՐ | G8: =G10 -> 3300000 | H8: =H10 -> 3300000 | I8: =I10 -> 3300000
F9: այդ թվում`
B10: 01 | F10: Ընդհանուր բնույթի տնտեսական, առևտրային և աշխատանքի գծով հարաբերություններ | G10: =G12 -> 3300000 | H10: =H12 -> 3300000 | I10: =I12 -> 3300000
F11: այդ թվում`
C12: 01 | F12: Ընդհանուր բնույթի տնտեսական և առևտրային հարաբերություններ | G12: =G14 -> 3300000 | H12: =H14 -> 3300000 | I12: =I14 -> 3300000
F13: այդ թվում`
F14: ՀՀ էկոնոմիկայի նախարարություն | G14: =G16 -> 3300000 | H14: =H16 -> 3300000 | I14: =I16 -> 3300000
F15: այդ թվում`
D16: 1224 | F16: Ճգնաժամերի հակազդման և արտակարգ իրավիճակների հետևանքների նվազեցման և վերացման ծրագիր | G16: =G18 -> 3300000 | H16: =H18 -> 3300000 | I16: =I18 -> 3300000
F17: այդ թվում՝
E18: 11009 | F18: Կորոնավիրուսի (COVID-19) տնտեսական հետևանքների չեզոքացման 23-րդ միջոցառման շրջանակներում իրականացվող աջակցության տրամադրում | G18: =G20 -> 3300000 | H18: =H20 -> 3300000 | I18: =I20 -> 3300000
F19: այդ թվում` ըստ կատարողների
F20: ՀՀ պետական եկամուտների կոմիտե | G20: =G22 -> 3300000 | H20: =H22 -> 3300000 | I20: =I22 -> 3300000
F21: այդ թվում` բյուջետային ծախսերի տնտեսագիտական դասակարգման հոդվածներ
F22: ԸՆԴԱՄԵՆԸ ԾԱԽՍԵՐ | G22: =G23 -> 3300000 | H22: =H23 -> 3300000 | I22: =I23 -> 3300000
F23: ԸՆԹԱՑԻԿ ԾԱԽՍԵՐ | G23: =G24 -> 3300000 | H23: =H24 -> 3300000 | I23: =I24 -> 3300000
F24: ԴՐԱՄԱՇՆՈՐՀՆԵՐ | G24: =G25 -> 3300000 | H24: =H25 -> 3300000 | I24: =I25 -> 3300000
F25: Ընթացիկ դրամաշնորհներ պետական հատվածի այլ մակարդակներին | G25: =G26 -> 3300000 | H25: =H26 -> 3300000 | I25: =I26 -> 3300000
F26: - Այլ ընթացիկ դրամաշնորհներ | G26: 3300000 | H26: 3300000 | I26: 3300000
A27: 11 | F27: ՀԻՄՆԱԿԱՆ ԲԱԺԻՆՆԵՐԻՆ ՉԴԱՍՎՈՂ ՊԱՀՈՒՍՏԱՅԻՆ ՖՈՆԴԵՐ | G27: =G29 -> -3300000 | H27: =H29 -> -3300000 | I27: =I29 -> -3300000
F28: այդ թվում`
B29: 01 | F29: ՀՀ կառավարության և համայնքների պահուստային ֆոնդ | G29: =G31 -> -3300000 | H29: =H31 -> -3300000 | I29: =I31 -> -3300000
F30: այդ թվում`
C31: 01 | F31: ՀՀ կառավարության պահուստային ֆոնդ | G31: =G33 -> -3300000 | H31: =H33 -> -3300000 | I31: =I33 -> -3300000
F32: այդ թվում`
F33: ՀՀ կառավարության | G33: =G35 -> -3300000 | H33: =H35 -> -3300000 | I33: =I35 -> -3300000
F34: այդ թվում`
D35: 1139 | F35: ՀՀ կառավարության պահուստային ֆոնդ | G35: =G37 -> -3300000 | H35: =H37 -> -3300000 | I35: =I37 -> -3300000
F36: այդ թվում`
E37: 11001 | F37: ՀՀ կառավարության պահուստային ֆոնդ | G37: =G39 -> -3300000 | H37: =H39 -> -3300000 | I37: =I39 -> -3300000
F38: այդ թվում` ըստ կատարողների
F39: ՀՀ կառավարություն | G39: =G41 -> -3300000 | H39: =H41 -> -3300000 | I39: =I41 -> -3300000
F40: այդ թվում` բյուջետային ծախսերի տնտեսագիտական դասակարգման հոդվածներ
F41: ԸՆԴԱՄԵՆԸ ԾԱԽՍԵՐ | G41: =G42 -> -3300000 | H41: =H42 -> -3300000 | I41: =I42 -> -3300000
...

Sheet 3
D1: Հավելված N 3
C2: ՀՀ կառավարության 2021 թվականի
C3: ___________ ___-ի N _______ -Ն որոշման
A5: ՀԱՅԱՍՏԱՆԻ ՀԱՆՐԱՊԵՏՈՒԹՅԱՆ ԿԱՌԱՎԱՐՈՒԹՅԱՆ 2020 ԹՎԱԿԱՆԻ ԴԵԿՏԵՄԲԵՐԻ 30-Ի N 2215-Ն ՈՐՈՇՄԱՆ N 5 ՀԱՎԵԼՎԱԾԻ 7 ԱՂՅՈՒՍԱԿՈՒՄ ԿԱՏԱՐՎՈՂ ՓՈՓՈԽՈՒԹՅՈՒՆՆԵՐԸ
G6: հազ. դրամներով
A7: Ծրագրային դասիչ | C7: Բյուջետային հատկացումների գլխավոր կարգադրիչների, ծրագրերի, միջոցառումների, ծախսային ուղղությունների անվանումները | F7: Միջոցառումները կատարող պետական մարմինների և դրամաշնորհ ստացող տնտեսվարող սուբյեկտների անվանումները | G7: Ցուցանիշների փոփոխությունները (ավելացումները նշված են դրական նշանով)
A8: Ծրագիր | B8: Միջոցառում | G8: Տարի
A9: 1 | B9: 2 | C9: 3 | F9: 4 | G9: 5
A10: Ընդամենը | G10: =+G11 -> 3300000
A11: ՀՀ էկոնոմիկայի նախարարություն | G11: =+G12 -> 3300000
A12: 1224 | B12: Ճգնաժամերի հակազդման և արտակարգ իրավիճակների հետևանքների նվազեցման և վերացման ծրագիր | G12: =+G13+G15 -> 3300000
B13: 11009 | C13: Կորոնավիրուսի (COVID-19) տնտեսական հետևանքների չեզոքացման 23-րդ միջոցառման շրջանակներում իրականացվող աջակցության տրամադրում | F13: ՀՀ պետական եկամուտների կոմիտե | G13: =G14 -> 3300000
F14: ՀՀ կառավարության 2020թ օգոստոսի 13-ի N 1358-Լ որոշմամբ հաստատված ծրագրի չափանիշները բավարարող շահառուներ | G14: ='2'!I26 -> 3300000

Sheet 4
F1: Հավելված N 4
D2: ՀՀ կառավարության 2021 թվականի----
E3: № ------------ -Ն որոշման
A5: ՀԱՅԱՍՏԱՆԻ ՀԱՆՐԱՊԵՏՈՒԹՅԱՆ ԿԱՌԱՎԱՐՈՒԹՅԱՆ 2020 ԹՎԱԿԱՆԻ ԴԵԿՏԵՄԲԵՐԻ 30-Ի N 2215-Ն ՈՐՈՇՄԱՆ N 9 ՀԱՎԵԼՎԱԾԻ NN 9.11 ԵՎ 9.47 ԱՂՅՈՒՍԱԿՆԵՐՈՒՄ ԿԱՏԱՐՎՈՂ ՓՈՓՈԽՈՒԹՅՈՒՆՆԵՐԸ
A6: ՀՀ էկոնոմիկայի նախարարություն
A8: ՄԱՍ 2. ՊԵՏԱԿԱՆ ՄԱՐՄՆԻ ԳԾՈՎ ԱՐԴՅՈՒՆՔԱՅԻՆ (ԿԱՏԱՐՈՂԱԿԱՆ) ՑՈՒՑԱՆԻՇՆԵՐԸ
E10: հազ. դրամ
B11: Ծրագրի դասիչը | C11: Ծրագրի անվանումը
B12: 1224 | C12: Ճգնաժամերի հակազդման և արտակարգ իրավիճակների հետևանքների նվազեցման և վերացման ծրագիր
B14: Ծրագրի դասիչը` | C14: 1224 | D14: Ցուցանիշների փոփոխությունը (ավելացումները նշված են դրական նշանով)
B15: Միջոցառման դասիչը` | C15: 11009 | D15: Առաջին կիսամյակ | E15: Ինն ամիս | F15: Տարի
B16: Միջոցառման անվանումը` | C16: Կորոնավիրուսի (COVID-19) տնտեսական հետևանքների չեզոքացման 23-րդ միջոցառման շրջանակներում իրականացվող աջակցության տրամադրում
B17: Նկարագրությունը` | C17: Զբոսաշրջությանն ուղղակիորեն առնչվող առանձին ոլորտների տնտեսավարողներին կորոնավիրուսի տնտեսական հետևանքների չեզոքացման, գործունեության շարունակականության և աշխատատեղերի պահպանման նպատակով աջակցության տրամադրում
B18: Միջոցառման տեսակը` | C18: Ծառայությունների մատուցում
B19: Միջոցառումն իրականացնողի անվանումը՝ | C19: Մասնագիտացված կազմակերպություններ
B20: Արդյունքի չափորոշիչներ
B21: Աջակցություն ստացող տնտեսավարողներ
B22: Միջոցառման վրա կատարվող ծախսը (հազար դրամ) | D22: ='2'!G26 -> 3300000 | E22: ='2'!H26 -> 3300000 | F22: ='2'!I26 -> 3300000
C24: ՀՀ կառավարություն
A25: ՄԱՍ 2. ՊԵՏԱԿԱՆ ՄԱՐՄՆԻ ԳԾՈՎ ԱՐԴՅՈՒՆՔԱՅԻՆ (ԿԱՏԱՐՈՂԱԿԱՆ) ՑՈՒՑԱՆԻՇՆԵՐԸ
B27: Ծրագրի դասիչը | C27: Ծրագրի անվանումը
B28: 1139 | C28: ՀՀ կառավարության պահուստային ֆոնդ
B31: Ծրագրի դասիչը` | C31: 1139 | D31: Ցուցանիշների փոփոխությունը (նվազեցումները նշված են փակագծերում)
B32: Միջոցառման դասիչը` | C32: 11001 | D32: Առաջին կիսամյակ | E32: Ինն ամիս | F32: Տարի
B33: Միջոցառման անվանումը` | C33: ՀՀ կառավարության պահուստային ֆոնդ
B34: Նկարագրությունը` | C34: ՀՀ պետական բյուջեում նախատեսված ելքերի լրացուցիչ ֆինանսավորման, պետական բյուջեում չկանխատեսված ելքերի, ինչպես նաև բյուջետային երաշխիքների ապահովման ելքերի ֆինանսավորման ապահովում
B35: Միջոցառման տեսակը` | C35: Ծառայությունների մատուցում
B36: Միջոցառումն իրականացնողի անվանումը՝ | C36: ՀՀ կառավարություն
B37: Արդյունքի չափորոշիչներ
B38: Միջոցառման վրա կատարվող ծախսը (հազար դրամ) | D38: ='2'!G42 -> -3300000 | E38: ='2'!H42 -> -3300000 | F38: ='2'!I42 -> -3300000
A41: ՀԱՅԱՍՏԱՆԻ ՀԱՆՐԱՊԵՏՈՒԹՅԱՆ ԿԱՌԱՎԱՐՈՒԹՅԱՆ 2020 ԹՎԱԿԱՆԻ ԴԵԿՏԵՄԲԵՐԻ 30-Ի N 2215-Ն ՈՐՈՇՄԱՆ N 9.1 ՀԱՎԵԼՎԱԾԻ NN 9.1.28 ԵՎ 9.1.58 ԱՂՅՈՒՍԱԿՆԵՐՈՒՄ ԿԱՏԱՐՎՈՂ ՓՈՓՈԽՈՒԹՅՈՒՆՆԵՐԸ
A42: ՀՀ պետական եկամուտների կոմիտե
A44: ՄԱՍ 1. ՊԵՏԱԿԱՆ ՄԱՐՄՆԻ ԳԾՈՎ ԱՐԴՅՈՒՆՔԱՅԻՆ (ԿԱՏԱՐՈՂԱԿԱՆ) ՑՈՒՑԱՆԻՇՆԵՐԸ
B47: Ծրագրի դասիչը | C47: Ծրագրի անվանումը
B48: 1224 | C48: Ճգնաժամերի հակազդման և արտակարգ իրավիճակների հետևանքների նվազեցման և վերացման ծրագիր
B52: Ծրագրի դասիչը` | C52: 1224 | D52: Ցուցանիշների փոփոխությունը (ավելացումները նշված են դրական նշանով)
B53: Միջոցառման դասիչը` | C53: 11009 | D53: Առաջին կիսամյակ | E53: Ինն ամիս | F53: Տարի
B54: Միջոցառման անվանումը` | C54: Կորոնավիրուսի (COVID-19) տնտեսական հետևանքների չեզոքացման 23-րդ միջոցառման շրջանակներում իրականացվող աջակցության տրամադրում
B55: Նկարագրությունը` | C55: Զբոսաշրջությանն ուղղակիորեն առնչվող առանձին ոլորտների տնտեսավարողներին կորոնավիրուսի տնտեսական հետևանքների չեզոքացման, գործունեության շարունակականության և աշխատատեղերի պահպանման նպատակով աջակցության տրամադրում
B56: Միջոցառման տեսակը` | C56: Ծառայությունների մատուցում
...

Sheet 5
B1: Հավելված N 5 ՀՀ կառավարության 2021 թվականի ––-------------------–––––––– N –––––– որոշման
A3: «ՀԱՅԱUՏԱՆԻ ՀԱՆՐԱՊԵՏՈՒԹՅԱՆ 2021 ԹՎԱԿԱՆԻ ՊԵՏԱԿԱՆ ԲՅՈՒՋԵԻ ՄԱUԻՆ» ՀԱՅԱUՏԱՆԻ ՀԱՆՐԱՊԵՏՈՒԹՅԱՆ OՐԵՆՔԻ N 6 ՀԱՎԵԼՎԱԾԻ N 1 ԱՂՅՈՒՍԱԿՈՒՄ ԿԱՏԱՐՎՈՂ ՓՈՓՈԽՈՒԹՅՈՒՆՆԵՐԸ
A4: Բյուջետային գլխավոր կարգադրիչների, ծրագրերի, միջոցառումների և ուղղությունների անվանումները | B4: Ցուցանիշների փոփոխությունը (ավելացումները նշված են դրական նշանով)
A5: ԸՆԴԱՄԵՆԸ | B5: =+B7 -> -1980
A6: այդ թվում՝
A7: ՀՀ էկոնոմիկայի նախարարություն | B7: =+B9 -> -1980
A8: այդ թվում՝
A9: Կորոնավիրուսի (COVID-19) տնտեսական հետևանքների չեզոքացման հետևանքով տրամադրված վարկերի տոկոսադրույքների սուբսիդավորում | B9: =SUM(B10:B13) -> -1980
A10: Կորոնավիրուսի (COVID-19) տնտեսական հետևանքների չեզոքացման 23-րդ միջոցառման շրջանակներում իրականացվող աջակցության տրամադրում | B10: -1980

Sheet 6
G1: Հավելված N 6 ՀՀ կառավարության 2021 թվականի ––-------------------–––––––– N –––––– որոշման
A3: ՀԱՅԱՍՏԱՆԻ ՀԱՆՐԱՊԵՏՈՒԹՅԱՆ 2021 ԹՎԱԿԱՆԻ ՊԵՏԱԿԱՆ ԲՅՈՒՋԵՈՎ ՆԱԽԱՏԵՍՎԱԾ՝ ՀԱՅԱՍՏԱՆԻ ՀԱՆՐԱՊԵՏՈՒԹՅԱՆ ԿԱՌԱՎԱՐՈՒԹՅԱՆ ՊԱՀՈՒՍՏԱՅԻՆ ՖՈՆԴԻՑ ՀԱՏԿԱՑՈՒՄՆԵՐ ԿԱՏԱՐԵԼՈՒ ՎԵՐԱԲԵՐՅԱԼ
I4: հազ. դրամներով
A5: Գործառական դասիչը | D5: Ծրագրային դասիչը | F5: Բյուջետային ծախսերի գործառական դասակարգման բաժինների, խմբերի և դասերի, բյուջետային ծրագրերի, միջոցառումների բյուջետային հատկացումնեյի գլխավոր կարկադրիչների անվանումները | G5: Ցուցանիշների փոփոխությունը (ավելացումները նշված են դրական նշանով, իսկ նվազեցումները` փակագծերում)
A6: Բաժին | B6: Խումբ | C6: Դաս | D6: Ծրագիր | E6: Միջոցառում | G6: Առաջին կիսամյակ | H6: Ինն ամիս | I6: Տարի
F7: ԸՆԴԱՄԵՆԸ | G7: =G8+G27 -> 0 | H7: =H8+H27 -> 0 | I7: =I8+I27 -> 0
A8: 04 | F8: ՏՆՏԵՍԱԿԱՆ ՀԱՐԱԲԵՐՈՒԹՅՈՒՆՆԵՐ | G8: =G10 -> 3300000 | H8: =H10 -> 3300000 | I8: =I10 -> 3300000
F9: այդ թվում`
B10: 01 | F10: Ընդհանուր բնույթի տնտեսական, առևտրային և աշխատանքի գծով հարաբերություններ | G10: =G12 -> 3300000 | H10: =H12 -> 3300000 | I10: =I12 -> 3300000
F11: այդ թվում`
C12: 01 | F12: Ընդհանուր բնույթի տնտեսական և առևտրային հարաբերություններ | G12: =G14 -> 3300000 | H12: =H14 -> 3300000 | I12: =I14 -> 3300000
F13: այդ թվում`
F14: ՀՀ էկոնոմիկայի նախարարություն | G14: =G16 -> 3300000 | H14: =H16 -> 3300000 | I14: =I16 -> 3300000
F15: այդ թվում`
D16: 1224 | F16: Ճգնաժամերի հակազդման և արտակարգ իրավիճակների հետևանքների նվազեցման և վերացման ծրագիր | G16: =G18 -> 3300000 | H16: =H18 -> 3300000 | I16: =I18 -> 3300000
F17: այդ թվում՝
E18: 11009 | F18: Կորոնավիրուսի (COVID-19) տնտեսական հետևանքների չեզոքացման 23-րդ միջոցառման շրջանակներում իրականացվող աջակցության տրամադրում | G18: =G20 -> 3300000 | H18: =H20 -> 3300000 | I18: =I20 -> 3300000
F19: այդ թվում` ըստ կատարողների
F20: ՀՀ պետական եկամուտների կոմիտե | G20: =G22 -> 3300000 | H20: =H22 -> 3300000 | I20: =I22 -> 3300000
F21: այդ թվում` բյուջետային ծախսերի տնտեսագիտական դասակարգման հոդվածներ
F22: ԸՆԴԱՄԵՆԸ ԾԱԽՍԵՐ | G22: =G23 -> 3300000 | H22: =H23 -> 3300000 | I22: =I23 -> 3300000
F23: ԸՆԹԱՑԻԿ ԾԱԽՍԵՐ | G23: =G24 -> 3300000 | H23: =H24 -> 3300000 | I23: =I24 -> 3300000
F24: ԴՐԱՄԱՇՆՈՐՀՆԵՐ | G24: =G25 -> 3300000 | H24: =H25 -> 3300000 | I24: =I25 -> 3300000
F25: Ընթացիկ դրամաշնորհներ պետական հատվածի այլ մակարդակներին | G25: =G26 -> 3300000 | H25: =H26 -> 3300000 | I25: =I26 -> 3300000
F26: - Այլ ընթացիկ դրամաշնորհներ | G26: 3300000 | H26: 3300000 | I26: 3300000
A27: 11 | F27: ՀԻՄՆԱԿԱՆ ԲԱԺԻՆՆԵՐԻՆ ՉԴԱՍՎՈՂ ՊԱՀՈՒՍՏԱՅԻՆ ՖՈՆԴԵՐ | G27: =G29 -> -3300000 | H27: =H29 -> -3300000 | I27: =I29 -> -3300000
F28: այդ թվում`
B29: 01 | F29: ՀՀ կառավարության և համայնքների պահուստային ֆոնդ | G29: =G31 -> -3300000 | H29: =H31 -> -3300000 | I29: =I31 -> -3300000
F30: այդ թվում`
C31: 01 | F31: ՀՀ կառավարության պահուստային ֆոնդ | G31: =G33 -> -3300000 | H31: =H33 -> -3300000 | I31: =I33 -> -3300000
F32: այդ թվում`
F33: ՀՀ կառավարության | G33: =G35 -> -3300000 | H33: =H35 -> -3300000 | I33: =I35 -> -3300000
F34: այդ թվում`
D35: 1139 | F35: ՀՀ կառավարության պահուստային ֆոնդ | G35: =G37 -> -3300000 | H35: =H37 -> -3300000 | I35: =I37 -> -3300000
F36: այդ թվում`
E37: 11001 | F37: ՀՀ կառավարության պահուստային ֆոնդ | G37: =G39 -> -3300000 | H37: =H39 -> -3300000 | I37: =I39 -> -3300000
F38: այդ թվում` ըստ կատարողների
F39: ՀՀ կառավարություն | G39: =G41 -> -3300000 | H39: =H41 -> -3300000 | I39: =I41 -> -3300000
F40: այդ թվում` բյուջետային ծախսերի տնտեսագիտական դասակարգման հոդվածներ
F41: ԸՆԴԱՄԵՆԸ ԾԱԽՍԵՐ | G41: =G42 -> -3300000 | H41: =H42 -> -3300000 | I41: =I42 -> -3300000
...
