Workbook
Name AgencyCode: #REF!
Name AgencyCode: #REF!
Name AgencyName: #REF!
Name AgencyName: #REF!
Name Functional1: #REF!
Name Functional1: #REF!
Name havelvac: #REF!
Name PANature: #REF!
Name PANature: #REF!
Name PAType: #REF!
Name PAType: #REF!
Name Performance2: #REF!
Name Performance2: #REF!
Name PerformanceType: #REF!
Name PerformanceType: #REF!

Sheet 1
F1: Հավելված N 1
F2: ՀՀ կառավարության 2021 թվականի
F3: ___________ ___-ի N _______ -Ն որոշման
A6: «ՀԱՅԱUՏԱՆԻ ՀԱՆՐԱՊԵՏՈՒԹՅԱՆ 2021 ԹՎԱԿԱՆԻ ՊԵՏԱԿԱՆ ԲՅՈՒՋԵԻ ՄԱUԻՆ» ՀԱՅԱUՏԱՆԻ ՀԱՆՐԱՊԵՏՈՒԹՅԱՆ OՐԵՆՔԻ N 1 ՀԱՎԵԼՎԱԾԻ N 2 ԱՂՅՈՒՍԱԿՈՒՄ ԿԱՏԱՐՎՈՂ ՎԵՐԱԲԱՇԽՈՒՄԸ ԵՎ ՀԱՅԱՍՏԱՆԻ ՀԱՆՐԱՊԵՏՈՒԹՅԱՆ ԿԱՌԱՎԱՐՈՒԹՅԱՆ 2020 ԹՎԱԿԱՆԻ ԴԵԿՏԵՄԲԵՐԻ 30-Ի N 2215-Ն ՈՐՈՇՄԱՆ N5 ՀԱՎԵԼՎԱԾԻ N1 ԱՂՅՈՒՍԱԿՈՒՄ ԿԱՏԱՐՎՈՂ ՓՈՓՈԽՈՒԹՅՈՒՆՆԵՐԸ
F8: հազար դրամներով
A9: Ծրագրային դասիչը | C9: Բյուջետային հատկացումների գլխավոր կարգադրիչների, ծրագրերի և միջոցառումների անվանումները | D9: Ցուցանիշների փոփոխությունները (Ավելացումները նշված են դրական նշանով, իսկ նվազեցումները՝ փակագծերում)
A10: Ծրագիր | B10: Միջոցառում | D10: Առաջին կիսամյակ | E10: Ինն ամիս | F10: Տարի
C11: ԸՆԴԱՄԵՆԸ | D11: =+D13+D27 -> 0 | E11: =+E13+E27 -> 0 | F11: =+F13+F27 -> 0
B12: ՀՀ կառավարություն
A13: 1139 | C13: Ծրագրի անվանումը` | D13: =D20 -> -33334 | E13: =E20 -> -50000 | F13: =F20 -> -100000
C14: ՀՀ կառավարության պահուստային ֆոնդ
C15: Ծրագրի նպատակը`
C16: Պետական բյուջեում չկանխատեսված՝ ինչպես նաեւ բյուջետային երաշխիքների ապահովման ծախսերի ֆինանսավորման ապահովում
C17: Վերջնական արդյունքի նկարագրությունը`
C18: Պահուստային ֆոնդի կառավարման արդյունավետության և թափանցիկության ապահովում
C19: Ծրագրի միջոցառումներ
B20: 11001 | C20: Միջոցառման անվանումը` | D20: -33334 | E20: -50000 | F20: -100000
C21: ՀՀ կառավարության պահուստային ֆոնդ
C22: Միջոցառման նկարագրությունը`
C23: ՀՀ պետական բյուջեում նախատեսված ելքերի լրացուցիչ ֆինանսավորման՝ պետական բյուջեում չկանխատեսված ելքերի, ինչպես նաև բյուջետային երաշխիքների ապահովման ելքերի ֆինանսավորման ապահովում
C24: Միջոցառման տեսակը
C25: Ծառայությունների մատուցում
B26: ՀՀ արտակարգ իրավիճակների նախարարություն
A27: 1112 | C27: Ծրագրի անվանումը` | D27: =+D34 -> 33334 | E27: =+E34 -> 50000 | F27: =+F34 -> 100000
C28: Արտակարգ իրավիճակների բնագավառի պետական քաղաքականության մշակում, ծրագրերի համակարգում և մոնիտորինգ
C29: Ծրագրի նպատակը`
C30: Արտակարգ իրավիճակների բնագավառում պետական արդյունավետ քաղաքականության մշակման և իրականացման ապահովում
C31: Վերջնական արդյունքի նկարագրությունը`
C32: Արտակարգ իրավիճակների քաղաքականության իրագործմանն ուղղված ծրագրերի ազդեցության և արդյունավետության բարելավում
A33: Ծրագրի միջոցառումներ
B34: 11002 | C34: Միջոցառման անվանումը` | D34: 33334 | E34: 50000 | F34: 100000
C35: Արտակարգ իրավիճակների բնագավառում քաղաքականության մշակում, խորհրդատվական ծառայությունների տրամադրում և մոնիտորինգի իրականացում
C36: Միջոցառման նկարագրությունը`
C37: Արտակարգ իրավիճակների բնագավառում քաղաքականության մշակում, խորհրդատվական ծառայությունների տրամադրում և մոնիտորինգի իրականացում
C38: Միջոցառման տեսակը
C39: Ծառայությունների մատուցում
A42: ՀԱՅԱՍՏԱՆԻ ՀԱՆՐԱՊԵՏՈՒԹՅԱՆ ՎԱՐՉԱՊԵՏԻ ԱՇԽԱՏԱԿԱԶՄԻ
A43: ՂԵԿԱՎԱՐ Ա. ԹՈՐՈՍՅԱՆ

Sheet 2
H1: Հավելված N2
F2: ՀՀ կառավարության 2021 թվականի
F3: ___________ ___-ի N _______ -Ն որոշման
A5: ՀԱՅԱՍՏԱՆԻ ՀԱՆՐԱՊԵՏՈՒԹՅԱՆ ԿԱՌԱՎԱՐՈՒԹՅԱՆ 2020 ԹՎԱԿԱՆԻ ԴԵԿՏԵՄԲԵՐԻ 30-Ի N 2215-Ն ՈՐՈՇՄԱՆ N 3 ԵՎ N 4 ՀԱՎԵԼՎԱԾՆԵՐՈՒՄ ԿԱՏԱՐՎՈՂ ՓՈՓՈԽՈՒԹՅՈՒՆՆԵՐԸ
H6: հազար դրամներով
A7: Գործառական դասիչը | D7: Ծրագրային դասիչը | F7: Բյուջետային ծախսերի գործառական դասակարգման բաժինների, խմբերի և դասերի, բյուջետային հատկացումների գլխավոր կարգադրիչների, ծրագրերի, միջոցառումների և միջոցառումները կատարող պետական մարմինների անվանումները | G7: Ցուցանիշների փոփոխությունները (ավելացումները նշված են դրական նշանով,իսկ նվազեցումները՝ փակագծերում)
A8: Բաժին | B8: Խումբ | C8: Դաս | D8: Ծրագիր | E8: Միջոցառում | G8: Առաջին կիսամյակ | H8: Ինն ամիս | I8: Տարի
F9: ԸՆԴԱՄԵՆԸ | G9: =+G10+G24 -> 0 | H9: =+H10+H24 -> 0 | I9: =+I10+I24 -> 0
A10: 11 | F10: ՀԻՄՆԱԿԱՆ ԲԱԺԻՆՆԵՐԻՆ ՉԴԱՍՎՈՂ ՊԱՀՈՒՍՏԱՅԻՆ ՖՈՆԴԵՐ | G10: =G12 -> -33334 | H10: =H12 -> -50000 | I10: =I12 -> -100000
F11: այդ թվում`
B12: 01 | F12: ՀՀ կառավարության և համայնքների պահուստային ֆոնդ | G12: =G14 -> -33334 | H12: =H14 -> -50000 | I12: =I14 -> -100000
F13: այդ թվում`
C14: 01 | F14: ՀՀ կառավարության պահուստային ֆոնդ | G14: =G16 -> -33334 | H14: =H16 -> -50000 | I14: =I16 -> -100000
F15: ՀՀ կառավարություն
D16: 1139 | E16: 11001 | F16: ՀՀ կառավարության պահուստային ֆոնդ | G16: =G18 -> -33334 | H16: =H18 -> -50000 | I16: =I18 -> -100000
F17: այդ թվում` ըստ կատարողների
F18: ՀՀ կառավարություն | G18: =G20 -> -33334 | H18: =H20 -> -50000 | I18: =I20 -> -100000
F19: այդ թվում` բյուջետային ծախսերի տնտեսագիտական դասակարգման հոդվածներ
F20: ԸՆԴԱՄԵՆԸ ԾԱԽՍԵՐ | G20: =G21 -> -33334 | H20: =H21 -> -50000 | I20: =I21 -> -100000
F21: ԸՆԹԱՑԻԿ ԾԱԽՍԵՐ | G21: =G22 -> -33334 | H21: =H22 -> -50000 | I21: =I22 -> -100000
F22: ԱՅԼ ԾԱԽՍԵՐ | G22: =G23 -> -33334 | H22: =H23 -> -50000 | I22: =I23 -> -100000
F23: Պահուստային միջոցներ | G23: =+'1'!D20 -> -33334 | H23: =+'1'!E20 -> -50000 | I23: =+'1'!F20 -> -100000
A24: 03 | F24: ՀԱՍԱՐԱԿԱԿԱՆ ԿԱՐԳ, ԱՆՎՏԱՆԳՈՒԹՅՈՒՆ ԵՎ ԴԱՏԱԿԱՆ ԳՈՐԾՈՒՆԵՈՒԹՅՈՒՆ | G24: =+G26 -> 33334 | H24: =+H26 -> 50000 | I24: =+I26 -> 100000
F25: այդ թվում`
B26: 02 | F26: Փրկարար ծառայություն | G26: =+G28 -> 33334 | H26: =+H28 -> 50000 | I26: =+I28 -> 100000
F27: այդ թվում`
C28: 01 | F28: Փրկարար ծառայություն | G28: =+G30 -> 33334 | H28: =+H30 -> 50000 | I28: =+I30 -> 100000
F29: այդ թվում
D30: 1112 | F30: Արտակարգ իրավիճակների բնագավառի պետական քաղաքականության մշակում, ծրագրերի համակարգում և մոնիտորինգ | G30: =+G32 -> 33334 | H30: =+H32 -> 50000 | I30: =+I32 -> 100000
F31: այդ թվում`
E32: 11002 | F32: Արտակարգ իրավիճակների բնագավառում քաղաքականության մշակում, խորհրդատվական ծառայությունների տրամադրում և մոնիտորինգի իրականացում | G32: =+G34 -> 33334 | H32: =+H34 -> 50000 | I32: =+I34 -> 100000
F33: այդ թվում` ըստ կատարողների
F34: ՀՀ արտակարգ իրավիճակների նախարարություն | G34: =+G36 -> 33334 | H34: =+H36 -> 50000 | I34: =+I36 -> 100000
F35: այդ թվում` բյուջետային ծախսերի տնտեսագիտական դասակարգման հոդվածներ
F36: ԸՆԴԱՄԵՆԸ ԾԱԽՍԵՐ | G36: =+G37 -> 33334 | H36: =+H37 -> 50000 | I36: =+I37 -> 100000
F37: ԸՆԹԱՑԻԿ ԾԱԽՍԵՐ | G37: =+G38 -> 33334 | H37: =+H38 -> 50000 | I37: =+I38 -> 100000
F38: ԾԱՌԱՅՈՒԹՅՈՒՆՆԵՐԻ ԵՎ ԱՊՐԱՆՔՆԵՐԻ ՁԵՌՔԲԵՐՈՒՄ | G38: =+G39 -> 33334 | H38: =+H39 -> 50000 | I38: =+I39 -> 100000
F39: Այլ մասնագիտական ծառայությունների ձեռքբերում | G39: =+G40 -> 33334 | H39: =+H40 -> 50000 | I39: =+I40 -> 100000
F40: - Մասնագիտական ծառայություններ | G40: =+'1'!D27 -> 33334 | H40: =+'1'!E27 -> 50000 | I40: =+'1'!F27 -> 100000
A43: ՀԱՅԱՍՏԱՆԻ ՀԱՆՐԱՊԵՏՈՒԹՅԱՆ ՎԱՐՉԱՊԵՏԻ ԱՇԽԱՏԱԿԱԶՄԻ
...

Sheet 3
H1: Հավելված N3
I2: ՀՀ կառավարության 2021 թվականի
H3: ___________ ___-ի N _______ -Ն որոշման
A5: ՀԱՅԱՍՏԱՆԻ ՀԱՆՐԱՊԵՏՈՒԹՅԱՆ ԿԱՌԱՎԱՐՈՒԹՅԱՆ 2020 ԹՎԱԿԱՆԻ ԴԵԿՏԵՄԲԵՐԻ 30-Ի ԹԻՎ 2215-Ն ՈՐՈՇՄԱՆ N 9 ՀԱՎԵԼՎԱԾԻ 9.19 ԵՎ 9.47 ԱՂՅՈՒՍԱԿՈՒՄ ԿԱՏԱՐՎՈՂ ՓՈՓՈԽՈՒԹՅՈՒՆՆԵՐԸ
A6: ՀՀ արտակարգ իրավիճակների նախարարություն
A7: ՄԱՍ 2. ՊԵՏԱԿԱՆ ՄԱՐՄՆԻ ԳԾՈՎ ԱՐԴՅՈՒՆՔԱՅԻՆ (ԿԱՏԱՐՈՂԱԿԱՆ) ՑՈՒՑԱՆԻՇՆԵՐԸ
A9: Ծրագրի դասիչը | B9: Ծրագրի անվանումը
A10: 1112 | B10: Արտակարգ իրավիճակների բնագավառի պետական քաղաքականության մշակում՝ ծրագրերի համակարգում և մոնիտորինգ
A11: Ծրագրի միջոցառումները
A12: Ծրագրի դասիչը՝ | B12: 1112 | C12: Ցուցանիշների փոփոխությունը (ավելացումները նշված են դրական նշանով)
A13: Միջոցառման դասիչը՝ | B13: 11002 | C13: Առաջին կիսամյակ | D13: Ինն ամիս | E13: Տարի
A14: Միջոցառման անվանումը՝ | B14: Արտակարգ իրավիճակների բնագավառում քաղաքականության մշակում՝ խորհրդատվական ծառայությունների տրամադրում և մոնիտորինգի իրականացում
A15: Նկարագրությունը՝ | B15: Արտակարգ իրավիճակների բնագավառում քաղաքականության մշակում՝ խորհրդատվական ծառայությունների տրամադրում և մոնիտորինգի իրականացում
A16: Միջոցառման տեսակը՝ | B16: Ծառայության մատուցում
A17: Միջոցառումն իրականացնողի անվանումը | B17: ՀՀ արտակարգ իրավիճակների նախարարություն
B18: Արդյունքի չափորոշիչներ
A19: Միջոցառման վրա կատարվող ծախսը (հազար դրամ) | C19: =+'2'!G24 -> 33334 | D19: =+'2'!H24 -> 50000 | E19: =+'2'!I24 -> 100000
A21: ՀՀ կառավարություն
B22: ՄԱՍ 2. ՊԵՏԱԿԱՆ ՄԱՐՄՆԻ ԳԾՈՎ ԱՐԴՅՈՒՆՔԱՅԻՆ (ԿԱՏԱՐՈՂԱԿԱՆ) ՑՈՒՑԱՆԻՇՆԵՐԸ
A24: Ծրագրի դասիչը | B24: Ծրագրի անվանումը
A25: 1139 | B25: ՀՀ կառավարության պահուստային ֆոնդ
A27: Ծրագրի միջոցառումները
A29: Ծրագրի դասիչը՝ | B29: 1139 | C29: Ցուցանիշների փոփոխությունը (նվազեցումները նշված են փակագծերում)
A30: Միջոցառման դասիչը՝ | B30: 11001 | C30: Առաջին կիսամյակ | D30: Ինն ամիս | E30: Տարի
A31: Միջոցառման անվանումը՝ | B31: ՀՀ կառավարության պահուստային ֆոնդ
A32: Նկարագրությունը՝ | B32: ՀՀ պետական բյուջեում նախատեսված ելքերի լրացուցիչ ֆինանսավորման՝ պետական բյուջեում չկանխատեսված ելքերի, ինչպես նաև բյուջետային երաշխիքների ապահովման ելքերի ֆինանսավորման ապահովում
A33: Միջոցառման տեսակը՝ | B33: Ծառայությունների մատուցում
B34: Արդյունքի չափորոշիչներ
A35: Միջոցառման վրա կատարվող ծախսը (հազար դրամ) | C35: =+'2'!G10 -> -33334 | D35: =+'2'!H10 -> -50000 | E35: =+'2'!I10 -> -100000
A40: ՀԱՅԱՍՏԱՆԻ ՀԱՆՐԱՊԵՏՈՒԹՅԱՆ ՎԱՐՉԱՊԵՏԻ ԱՇԽԱՏԱԿԱԶՄԻ
A41: ՂԵԿԱՎԱՐ Ա. ԹՈՐՈՍՅԱՆ

Sheet 4
D1: Հավելված N 4 ՀՀ կառավարության 2021 թվականի __________-ի ____-ի N _____-Ն որոշման
A2: ՀԱՅԱՍՏԱՆԻ ՀԱՆՐԱՊԵՏՈՒԹՅԱՆ ԿԱՌԱՎԱՐՈՒԹՅԱՆ 2020 ԹՎԱԿԱՆԻ ԴԵԿՏԵՄԲԵՐԻ 30-Ի ԹԻՎ 2215-Ն ՈՐՈՇՄԱՆ N9.1 ՀԱՎԵԼՎԱԾԻ 9.1.19 ԵՎ 9.1.58 ԱՂՅՈՒՍԱՆԵՐՈՒՄ ԿԱՏԱՐՎՈՂ ՓՈՓՈԽՈՒԹՅՈՒՆՆԵՐԸ
A3: ՀՀ արտակարգ իրավիճակների նախարարություն
A4: ՄԱՍ 1. ՊԵՏԱԿԱՆ ՄԱՐՄՆԻ ԳԾՈՎ ԱՐԴՅՈՒՆՔԱՅԻՆ (ԿԱՏԱՐՈՂԱԿԱՆ) ՑՈՒՑԱՆԻՇՆԵՐԸ
A6: Ծրագրի դասիչը | B6: Ծրագրի անվանումը
A7: 1112 | B7: Արտակարգ իրավիճակների բնագավառի պետական քաղաքականության մշակում՝ ծրագրերի համակարգում և մոնիտորինգ
A8: Ծրագրի միջոցառումները
A9: Ծրագրի դասիչը՝ | B9: 1112 | C9: Ցուցանիշների փոփոխությունը (ավելացումները նշված են դրական նշանով)
A10: Միջոցառման դասիչը՝ | B10: 11002 | C10: Առաջին կիսամյակ | D10: Ինն ամիս | E10: Տարի
A11: Միջոցառման անվանումը՝ | B11: Արտակարգ իրավիճակների բնագավառում քաղաքականության մշակում՝ խորհրդատվական ծառայությունների տրամադրում և մոնիտորինգի իրականացում
A12: Նկարագրությունը՝ | B12: Արտակարգ իրավիճակների բնագավառում քաղաքականության մշակում՝ խորհրդատվական ծառայությունների տրամադրում և մոնիտորինգի իրականացում
A13: Միջոցառման տեսակը՝ | B13: Ծառայության մատուցում
A14: Միջոցառումն իրականացնողի անվանումը | B14: ՀՀ արտակարգ իրավիճակների նախարարություն
B15: Արդյունքի չափորոշիչներ
A16: Միջոցառման վրա կատարվող ծախսը (հազար դրամ) | C16: =+'3'!C19 -> 33334 | D16: =+'3'!D19 -> 50000 | E16: =+'3'!E19 -> 100000
A18: ՀՀ կառավարություն
B19: ՄԱՍ 2. ՊԵՏԱԿԱՆ ՄԱՐՄՆԻ ԳԾՈՎ ԱՐԴՅՈՒՆՔԱՅԻՆ (ԿԱՏԱՐՈՂԱԿԱՆ) ՑՈՒՑԱՆԻՇՆԵՐԸ
A21: Ծրագրի դասիչը | B21: Ծրագրի անվանումը
A22: 1139 | B22: ՀՀ կառավարության պահուստային ֆոնդ
A24: Ծրագրի միջոցառումները
A26: Ծրագրի դասիչը՝ | B26: 1139 | C26: Ցուցանիշների փոփոխությունը (նվազեցումները նշված են փակագծերում)
A27: Միջոցառման դասիչը՝ | B27: 11001 | C27: Առաջին կիսամյակ | D27: Ինն ամիս | E27: Տարի
A28: Միջոցառման անվանումը՝ | B28: ՀՀ կառավարության պահուստային ֆոնդ
A29: Նկարագրությունը՝ | B29: ՀՀ պետական բյուջեում նախատեսված ելքերի լրացուցիչ ֆինանսավորման՝ պետական բյուջեում չկանխատեսված ելքերի, ինչպես նաև բյուջետային երաշխիքների ապահովման ելքերի ֆինանսավորման ապահովում
A30: Միջոցառման տեսակը՝ | B30: Ծառայությունների մատուցում
B31: Արդյունքի չափորոշիչներ
A32: Միջոցառման վրա կատարվող ծախսը (հազար դրամ) | C32: =+'3'!C35 -> -33334 | D32: =+'3'!D35 -> -50000 | E32: =+'3'!E35 -> -100000
A37: ՀԱՅԱՍՏԱՆԻ ՀԱՆՐԱՊԵՏՈՒԹՅԱՆ ՎԱՐՉԱՊԵՏԻ ԱՇԽԱՏԱԿԱԶՄԻ
A38: ՂԵԿԱՎԱՐ Ա. ԹՈՐՈՍՅԱՆ

Sheet 5
F1: Հավելված N 5
E2: ՀՀ կառավարության 2021 թվականի
E3: ______________ ի ___Ն որոշման
A6: ՀԱՅԱՍՏԱՆԻ ՀԱՆՐԱՊԵՏՈՒԹՅԱՆ ԿԱՌԱՎԱՐՈՒԹՅԱՆ 2019ԹՎԱԿԱՆԻ ԴԵԿՏԵՄԲԵՐԻ 26-Ի N 1919-Ն ՈՐՈՇՄԱՆ N10 ՀԱՎԵԼՎԱԾՈՒՄ ԿԱՏԱՐՎՈՂ ՓՈՓՈԽՈՒԹՅՈՒՆՆԵՐԸ ԵՎ ԼՐԱՑՈՒՄՆԵՐԸ
A8: Գնման առարկայի | G8: Գումարը (հազար դրամով) Ցուցանիշների փոփոխությունները (Ավելացումները նշված են դրական նշանով, իսկ նվազեցումները՝ փակագծերում)
A9: Կոդը | B9: Անվանումը | C9: Գնման ձև | D9: Չափման միավորը | E9: Միավորի գինը | F9: Քանակը
A11: ՀՀ արտակարգ իրավիճակների նախարարություն | G11: =+G12 -> 100,000.0
A12: Բաժին N 03 | B12: Խումբ N 02 | C12: Դաս N 01 | D12: Փրկարար ծառայություն | G12: =+G13 -> 100,000.0
A13: 1112 11001 | B13: Արտակարգ իրավիճակների բնագավառում քաղաքականության մշակում՝ խորհրդատվական ծառայությունների տրամադրում և մոնիտորինգի իրականացում | G13: =+G14 -> 100,000.0
A14: ՄԱՍ III. ԾԱՌԱՅՈՒԹՅՈՒՆՆԵՐ | G14: =+G15 -> 100,000.0
A15: 85121230/501 | B15: Հոգեբուժական կամ հոգեբանական ծառայություններ | C15: ՀԲՄ | D15: դրամ | E15: 100000000 | F15: 1 | G15: 100,000.0
A17: ՀԱՅԱՍՏԱՆԻ ՀԱՆՐԱՊԵՏՈՒԹՅԱՆ ՎԱՐՉԱՊԵՏԻ ԱՇԽԱՏԱԿԱԶՄԻ
A18: ՂԵԿԱՎԱՐ Ա. ԹՈՐՈՍՅԱՆ
