Workbook
Name AgencyCode: #REF!
Name AgencyCode: #REF!
Name AgencyCode: #REF!
Name AgencyName: #REF!
Name AgencyName: #REF!
Name AgencyName: #REF!
Name davit: #REF!
Name davit: #REF!
Name Functional1: #REF!
Name Functional1: #REF!
Name Functional1: #REF!
Name ggg: #REF!
Name ggg: #REF!
Name ggg: #REF!
Name PANature: #REF!
Name PANature: #REF!
Name PANature: #REF!
Name PAType: #REF!
Name PAType: #REF!
Name PAType: #REF!
Name Performance2: #REF!
Name Performance2: #REF!
Name Performance2: #REF!
Name PerformanceType: #REF!
Name PerformanceType: #REF!
Name PerformanceType: #REF!
Name Հավելված: #REF!
Name Հավելված: #REF!
Name Մաս: #REF!
Name Մաս: #REF!
Name շախմատիստ: #REF!
Name շախմատիստ: #REF!
Name շախմատիստ: #REF!

Sheet 1
F1: Հավելված N 1
F2: ՀՀ կառավարության 2021 թվականի
F3: ___________ ___-ի N _______ -Ն որոշման
A5: «ՀԱՅԱUՏԱՆԻ ՀԱՆՐԱՊԵՏՈՒԹՅԱՆ 2021 ԹՎԱԿԱՆԻ ՊԵՏԱԿԱՆ ԲՅՈՒՋԵԻ ՄԱUԻՆ» ՀԱՅԱUՏԱՆԻ ՀԱՆՐԱՊԵՏՈՒԹՅԱՆ OՐԵՆՔԻ N 1 ՀԱՎԵԼՎԱԾԻ N 2 ԱՂՅՈՒՍԱԿՈՒՄ ԿԱՏԱՐՎՈՂ ՎԵՐԱԲԱՇԽՈՒՄԸ ԵՎ ՀԱՅԱՍՏԱՆԻ ՀԱՆՐԱՊԵՏՈՒԹՅԱՆ ԿԱՌԱՎԱՐՈՒԹՅԱՆ 2020 ԹՎԱԿԱՆԻ ԴԵԿՏԵՄԲԵՐԻ 30-Ի N 2215-Ն ՈՐՈՇՄԱՆ N 5 ՀԱՎԵԼՎԱԾԻ N 1 ԱՂՅՈՒՍԱԿՈՒՄ ԿԱՏԱՐՎՈՂ ՓՈՓՈԽՈՒԹՅՈՒՆՆԵՐԸ ԵՎ ԼՐԱՑՈՒՄՆԵՐԸ
F7: /հազ. դրամ/
A8: Ծրագրային դասիչը | C8: Բյուջետային հատկացումների գլխավոր կարգադրիչների, ծրագրերի և միջոցառումների անվանումները | D8: Ցուցանիշների փոփոխությունը (ավելացումները նշված են դրական նշանով, իսկ նվազեցումները` փակագծերում)
A9: Ծրագիր | B9: Միջոցառում | D9: Առաջին կիսամյակ | E9: Ինն ամիս | F9: Տարի
B10: ԸՆԴԱՄԵՆԸ | D10: =D11+D44 -> 0 | E10: =E11+E44 -> 0 | F10: =F11+F44 -> 0
B11: ՀՀ արդարադատության նախարարություն | D11: =D12+D31 -> -47247.8 | E11: =E12+E31 -> -47247.8 | F11: =F12+F31 -> -47247.8
A12: 1228 | C12: Ծրագրի անվանումը` | D12: =D19+D25 -> -77847.8 | E12: =E19+E25 -> -77847.8 | F12: =F19+F25 -> -77847.8
C13: Հակակոռուպցիոն քաղաքականության մշակում,ծրագրերի համակարգում և մոնիտորինգի իրականացում
C14: Ծրագրի նպատակը`
C15: Հակակոռուպցիոն ինստիտուցիոնալ համակարգի վերափոխում և զարգացում` նաև ոլորտային կոռուպցիոն ռիսկերի վերհանման ու նվազեցման և էլեկտրոնային ժողովրդավարության գործիքների ներդրման միջոցով
C16: Վերջնական արդյունքի նկարագրությունը`
C17: Կոռուպցիայի նվազեցում, հակակոռուպցիոն արդյունավետ ինստիտուցիոնալ համակարգի առկայություն
C18: Ծրագրի միջոցառումներ
B19: 31001 | C19: Միջոցառման անվանումը` | D19: ='3'!G62 -> 0 | E19: ='3'!H62 -> 0 | F19: ='3'!I62 -> 0
C20: Հակակոռուպցիոն կոմիտեի շենքային պայմանների ապահովում_x000D_
C21: Միջոցառման նկարագրությունը`
C22: Հակակոռուպցիոն կոմիտեի շենքի կառուցում և նախագծանախահաշվային փաստաթղթերի ձեռք բերում
C23: Միջոցառման տեսակը
C24: Պետական մարմինների կողմից օգտագործվող ոչ ֆինանսական ակտիվների հետ գործառնություններ
B25: 31002 | C25: Միջոցառման անվանումը` | D25: ='3'!G22 -> -77847.8 | E25: ='3'!H22 -> -77847.8 | F25: ='3'!I22 -> -77847.8
C26: Հակակոռուպցիոն դատարանի շենքային պայմանների ապահովում
C27: Միջոցառման նկարագրությունը`
C28: Հակակոռուպցիոն դատարանի կարիքները սպասարկող նոր շենքի կառուցում
C29: Միջոցառման տեսակը
C30: Պետական մարմինների կողմից օգտագործվող ոչ ֆինանսական ակտիվների հետ գործառնություններ
A31: 1231 | C31: Ծրագրի անվանումը` | D31: =D38 -> 30600 | E31: =E38 -> 30600 | F31: =F38 -> 30600
C32: Հակակոռուպցիոն գործերի քննության ապահովում
C33: Ծրագրի նպատակը`
C34: Կոռուպցիոն հանցագործությունների օբյեկտիվ և արդյունավետ նախաքննության իրականացման ապահովոււմ
C35: Վերջնական արդյունքի նկարագրությունը`
C36: Կոռուպցիոն հանցագործությունների արդյունավետ նախաքննություն, նախաքննության ժամկետների կրճատում
C37: Ծրագրի միջոցառումներ
B38: 11001 | C38: Միջոցառման անվանումը՝ | D38: ='3'!G75 -> 30600 | E38: ='3'!H75 -> 30600 | F38: ='3'!I75 -> 30600
C39: Կոռուպցիոն գործերի քննության արդյունավետության բարձրացում
C40: Միջոցառման նկարագրությունը՝
C41: Հակակոռուպցիոն կոմիտեի իրավասությանը վերապահված` ենթադրյալ հանցագործությունների կապակցությամբ նախաքննություն
C42: Միջոցառման տեսակը՝
C43: Ծառայությունների մատուցում
B44: Բարձրագույն դատական խորհուրդ | D44: =D45 -> 47247.8 | E44: =E45 -> 47247.8 | F44: =F45 -> 47247.8
A45: 1080 | C45: Ծրագրի անվանումը` | D45: =D52 -> 47247.8 | E45: =E52 -> 47247.8 | F45: =F52 -> 47247.8
C46: Դատական իշխանության գործունեության ապահովում և իրականացում
C47: Ծրագրի նպատակը`
C48: Դատական իշխանության անկախության երաշխավորում, բնականոն գործունեության և դատական պաշտպանության իրավունքի ապահովում
C49: Վերջնական արդյունքի նկարագրությունը`
C50: Դատական իշխանության գուծունեության և դատական պաշտպանության իրավունքի ապահովման արդյունավետության բարձրացում
C51: Ծրագրի միջոցառումներ
B52: 11019 | C52: Միջոցառման անվանումը` | D52: ='3'!G45 -> 47247.8 | E52: ='3'!H45 -> 47247.8 | F52: ='3'!I45 -> 47247.8
C53: Հակակոռուպցիոն դատարանի բնականոն գործունեության և ՀՀ Հակակոռուպցիոն դատարանի կողմից դատական պաշտպանության իրավունքի ապահովում
C54: Միջոցառման նկարագրությունը`
C55: Դատավարական գործունեության իրականացում, դատական ակտերի կազմում և հրապարակում, արխիվային փաստաթղթերի տրամադրում, դատական ծառայության իրականացում
C56: Միջոցառման տեսակը
C57: Ծառայությունների մատուցում

Sheet 2
F1: Հավելված N 2
D2: ՀՀ կառավարության 2021 թվականի
D3: ___________ ___-ի N _______ -Ն որոշման
A6: ՀԱՅԱՍՏԱՆԻ ՀԱՆՐԱՊԵՏՈՒԹՅԱՆ 2021 ԹՎԱԿԱՆԻ ՊԵՏԱԿԱՆ ԲՅՈՒՋԵԻ ՄԱՍԻՆ ՕՐԵՆՔԻ N 1 ՀԱՎԵԼՎԱԾԻ N 3 ԱՂՅՈՒՍԱԿՈՒՄ ԿԱՏԱՐՎՈՂ ՓՈՓՈԽՈՒԹՅՈՒՆՆԵՐԸ
G7: հազ. դրամ
A8: Շրագրային դասիչը | C8: Բյուջետային գլխավոր կարգադրիչների, ծրագրերի և միջոցառումների և ուղղությունների անվանումները | D8: Ընդամենը | E8: Ցուցանիշների փոփոխությունը (ավելացումները նշված են դրական նշանով, իսկ նվազեցումները` փակագծերում)
E9: այդ թվում
A10: Ծրագիր | B10: Միջոցառում | E10: Կառուցման աշխատանքներ | F10: Վերակառուցման, վերանորոգման և վերականգնման աշխատանքներ | G10: Նախագծահետազոտական, գեոդեզիա-քարտեզագրական աշխատանքներ | H10: Ոչ ֆինանսական այլ ակտիվների ձեռքբերում
C11: Ընդամենը | D11: =+D13 -> -77847.8 | E11: =+E13 -> -81447.8 | F11: =+F13 -> 0 | G11: =+G13 -> 3600 | H11: =+H13 -> 0
C12: այդ թվում`
C13: ՀՀ արդարադատության նախարարություն | D13: =D15+D16 -> -77847.8 | E13: =E15+E16 -> -81447.8 | F13: =F15+F16 -> 0 | G13: =G15+G16 -> 3600 | H13: =H15+H16 -> 0
C14: այդ թվում՝
A15: 1228 | B15: 31001 | C15: Հակակոռուպցիոն կոմիտեի շենքային պայմանների ապահովում_x000D_ | D15: =E15+F15+G15+H15 -> 0 | E15: ='3'!I70 -> -2400 | G15: ='3'!I72 -> 2400
A16: 1228 | B16: 31002 | C16: Հակակոռուպցիոն դատարանի շենքային պայմանների ապահովում_x000D_ | D16: =E16+F16+G16+H16 -> -77847.8 | E16: -79047.8 | F16: 0 | G16: 1200

Sheet 3
I1: Հավելված N 3
I2: ՀՀ կառավարության 2021 թվականի
I3: ______________ ի ___Ն որոշման
A6: ՀԱՅԱՍՏԱՆԻ ՀԱՆՐԱՊԵՏՈՒԹՅԱՆ ԿԱՌԱՎԱՐՈՒԹՅԱՆ 2020 ԹՎԱԿԱՆԻ ԴԵԿՏԵՄԲԵՐԻ 30-Ի N 2215-Ն ՈՐՈՇՄԱՆ N 3 և N 4 ՀԱՎԵԼՎԱԾՆԵՐՈՒՄ ԿԱՏԱՐՎՈՂ ՓՈՓՈԽՈՒԹՅՈՒՆՆԵՐԸ ԵՎ ԼՐԱՑՈՒՄՆԵՐԸ
I8: /հազ դրամ/
A9: Գործառական դասիչը | D9: Ծրագրային դասիչը | F9: Բյուջետային ծախսերի գործառական դասակարգման բաժինների, խմբերի և դասերի, բյուջետային ծրագրերի, միջոցառումների բյուջետային հատկացումնեյի գլխավոր կարկադրիչների անվանումները | G9: Ցուցանիշների փոփոխությունը (ավելացումները նշված են դրական նշանով, իսկ նվազեցումները` փակագծերում)
A10: Բաժին | B10: Խումբ | C10: Դաս | D10: Ծրագիր | E10: Միջոցառում | G10: Առաջին կիսամյակ | H10: Ինն ամիս | I10: Տարի
F11: ԸՆԴԱՄԵՆԸ | G11: =G12 -> 0 | H11: =H12 -> 0 | I11: =I12 -> 0
A12: 03 | F12: ՀԱՍԱՐԱԿԱԿԱՆ ԿԱՐԳ, ԱՆՎՏԱՆԳՈՒԹՅՈՒՆ ԵՎ ԴԱՏԱԿԱՆ ԳՈՐԾՈՒՆԵՈՒԹՅՈՒՆ | G12: =G14+G54 -> 0 | H12: =H14+H54 -> 0 | I12: =I14+I54 -> 0
F13: այդ թվում`
B14: 03 | F14: Դատական գործունեություն և իրավական պաշտպանություն | G14: =G16 -> -30600 | H14: =H16 -> -30600 | I14: =I16 -> -30600
F15: այդ թվում`
C16: 01 | F16: Դատարաններ | G16: =G18+G41 -> -30600 | H16: =H18+H41 -> -30600 | I16: =I18+I41 -> -30600
F17: այդ թվում`
F18: ՀՀ արդարադատության նախարարություն | G18: =G20 -> -77847.8 | H18: =H20 -> -77847.8 | I18: =I20 -> -77847.8
F19: այդ թվում`
D20: 1228 | F20: Հակակոռուպցիոն քաղաքականության մշակում,ծրագրերի համակարգում և մոնիտորինգի իրականացում | G20: =G22 -> -77847.8 | H20: =H22 -> -77847.8 | I20: =I22 -> -77847.8
F21: այդ թվում՝
E22: 31002 | F22: Հակակոռուպցիոն դատարանի շենքային պայմանների ապահովում | G22: =G24+G32 -> -77847.8 | H22: =H24+H32 -> -77847.8 | I22: =I24+I32 -> -77847.8
F23: այդ թվում` ըստ կատարողների
F24: ՀՀ արդարադատության նախարարություն | G24: =G26 -> -154047.8 | H24: =H26 -> -254047.8 | I24: =I26 -> -504047.8
F25: այդ թվում` բյուջետային ծախսերի տնտեսագիտական դասակարգման հոդվածներ
F26: ԸՆԴԱՄԵՆԸ ԾԱԽՍԵՐ | G26: =G27 -> -154047.8 | H26: =H27 -> -254047.8 | I26: =I27 -> -504047.8
F27: ՈՉ ՖԻՆԱՆՍԱԿԱՆ ԱԿՏԻՎՆԵՐԻ ԳԾՈՎ ԾԱԽՍԵՐ | G27: =G28 -> -154047.8 | H27: =H28 -> -254047.8 | I27: =I28 -> -504047.8
F28: ՀԻՄՆԱԿԱՆ ՄԻՋՈՑՆԵՐ | G28: =G29 -> -154047.8 | H28: =H29 -> -254047.8 | I28: =I29 -> -504047.8
F29: ՇԵՆՔԵՐ ԵՎ ՇԻՆՈՒԹՅՈՒՆՆԵՐ | G29: =G30+G31 -> -154047.8 | H29: =H30+H31 -> -254047.8 | I29: =I30+I31 -> -504047.8 | L29: ='6'!F28-I29 -> 0
F30: - Շենքերի և շինությունների շինարարություն | G30: -79047.8 | H30: -79047.8 | I30: -79047.8
F31: - Շենքերի և շինությունների կապիտալ վերանորոգում | G31: -75000 | H31: -175000 | I31: -425000
F32: ՀՀ քաղաքաշինության կոմիտե | G32: =G34 -> 76200 | H32: =H34 -> 176200 | I32: =I34 -> 426200
F33: այդ թվում` բյուջետային ծախսերի տնտեսագիտական դասակարգման հոդվածներ
F34: ԸՆԴԱՄԵՆԸ ԾԱԽՍԵՐ | G34: =G35 -> 76200 | H34: =H35 -> 176200 | I34: =I35 -> 426200
F35: ՈՉ ՖԻՆԱՆՍԱԿԱՆ ԱԿՏԻՎՆԵՐԻ ԳԾՈՎ ԾԱԽՍԵՐ | G35: =G36 -> 76200 | H35: =H36 -> 176200 | I35: =I36 -> 426200
F36: ՀԻՄՆԱԿԱՆ ՄԻՋՈՑՆԵՐ | G36: =G37+G39 -> 76200 | H36: =H37+H39 -> 176200 | I36: =I37+I39 -> 426200
F37: ՇԵՆՔԵՐ ԵՎ ՇԻՆՈՒԹՅՈՒՆՆԵՐ | G37: =G38 -> 75000 | H37: =H38 -> 175000 | I37: =I38 -> 425000
F38: - Շենքերի և շինությունների կապիտալ վերանորոգում | G38: 75000 | H38: 175000 | I38: 425000
F39: ԱՅԼ ՀԻՄՆԱԿԱՆ ՄԻՋՈՑՆԵՐ | G39: =G40 -> 1200 | H39: =H40 -> 1200 | I39: =I40 -> 1200
F40: - Նախագծահետազոտական ծախսեր | G40: 1200 | H40: 1200 | I40: 1200
F41: Բարձրագույն դատական խորհուրդ | G41: =G43 -> 47247.8 | H41: =H43 -> 47247.8 | I41: =I43 -> 47247.8
F42: այդ թվում`
D43: 1080 | F43: Դատական իշխանության գործունեության ապահովում և իրականացում | G43: =G45 -> 47247.8 | H43: =H45 -> 47247.8 | I43: =I45 -> 47247.8
F44: այդ թվում՝
E45: 11019 | F45: Հակակոռուպցիոն դատարանի բնականոն գործունեության և ՀՀ Հակակոռուպցիոն դատարանի կողմից դատական պաշտպանության իրավունքի ապահովում | G45: =G47 -> 47247.8 | H45: =H47 -> 47247.8 | I45: =I47 -> 47247.8 | T45: 1
F46: այդ թվում` ըստ կատարողների | I46: 0
F47: ՀՀ արդարադատության նախարարություն | G47: =G49 -> 47247.8 | H47: =H49 -> 47247.8 | I47: =I49 -> 47247.8
F48: այդ թվում` բյուջետային ծախսերի տնտեսագիտական դասակարգման հոդվածներ | I48: 0
F49: ԸՆԴԱՄԵՆԸ ԾԱԽՍԵՐ | G49: =G50 -> 47247.8 | H49: =H50 -> 47247.8 | I49: =I50 -> 47247.8
F50: ԸՆԹԱՑԻԿ ԾԱԽՍԵՐ | G50: =G51 -> 47247.8 | H50: =H51 -> 47247.8 | I50: =I51 -> 47247.8
F51: ԾԱՌԱՅՈՒԹՅՈՒՆՆԵՐԻ ԵՎ ԱՊՐԱՆՔՆԵՐԻ ՁԵՌՔԲԵՐՈՒՄ | G51: =G52 -> 47247.8 | H51: =H52 -> 47247.8 | I51: =I52 -> 47247.8
F52: Ընթացիկ նորոգում և պահպանում (ծառայություններ և նյութեր) | G52: =G53 -> 47247.8 | H52: =H53 -> 47247.8 | I52: =I53 -> 47247.8
F53: - Շենքերի և կառույցների ընթացիկ նորոգում և պահպանում | G53: 47247.8 | H53: 47247.8 | I53: 47247.8
B54: 07 | F54: Նախաքննություն | G54: =G56 -> 30600 | H54: =H56 -> 30600 | I54: =+I56 -> 30600
F55: այդ թվում`
C56: 01 | F56: Նախաքննություն | G56: =G58 -> 30600 | H56: =H58 -> 30600 | I56: =+I58 -> 30600
F57: այդ թվում`
F58: ՀՀ արդարադատության նախարարություն | G58: =G60+G73 -> 30600 | H58: =H60+H73 -> 30600 | I58: =I60+I73 -> 30600
F59: այդ թվում`
D60: 1228 | F60: Հակակոռուպցիոն քաղաքականության մշակում,ծրագրերի համակարգում և մոնիտորինգի իրականացում | H60: =H62 -> 0 | I60: =I62 -> 0
F61: այդ թվում՝
E62: 31001 | F62: Հակակոռուպցիոն կոմիտեի շենքային պայմանների ապահովում_x000D_ | H62: =H64 -> 0 | I62: =I64 -> 0
F63: այդ թվում` ըստ կատարողների
F64: ՀՀ քաղաքաշինության կոմիտե | H64: =H66 -> 0 | I64: =I66 -> 0
F65: այդ թվում` բյուջետային ծախսերի տնտեսագիտական դասակարգման հոդվածներ
F66: ԸՆԴԱՄԵՆԸ ԾԱԽՍԵՐ | H66: =H67 -> 0 | I66: =I67 -> 0
F67: ՈՉ ՖԻՆԱՆՍԱԿԱՆ ԱԿՏԻՎՆԵՐԻ ԳԾՈՎ ԾԱԽՍԵՐ | H67: =H68 -> 0 | I67: =I68 -> 0
F68: ՀԻՄՆԱԿԱՆ ՄԻՋՈՑՆԵՐ | G68: 0 | H68: =H69+H71 -> 0 | I68: =I69+I71 -> 0
F69: ՇԵՆՔԵՐ ԵՎ ՇԻՆՈՒԹՅՈՒՆՆԵՐ | G69: 0 | H69: =H70 -> -2400 | I69: =I70 -> -2400
F70: - Շենքերի և շինությունների շինարարություն | G70: 0 | H70: -2400 | I70: -2400
F71: ԱՅԼ ՀԻՄՆԱԿԱՆ ՄԻՋՈՑՆԵՐ | G71: 0 | H71: =H72 -> 2400 | I71: =I72 -> 2400
F72: - Նախագծահետազոտական ծախսեր | G72: 0 | H72: 2400 | I72: 2400
D73: 1231 | F73: Հակակոռուպցիոն գործերի քննության ապահովում | G73: =G75 -> 30600 | H73: =H75 -> 30600 | I73: =I75 -> 30600
F74: այդ թվում՝
E75: 11001 | F75: Կոռուպցիոն գործերի քննության արդյունավետության բարձրացում | G75: =G77 -> 30600 | H75: =H77 -> 30600 | I75: =I77 -> 30600
F76: այդ թվում` ըստ կատարողների | I76: 0
F77: ՀՀ արդարադատության նախարարություն | G77: =G79 -> 30600 | H77: =H79 -> 30600 | I77: =I79 -> 30600
F78: այդ թվում` բյուջետային ծախսերի տնտեսագիտական դասակարգման հոդվածներ | I78: 0
F79: ԸՆԴԱՄԵՆԸ ԾԱԽՍԵՐ | G79: =G80 -> 30600 | H79: =H80 -> 30600 | I79: =I80 -> 30600
F80: ԸՆԹԱՑԻԿ ԾԱԽՍԵՐ | G80: =G81 -> 30600 | H80: =H81 -> 30600 | I80: =I81 -> 30600
F81: ԾԱՌԱՅՈՒԹՅՈՒՆՆԵՐԻ ԵՎ ԱՊՐԱՆՔՆԵՐԻ ՁԵՌՔԲԵՐՈՒՄ | G81: =G82 -> 30600 | H81: =H82 -> 30600 | I81: =I82 -> 30600
F82: Ընթացիկ նորոգում և պահպանում (ծառայություններ և նյութեր) | G82: =G83 -> 30600 | H82: =H83 -> 30600 | I82: =I83 -> 30600
F83: - Շենքերի և կառույցների ընթացիկ նորոգում և պահպանում | G83: 30600 | H83: 30600 | I83: 30600

Sheet 4
F1: Հավելված N 4
F2: ՀՀ կառավարության 2021 թվականի
F3: ___________ ___-ի N _______ -Ն որոշման
A6: ՀԱՅԱՍՏԱՆԻ ՀԱՆՐԱՊԵՏՈՒԹՅԱՆ ԿԱՌԱՎԱՐՈՒԹՅԱՆ 2020 ԹՎԱԿԱՆԻ ԴԵԿՏԵՄԲԵՐԻ 30-Ի N 2215-Ն ՈՐՈՇՄԱՆ N 5 ՀԱՎԵԼՎԱԾԻ N 2 ԱՂՅՈՒՍԱԿՈՒՄ ԿԱՏԱՐՎՈՂ ՓՈՓՈԽՈՒԹՅՈՒՆՆԵՐԸ և ԼՐԱՑՈՒՄՆԵՐԸ
F7: հազ. դրամ
A8: Ծրագրային դասիչը | C8: Բյուջետային հատկացումների գլխավոր կարգադրիչների, ծրագրերի, միջոցառումների և միջոցառումները կատարող պետական մարմինների անվանումները | D8: Ցուցանիշների փոփոխությունը (ավելացումները նշված են դրական նշանով, իսկ նվազեցումները` փակագծերում)
A9: Ծրագիր | B9: Միջոցառում | D9: Առաջին կիսամյակ | E9: Ինն ամիս | F9: Տարի
C10: Ընդամենը | D10: =D12 -> -77847.8 | E10: =E12 -> -77847.8 | F10: =F12 -> -77847.8
C11: այդ թվում`
C12: ՀՀ ԱՐԴԱՐԱԴԱՏՈՒԹՅԱՆ ՆԱԽԱՐԱՐՈՒԹՅՈՒՆ | D12: =D19 -> -77847.8 | E12: =E19 -> -77847.8 | F12: =F19 -> -77847.8
C13: այդ թվում`
A14: 1228 | B14: 31001 | C14: Հակակոռուպցիոն կոմիտեի շենքային պայմանների ապահովում | F14: =+F16 -> 0
C15: այդ թվում` ըստ կատարողների
C16: ՀՀ քաղաքաշինության կոմիտե | F16: 0
C17: այդ թվում` ըստ ուղղությունների
C18: Աջափնյակ վարչական շրջանի «Սպանդարյան» կայարանի երկաթգծին հարակից 15 հեկտար մակերեսով հողատարածքում Հակակոռուպցիոն կոմիտեի գործունեության համար անհրաժեշտ շենքային պայմանների ապահովում
A19: 1228 | B19: 31002 | C19: Հակակոռուպցիոն դատարանի շենքային պայմանների ապահովում | D19: =D21+D25 -> -77847.8 | E19: =E21+E25 -> -77847.8 | F19: =F21+F25 -> -77847.8
C20: այդ թվում` ըստ կատարողների
C21: ՀՀ քաղաքաշինության կոմիտե | D21: =D23+D24 -> 76200 | E21: =E23+E24 -> 176200 | F21: =F23+F24 -> 426200
C22: այդ թվում` ըստ ուղղությունների
C23: Երևանի Աջափնյակ համայնքի Արա Սարգսյան 5/1 հասցեում տեղակայված շենքի վերակառուցման նախագծանախահաշվային փաստաթղթերի մշակման խորհրդատվական ծառայությունների մատուցում | D23: 1200 | E23: 1200 | F23: 1200
C24: Երևանի Աջափնյակ համայնքի Արա Սարգսյան 5/1 հասցեում տեղակայված շենքի հիմնանորոգում | D24: 75000 | E24: 175000 | F24: 425000
C25: ՀՀ արդարադատության նախարարություն | D25: =D27+D28 -> -154047.8 | E25: =E27+E28 -> -254047.8 | F25: =F27+F28 -> -504047.8
C26: այդ թվում` ըստ ուղղությունների
C27: Երևանի Աջափնյակ համայնքի Արա Սարգսյան 5/1 հասցեում տեղակայված շենքի հիմնանորոգում | D27: -75000 | E27: -175000 | F27: -425000
C28: Աջափնյակ վարչական շրջանի «Սպանդարյան» կայարանի երկաթգծին հարակից 15 հեկտար մակերեսով հողատարածքում Հակակոռուպցիոն դատարանի գործունեության համար անհրաժեշտ շենքային պայմանների ապահովում | D28: -79047.8 | E28: -79047.8 | F28: -79047.8

Sheet 5
F1: Հավելված N 5
F2: ՀՀ կառավարության 2021 թվականի
G3: ______________ ի ___Ն որոշման
A6: ՀԱՅԱՍՏԱՆԻ ՀԱՆՐԱՊԵՏՈՒԹՅԱՆ ԿԱՌԱՎԱՐՈՒԹՅԱՆ 2020 ԹՎԱԿԱՆԻ ԴԵԿՏԵՄԲԵՐԻ 30-Ի ԹԻՎ 2215-Ն ՈՐՈՇՄԱՆ N 9 ՀԱՎԵԼՎԱԾԻ 9.5 և 9․10 ԱՂՅՈՒՍԱԿՆԵՐՈՒՄ ԿԱՏԱՐՎՈՂ ՓՈՓՈԽՈՒԹՅՈՒՆՆԵՐԸ ԵՎ ԼՐԱՑՈՒՄՆԵՐԸ
A7: ՀՀ արդարադատության նախարարություն
A9: ՄԱՍ 2. ՊԵՏԱԿԱՆ ՄԱՐՄՆԻ ԳԾՈՎ ԱՐԴՅՈՒՆՔԱՅԻՆ (ԿԱՏԱՐՈՂԱԿԱՆ) ՑՈՒՑԱՆԻՇՆԵՐԸ
B12: Ծրագրի դասիչը | C12: Ծրագրի անվանումը
B13: 1228 | C13: Հակակոռուպցիոն քաղաքականության մշակում,ծրագրերի համակարգում և մոնիտորինգի իրականացում
B16: Ծրագրի դասիչը՝ | C16: 1228 | D16: Ցուցանիշների փոփոխությունները (ավելացումները նշված են դրական նշանով)
B17: Միջոցառման դասիչը` | C17: 31001 | D17: Առաջին կիսամյակ | E17: Ինն ամիս | F17: Տարի
B18: Միջոցառման անվանումը` | C18: Հակակոռուպցիոն կոմիտեի շենքային պայմանների ապահովում_x000D_
B19: Նկարագրությունը` | C19: Ժամանակակից իրավապահ մարմնի կարիքները սպասարկող շենքի կառուցում հաշվի առնելով Հակակոռուպցիոն կոմիտեի գործառութները
B20: Միջոցառման տեսակը` | C20: Պետական մարմինների կողմից օգտագործվող ոչ ֆինանսական ակտիվների հետ գործառնություններ
B21: Ակտիվն օգտագործող կազմակերպության(ների) անվանում(ներ)ը | C21: Հակակոռուպցիոն կոմիտե
B22: Արդյունքի չափորոշիչներ
B23: Նախագծանախահաշվային փաստաթղթերի քաղաքաշինական պարզ փորձաքննություն, հատ | F23: 1
B24: Միջոցառման վրա կատարվող ծախսը (հազար դրամ) | D24: ='3'!G60 -> 0 | E24: ='3'!H62 -> 0 | F24: ='3'!I62 -> 0
B28: Ծրագրի դասիչը՝ | C28: 1228 | D28: Ցուցանիշների փոփոխությունը (ավելացումները նշված են դրական նշանով, իսկ նվազեցումները` փակագծերում)
B29: Միջոցառման դասիչը` | C29: 31002 | D29: Առաջին կիսամյակ | E29: Ինն ամիս | F29: Տարի
B30: Միջոցառման անվանումը` | C30: Հակակոռուպցիոն դատարանի շենքային պայմանների ապահովում
B31: Նկարագրությունը` | C31: Հակակոռուպցիոն դատարանի կարիքները սպասարկող նոր շենքի կառուցում
B32: Միջոցառման տեսակը` | C32: Պետական մարմինների կողմից օգտագործվող ոչ ֆինանսական ակտիվների հետ գործառնություններ
B33: Ակտիվն օգտագործող կազմակերպության(ների) անվանում(ներ)ը | C33: Հակակոռուպցիոն դատարան
B34: Արդյունքի չափորոշիչներ
B35: Նախագծանախահաշվային փաստաթղթերի քաղաքաշինական պարզ փորձաքննություն, հատ | F35: 1
B36: Միջոցառման վրա կատարվող ծախսը (հազար դրամ) | D36: -77847.8 | E36: -77847.8 | F36: -77847.8
B38: Ծրագրի դասիչը | C38: Ծրագրի անվանումը
B39: 1231 | C39: Հակակոռուպցիոն գործերի քննության ապահովում
B42: Ծրագրի դասիչը՝ | C42: 1231 | D42: Ցուցանիշների փոփոխությունները (ավելացումները նշված են դրական նշանով)
B43: Միջոցառման դասիչը` | C43: 11001 | D43: Առաջին կիսամյակ | E43: Ինն ամիս | F43: Տարի
B44: Միջոցառման անվանումը` | C44: Կոռուպցիոն գործերի քննության արդյունավետության բարձրացում
B45: Նկարագրությունը` | C45: Հակակոռուպցիոն կոմիտեի իրավասությանը վերապահված` ենթադրյալ հանցագործությունների կապակցությամբ նախաքննություն
B46: Միջոցառման տեսակը` | C46: Ծառայությունների մատուցում
B47: Միջոցառումն իրականացնողի անվանումը՛ | C47: Հակակոռուպցիոն կոմիտե
B48: Արդյունքի չափորոշիչներ
B49: Միջոցառման վրա կատարվող ծախսը (հազար դրամ) | D49: 30600 | E49: 30600 | F49: 30600
A51: ԲԱՐՁՐԱԳՈՒՅՆ ԴԱՏԱԿԱՆ ԽՈՐՀՈՒՐԴ
A52: ՄԱՍ 2. ՊԵՏԱԿԱՆ ՄԱՐՄՆԻ ԳԾՈՎ ԱՐԴՅՈՒՆՔԱՅԻՆ (ԿԱՏԱՐՈՂԱԿԱՆ) ՑՈՒՑԱՆԻՇՆԵՐԸ
B54: Ծրագրի դասիչը | C54: Ծրագրի անվանումը
B55: 1080 | C55: Դատական իշխանության գործունեության ապահովում և իրականացում
B58: Ծրագրի դասիչը` | C58: 1080 | D58: Ցուցանիշների փոփոխությունները (ավելացումները նշված են դրական նշանով)
B59: Միջոցառման դասիչը` | C59: 11019 | D59: Առաջին կիսամյակ | E59: Ինն ամիս | F59: Տարի
B60: Միջոցառման անվանումը` | C60: Հակակոռուպցիոն դատարանի բնականոն գործունեության և ՀՀ Հակակոռուպցիոն դատարանի կողմից դատական պաշտպանության իրավունքի ապահովում
B61: Նկարագրությունը` | C61: Դատավարական գործունեության իրականացում, դատական ակտերի կազմում և հրապարակում, արխիվային փաստաթղթերի տրամադրում, դատական ծառայության իրականացում
B62: Միջոցառման տեսակը` | C62: Ծառայությունների մատուցում
B63: Ծառայությունը մատուցող կազմակերպության անվանումը | C63: Հակակոռուպցիոն դատարան
B64: Արդյունքի չափորոշիչներ
B65: Ենթադրյալ կոռուպցիոն հանցագործություններով քրեական վարույթների թիվը
B66: Միջոցառման վրա կատարվող ծախսը (հազար դրամ) | D66: ='3'!G45 -> 47247.8 | E66: ='3'!H45 -> 47247.8 | F66: ='3'!I45 -> 47247.8

Sheet 6
D1: Հավելված N 6
D2: ՀՀ կառավարության 2021 թվականի
D3: ______________ ի ___Ն որոշման
A5: ՀԱՅԱՍՏԱՆԻ ՀԱՆՐԱՊԵՏՈՒԹՅԱՆ ԿԱՌԱՎԱՐՈՒԹՅԱՆ 2020 ԹՎԱԿԱՆԻ ԴԵԿՏԵՄԲԵՐԻ 30-Ի N 2215-Ն ՈՐՈՇՄԱՆ N 9.1 ՀԱՎԵԼՎԱԾԻ N 9.1․10 և 9․1․42 ԱՂՅՈՒՍԱԿՆԵՐՈՒՄ ԿԱՏԱՐՎՈՂ ՓՈՓՈԽՈՒԹՅՈՒՆՆԵՐԸ
A6: ՀՀ արդարադատության նախարարություն
A8: ՄԱՍ 1. ՊԵՏԱԿԱՆ ՄԱՐՄՆԻ ԳԾՈՎ ԱՐԴՅՈՒՆՔԱՅԻՆ (ԿԱՏԱՐՈՂԱԿԱՆ) ՑՈՒՑԱՆԻՇՆԵՐԸ
B11: Ծրագրի դասիչը | C11: Ծրագրի անվանումը
B12: 1228 | C12: Հակակոռուպցիոն քաղաքականության մշակում,ծրագրերի համակարգում և մոնիտորինգի իրականացում
B18: Ծրագրի դասիչը՝ | C18: 1228 | D18: Ցուցանիշների փոփոխությունը (նվազեցումները նշված են փակագծերում)
B19: Միջոցառման դասիչը` | C19: 31002 | D19: Առաջին կիսամյակ | E19: Ինն ամիս | F19: Տարի
B20: Միջոցառման անվանումը` | C20: Հակակոռուպցիոն դատարանի շենքային պայմանների ապահովում
B21: Նկարագրությունը` | C21: Հակակոռուպցիոն դատարանի կարիքները սպասարկող նոր շենքի կառուցում
B22: Միջոցառման տեսակը` | C22: Պետական մարմինների կողմից օգտագործվող ոչ ֆինանսական ակտիվների հետ գործառնություններ
B23: Ակտիվն օգտագործող կազմակերպության(ների) անվանում(ներ)ը | C23: Հակակոռուպցիոն դատարան
B24: Արդյունքի չափորոշիչներ
B25: Երևանի Աջափնյակ համայնքի Արա Սարգսյան 5/1 հասցեում տեղակայված շենքի վերակառուցում, հատ | F25: -1
B26: Վերակառուցվող մակերես, քմ | F26: -1757.7
B27: Վերակառուցվող աշխատանքների ավարտվածության աստիճանը, տոկոս | F27: -100
B28: Միջոցառման վրա կատարվող ծախսը (հազար դրամ) | D28: ='3'!G24 -> -154047.8 | E28: ='3'!H24 -> -254047.8 | F28: ='3'!I24 -> -504047.8
B30: Ծրագրի դասիչը | C30: Ծրագրի անվանումը
B31: 1231 | C31: Հակակոռուպցիոն գործերի քննության ապահովում
B34: Ծրագրի դասիչը՝ | C34: 1231 | D34: Ցուցանիշների փոփոխությունները (ավելացումները նշված են դրական նշանով)
B35: Միջոցառման դասիչը` | C35: 11001 | D35: Առաջին կիսամյակ | E35: Ինն ամիս | F35: Տարի
B36: Միջոցառման անվանումը` | C36: Կոռուպցիոն գործերի քննության արդյունավետության բարձրացում
B37: Նկարագրությունը` | C37: Հակակոռուպցիոն կոմիտեի իրավասությանը վերապահված` ենթադրյալ հանցագործությունների կապակցությամբ նախաքննություն
B38: Միջոցառման տեսակը` | C38: Ծառայությունների մատուցում
B39: Միջոցառումն իրականացնողի անվանումը՛ | C39: Հակակոռուպցիոն կոմիտե
B40: Արդյունքի չափորոշիչներ
B41: Միջոցառման վրա կատարվող ծախսը (հազար դրամ) | D41: 30600 | E41: 30600 | F41: 30600
B46: Ծրագրի դասիչը | C46: Ծրագրի անվանումը
B47: 1080 | C47: Դատական իշխանության գործունեության ապահովում և իրականացում
B50: Ծրագրի դասիչը` | C50: 1080 | D50: Ցուցանիշների փոփոխությունները (ավելացումները նշված են դրական նշանով)
B51: Միջոցառման դասիչը` | C51: 11019 | D51: Առաջին կիսամյակ | E51: Ինն ամիս | F51: Տարի
B52: Միջոցառման անվանումը` | C52: Հակակոռուպցիոն դատարանի բնականոն գործունեության և ՀՀ Հակակոռուպցիոն դատարանի կողմից դատական պաշտպանության իրավունքի ապահովում
B53: Նկարագրությունը` | C53: Դատավարական գործունեության իրականացում, դատական ակտերի կազմում և հրապարակում, արխիվային փաստաթղթերի տրամադրում, դատական ծառայության իրականացում
B54: Միջոցառման տեսակը` | C54: Ծառայությունների մատուցում
B55: Ծառայությունը մատուցող կազմակերպության անվանումը | C55: Հակակոռուպցիոն դատարան
B56: Արդյունքի չափորոշիչներ
B57: Միջոցառման վրա կատարվող ծախսը (հազար դրամ) | D57: 47247.8 | E57: 47247.8 | F57: 47247.8
A60: ՀՀ քաղաքաշինության կոմիտե
A62: ՄԱՍ 1. ՊԵՏԱԿԱՆ ՄԱՐՄՆԻ ԳԾՈՎ ԱՐԴՅՈՒՆՔԱՅԻՆ (ԿԱՏԱՐՈՂԱԿԱՆ) ՑՈՒՑԱՆԻՇՆԵՐԸ
B65: Ծրագրի դասիչը | C65: Ծրագրի անվանումը
B66: 1228 | C66: Հակակոռուպցիոն քաղաքականության մշակում,ծրագրերի համակարգում և մոնիտորինգի իրականացում
B69: Ծրագրի դասիչը՝ | C69: 1228 | D69: Ցուցանիշների փոփոխությունները (ավելացումները նշված են դրական նշանով)
B70: Միջոցառման դասիչը` | C70: 31001 | D70: Առաջին կիսամյակ | E70: Ինն ամիս | F70: Տարի
B71: Միջոցառման անվանումը` | C71: Հակակոռուպցիոն կոմիտեի շենքային պայմանների ապահովում_x000D_
B72: Նկարագրությունը` | C72: Ժամանակակից իրավապահ մարմնի կարիքները սպասարկող շենքի կառուցում հաշվի առնելով Հակակոռուպցիոն կոմիտեի գործառութները
B73: Միջոցառման տեսակը` | C73: Պետական մարմինների կողմից օգտագործվող ոչ ֆինանսական ակտիվների հետ գործառնություններ
B74: Ակտիվն օգտագործող կազմակերպության(ների) անվանում(ներ)ը | C74: Հակակոռուպցիոն կոմիտե
B75: Արդյունքի չափորոշիչներ
B76: Աջափնյակ վարչական շրջանի «Սպանդարյան» կայարանի երկաթգծին հարակից 15 հեկտար մակերեսով հողատարածքում Հակակոռուպցիոն կոմիտեի գործունեության համար անհրաժեշտ շենքային պայմանների ապահովում, հատ
B77: Նախագծանախահաշվային փաստաթղթերի քաղաքաշինական պարզ փորձաքննություն, հատ | D77: 1 | E77: 1 | F77: 1
B78: Միջոցառման վրա կատարվող ծախսը (հազար դրամ) | D78: ='3'!G135 -> 0 | E78: ='3'!H137 -> 0 | F78: ='3'!I137 -> 0
B81: Ծրագրի դասիչը՝ | C81: 1228 | D81: Ցուցանիշների փոփոխությունները (ավելացումները նշված են դրական նշանով)
B82: Միջոցառման դասիչը` | C82: 31002 | D82: Առաջին կիսամյակ | E82: Ինն ամիս | F82: Տարի
B83: Միջոցառման անվանումը` | C83: Հակակոռուպցիոն դատարանի շենքային պայմանների ապահովում
B84: Նկարագրությունը` | C84: Հակակոռուպցիոն դատարանի կարիքները սպասարկող նոր շենքի կառուցում
B85: Միջոցառման տեսակը` | C85: Պետական մարմինների կողմից օգտագործվող ոչ ֆինանսական ակտիվների հետ գործառնություններ
B86: Ակտիվն օգտագործող կազմակերպության(ների) անվանում(ներ)ը | C86: Հակակոռուպցիոն դատարան
B87: Արդյունքի չափորոշիչներ
B88: Երևանի Աջափնյակ համայնքի Արա Սարգսյան 5/1 հասցեում տեղակայված շենքի վերակառուցման նախագծանախահաշվային փաստաթղթերի մշակման խորհրդատվական ծառայությունների մատուցում, հատ
B89: Նախագծանախահաշվային փաստաթղթերի քաղաքաշինական պարզ փորձաքննություն, հատ | D89: 1 | E89: 1 | F89: 1
B90: Երևանի Աջափնյակ համայնքի Արա Սարգսյան 5/1 հասցեում տեղակայված շենքի վերակառուցում, հատ | F90: 1
B91: Վերակառուցվող մակերես, քմ | F91: 1757.7
B92: Նախագծվող աշխատանքների ավարտվածության աստիճանը, տոկոս | F92: 100
B93: Վերակառուցվող աշխատանքների ավարտվածության աստիճանը, տոկոս | F93: 100
B94: Միջոցառման վրա կատարվող ծախսը (հազար դրամ) | D94: 76200 | E94: 176200 | F94: 426200

Sheet 7
G2: Հավելված N 7 ՀՀ կառավարության 2021 թվականի ___________ ___-ի N _______ -Ն որոշման
A3: ՀԱՅԱՍՏԱՆԻ ՀԱՆՐԱՊԵՏՈՒԹՅԱՆ ԿԱՌԱՎԱՐՈՒԹՅԱՆ 2020 ԹՎԱԿԱՆԻ ԴԵԿՏԵՄԲԵՐԻ 30-Ի N 2215-Ն ՈՐՈՇՄԱՆ N 10 ՀԱՎԵԼՎԱԾՈՒՄ ԿԱՏԱՐՎՈՂ ՓՈՓՈԽՈՒԹՅՈՒՆՆԵՐԸ ԵՎ ԼՐԱՑՈՒՄՆԵՐԸ
A5: Կոդը | B5: Անվանումը | C5: Գնման ձևը (ընթացակարգը) | D5: Չափի միավորը | E5: Միավորի գինը (ՀՀ դրամ) | F5: Ցուցանիշների փոփոխությունը (ավելացումները նշված են դրական նշանով, իսկ նվազեցումները` փակագծերում)
F6: Քանակը | G6: Գումարը (հազ. դրամ)
A8: 1 | B8: 2 | C8: 3 | D8: 4 | E8: 5 | F8: 6 | G8: 7
A9: ՀՀ արդարադատության նախարարություն | G9: =G11+G20+G15 -> -426200
A10: Բաժին N 03 | B10: Խումբ N 03 | C10: Դաս N 01 | D10: Դատարաններ
A11: 1228 31002 | B11: Հակակոռուպցիոն դատարանի շենքային պայմանների ապահովում | G11: =G12 -> -504047.8
B12: ՄԱՍ II. ԱՇԽԱՏԱՆՔՆԵՐ | G12: =G13+G14 -> -504047.8
A13: 45221142-1 | B13: ընդհանուր շինարարական աշխատանքներ | C13: ԲՄ | D13: դրամ | G13: -79047.8
A14: 45221142-2 | B14: ընդհանուր շինարարական աշխատանքներ | C14: ԲՄ | D14: դրամ | E14: 425000000 | F14: -1 | G14: -425000
A15: 1080 11019 | B15: Հակակոռուպցիոն դատարանի բնականոն գործունեության և ՀՀ Հակակոռուպցիոն դատարանի կողմից դատական պաշտպանության իրավունքի ապահովում | G15: =G16 -> 47247.8
B16: ՄԱՍ III. ԾԱՌԱՅՈՒԹՅՈՒՆՆԵՐ | G16: =G17+G18 -> 47247.8
A17: 45461100/501 | B17: Շենքերի և կառույցների ընթացիկ նորոգում և պահպանում | C17: ԳՀ | D17: դրամ | E17: 46321313 | F17: 1 | G17: 46321.3
A18: 71351540-1 | B18: տեխնիկական հսկողության ծառայություններ | C18: ԳՀ | D18: դրամ | E18: 926500 | F18: 1 | G18: 926.5
A19: Բաժին N 03 | B19: Խումբ N 07 | C19: Դաս N 01 | D19: Նախաքննություն | G19: =G20 -> 30600
A20: 1231 11001 | B20: Կոռուպցիոն գործերի քննության արդյունավետության բարձրացում | G20: =G21 -> 30600
B21: ՄԱՍ III. ԾԱՌԱՅՈՒԹՅՈՒՆՆԵՐ | G21: =G22+G23 -> 30600
A22: 45461100/503 | B22: Շենքերի և կառույցների ընթացիկ նորոգում և պահպանում | C22: ԳՀ | D22: դրամ | E22: 30000000 | F22: 1 | G22: 30000
A23: 71351540-2 | B23: տեխնիկական հսկողության ծառայություններ | C23: ԳՀ | D23: դրամ | E23: 600000 | F23: 1 | G23: 600
A24: Քաղաքաշինության կոմիտե | G24: =G26+G32 -> 426200
A25: Բաժին N 03 | B25: Խումբ N 03 | C25: Դաս N 01 | D25: Դատարաններ
A26: 1228 31002 | B26: Հակակոռուպցիոն դատարանի շենքային պայմանների ապահովում | G26: =G27 -> 426200
B27: ՄԱՍ II. ԱՇԽԱՏԱՆՔՆԵՐ | G27: =G28+G30 -> 426200
A28: 45221142-2 | B28: ընդհանուր շինարարական աշխատանքներ | C28: ԲՄ | D28: դրամ | E28: 425000000 | F28: 1 | G28: 425000
B29: ՄԱՍ III. ԾԱՌԱՅՈՒԹՅՈՒՆՆԵՐ
A30: 50531140-1 | B30: փորձաքննության ծառայություններ | C30: ԳՀ | D30: դրամ | E30: 1200000 | F30: 1 | G30: 1200
A31: Բաժին N 03 | B31: Խումբ N 07 | C31: Դաս N 01 | D31: Նախաքննություն
A32: 1228 31001 | B32: Հակակոռուպցիոն կոմիտեի շենքային պայմանների ապահովում | G32: =G33 -> 0
B33: ՄԱՍ II. ԱՇԽԱՏԱՆՔՆԵՐ | G33: =G34+G36 -> 0
A34: 45221142-1 | B34: ընդհանուր շինարարական աշխատանքներ | C34: ԲՄ | D34: դրամ | G34: -2400
B35: ՄԱՍ III. ԾԱՌԱՅՈՒԹՅՈՒՆՆԵՐ
A36: 50531140-1 | B36: փորձաքննության ծառայություններ | C36: ԳՀ | D36: դրամ | E36: 24000000 | F36: 1 | G36: 2400
Q42: 1
