Workbook

Sheet 1
F1: Հավելված N 1
F2: ՀՀ կառավարության 2021 թվականի
E3: " " " " N -Ն որոշման
A5: «ՀԱՅԱՍՏԱՆԻ ՀԱՆՐԱՊԵՏՈՒԹՅԱՆ 2021 ԹՎԱԿԱՆԻ ՊԵՏԱԿԱՆ ԲՅՈՒՋԵԻ ՄԱՍԻՆ» ՀԱՅԱՍՏԱՆԻ ՀԱՆՐԱՊԵՏՈՒԹՅԱՆ ՕՐԵՆՔԻ N 1 ՀԱՎԵԼՎԱԾԻ N 2 ԱՂՅՈՒՍԱԿՈՒՄ ԿԱՏԱՐՎՈՂ ՎԵՐԱԲԱՇԽՈՒՄԸ ԵՎ ՀԱՅԱՍՏԱՆԻ ՀԱՆՐԱՊԵՏՈՒԹՅԱՆ ԿԱՌԱՎԱՐՈՒԹՅԱՆ 2020 ԹՎԱԿԱՆԻ ԴԵԿՏԵՄԲԵՐԻ 30-Ի N 2215-Ն ՈՐՈՇՄԱՆ N 5 ՀԱՎԵԼՎԱԾԻ N 1 ԱՂՅՈՒՍԱԿՈՒՄ ԿԱՏԱՐՎՈՂ ՓՈՓՈԽՈՒԹՅՈՒՆՆԵՐԸ
F7: հազար դրամ
A8: Ծրագրային դասիչը | C8: Բյուջետային գլխավոր կարգադրիչների, ծրագրերի և միջոցառումների անվանումները | D8: Ցուցանիշների փոփոխություն (ավելացումները նշված են դրական նշանով)
A9: Ծրագիր | B9: Միջոցառում | D9: Առաջին կիսամյակ | E9: Ինն ամիս | F9: Տարի
C10: ԸՆԴԱՄԵՆԸ | D10: =D11+D25 -> 0 | E10: =E11+E25 -> 0 | F10: =F11+F25 -> 0
C11: ՀՀ աշխատանքի և սոցիալական հարցերի նախարարություն | D11: =+D12 -> 4067376.7 | E11: =+E12 -> 4067376.7 | F11: =+F12 -> 4067376.7
A12: 1205 | C12: Ծրագրի անվանումը` | D12: =D19 -> 4067376.7 | E12: =E19 -> 4067376.7 | F12: =F19 -> 4067376.7
C13: Սոցիալական ապահովություն
C14: Ծրագրի նպատակը`
C15: Սոցիալական ապահովության իրավունքի իրականացման ապահովում
C16: Վերջնական արդյունքի նկարագրությունը`
C17: Սոցիալական ապահովության իրավունքի իրականացում
A18: Ծրագրի միջոցառումներ
B19: 12015 | C19: Միջոցառման անվանումը` | D19: 4067376.7 | E19: 4067376.7 | F19: 4067376.7
C20: Ռազմական դրությամբ պայմանավորված՝ աջակցություն Արցախի բնակչությանը
C21: Միջոցառման նկարագրությունը`
C22: Աջակցություն Արցախի Հանրապետության կառավարությանը, 2020 թվականի դեկտեմբեր և 2021 թվականի հունվար-փետրվար ամիսներին Արցախի բնակչության սպառած էլեկտրաէներգիայի և գազի, կապի դիմաց վճարման ենթակա, ինչպես նաև վճարված եկամտային հարկի գումարների վերադարձի գծով ծախսերը ֆինանսավորելու համար
C23: Միջոցառման տեսակը
C24: Տրանսֆերտների տրամադրում
B25: ՀՀ կառավարություն | D25: =D26 -> -4067376.7 | E25: =E26 -> -4067376.7 | F25: =F26 -> -4067376.7
A26: 1139 | C26: Ծրագրի անվանումը | D26: =D33 -> -4067376.7 | E26: =E33 -> -4067376.7 | F26: =F33 -> -4067376.7
C27: ՀՀ կառավարության պահուստային ֆոնդ
C28: Ծրագրի նպատակը
C29: ՀՀ պետական բյուջեում չկանխատեսված, ինչպես նաեւ բյուջետային երաշխիքների ապահովման ծախսերի ֆինանսավորման ապահովում
C30: Վերջնական արդյունքի նկարագրությունը
C31: Պահուստային ֆոնդի կառավարման արդյունավետության և թափանցիկության ապահովում
C32: Ծրագրի միջոցառումներ
B33: 11001 | C33: Միջոցառման անվանումը | D33: =-D19 -> -4067376.7 | E33: =-E19 -> -4067376.7 | F33: =-F19 -> -4067376.7
C34: ՀՀ կառավարության պահուստային ֆոնդ
C35: Միջոցառման նկարագրությունը
C36: ՀՀ պետական բյուջեում նախատեսված ելքերի լրացուցիչ ֆինանսավորման՝ պետական բյուջեում չկանխատեսված ելքերի՝ ինչպես նաև բյուջետային երաշխիքների ապահովման ելքերի ֆինանսավորման ապահովում
C37: Միջոցառման տեսակը
C38: Ծառայությունների մատուցում

Sheet 2
I1: Հավելված N 2
H2: ՀՀ կառավարության 2021 թվականի
H3: " " " " N -Ն որոշման
A6: ՀԱՅԱՍՏԱՆԻ ՀԱՆՐԱՊԵՏՈՒԹՅԱՆ ԿԱՌԱՎԱՐՈՒԹՅԱՆ 2020 ԹՎԱԿԱՆԻ ԴԵԿՏԵՄԲԵՐԻ 30-Ի N 2215-Ն ՈՐՈՇՄԱՆ N 3 և 4 ՀԱՎԵԼՎԱԾՆԵՐՈՒՄ ԿԱՏԱՐՎՈՂ ՓՈՓՈԽՈՒԹՅՈՒՆՆԵՐԸ
I8: հազար դրամ
A9: Գործառական դասիչը | D9: Ծրագրային դասիչը | F9: Բյուջետային ծախսերի գործառական դասակարգման բաժինների, խմբերի և դասերի, Բյուջետային հատկացումների գլխավոր կարգադրիչների, ծրագրերի, միջոցառումների և միջոցառումները կատարող պետական մարմինների անվանումները | G9: Ցուցանիշների փոփոխություն (ավելացումները նշված են դրական նշանով)
A10: Բաժին | B10: Խումբ | C10: Դաս | D10: Ծրագիր | E10: Միջոցառում | G10: Առաջին կիսամյակ | H10: Ինն ամիս | I10: Տարի
F11: ԸՆԴԱՄԵՆԸ | G11: =G13 -> 4067376.7 | H11: =H13 -> 4067376.7 | I11: =I13 -> 4067376.7
F12: այդ թվում`
A13: 10 | F13: Սոցիալական պաշտպանություն | G13: =G20 -> 4067376.7 | H13: =H20 -> 4067376.7 | I13: =I20 -> 4067376.7
F14: այդ թվում`
B15: 09 | F15: Սոցիալական պաշտպանություն (այլ դասերին չպատկանող) | G15: =+G17 -> 4067376.7 | H15: =+H17 -> 4067376.7 | I15: =+I17 -> 4067376.7
F16: այդ թվում՝
C17: 02 | F17: Սոցիալական պաշտպանությանը տրամադրվող օժանդակ ծառայություններ (այլ դասերին չպատկանող) | G17: =+G20 -> 4067376.7 | H17: =+H20 -> 4067376.7 | I17: =+I20 -> 4067376.7
F18: այդ թվում`
F19: ՀՀ աշխատանքի և սոցիալական հարցերի նախարարություն | G19: =G20 -> 4067376.7 | H19: =H20 -> 4067376.7 | I19: =I20 -> 4067376.7
D20: 1205 | F20: Սոցիալական ապահովություն | G20: =G22 -> 4067376.7 | H20: =H22 -> 4067376.7 | I20: =I22 -> 4067376.7
F21: այդ թվում`
E22: =+'1'!B19 -> 12015 | F22: =+'1'!C20 -> Ռազմական դրությամբ պայմանավորված՝ աջակցություն Արցախի բնակչությանը | G22: =G24 -> 4067376.7 | H22: =H24 -> 4067376.7 | I22: =I24 -> 4067376.7
F23: այդ թվում` ըստ կատարողների
F24: ՀՀ աշխատանքի և սոցիալական հարցերի նախարարության սոցիալական ապահովության ծառայություն | G24: =+G26 -> 4067376.7 | H24: =+H26 -> 4067376.7 | I24: =+I26 -> 4067376.7
F25: այդ թվում` բյուջետային ծախսերի տնտեսագիտական դասակարգման հոդվածներ
F26: ԸՆԴԱՄԵՆԸ ԾԱԽՍԵՐ | G26: =+G28 -> 4067376.7 | H26: =+H28 -> 4067376.7 | I26: =+I28 -> 4067376.7
F27: ԸՆԹԱՑԻԿ ԾԱԽՍԵՐ
F28: ՍՈՑԻԱԼԱԿԱՆ ՆՊԱՍՏՆԵՐ ԵՎ ԿԵՆՍԱԹՈՇԱԿՆԵՐ | G28: =G29 -> 4067376.7 | H28: =H29 -> 4067376.7 | I28: =I29 -> 4067376.7
F29: - Այլ նպաստներ բյուջեից | G29: ='1'!D19 -> 4067376.7 | H29: ='1'!E19 -> 4067376.7 | I29: ='1'!F19 -> 4067376.7
A30: 11 | D30: 1139 | F30: ՀԻՄՆԱԿԱՆ ԲԱԺԻՆՆԵՐԻՆ ՉԴԱՍՎՈՂ ՊԱՀՈՒՍՏԱՅԻՆ ՖՈՆԴԵՐ | G30: =G32 -> -4067376.7 | H30: =H32 -> -4067376.7 | I30: =I32 -> -4067376.7
F31: այդ թվում`
B32: 01 | F32: ՀՀ կառավարության և համայնքների պահուստային ֆոնդ | G32: =G34 -> -4067376.7 | H32: =H34 -> -4067376.7 | I32: =I34 -> -4067376.7
F33: այդ թվում`
C34: 01 | F34: ՀՀ կառավարության պահուստային ֆոնդ | G34: =+G36 -> -4067376.7 | H34: =+H36 -> -4067376.7 | I34: =+I36 -> -4067376.7
F35: այդ թվում`
F36: ՀՀ կառավարություն | G36: =G37 -> -4067376.7 | H36: =H37 -> -4067376.7 | I36: =I37 -> -4067376.7
E37: 11001 | F37: ՀՀ կառավարության պահուստային ֆոնդ | G37: =+G39 -> -4067376.7 | H37: =+H39 -> -4067376.7 | I37: =+I39 -> -4067376.7
F38: այդ թվում` ըստ կատարողների
F39: ՀՀ կառավարություն | G39: =+G41 -> -4067376.7 | H39: =+H41 -> -4067376.7 | I39: =+I41 -> -4067376.7
F40: այդ թվում` բյուջետային ծախսերի տնտեսագիտական դասակարգման հոդվածներ
F41: ԸՆԴԱՄԵՆԸ ԾԱԽՍԵՐ | G41: =+G42 -> -4067376.7 | H41: =+H42 -> -4067376.7 | I41: =+I42 -> -4067376.7
F42: ԸՆԹԱՑԻԿ ԾԱԽՍԵՐ | G42: =+G43 -> -4067376.7 | H42: =+H43 -> -4067376.7 | I42: =+I43 -> -4067376.7
F43: ԱՅԼ ԾԱԽՍԵՐ | G43: =+G44 -> -4067376.7 | H43: =+H44 -> -4067376.7 | I43: =+I44 -> -4067376.7
...

Sheet 3
B1: Հավելված N 3
B2: ՀՀ կառավարության 2021 թվականի
B3: " " " " N -Ն որոշման
A5: ՀԱՅԱՍՏԱՆԻ ՀԱՆՐԱՊԵՏՈՒԹՅԱՆ ԿԱՌԱՎԱՐՈՒԹՅԱՆ 2020 ԹՎԱԿԱՆԻ ԴԵԿՏԵՄԲԵՐԻ 30-Ի N 2215-Ն ՈՐՈՇՄԱՆ N 9 ՀԱՎԵԼՎԱԾԻ 9․16 ԵՎ 9.47 ԱՂՅՈՒՍԱԿՆԵՐՈՒՄ ԿԱՏԱՐՎՈՂ ՓՈՓՈԽՈՒԹՅՈՒՆՆԵՐԸ
A6: ՀՀ աշխատանքի և սոցիալական հարցերի նախարարություն
A7: ՄԱՍ 2. ՊԵՏԱԿԱՆ ՄԱՐՄՆԻ ԳԾՈՎ ԱՐԴՅՈՒՆՔԱՅԻՆ (ԿԱՏԱՐՈՂԱԿԱՆ) ՑՈՒՑԱՆԻՇՆԵՐԸ
A9: Ծրագրի դասիչը | B9: Ծրագրի անվանումը
A10: 1205 | B10: Սոցիալական ապահովություն
A12: Ծրագրի միջոցառումները
A14: Ծրագրի դասիչը` | B14: 1205 | C14: Ցուցանիշների փոփոխություն (ավելացումները նշված են դրական նշանով)
A15: Միջոցառման դասիչը` | B15: =+'1'!B19 -> 12015 | C15: Առաջին կիսամյակ | D15: Ինն ամիս | E15: Տարի
A16: Միջոցառման անվանումը` | B16: =+'1'!C20 -> Ռազմական դրությամբ պայմանավորված՝ աջակցություն Արցախի բնակչությանը
A17: Նկարագրությունը` | B17: =+'1'!C22 -> Աջակցություն Արցախի Հանրապետության կառավարությանը, 2020 թվականի դեկտեմբեր և 2021 թվականի հունվար-փետրվար ամիսներին Արցախի բնակչության սպառած էլեկտրաէներգիայի և գազի, կապի դիմաց վճարման ենթակա, ինչպես նաև վճարված եկամտային հարկի գումարների վերադարձի գծով ծախսերը ֆինանսավորելու համար
A18: Միջոցառման տեսակը` | B18: Տրանսֆերտների տրամադրում
A19: Շահառուների ընտրության չափանիշները | B19: դեկտեմբեր, հունվար, փետրվար ամիսներին սպառած էլեկտրաէներգիայի և գազի, կապի համար չվճարած, ինչպես նաև եկամտային հարկի գումարների վերադարձի գծով Արցախի Հանրապետության բնակիչներ
A20: Արդյունքի չափորոշիչներ
A21: Միջոցառման վրա կատարվող ծախսը (հազար դրամ) | C21: ='1'!D19 -> 4067376.7 | D21: ='1'!E19 -> 4067376.7 | E21: ='1'!F19 -> 4067376.7
B23: ՀՀ կառավարություն
A25: Ծրագրի դասիչը | B25: Ծրագրի անվանումը
A26: 1139 | B26: ՀՀ կառավարության պահուստային ֆոնդ
A28: Ծրագրի միջոցառումները
A30: Ծրագրի դասիչը՝ | B30: 1139 | C30: Ցուցանիշների փոփոխությունը ( նվազեցումները նշված են փակագծերում)
A31: Միջոցառման դասիչը՝ | B31: 11001 | C31: Առաջին կիսամյակ | D31: Ինն ամիս | E31: Տարի
A32: Միջոցառման անվանումը՝ | B32: ՀՀ կառավարության պահուստային ֆոնդ
A33: Նկարագրությունը՝ | B33: ՀՀ պետական բյուջեում նախատեսված ելքերի լրացուցիչ ֆինանսավորման,պետական բյուջեում չկանխատեսված ելքերի, ինչպես նաև բյուջետային երաշխիքների ապահովման ելքերի ֆինանսավորման ապահովում
A34: Միջոցառման տեսակը՝ | B34: Ծառայության մատուցում
A35: Միջոցառումն իրականացնողի անվանումը | B35: ՀՀ կառավարություն
B36: Արդյունքի չափորոշիչներ
A37: Միջոցառման վրա կատարվող ծախսը (հազար դրամ) | C37: =+E37 -> -4067376.7 | D37: =+E37 -> -4067376.7 | E37: =+-E21 -> -4067376.7

Sheet 4
B1: Հավելված N 4
B2: ՀՀ կառավարության 2021 թվականի
B3: " " " " N -Ն որոշման
A5: ՀԱՅԱՍՏԱՆԻ ՀԱՆՐԱՊԵՏՈՒԹՅԱՆ ԿԱՌԱՎԱՐՈՒԹՅԱՆ 2020 ԹՎԱԿԱՆԻ ԴԵԿՏԵՄԲԵՐԻ 30-Ի ԹԻՎ 2215-Ն ՈՐՈՇՄԱՆ N 9.1 ՀԱՎԵԼՎԱԾԻ N 9.1.20 ԵՎ 9.1.58 ԱՂՅՈՒՍԱԿՆԵՐՈՒՄ ԿԱՏԱՐՎՈՂ ՓՈՓՈԽՈՒԹՅՈՒՆՆԵՐԸ
A6: ՀՀ աշխատանքի և սոցիալական հարցերի նախարարության սոցիալական ապահվության ծառայություն
A7: ՄԱՍ 1. ՊԵՏԱԿԱՆ ՄԱՐՄՆԻ ԳԾՈՎ ԱՐԴՅՈՒՆՔԱՅԻՆ (ԿԱՏԱՐՈՂԱԿԱՆ) ՑՈՒՑԱՆԻՇՆԵՐԸ
A9: Ծրագրի դասիչը | B9: Ծրագրի անվանումը
A10: 1205 | B10: Սոցիալական ապահովություն
A12: Ծրագրի միջոցառումները
A14: Ծրագրի դասիչը` | B14: 1205 | C14: Ցուցանիշների փոփոխություն (ավելացումները նշված են դրական նշանով)
A15: Միջոցառման դասիչը` | B15: =+'1'!B19 -> 12015 | C15: Առաջին կիսամյակ | D15: Ինն ամիս | E15: Տարի
A16: Միջոցառման անվանումը` | B16: =+'3'!B16 -> Ռազմական դրությամբ պայմանավորված՝ աջակցություն Արցախի բնակչությանը
A17: Նկարագրությունը` | B17: =+'3'!B17 -> Աջակցություն Արցախի Հանրապետության կառավարությանը, 2020 թվականի դեկտեմբեր և 2021 թվականի հունվար-փետրվար ամիսներին Արցախի բնակչության սպառած էլեկտրաէներգիայի և գազի, կապի դիմաց վճարման ենթակա, ինչպես նաև վճարված եկամտային հարկի գումարների վերադարձի գծով ծախսերը ֆինանսավորելու համար
A18: Միջոցառման տեսակը` | B18: Տրանսֆերտների տրամադրում
A19: Շահառուների ընտրության չափանիշները | B19: =+'3'!B19 -> դեկտեմբեր, հունվար, փետրվար ամիսներին սպառած էլեկտրաէներգիայի և գազի, կապի համար չվճարած, ինչպես նաև եկամտային հարկի գումարների վերադարձի գծով Արցախի Հանրապետության բնակիչներ
A20: Արդյունքի չափորոշիչներ
A21: Միջոցառման վրա կատարվող ծախսը (հազար դրամ) | C21: ='1'!D19 -> 4067376.7 | D21: ='1'!E19 -> 4067376.7 | E21: ='1'!F19 -> 4067376.7
