Workbook

Sheet 1
F1: Հավելված N 1
F2: ՀՀ կառավարության 2021 թվականի
E3: " " " " N -Ն որոշման
A5: «ՀԱՅԱՍՏԱՆԻ ՀԱՆՐԱՊԵՏՈՒԹՅԱՆ 2021 ԹՎԱԿԱՆԻ ՊԵՏԱԿԱՆ ԲՅՈՒՋԵԻ ՄԱՍԻՆ» ՀԱՅԱՍՏԱՆԻ ՀԱՆՐԱՊԵՏՈՒԹՅԱՆ OՐԵՆՔԻ N 1 ՀԱՎԵԼՎԱԾԻ N 2 ԱՂՅՈՒՍԱԿՈՒՄ ԿԱՏԱՐՎՈՂ ՎԵՐԱԲԱՇԽՈՒՄԸ ԵՎ ՀԱՅԱՍՏԱՆԻ ՀԱՆՐԱՊԵՏՈՒԹՅԱՆ ԿԱՌԱՎԱՐՈՒԹՅԱՆ 2020 ԹՎԱԿԱՆԻ ԴԵԿՏԵՄԲԵՐԻ 30-Ի ԹԻՎ 2215-Ն ՈՐՈՇՄԱՆ N 5 ՀԱՎԵԼՎԱԾԻ N 1 ԱՂՅՈՒՍԱԿՈՒՄ ԿԱՏԱՐՎՈՂ ՓՈՓՈԽՈՒԹՅՈՒՆՆԵՐԸ ԵՎ ԼՐԱՑՈՒՄՆԵՐԸ
F7: (հազ. դրամ)
A8: Ծրագրային դասիչը | C8: Բյուջետային գլխավոր կարգադրիչների, ծրագրերի և միջոցառումների անվանումները | D8: Ցուցանիշների փոփոխություն (ավելացումները նշված են դրական նշանով, իսկ նվազեցումները՝ փակագծերում)
A9: Ծրագիր | B9: Միջոցառում | D9: Առաջին կիսամյակ | E9: Ինն ամիս | F9: Տարի
C10: ԸՆԴԱՄԵՆԸ ԾԱԽՍԵՐ | D10: =+D13 -> 0 | E10: =+E13 -> 0 | F10: =+F13 -> 0
C11: ՀՀ աշխատանքի և սոցիալական հարցերի նախարարություն
A12: 1205 | C12: Ծրագրի անվանումը`
C13: Սոցիալական ապահովություն | D13: =D20+D26 -> 0 | E13: =E20+E26 -> 0 | F13: =F20+F26 -> 0
C14: Ծրագրի նպատակը`
C15: Սոցիալական ապահովության իրավունքի իրականացման ապահովում
C16: Վերջնական արդյունքի նկարագրությունը`
C17: Սոցիալական ապահովության իրավունքի իրականացում
A18: Ծրագրի միջոցառումներ
B19: 12023 | C19: Միջոցառման անվանումը`
C20: Ռազմական դրությամբ պայմանավորված՝ 2020 թվականի սեպտեմբերի 27-ից Ադրբեջանի Հանրապետության կողմից Արցախի Հանրապետության դեմ սանձազերծված ռազմական գործողությունների հետեւանքով վիրավորում ստացած զինծառայողներին սոցիալական աջակցության տրամադրում | D20: =D26*-1 -> 210000 | E20: =+D20 -> 210000 | F20: =+E20 -> 210000
C21: Միջոցառման նկարագրությունը`
C22: Ռազմական դրությամբ պայմանավորված՝ 2020 թվականի սեպտեմբերի 27-ից Ադրբեջանի Հանրապետության կողմից Արցախի Հանրապետության դեմ սանձազերծված ռազմական գործողությունների հետևանքով վիրավորում ստացած` բժշկական հաստատություններում ստացիոնար պայմաններում բժշկական օգնություն և սպասարկում ստացող (ստացած) անձանց միանվագ դրամական օգնության տրամադրում
C23: Միջոցառման տեսակը
C24: Տրանսֆերտների տրամադրում
B25: 12022 | C25: Միջոցառման անվանումը`
C26: Ռազմական դրությամբ պայմանավորված՝ Արցախի Հանրապետության վերահսկողությունից դուրս մնացած համայնքներում հաշվառված չափահաս քաղաքացիներին ժամանակավոր հյուրընկալողների ծախսերի փոխհատուցման վեցամսյա սոցիալական աջակցության տրամադում | D26: -210000 | E26: =+D26 -> -210000 | F26: =+E26 -> -210000
C27: Միջոցառման նկարագրությունը`
C28: Արցախի Հանրապետության վերահսկողությունից դուրս մնացած համայնքներում հաշվառված չափահաս քաղաքացիներին ժամանակավոր հյուրընկալողների ծախսերի փոխհատուցման վեցամսյա սոցիալական աջակցության տրամադում՝ հյուրընկալի կողմից էլեկտրոնային եղանակով ներկայացվող դիմումի հիման վրա
C29: Միջոցառման տեսակը
C30: Տրանսֆերտների տրամադրում

Sheet 2
I1: Հավելված N 2
I2: ՀՀ կառավարության 2021 թվականի
H3: " " " " N -Ն որոշման
A6: ՀԱՅԱՍՏԱՆԻ ՀԱՆՐԱՊԵՏՈՒԹՅԱՆ ԿԱՌԱՎԱՐՈՒԹՅԱՆ 2020 ԹՎԱԿԱՆԻ ԴԵԿՏԵՄԲԵՐԻ 30-Ի ԹԻՎ 2215-Ն ՈՐՈՇՄԱՆ NN 3 ԵՎ 4 ՀԱՎԵԼՎԱԾՆԵՐՈՒՄ ԿԱՏԱՐՎՈՂ ՓՈՓՈԽՈՒԹՅՈՒՆՆԵՐԸ ԵՎ ԼՐԱՑՈՒՄՆԵՐԸ
I8: (հազ. դրամ)
A9: Գործառական դասիչը | D9: Ծրագրային դասիչը | F9: Բյուջետային ծախսերի գործառական դասակարգման բաժինների, խմբերի և դասերի, Բյուջետային հատկացումների գլխավոր կարգադրիչների, ծրագրերի, միջոցառումների և միջոցառումները կատարող պետական մարմինների անվանումները | G9: Ցուցանիշների փոփոխություն (ավելացումները նշված են դրական նշանով, իսկ նվազեցումները՝ փակագծերում)
A10: Բաժին | B10: Խումբ | C10: Դաս | D10: Ծրագիր | E10: Միջոցառում | G10: Առաջին կիսամյակ | H10: Ինն ամիս | I10: Տարի
F11: ԸՆԴԱՄԵՆԸ ԾԱԽՍԵՐ | G11: =+G13 -> 0 | H11: =+H13 -> 0 | I11: =+I13 -> 0
F12: այդ թվում`
A13: 10 | F13: ՍՈՑԻԱԼԱԿԱՆ ՊԱՇՏՊԱՆՈՒԹՅՈՒՆ | G13: =+G19 -> 0 | H13: =+H19 -> 0 | I13: =+I19 -> 0
F14: այդ թվում`
B15: 09 | F15: Սոցիալական պաշտպանություն (այլ դասերին չպատկանող) | G15: =G17 -> 0 | H15: =H17 -> 0 | I15: =I17 -> 0
F16: այդ թվում՝
C17: 02 | F17: Սոցիալական պաշտպանությանը տրամադրվող օժանդակ ծառայություններ (այլ դասերին չպատկանող) | G17: =G19 -> 0 | H17: =+G17 -> 0 | I17: =+H17 -> 0
F18: այդ թվում`
D19: 1205 | F19: Սոցիալական ապահովություն | G19: =G21+G29 -> 0 | H19: =H21+H29 -> 0 | I19: =I21+I29 -> 0
F20: այդ թվում`
E21: =+'1'!B19 -> 12023 | F21: ='1'!C20 -> Ռազմական դրությամբ պայմանավորված՝ 2020 թվականի սեպտեմբերի 27-ից Ադրբեջանի Հանրապետության կողմից Արցախի Հանրապետության դեմ սանձազերծված ռազմական գործողությունների հետեւանքով վիրավորում ստացած զինծառայողներին սոցիալական աջակցության տրամադրում | G21: =G23 -> 210000 | H21: =+G21 -> 210000 | I21: =+H21 -> 210000
F22: այդ թվում` ըստ կատարողների
F23: ՀՀ աշխատանքի և սոցիալական հարցերի նախարարության սոցիալական ապահովության ծառայություն | G23: =G24 -> 210000 | H23: =+G23 -> 210000 | I23: =+H23 -> 210000
F24: այդ թվում` բյուջետային ծախսերի տնտեսագիտական դասակարգման հոդվածներ | G24: =G25 -> 210000 | H24: =+G24 -> 210000 | I24: =+H24 -> 210000
F25: ԸՆԴԱՄԵՆԸ ԾԱԽՍԵՐ | G25: =G26 -> 210000 | H25: =+G25 -> 210000 | I25: =+H25 -> 210000
F26: ԸՆԹԱՑԻԿ ԾԱԽՍԵՐ | G26: =G27 -> 210000 | H26: =+H25 -> 210000 | I26: =+I25 -> 210000
F27: ՍՈՑԻԱԼԱԿԱՆ ՆՊԱՍՏՆԵՐ ԵՎ ԿԵՆՍԱԹՈՇԱԿՆԵՐ | G27: =G28 -> 210000 | H27: =+G27 -> 210000 | I27: =+H27 -> 210000
F28: - Այլ նպաստներ բյուջեից | G28: ='1'!D20 -> 210000 | H28: ='1'!E20 -> 210000 | I28: ='1'!F20 -> 210000
E29: ='1'!B25 -> 12022 | F29: ='1'!C26 -> Ռազմական դրությամբ պայմանավորված՝ Արցախի Հանրապետության վերահսկողությունից դուրս մնացած համայնքներում հաշվառված չափահաս քաղաքացիներին ժամանակավոր հյուրընկալողների ծախսերի փոխհատուցման վեցամսյա սոցիալական աջակցության տրամադում | G29: ='1'!D26 -> -210000 | H29: ='1'!E26 -> -210000 | I29: ='1'!F26 -> -210000
F30: այդ թվում` ըստ կատարողների
F31: ՀՀ աշխատանքի և սոցիալական հարցերի նախարարության սոցիալական ապահովության ծառայություն
F32: այդ թվում` բյուջետային ծախսերի տնտեսագիտական դասակարգման հոդվածներ | G32: =+G29 -> -210000 | H32: =+H29 -> -210000 | I32: =+I29 -> -210000
F33: ԸՆԴԱՄԵՆԸ ԾԱԽՍԵՐ | G33: =+G32 -> -210000 | H33: =+H32 -> -210000 | I33: =+I32 -> -210000
F34: ԸՆԹԱՑԻԿ ԾԱԽՍԵՐ | G34: =+G33 -> -210000 | H34: =+H33 -> -210000 | I34: =+I33 -> -210000
F35: ՍՈՑԻԱԼԱԿԱՆ ՆՊԱՍՏՆԵՐ ԵՎ ԿԵՆՍԱԹՈՇԱԿՆԵՐ | G35: =+G34 -> -210000 | H35: =+H34 -> -210000 | I35: =+I34 -> -210000
F36: - Այլ նպաստներ բյուջեից | G36: =+G35 -> -210000 | H36: =+H35 -> -210000 | I36: =+I35 -> -210000

Sheet 3
D1: Հավելված N 3
D2: ՀՀ կառավարության 2021 թվականի
D3: " " " " N -Ն որոշման
A5: ՀԱՅԱՍՏԱՆԻ ՀԱՆՐԱՊԵՏՈՒԹՅԱՆ ԿԱՌԱՎԱՐՈՒԹՅԱՆ 2020 ԹՎԱԿԱՆԱԻ ԴԵԿՏԵՄԲԵՐԻ 30-Ի ԹԻՎ 2215-Ն N 9 ՀԱՎԵԼՎԱԾԻ N 9.16 ԱՂՅՈՒՍԱԿՈՒՄ ԿԱՏԱՐՎՈՂ ՓՈՓՈԽՈՒԹՅՈՒՆՆԵՐԸ ԵՎ ԼՐԱՑՈՒՄՆԵՐԸ
A6: ՀՀ աշխատանքի և սոցիալական հարցերի նախարարություն
A7: ՄԱՍ 2. ՊԵՏԱԿԱՆ ՄԱՐՄՆԻ ԳԾՈՎ ԱՐԴՅՈՒՆՔԱՅԻՆ (ԿԱՏԱՐՈՂԱԿԱՆ) ՑՈՒՑԱՆԻՇՆԵՐԸ
A9: Ծրագրի դասիչը | B9: Ծրագրի անվանումը
A10: 1205 | B10: Սոցիալական ապահովություն
A12: Ծրագրի միջոցառումները
A13: Ծրագրի դասիչը` | B13: 1205 | C13: Ցուցանիշների փոփոխությունները (ավելացումները նշված են դրական նշանով )
A14: Միջոցառման դասիչը` | B14: =+'1'!B19 -> 12023 | C14: Առաջին կիսամյակ | D14: Ինն ամիս | E14: Տարի
A15: Միջոցառման անվանումը` | B15: =+'1'!C20 -> Ռազմական դրությամբ պայմանավորված՝ 2020 թվականի սեպտեմբերի 27-ից Ադրբեջանի Հանրապետության կողմից Արցախի Հանրապետության դեմ սանձազերծված ռազմական գործողությունների հետեւանքով վիրավորում ստացած զինծառայողներին սոցիալական աջակցության տրամադրում
A16: Նկարագրությունը` | B16: =+'1'!C22 -> Ռազմական դրությամբ պայմանավորված՝ 2020 թվականի սեպտեմբերի 27-ից Ադրբեջանի Հանրապետության կողմից Արցախի Հանրապետության դեմ սանձազերծված ռազմական գործողությունների հետևանքով վիրավորում ստացած` բժշկական հաստատություններում ստացիոնար պայմաններում բժշկական օգնություն և սպասարկում ստացող (ստացած) անձանց միանվագ դրամական օգնության տրամադրում
A17: Միջոցառման տեսակը` | B17: Տրանսֆերտների տրամադրում
A18: Շահառուների ընտրության չափանիշները | B18: ՀՀ կառավարության 2021 թվականի հունվարի 27-ի N 90-Լ որոշման պահանջներին համապատասխան
A19: Արդյունքի չափորոշիչներ
A20: Փոխհատուցում ստացող շահառուների թվաքանակ | C20: =C21/500 -> 420 | D20: =C20 -> 420 | E20: =D20 -> 420
A21: Միջոցառման վրա կատարվող ծախսը (հազար դրամ) | C21: ='2'!G28 -> 210000 | D21: ='2'!H28 -> 210000 | E21: ='2'!I28 -> 210000
A24: Ծրագրի դասիչը` | B24: 1205 | C24: Ցուցանիշների փոփոխությունները ( նվազեցումները` փակագծերում)
A25: Միջոցառման դասիչը` | B25: ='1'!B25 -> 12022 | C25: Առաջին կիսամյակ | D25: Ինն ամիս | E25: Տարի
A26: Միջոցառման անվանումը` | B26: ='1'!C26 -> Ռազմական դրությամբ պայմանավորված՝ Արցախի Հանրապետության վերահսկողությունից դուրս մնացած համայնքներում հաշվառված չափահաս քաղաքացիներին ժամանակավոր հյուրընկալողների ծախսերի փոխհատուցման վեցամսյա սոցիալական աջակցության տրամադում
A27: Նկարագրությունը` | B27: ='1'!C28 -> Արցախի Հանրապետության վերահսկողությունից դուրս մնացած համայնքներում հաշվառված չափահաս քաղաքացիներին ժամանակավոր հյուրընկալողների ծախսերի փոխհատուցման վեցամսյա սոցիալական աջակցության տրամադում՝ հյուրընկալի կողմից էլեկտրոնային եղանակով ներկայացվող դիմումի հիման վրա
A28: Միջոցառման տեսակը` | B28: Տրանսֆերտների տրամադրում
A29: Շահառուների ընտրության չափանիշները | B29: ՀՀ կառավարության 2020 թվականի դեկտեմբերի 17-ի N 2072-Լ որոշման պահանջներին համապատասխան
A30: Արդյունքի չափորոշիչներ | C30: =-2800 -> -2800 | D30: =C30 -> -2800 | E30: =D30 -> -2800
A31: Միջոցառման վրա կատարվող ծախսը (հազար դրամ) | C31: ='2'!G36 -> -210000 | D31: ='2'!H36 -> -210000 | E31: ='2'!I36 -> -210000

Sheet 4
D1: Հավելված N 4
D2: ՀՀ կառավարության 2021 թվականի
D3: " " " " N -Ն որոշման
A5: ՀԱՅԱՍՏԱՆԻ ՀԱՆՐԱՊԵՏՈՒԹՅԱՆ ԿԱՌԱՎԱՐՈՒԹՅԱՆ 2020 ԹՎԱԿԱՆԻ ԴԵԿՏԵՄԲԵՐԻ 30-Ի ԹԻՎ 2215-Ն N 9.1 ՀԱՎԵԼՎԱԾԻ N 9.1.20 ԱՂՅՈՒՍԱԿՈՒՄ ԿԱՏԱՐՎՈՂ ՓՈՓՈԽՈՒԹՅՈՒՆՆԵՐԸ ԵՎ ԼՐԱՑՈՒՄՆԵՐԸ
A8: ՀՀ աշխատանքի և սոցիալական հարցերի նախարարության սոցիալական ապահվության ծառայություն
A9: ՄԱՍ 1. ՊԵՏԱԿԱՆ ՄԱՐՄՆԻ ԳԾՈՎ ԱՐԴՅՈՒՆՔԱՅԻՆ (ԿԱՏԱՐՈՂԱԿԱՆ) ՑՈՒՑԱՆԻՇՆԵՐԸ
A11: Ծրագրի դասիչը | B11: Ծրագրի անվանումը
A12: 1205 | B12: Սոցիալական ապահովություն
A14: Ծրագրի միջոցառումները
A16: Ծրագրի դասիչը` | B16: 1205 | C16: Ցուցանիշների փոփոխությունները (ավելացումները նշված են դրական նշանով )
A17: Միջոցառման դասիչը` | B17: =+'1'!B19 -> 12023 | C17: Առաջին կիսամյակ | D17: Ինն ամիս | E17: Տարի
A18: Միջոցառման անվանումը` | B18: =+'3'!B15 -> Ռազմական դրությամբ պայմանավորված՝ 2020 թվականի սեպտեմբերի 27-ից Ադրբեջանի Հանրապետության կողմից Արցախի Հանրապետության դեմ սանձազերծված ռազմական գործողությունների հետեւանքով վիրավորում ստացած զինծառայողներին սոցիալական աջակցության տրամադրում
A19: Նկարագրությունը` | B19: =+'3'!B16 -> Ռազմական դրությամբ պայմանավորված՝ 2020 թվականի սեպտեմբերի 27-ից Ադրբեջանի Հանրապետության կողմից Արցախի Հանրապետության դեմ սանձազերծված ռազմական գործողությունների հետևանքով վիրավորում ստացած` բժշկական հաստատություններում ստացիոնար պայմաններում բժշկական օգնություն և սպասարկում ստացող (ստացած) անձանց միանվագ դրամական օգնության տրամադրում
A20: Միջոցառման տեսակը` | B20: Տրանսֆերտների տրամադրում
A21: Շահառուների ընտրության չափանիշները | B21: ='3'!B18 -> ՀՀ կառավարության 2021 թվականի հունվարի 27-ի N 90-Լ որոշման պահանջներին համապատասխան | F21: 1000500
A22: Արդյունքի չափորոշիչներ
A23: =+'3'!A20:B20 -> Փոխհատուցում ստացող շահառուների թվաքանակ | C23: ='3'!C20 -> 420 | D23: =+C23 -> 420 | E23: =+D23 -> 420
A24: Միջոցառման վրա կատարվող ծախսը (հազար դրամ) | C24: ='3'!C21 -> 210000 | D24: =+C24 -> 210000 | E24: =+D24 -> 210000
A26: Ծրագրի դասիչը` | B26: 1205 | C26: Ցուցանիշների փոփոխությունները ( նվազեցումները` փակագծերում)
A27: Միջոցառման դասիչը` | B27: ='1'!B25 -> 12022 | C27: Առաջին կիսամյակ | D27: Ինն ամիս | E27: Տարի
A28: Միջոցառման անվանումը` | B28: ='1'!C26 -> Ռազմական դրությամբ պայմանավորված՝ Արցախի Հանրապետության վերահսկողությունից դուրս մնացած համայնքներում հաշվառված չափահաս քաղաքացիներին ժամանակավոր հյուրընկալողների ծախսերի փոխհատուցման վեցամսյա սոցիալական աջակցության տրամադում
A29: Նկարագրությունը` | B29: ='1'!C28 -> Արցախի Հանրապետության վերահսկողությունից դուրս մնացած համայնքներում հաշվառված չափահաս քաղաքացիներին ժամանակավոր հյուրընկալողների ծախսերի փոխհատուցման վեցամսյա սոցիալական աջակցության տրամադում՝ հյուրընկալի կողմից էլեկտրոնային եղանակով ներկայացվող դիմումի հիման վրա
A30: Միջոցառման տեսակը` | B30: Տրանսֆերտների տրամադրում
A31: Շահառուների ընտրության չափանիշները | B31: ՀՀ կառավարության 2020 թվականի դեկտեմբերի 17-ի N 2072-Լ որոշման պահանջներին համապատասխան | F31: =#REF!+F21+#REF! -> #REF!
A32: Արդյունքի չափորոշիչներ
A33: Շահառուների թվաքանակ | C33: ='3'!C30 -> -2800 | D33: ='3'!D30 -> -2800 | E33: ='3'!E30 -> -2800
A34: Միջոցառման վրա կատարվող ծախսը (հազար դրամ) | C34: ='1'!D26 -> -210000 | D34: ='1'!E26 -> -210000 | E34: ='1'!F26 -> -210000
