Workbook
Name AgencyCode: #REF!
Name AgencyCode: #REF!
Name AgencyCode: #REF!
Name AgencyName: #REF!
Name AgencyName: #REF!
Name AgencyName: #REF!
Name davit: #REF!
Name davit: #REF!
Name davit: #REF!
Name Functional1: #REF!
Name Functional1: #REF!
Name Functional1: #REF!
Name ggg: #REF!
Name ggg: #REF!
Name ggg: #REF!
Name PANature: #REF!
Name PANature: #REF!
Name PANature: #REF!
Name PAType: #REF!
Name PAType: #REF!
Name PAType: #REF!
Name Performance2: #REF!
Name Performance2: #REF!
Name Performance2: #REF!
Name PerformanceType: #REF!
Name PerformanceType: #REF!
Name PerformanceType: #REF!
Name Հավելված: #REF!
Name Հավելված: #REF!
Name Հավելված: #REF!
Name Մաս: #REF!
Name Մաս: #REF!
Name Մաս: #REF!
Name շախմատիստ: #REF!
Name շախմատիստ: #REF!
Name շախմատիստ: #REF!

Sheet Havelvats 1
C1: Հավելված N 1
C2: ՀՀ կառավարության 2021 թվականի
C3: ______________ ի ___Ն որոշման
A5: «ՀԱՅԱUՏԱՆԻ ՀԱՆՐԱՊԵՏՈՒԹՅԱՆ 2021 ԹՎԱԿԱՆԻ ՊԵՏԱԿԱՆ ԲՅՈՒՋԵԻ ՄԱUԻՆ» ՀԱՅԱUՏԱՆԻ ՀԱՆՐԱՊԵՏՈՒԹՅԱՆ OՐԵՆՔԻ N 1 ՀԱՎԵԼՎԱԾԻ N 2 ԱՂՅՈՒՍԱԿՈՒՄ ԿԱՏԱՐՎՈՂ ՎԵՐԱԲԱՇԽՈՒՄԸ ԵՎ ՀԱՅԱՍՏԱՆԻ ՀԱՆՐԱՊԵՏՈՒԹՅԱՆ ԿԱՌԱՎԱՐՈՒԹՅԱՆ 2020 ԹՎԱԿԱՆԻ ԴԵԿՏԵՄԲԵՐԻ 30-Ի N 2215-Ն ՈՐՈՇՄԱՆ N 5 ՀԱՎԵԼՎԱԾԻ N 1 ԱՂՅՈՒՍԱԿՈՒՄ ԿԱՏԱՐՎՈՂ ՓՈՓՈԽՈՒԹՅՈՒՆԸ ԵՎ ԼՐԱՑՈՒՄԸ
E7: հազ. դրամներով
A8: Ծրագրային դասիչը | C8: Բյուջետային հատկացումների գլխավոր կարգադրիչների, ծրագրերի և միջոցառումների անվանումները | D8: Ցուցանիշների փոփոխությունը (ավելացումները նշված են դրական նշանով, իսկ նվազեցումները՝ փակագծերում)
A9: Ծրագիր | B9: Միջոցառում | D9: Ինն ամիս | E9: Տարի
C10: ԸՆԴԱՄԵՆԸ | D10: =+D12+D26 -> 0 | E10: =+E12+E26 -> 0
C11: այդ թվում
A12: ՀՀ Կրթության, գիտության, մշակույթի և սպորտի նախարարություն | D12: =+D14 -> 51400 | E12: =+E14 -> 51400
A13: 1146 | C13: Ծրագրի անվանումը`
C14: Հանրակրթության ծրագիր | D14: =+D21 -> 51400 | E14: =+E21 -> 51400
C15: Ծրագրի նպատակը`
C16: Ապահովել անվճար և որակյալ հանրակրթություն
C17: Վերջնական արդյունքի նկարագրությունը`
C18: Մտավոր, հոգևոր, ֆիզիկական և սոցիալական ունակությունների համակողմանի ու ներդաշնակ զարգացմամբ, հայրենասիրության, պետականության և մարդասիրության ոգով դաստիրակված, պատշաճ վարքով և վարվելակերպով անձի ձևավորում
C19: Ծրագրի միջոցառումներ
B20: 12010 | C20: Միջոցառման անվանումը`
C21: «Մոդուլային» տիպի մանկապարտեզների շենքային ապահովում | D21: =+'Havelvats 2'!G22 -> 51400 | E21: =+'Havelvats 2'!H22 -> 51400
C22: Միջոցառման նկարագրությունը`
C23: Համայնքներում «Մոդուլային» տիպի մանկապարտեզների կառուցում և նախագծում _x000D_
C24: Միջոցառման տեսակը
C25: Տրանսֆերտների տրամադրում
B26: ՀՀ կառավարություն | C26: ՀՀ կառավարություն | D26: =+D28 -> -51400 | E26: =+E28 -> -51400
A27: 1139 | C27: Ծրագրի անվանումը`
C28: ՀՀ կառավարության պահուստային ֆոնդ | D28: =+D34 -> -51400 | E28: =+E34 -> -51400
C29: Ծրագրի նպատակը`
C30: Պետական բյուջեում չկանխատեսված, ինչպես նաև բյուջետային երաշխիքների ապահովման ծախսերի ֆինանսավորման ապահովում
C31: Վերջնական արդյունքի նկարագրությունը`
C32: Պահուստային ֆոնդի կառավարման արդյունավետության և թափանցիկության ապահովում
B33: 11001 | C33: Միջոցառման անվանումը`
C34: ՀՀ կառավարության պահուստային ֆոնդ | D34: =+'Havelvats 2'!G42 -> -51400 | E34: =+'Havelvats 2'!H42 -> -51400
C35: Միջոցառման նկարագրությունը`
C36: ՀՀ պետական բյուջեում նախատեսված ելքերի լրացուցիչ ֆինանսավորման՝ պետական բյուջեում չկանխատեսված ելքերի, ինչպես նաև բյուջետային երաշխիքների ապահովման ելքերի ֆինանսավորման ապահովում
C37: Միջոցառման տեսակը
C38: Ծառայությունների մատուցում

Sheet Havelvats 2
F1: Հավելված N 2
F2: ՀՀ կառավարության 2021 թվականի
F3: ______________ ի ___Ն որոշման
A5: ՀԱՅԱՍՏԱՆԻ ՀԱՆՐԱՊԵՏՈՒԹՅԱՆ ԿԱՌԱՎԱՐՈՒԹՅԱՆ 2020 ԹՎԱԿԱՆԻ ԴԵԿՏԵՄԲԵՐԻ 30-Ի N 2215-Ն ՈՐՈՇՄԱՆ N 3 ԵՎ N 4 ՀԱՎԵԼՎԱԾՆԵՐՈՒՄ ԿԱՏԱՐՎՈՂ ՓՈՓՈԽՈՒԹՅՈՒՆԸ ԵՎ ԼՐԱՑՈՒՄԸ
H6: հազ. դրամներով
A7: Գործառական դասիչը | D7: Ծրագրային դասիչը | F7: Բյուջետային հատկացումների գլխավոր կարգադրիչների, ծրագրերի, միջոցառումների և միջոցառումները կատարող պետական մարմինների անվանումները | G7: Ցուցանիշների փոփոխությունը (ավելացումները նշված են դրական նշանով, իսկ նվազեցումները՝ փակագծերում)
A8: Բաժին | B8: Խումբ | C8: Դաս | D8: Ծրագիր | E8: Միջոցառում | G8: Ինն ամիս | H8: Տարի
F9: ԸՆԴԱՄԵՆԸ | G9: =+G11+G31 -> 0 | H9: =+H11+H31 -> 0
F10: այդ թվում
F11: ՀՀ կրթության, գիտության, մշակույթի և սպորտի նախարարություն | G11: =+G12 -> 51400 | H11: =+H12 -> 51400
A12: 09 | F12: ԿՐԹՈՒԹՅՈՒՆ | G12: =+G14 -> 51400 | H12: =+H14 -> 51400
F13: այդ թվում`
B14: 06 | F14: Կրթությանը տրամադրվող օժանդակ ծառայություններ | G14: =+G16 -> 51400 | H14: =+H16 -> 51400
F15: այդ թվում`
C16: 01 | F16: Կրթությանը տրամադրվող օժանդակ ծառայություններ | G16: =+G18 -> 51400 | H16: =+H18 -> 51400
F17: այդ թվում`
F18: ՀՀ կրթության, գիտության, մշակույթի և սպորտի նախարարություն | G18: =+G20 -> 51400 | H18: =+H20 -> 51400
F19: այդ թվում`
D20: 1146 | E20: Հանրակրթության ծրագիր | G20: =+G22 -> 51400 | H20: =+H22 -> 51400
F21: այդ թվում`
E22: 12010 | F22: «Մոդուլային» տիպի մանկապարտեզների շենքային ապահովում | G22: =+G24 -> 51400 | H22: =+H24 -> 51400
F23: այդ թվում` ըստ կատարողների
F24: ՀՀ քաղաքաշինության կոմիտե | G24: =+G26 -> 51400 | H24: =+H26 -> 51400
F25: այդ թվում՝ բյուջետային ծախսերի տնտեսագիտական դասակարգման հոդվածներ
F26: ԸՆԴԱՄԵՆԸ ԾԱԽՍԵՐ | G26: =+G27 -> 51400 | H26: =+H27 -> 51400
F27: ՈՉ ՖԻՆԱՆՍԱԿԱՆ ԱԿՏԻՎՆԵՐԻ ԳԾՈՎ ԾԱԽՍԵՐ | G27: =+G28 -> 51400 | H27: =+H28 -> 51400
F28: ՀԻՄՆԱԿԱՆ ՄԻՋՈՑՆԵՐ | G28: =+G29 -> 51400 | H28: =+H29 -> 51400
F29: ԱՅԼ ՀԻՄՆԱԿԱՆ ՄԻՋՈՑՆԵՐ | G29: =+G30 -> 51400 | H29: =+H30 -> 51400
F30: - Նախագծահետազոտական ծախսեր | G30: =+'Havelvats 4'!E16 -> 51400 | H30: =+'Havelvats 4'!F16 -> 51400
F31: ՀՀ ԿԱՌԱՎԱՐՈՒԹՅՈՒՆ | G31: =+G32 -> -51400 | H31: =+H32 -> -51400
A32: 11 | F32: ՀԻՄՆԱԿԱՆ ԲԱԺԻՆՆԵՐԻՆ ՉԴԱՍՎՈՂ ՊԱՀՈՒՍՏԱՅԻՆ ՖՈՆԴԵՐ | G32: =+G34 -> -51400 | H32: =+H34 -> -51400
F33: այդ թվում`
B34: 01 | F34: ՀՀ կառավարության և համայնքների պահուստային ֆոնդ | G34: =+G36 -> -51400 | H34: =+H36 -> -51400
F35: այդ թվում`
C36: 01 | F36: ՀՀ կառավարության պահուստային ֆոնդ | G36: =+G38 -> -51400 | H36: =+H38 -> -51400
F37: այդ թվում`
F38: ՀՀ կառավարություն | G38: =+G40 -> -51400 | H38: =+H40 -> -51400
F39: այդ թվում`
D40: 1139 | E40: ՀՀ կառավարության պահուստային ֆոնդ | F40: ՀՀ կառավարության պահուստային ֆոնդ | G40: =+G42 -> -51400 | H40: =+H42 -> -51400
F41: այդ թվում`
...

Sheet Havelvats 3
F1: Հավելված N 3
F2: ՀՀ կառավարության 2021 թվականի
F3: ______________ ի ___Ն որոշման
A5: «ՀԱՅԱUՏԱՆԻ ՀԱՆՐԱՊԵՏՈՒԹՅԱՆ 2021 ԹՎԱԿԱՆԻ ՊԵՏԱԿԱՆ ԲՅՈՒՋԵԻ ՄԱUԻՆ» ՀԱՅԱUՏԱՆԻ ՀԱՆՐԱՊԵՏՈՒԹՅԱՆ OՐԵՆՔԻ N 1 ՀԱՎԵԼՎԱԾԻ N 3 ԱՂՅՈՒՍԱԿՈՒՄ ԿԱՏԱՐՎՈՂ ԼՐԱՑՈՒՄԸ
G8: հազ. դրամներով
A9: Ծրագրային դասիչ | C9: Բյուջետային գլխավոր կարգադրիչների, ծրագրերի, միջոցառումների, միջոցառումները կատարող պետական մարմինների և ուղղությունների անվանումները | D9: Ընդամենը | E9: Ցուցանիշների փոփոխությունը (ավելացումները նշված են դրական նշանով)
A10: Ծրագիր | B10: Միջոցառում | E10: Կառուցման աշխատանքներ | F10: Վերակառուցման, վերանորոգման և վերականգնման աշխատանքներ | G10: Նախագծահե- տազոտական, գեոդեզիա- քարտեզագրա- կան աշխա- տանքներ | H10: Ոչ ֆինանսական այլ ակտիվների ձեռքբերում
C11: ԸՆԴԱՄԵՆԸ | D11: =SUM(E11:H11) -> 51400 | E11: =+E13 -> 0 | F11: =+F13 -> 0 | G11: =+G13 -> 51400 | H11: =+H13 -> 0
C12: այդ թվում՝
C13: ՀՀ ԿՐԹՈՒԹՅԱՆ, ԳԻՏՈՒԹՅԱՆ, ՄՇԱԿՈՒՅԹԻ ԵՎ ՍՊՈՐՏԻ ՆԱԽԱՐԱՐՈՒԹՅՈՒՆ | D13: =SUM(E13:H13) -> 51400 | E13: =+E15 -> 0 | F13: =+F15 -> 0 | G13: =+G15 -> 51400 | H13: =+H15 -> 0
C14: այդ թվում`
A15: 1146 | B15: 12010 | C15: «Մոդուլային» տիպի մանկապարտեզների շենքային ապահովում | D15: =SUM(E15:H15) -> 51400 | E15: =+E17 -> 0 | F15: =+F17 -> 0 | G15: =+G17 -> 51400 | H15: =+H17 -> 0
C16: այդ թվում`
C17: «Մոդուլային» տիպի 144 տեղ հզորությամբ մսուր-մանկապարտեզի բազմակի օգտագործման օրինակելի նախագծանախահաշվային փաստաթղթերի մշակում և համապատասխան համայնքներում տեղակապում | D17: =SUM(E17:H17) -> 51400 | E17: 0 | F17: 0 | G17: =5140*10 -> 51400 | H17: 0

Sheet Havelvats 4
F1: Հավելված N 4
D2: ՀՀ կառավարության 2021 թվականի
E3: ______________ ի ___Ն որոշման
B5: ՀԱՅԱՍՏԱՆԻ ՀԱՆՐԱՊԵՏՈՒԹՅԱՆ ԿԱՌԱՎԱՐՈՒԹՅԱՆ 2020 ԹՎԱԿԱՆԻ ԴԵԿՏԵՄԲԵՐԻ 30-Ի N 2215-Ն ՈՐՈՇՄԱՆ N 5 ՀԱՎԵԼՎԱԾԻ N 2 ԱՂՅՈՒՍԱԿՈՒՄ ԿԱՏԱՐՎՈՂ ԼՐԱՑՈՒՄԸ
F7: հազ. դրամներով
B8: Ծրագրային դասիչ | D8: Բյուջետային գլխավոր կարգադրիչների, ծրագրերի, միջոցառումների, միջոցառումները կատարող պետական մարմինների և ուղղությունների անվանումները | E8: Ցուցանիշների փոփոխությունը (ավելացումները նշված են դրական նշանով)
B9: Ծրագիր | C9: Միջոցառում | E9: Ինն ամիս | F9: Տարի
D10: ՀՀ ԿՐԹՈՒԹՅԱՆ, ԳԻՏՈՒԹՅԱՆ, ՄՇԱԿՈՒՅԹԻ ԵՎ ՍՊՈՐՏԻ ՆԱԽԱՐԱՐՈՒԹՅՈՒՆ | E10: =+E12 -> 51400 | F10: =+F12 -> 51400
D11: այդ թվում՝
B12: 1146 | C12: 12010 | D12: «Մոդուլային» տիպի մանկապարտեզների շենքային ապահովում | E12: =+E14 -> 51400 | F12: =+F14 -> 51400
D13: այդ թվում` ըստ կատարողների
D14: ՀՀ քաղաքաշինության կոմիտե | E14: =+E16 -> 51400 | F14: =+F16 -> 51400
D15: այդ թվում`ըստ ուղղությունների
D16: «Մոդուլային» տիպի 144 տեղ հզորությամբ մսուր-մանկապարտեզի բազմակի օգտագործման օրինակելի նախագծանախահաշվային փաստաթղթերի մշակում և համապատասխան համայնքներում տեղակապում | E16: =+'Havelvats 3'!D17 -> 51400 | F16: =+E16 -> 51400

Sheet Havelvats 5
D1: Հավելված N 5
C2: ՀՀ կառավարության 2021 թվականի
D3: ______________ ի ___Ն որոշման
B5: ՀԱՅԱՍՏԱՆԻ ՀԱՆՐԱՊԵՏՈՒԹՅԱՆ ԿԱՌԱՎԱՐՈՒԹՅԱՆ 2020 ԹՎԱԿԱՆԻ ԴԵԿՏԵՄԲԵՐԻ 30-Ի N 2215-Ն ՈՐՈՇՄԱՆ N 9 ՀԱՎԵԼՎԱԾԻ N 9.14 ԵՎ 9.47 ԱՂՅՈՒՍԱԿՆԵՐՈՒՄ ԿԱՏԱՐՎՈՂ ՓՈՓՈԽՈՒԹՅՈՒՆԸ ԵՎ ԼՐԱՑՈՒՄԸ
A7: Աղյուսակ 9․14
C8: ՀՀ կրթության, գիտության, մշակույթի և սպորտի նախարարություն
B9: ՄԱՍ 2. ՊԵՏԱԿԱՆ ՄԱՐՄՆԻ ԳԾՈՎ ԱՐԴՅՈՒՆՔԱՅԻՆ (ԿԱՏԱՐՈՂԱԿԱՆ) ՑՈՒՑԱՆԻՇՆԵՐԸ
B12: Ծրագրի դասիչը | C12: Ծրագրի անվանումը
B13: 1146 | C13: Հանրակրթության ծրագիր
B14: Ծրագրի միջոցառումները
B15: Ծրագրի դասիչը՝ | C15: 1146 | D15: Ցուցանիշների փոփոխությունը (ավելացումները նշված են դրական նշանով)
B16: Միջոցառման դասիչը՝ | C16: 12010 | D16: Ինն ամիս | E16: Տարի
B17: Միջոցառման անվանումը` | C17: «Մոդուլային» տիպի մանկապարտեզների շենքային ապահովում
B18: Նկարագրությունը` | C18: Համայնքներում «Մոդուլային» տիպի մանկապարտեզների կառուցում և նախագծում
B19: Միջոցառման տեսակը` | C19: Տրանսֆերտների տրամադրում
B20: Շահառուների ընտրության չափանիշները | C20: Նախադպրոցական կրթություն իրականացնող ուսումնական հաստատություններ
B21: Արդյունքի չափորոշիչներ
B22: Կազմակերպությունների թիվը, որոնց համար իրականացվում է նախագծում, հատ | D22: 10 | E22: 10
B23: Միջոցառման վրա կատարվող ծախսը (հազար դրամ) | D23: =+'Havelvats 1'!D21 -> 51400 | E23: =+'Havelvats 1'!E21 -> 51400
A27: Աղյուսակ 9․47
C28: ՀՀ կառավարություն
B29: ՄԱՍ 2. ՊԵՏԱԿԱՆ ՄԱՐՄՆԻ ԳԾՈՎ ԱՐԴՅՈՒՆՔԱՅԻՆ (ԿԱՏԱՐՈՂԱԿԱՆ) ՑՈՒՑԱՆԻՇՆԵՐԸ
B32: Ծրագրի դասիչը | C32: Ծրագրի անվանումը
B33: 1139 | C33: ՀՀ կառավարության պահուստային ֆոնդ
B34: Ծրագրի միջոցառումները
B35: Ծրագրի դասիչը՝ | C35: 1139 | D35: Ցուցանիշների փոփոխությունը (նվազեցումները նշված են փակագծերում)
B36: Միջոցառման դասիչը՝ | C36: 11001 | D36: Ինն ամիս | E36: Տարի
B37: Միջոցառման անվանումը՝ | C37: ՀՀ կառավարության պահուստային ֆոնդ
B38: Նկարագրությունը՝ | C38: ՀՀ պետական բյուջեում նախատեսված ելքերի լրացուցիչ ֆինանսավորման՝ պետական բյուջեում չկանխատեսված ելքերի, ինչպես նաև բյուջետային երաշխիքների ապահովման ելքերի ֆինանսավորման ապահովում
B39: Միջոցառման տեսակը՝ | C39: Ծառայությունների մատուցում
B40: Միջոցառումն իրականացնողի անվանումը | C40: ՀՀ կառավարություն
C41: Արդյունքի չափորոշիչներ
B42: Միջոցառման վրա կատարվող ծախսը (հազար դրամ) | D42: =+'Havelvats 1'!D34 -> -51400 | E42: =+'Havelvats 1'!E34 -> -51400

Sheet Havelvats 6
D1: Հավելված N6
C2: ՀՀ կառավարության 2021 թվականի
D3: ______________ ի ___Ն որոշման
B5: ՀԱՅԱՍՏԱՆԻ ՀԱՆՐԱՊԵՏՈՒԹՅԱՆ ԿԱՌԱՎԱՐՈՒԹՅԱՆ 2020 ԹՎԱԿԱՆԻ ԴԵԿՏԵՄԲԵՐԻ 30-Ի N 2215-Ն ՈՐՈՇՄԱՆ N 9.1. ՀԱՎԵԼՎԱԾԻ N 9.1.42 ԵՎ 9.1.58 ԱՂՅՈՒՍԱԿՆԵՐՈՒՄ ԿԱՏԱՐՎՈՂ ՓՈՓՈԽՈՒԹՅՈՒՆԸ ԵՎ ԼՐԱՑՈՒՄԸ
A7: Աղյուսակ 9.1.42
C8: ՀՀ քաղաքաշինության կոմիտե
B9: ՄԱՍ 1. ՊԵՏԱԿԱՆ ՄԱՐՄՆԻ ԳԾՈՎ ԱՐԴՅՈՒՆՔԱՅԻՆ (ԿԱՏԱՐՈՂԱԿԱՆ) ՑՈՒՑԱՆԻՇՆԵՐԸ
B12: Ծրագրի դասիչը | C12: Ծրագրի անվանումը
B13: 1146 | C13: Հանրակրթության ծրագիր
B14: Ծրագրի միջոցառումները
B15: Ծրագրի դասիչը՝ | C15: 1146 | D15: Ցուցանիշների փոփոխությունը (ավելացումները նշված են դրական նշանով)
B16: Միջոցառման դասիչը՝ | C16: 12010 | D16: Ինն ամիս | E16: Տարի
B17: Միջոցառման անվանումը` | C17: «Մոդուլային» տիպի մանկապարտեզների շենքային ապահովում
B18: Նկարագրությունը` | C18: Համայնքներում «Մոդուլային» տիպի մանկապարտեզների կառուցում և նախագծում
B19: Միջոցառման տեսակը` | C19: Տրանսֆերտների տրամադրում
B20: Շահառուների ընտրության չափանիշները | C20: Նախադպրոցական կրթություն իրականացնող ուսումնական հաստատություններ
B21: Արդյունքի չափորոշիչներ
B22: Կազմակերպությունների թիվը, որոնց համար իրականացվում է նախագծում, հատ | D22: 10 | E22: 10
B23: Միջոցառման վրա կատարվող ծախսը (հազար դրամ) | D23: =+'Havelvats 2'!G24 -> 51400 | E23: =+'Havelvats 2'!H24 -> 51400
A27: Աղյուսակ 9․1.58
C28: ՀՀ կառավարություն
B29: ՄԱՍ 1. ՊԵՏԱԿԱՆ ՄԱՐՄՆԻ ԳԾՈՎ ԱՐԴՅՈՒՆՔԱՅԻՆ (ԿԱՏԱՐՈՂԱԿԱՆ) ՑՈՒՑԱՆԻՇՆԵՐԸ
B32: Ծրագրի դասիչը | C32: Ծրագրի անվանումը
B33: 1139 | C33: ՀՀ կառավարության պահուստային ֆոնդ
B34: Ծրագրի միջոցառումները
B35: Ծրագրի դասիչը՝ | C35: 1139 | D35: Ցուցանիշների փոփոխությունը (նվազեցումները նշված են փակագծերում)
B36: Միջոցառման դասիչը՝ | C36: 11001 | D36: Ինն ամիս | E36: Տարի
B37: Միջոցառման անվանումը՝ | C37: ՀՀ կառավարության պահուստային ֆոնդ
B38: Նկարագրությունը՝ | C38: ՀՀ պետական բյուջեում նախատեսված ելքերի լրացուցիչ ֆինանսավորման՝ պետական բյուջեում չկանխատեսված ելքերի, ինչպես նաև բյուջետային երաշխիքների ապահովման ելքերի ֆինանսավորման ապահովում
B39: Միջոցառման տեսակը՝ | C39: Ծառայությունների մատուցում
B40: Միջոցառումն իրականացնողի անվանումը | C40: ՀՀ կառավարություն
C41: Արդյունքի չափորոշիչներ
B42: Միջոցառման վրա կատարվող ծախսը (հազար դրամ) | D42: =+'Havelvats 2'!G44 -> -51400 | E42: =+'Havelvats 2'!H44 -> -51400

Sheet Havelvats 7
H1: Հավելված N 7
H2: ՀՀ կառավարության 2021 թվականի
H3: ______________ ի ___Ն որոշման
A5: ՀԱՅԱՍՏԱՆԻ ՀԱՆՐԱՊԵՏՈՒԹՅԱՆ ԿԱՌԱՎԱՐՈՒԹՅԱՆ 2020 ԹՎԱԿԱՆԻ ԴԵԿՏԵՄԲԵՐԻ 30-Ի N 2215-Ն ՈՐՈՇՄԱՆ N 10 ՀԱՎԵԼՎԱԾՈՒՄ ԿԱՏԱՐՎՈՂ ԼՐԱՑՈՒՄՆԵՐԸ
A7: Կոդը | B7: Անվանումը | E7: Գնման ձևը | F7: Չափման միավորը | G7: Միավորի գինը | H7: Ցուցանիշների փոփոխությունը (ավելացումները նշված են դրական նշանով)
H8: Քանակը | I8: Գումարը (հազար դրամ)
A10: 1 | B10: 2 | E10: 3 | F10: 4 | G10: 5 | H10: 6 | I10: 7
A11: ՀՀ քաղաքաշինության կոմիտե | I11: =+I12 -> 51400
A12: Բաժին N 09 | B12: Խումբ N 06 | C12: Դաս N 01 | D12: Կրթությանը տրամադրվող օժանդակ ծառայություններ | I12: =+I13 -> 51400
A13: 1146-12010 | B13: «Մոդուլային» տիպի մանկապարտեզների շենքային ապահովում | I13: =+I14 -> 51400
B14: ՄԱՍ III. ԾԱՌԱՅՈՒԹՅՈՒՆՆԵՐ | I14: =SUM(I15:I16) -> 51400
A15: 71241200 | B15: նախագծերի պատրաստում, ծախսերի գնահատում | E15: ՀՄԱ | F15: դրամ | G15: 47400000 | H15: 1 | I15: 47400
A16: 50531140 | B16: փորձաքննության ծառայություններ | E16: ԳՀ | F16: դրամ | G16: 4000000 | H16: 1 | I16: 4000

Sheet Havelvats 8
G1: Հավելված N 8
G2: ՀՀ կառավարության 2021 թվականի
G3: ______________ ի ___Ն որոշման
A6: ՀԱՅԱՍՏԱՆԻ ՀԱՆՐԱՊԵՏՈՒԹՅԱՆ 2021 ԹՎԱԿԱՆԻ ՊԵՏԱԿԱՆ ԲՅՈՒՋԵՈՎ ՆԱԽԱՏԵՍՎԱԾ՝ ՀԱՅԱՍՏԱՆԻ ՀԱՆՐԱՊԵՏՈՒԹՅԱՆ ԿԱՌԱՎԱՐՈՒԹՅԱՆ ՊԱՀՈՒՍՏԱՅԻՆ ՖՈՆԴԻՑ ՀԱՏԿԱՑՈՒՄՆԵՐ ԿԱՏԱՐԵԼՈՒ ՎԵՐԱԲԵՐՅԱԼ
H8: հազ. դրամներով
A9: Գործառական դասիչը | D9: Ծրագրային դասիչը | F9: Բյուջետային հատկացումների գլխավոր կարգադրիչների, ծրագրերի, միջոցառումների և միջոցառումները կատարող պետական մարմինների անվանումները | G9: Ցուցանիշների փոփոխությունը (ավելացումները նշված են դրական նշանով, իսկ նվազեցումները՝ փակագծերում)
A10: Բաժին | B10: Խումբ | C10: Դաս | D10: Ծրագիր | E10: Միջոցառում | G10: Ինն ամիս | H10: Տարի
F11: ԸՆԴԱՄԵՆԸ | G11: =+G13+G32 -> 0 | H11: =+H13+H32 -> 0
F12: այդ թվում
F13: ՀՀ կառավարություն | G13: =+G14 -> -51400 | H13: =+H14 -> -51400
A14: 11 | F14: ՀԻՄՆԱԿԱՆ ԲԱԺԻՆՆԵՐԻՆ ՉԴԱՍՎՈՂ ՊԱՀՈՒՍՏԱՅԻՆ ՖՈՆԴԵՐ | G14: =+G16 -> -51400 | H14: =+H16 -> -51400
F15: այդ թվում`
B16: 01 | F16: ՀՀ կառավարության և համայնքների պահուստային ֆոնդ | G16: =+G18 -> -51400 | H16: =+H18 -> -51400
F17: այդ թվում`
C18: 01 | F18: ՀՀ կառավարության պահուստային ֆոնդ | G18: =+G20 -> -51400 | H18: =+H20 -> -51400
F19: այդ թվում`
F20: ՀՀ կառավարություն | G20: =+G22 -> -51400 | H20: =+H22 -> -51400
F21: այդ թվում`
D22: 1139 | E22: ՀՀ կառավարության պահուստային ֆոնդ | F22: ՀՀ կառավարության պահուստային ֆոնդ | G22: =+G24 -> -51400 | H22: =+H24 -> -51400
F23: այդ թվում`
E24: 11001 | F24: ՀՀ կառավարության պահուստային ֆոնդ | G24: =+G26 -> -51400 | H24: =+H26 -> -51400
F25: այդ թվում` ըստ կատարողների
F26: ՀՀ կառավարություն | G26: =+G28 -> -51400 | H26: =+H28 -> -51400
F27: այդ թվում` բյուջետային ծախսերի տնտեսագիտական դասակարգման հոդվածներ
F28: ԸՆԴԱՄԵՆԸ ԾԱԽՍԵՐ | G28: =+G29 -> -51400 | H28: =+H29 -> -51400
F29: ԸՆԹԱՑԻԿ ԾԱԽՍԵՐ | G29: =+G30 -> -51400 | H29: =+H30 -> -51400
F30: ԱՅԼ ԾԱԽՍԵՐ | G30: =+G31 -> -51400 | H30: =+H31 -> -51400
F31: Պահուստային միջոցներ | G31: =+'Havelvats 2'!G49 -> -51400 | H31: =+'Havelvats 2'!H49 -> -51400
F32: ՀՀ կրթության, գիտության, մշակույթի և սպորտի նախարարություն | G32: =+G33 -> 51400 | H32: =+H33 -> 51400
A33: 09 | F33: ԿՐԹՈՒԹՅՈՒՆ | G33: =+G35 -> 51400 | H33: =+H35 -> 51400
F34: այդ թվում`
B35: 06 | F35: Կրթությանը տրամադրվող օժանդակ ծառայություններ | G35: =+G37 -> 51400 | H35: =+H37 -> 51400
F36: այդ թվում`
C37: 01 | F37: Կրթությանը տրամադրվող օժանդակ ծառայություններ | G37: =+G39 -> 51400 | H37: =+H39 -> 51400
F38: այդ թվում`
F39: ՀՀ կրթության, գիտության, մշակույթի և սպորտի նախարարություն | G39: =+G41 -> 51400 | H39: =+H41 -> 51400
F40: այդ թվում`
D41: 1146 | E41: Հանրակրթության ծրագիր | G41: =+G43 -> 51400 | H41: =+H43 -> 51400
E42: 12010 | F42: այդ թվում`
F43: «Մոդուլային» տիպի մանկապարտեզների շենքային ապահովում | G43: =+G45 -> 51400 | H43: =+H45 -> 51400
...
