Workbook
Name AgencyCode: #REF!
Name AgencyCode: #REF!
Name AgencyName: #REF!
Name AgencyName: #REF!
Name davit: #REF!
Name Functional1: #REF!
Name Functional1: #REF!
Name ggg: #REF!
Name PANature: #REF!
Name PANature: #REF!
Name PAType: #REF!
Name PAType: #REF!
Name Performance2: #REF!
Name Performance2: #REF!
Name PerformanceType: #REF!
Name PerformanceType: #REF!
Name Հավելված: #REF!
Name Մաս: #REF!
Name շախմատիստ: #REF!

Sheet havelvac1
F1: Հավելված N 1
F2: ՀՀ կառավարության 2021 թվականի
F3: ______________ ի ___Ն որոշման
A5: «ՀԱՅԱUՏԱՆԻ ՀԱՆՐԱՊԵՏՈՒԹՅԱՆ 2021 ԹՎԱԿԱՆԻ ՊԵՏԱԿԱՆ ԲՅՈՒՋԵԻ ՄԱUԻՆ» OՐԵՆՔԻ N 1 ՀԱՎԵԼՎԱԾԻ N 2 ԱՂՅՈՒՍԱԿՈՒՄ ԿԱՏԱՐՎՈՂ ՎԵՐԱԲԱՇԽՈՒՄԸ ԵՎ ՀԱՅԱՍՏԱՆԻ ՀԱՆՐԱՊԵՏՈՒԹՅԱՆ ԿԱՌԱՎԱՐՈՒԹՅԱՆ 2020 ԹՎԱԿԱՆԻ ԴԵԿՏԵՄԲԵՐԻ 30-Ի N 2215-Ն ՈՐՈՇՄԱՆ N 5 ՀԱՎԵԼՎԱԾԻ N 1 ԱՂՅՈՒՍԱԿՈՒՄ ԿԱՏԱՐՎՈՂ ՓՈՓՈԽՈՒԹՅՈՒՆՆԵՐԸ ԵՎ ԼՐԱՑՈՒՄՆԵՐԸ
F6: հազար դրամներով
A7: Ծրագրային դասիչը | C7: Բյուջետային հատկացումների գլխավոր կարգադրիչների, ծրագրերի և միջոցառումների անվանումները | D7: Ցուցանիշների փոփոխությունը (ավելացումները նշված են դրական նշանով, իսկ նվազեցումները` փակագծերում)
A8: Ծրագիր | B8: Միջոցառում | D8: Առաջին կիսամյակ | E8: Ինն ամիս | F8: Տարի
A9: 1192 | C9: ԸՆԴԱՄԵՆԸ | D9: =D24+D11+D38 -> 0 | E9: =E24+E11+E38 -> 0 | F9: =F24+F11+F38 -> 0
C10: այդ թվում
B11: ՀՀ Գեղարքունիքի մարզպետարան | D11: =D13 -> -950 | E11: =E13 -> -950 | F11: =F13 -> -950
A12: 1025 | C12: Ծրագրի անվանումը`
C13: ՀՀ Գեղարքունիքի մարզում տարածքային պետական կառավարում | D13: =+D19 -> -950 | E13: =+E19 -> -950 | F13: =+F19 -> -950
C14: Ծրագրի նպատակը`
C15: ՀՀ Գեղարքունիքի մարզում պետական քաղաքականության իրականացման ապահովում
C16: Վերջնական արդյունքի նկարագրությունը`
C17: ՀՀ Գեղարքունիքի մարզում իրականացվող պետական ծրագրերի արդյունավետության և հասցեականության բարելավում, հետադարձ կապի ապահովում
B18: 11001 | C18: Միջոցառման անվանումը`
C19: ՀՀ Գեղարքունիքի մարզպետարանի կողմից տարածքային պետական կառավարման ապահովում | D19: =F19 -> -950 | E19: =F19 -> -950 | F19: -950
C20: Միջոցառման նկարագրությունը`
C21: Մարզպետարանի ենթակայության հիմնարկների կառավարում, կրթության, ճանապարհաշինության, քաղաքաշինության և այլ ոլորտներում հասարակական պատվերի տեղաբաշխում, տնտեսության և սոցիալական տարբեր ոլորտներում մարզային միջոցառումների համակարգում
C22: Միջոցառման տեսակը
C23: Ծառայությունների մատուցում
B24: ՀՀ արտակարգ իրավիճակների նախարարություն | D24: =+D26 -> 950 | E24: =+E26 -> 950 | F24: =+F26 -> 950
A25: 1090 | C25: Ծրագրի անվանումը`
C26: Փրկարարական ծառայություններ | D26: =+D33 -> 950 | E26: =+E33 -> 950 | F26: =+F33 -> 950
C27: Ծրագրի նպատակը`
C28: Արտակարգ իրավիճակների արդյունավետ արձագանք
C29: Վերջնական արդյունքի նկարագրությունը`
C30: Արտակարգ իրավիճակների հնարավոր դեպքերի կանխում, դրանց ժամանակին արձագանքում, հետևանքների նվազեցում և բնակչության պաշտպանություն
C31: Ծրագրի միջոցառումներ
B32: 11005 | C32: Միջոցառման անվանումը`
C33: Սողանքային և քարաթափման երևույթների ուսումնասիրում | D33: =F33 -> 950 | E33: =F33 -> 950 | F33: =-F19 -> 950
C34: Միջոցառման նկարագրությունը`
C35: Հանրապետության տարբեր հատվածներում (բնակավայրերում) ակտիվացած սողանքային և քարաթափման երևույթների ուսումնասիրում (ինժեներա-երկրաբանական, երկրաֆիզիկական և հիդրոերկրաբանական հետազոտություններ), աշխատանքների իրականացման խորհրդատվությունների տրամադրում
C36: Միջոցառման տեսակը
C37: Ծառայությունների մատուցում
B38: ՀՀ կառավարություն | C38: ՀՀ կառավարություն | D38: =D40 -> 0 | E38: =E40 -> 0 | F38: =F40 -> 0
A39: 1139 | C39: Ծրագրի անվանումը`
C40: ՀՀ կառավարության պահուստային ֆոնդ | D40: =+D52+D46 -> 0 | E40: =+E52+E46 -> 0 | F40: =+F52+F46 -> 0
C41: Ծրագրի նպատակը`
...

Sheet havelvac2
I1: Հավելված N 2
I2: ՀՀ կառավարության 2021 թվականի
I3: ______________ ի ___Ն որոշման
A5: ՀԱՅԱՍՏԱՆԻ ՀԱՆՐԱՊԵՏՈՒԹՅԱՆ ԿԱՌԱՎԱՐՈՒԹՅԱՆ 2020 ԹՎԱԿԱՆԻ ԴԵԿՏԵՄԲԵՐԻ 30-Ի N 2215-Ն ՈՐՈՇՄԱՆ N 3 ԵՎ N 4 ՀԱՎԵԼՎԱԾՆԵՐՈՒՄ ԿԱՏԱՐՎՈՂ ՓՈՓՈԽՈՒԹՅՈՒՆՆԵՐԸ ԵՎ ԼՐԱՑՈՒՄՆԵՐԸ
I7: հազար դրամներով
A8: Գործառական դասիչը | D8: Ծրագրային դասիչը | F8: Բյուջետային հատկացումների գլխավոր կարգադրիչների, ծրագրերի, միջոցառումների և միջոցառումները կատարող պետական մարմինների անվանումները | G8: Ցուցանիշների փոփոխությունը (ավելացումները նշված են դրական նշանով, իսկ նվազեցումները` փակագծերում)
A9: Բաժին | B9: Խումբ | C9: Դաս | D9: Ծրագիր | E9: Միջոցառում | G9: Առաջին կիսամյակ | H9: Ինն ամիս | I9: Տարի
F10: ԸՆԴԱՄԵՆԸ | G10: =G30+G12+G50 -> 0 | H10: =H30+H12+H50 -> 0 | I10: =I30+I12+I50 -> 0
F11: այդ թվում
F12: ՀՀ Գեղարքունիքի մարզպետարան | G12: =+G13 -> -950 | H12: =+H13 -> -950 | I12: =+I13 -> -950
A13: 01 | F13: ԸՆԴՀԱՆՈՒՐ ԲՆՈՒՅԹԻ ՀԱՆՐԱՅԻՆ ԾԱՌԱՅՈՒԹՅՈՒՆՆԵՐ | G13: =+G15 -> -950 | H13: =+H15 -> -950 | I13: =+I15 -> -950
F14: այդ թվում`
B15: 01 | F15: Օրենսդիր և գործադիր մարմիններ, պետական կառավարում, ֆինանսական և հարկաբյուջետային հարաբերություններ, արտաքին հարաբերություններ | G15: =+G17 -> -950 | H15: =+H17 -> -950 | I15: =+I17 -> -950
F16: այդ թվում`
C17: 01 | F17: Օրենսդիր և գործադիր մարմիններ, պետական կառավարում | G17: =G19 -> -950 | H17: =H19 -> -950 | I17: =I19 -> -950
F18: այդ թվում`
D19: 1025 | F19: ՀՀ Գեղարքունիքի մարզում տարածքային պետական կառավարում | G19: =+G21 -> -950 | H19: =+H21 -> -950 | I19: =+I21 -> -950
F20: այդ թվում`
E21: 11001 | F21: ՀՀ Գեղարքունիքի մարզպետարանի կողմից տարածքային պետական կառավարման ապահովում | G21: =G23 -> -950 | H21: =H23 -> -950 | I21: =I23 -> -950
F22: այդ թվում` ըստ կատարողների
F23: ՀՀ Գեղարքունիքի մարզպետարան | G23: =+G25 -> -950 | H23: =+H25 -> -950 | I23: =+I25 -> -950
F24: այդ թվում` բյուջետային ծախսերի տնտեսագիտական դասակարգման հոդվածների
F25: ԸՆԴԱՄԵՆԸ ԾԱԽՍԵՐ | G25: =+G29 -> -950 | H25: =+H29 -> -950 | I25: =+I29 -> -950
F26: ԸՆԹԱՑԻԿ ԾԱԽՍԵՐ | G26: =G27 -> -950 | H26: =H27 -> -950 | I26: =I27 -> -950
F27: ԾԱՌԱՅՈՒԹՅՈՒՆՆԵՐԻ ԵՎ ԱՊՐԱՆՔՆԵՐԻ ՁԵՌՔԲԵՐՈՒՄ | G27: =G28 -> -950 | H27: =H28 -> -950 | I27: =I28 -> -950
F28: Շարունակական ծախսեր | G28: =G29 -> -950 | H28: =H29 -> -950 | I28: =I29 -> -950
F29: - Էներգետիկ ծառայություններ | G29: =havelvac1!D19 -> -950 | H29: =havelvac1!E19 -> -950 | I29: =havelvac1!F19 -> -950
F30: ՀՀ արտակարգ իրավիճակների նախարարություն | G30: =+G31 -> 950 | H30: =+H31 -> 950 | I30: =+I31 -> 950
A31: 03 | F31: ՀԱՍԱՐԱԿԱԿԱՆ ԿԱՐԳ, ԱՆՎՏԱՆԳՈՒԹՅՈՒՆ ԵՎ ԴԱՏԱԿԱՆ ԳՈՐԾՈՒՆԵՈՒԹՅՈՒՆ | G31: =G33 -> 950 | H31: =H33 -> 950 | I31: =I33 -> 950
F32: այդ թվում`
B33: 02 | F33: Փրկարար ծառայություն | G33: =G35 -> 950 | H33: =H35 -> 950 | I33: =I35 -> 950
F34: այդ թվում`
C35: 01 | F35: Փրկարար ծառայություն | G35: =+G37 -> 950 | H35: =+H37 -> 950 | I35: =+I37 -> 950
F36: այդ թվում`
F37: ՀՀարտակարգ իրավիճակների նախարարություն | G37: =+G39 -> 950 | H37: =+H39 -> 950 | I37: =+I39 -> 950
F38: այդ թվում`
D39: 1090 | F39: Փրկարարական ծառայություններ | G39: =+G41 -> 950 | H39: =+H41 -> 950 | I39: =+I41 -> 950
F40: այդ թվում`
E41: 11005 | F41: Սողանքային և քարաթափման երևույթների ուսումնասիրում | G41: =+G43 -> 950 | H41: =+H43 -> 950 | I41: =+I43 -> 950
F42: այդ թվում` ըստ կատարողների
...

Sheet havelvac3
F1: Հավելված N 3
F2: ՀՀ կառավարության 2021 թվականի
F3: ______________ ի ___Ն որոշման
B5: ՀԱՅԱՍՏԱՆԻ ՀԱՆՐԱՊԵՏՈՒԹՅԱՆ ԿԱՌԱՎԱՐՈՒԹՅԱՆ 2020 ԹՎԱԿԱՆԻ ԴԵԿՏԵՄԲԵՐԻ 30-Ի N 2215-Ն ՈՐՈՇՄԱՆ N 9 ՀԱՎԵԼՎԱԾԻ N 9.19 ԱՂՅՈՒՍԱԿՈՒՄ ԿԱՏԱՐՎՈՂ ՓՈՓՈԽՈՒԹՅՈՒՆՆԵՐԸ ԵՎ ԼՐԱՑՈՒՄՆԵՐԸ
B7: ՀՀ արտակարգ իրավիճակների նախարարություն
B8: ՄԱՍ 2. ՊԵՏԱԿԱՆ ՄԱՐՄՆԻ ԳԾՈՎ ԱՐԴՅՈՒՆՔԱՅԻՆ (ԿԱՏԱՐՈՂԱԿԱՆ) ՑՈՒՑԱՆԻՇՆԵՐԸ
B10: Ծրագրի դասիչը | C10: Ծրագրի անվանումը
B11: 1090 | C11: Փրկարարական ծառայություններ
B13: Ծրագրի միջոցառումները | D13: Ցուցանիշների փոփոխությունը (ավելացումները նշված են դրական նշանով)
B14: Ծրագրի դասիչը` | C14: 1090
B15: Միջոցառման դասիչը` | C15: 11005 | D15: Առաջին կիսամյակ | E15: Ինն ամիս | F15: Տարի
B16: Միջոցառման անվանումը` | C16: Սողանքային և քարաթափման երևույթների ուսումնասիրում
B17: Նկարագրությունը` | C17: Հանրապետության տարբեր հատվածներում (բնակավայրերում) ակտիվացած սողանքային և քարաթափման երևույթների ուսումնասիրում (ինժեներա-երկրաբանական, երկրաֆիզիկական և հիդրոերկրաբանական հետազոտություններ), աշխատանքների իրականացման խորհրդատվությունների տրամադրում
B18: Միջոցառման տեսակը` | C18: Ծառայությունների մատուցում
B19: Ծառայությունը մատուցող կազմակերպության(ների) անվանում(ներ)ը | C19: Մասնագիտացված կազմակերպություններ
B20: Արդյունքի չափորոշիչներ
B21: 0,5-8,0 խոր. մետր չափերով ժայռաբեկորների սողանքային տեղամասի ուսումնասիրում, քանակ | D21: 1 | E21: 1 | F21: 1
B22: Միջոցառման վրա կատարվող ծախսը (հազար դրամ) | D22: =F22 -> 950 | E22: =F22 -> 950 | F22: =havelvac1!F33 -> 950
B24: ՀԱՅԱՍՏԱՆԻ ՀԱՆՐԱՊԵՏՈՒԹՅԱՆ ԿԱՌԱՎԱՐՈՒԹՅԱՆ 2020 ԹՎԱԿԱՆԻ ԴԵԿՏԵՄԲԵՐԻ 30-Ի N 2215-Ն ՈՐՈՇՄԱՆ N 9 ՀԱՎԵԼՎԱԾԻ N 9.40 ԱՂՅՈՒՍԱԿՈՒՄ ԿԱՏԱՐՎՈՂ ՓՈՓՈԽՈՒԹՅՈՒՆՆԵՐԸ
B26: ՀՀ Գեղարքունիքի մարզպետարան
B27: ՄԱՍ 2. ՊԵՏԱԿԱՆ ՄԱՐՄՆԻ ԳԾՈՎ ԱՐԴՅՈՒՆՔԱՅԻՆ (ԿԱՏԱՐՈՂԱԿԱՆ) ՑՈՒՑԱՆԻՇՆԵՐԸ
B29: Ծրագրի դասիչը | C29: Ծրագրի անվանումը
B30: 1025 | C30: ՀՀ Գեղարքունիքի մարզում տարածքային պետական կառավարում
B32: Ծրագրի միջոցառումները | D32: Ցուցանիշների փոփոխությունը (նվազեցումները նշված են փակագծերում)
B33: Ծրագրի դասիչը` | C33: 1025
B34: Միջոցառման դասիչը` | C34: 11001 | D34: Առաջին կիսամյակ | E34: Ինն ամիս | F34: Տարի
B35: Միջոցառման անվանումը` | C35: ՀՀ Գեղարքունիքի մարզպետարանի կողմից տարածքային պետական կառավարման ապահովում
B36: Նկարագրությունը` | C36: Մարզպետարանի ենթակայության հիմնարկների կառավարում, կրթության, ճանապարհաշինության, քաղաքաշինության և այլ ոլորտներում հասարակական պատվերի տեղաբաշխում, տնտեսության և սոցիալական տարբեր ոլորտներում մարզային միջոցառումների համակարգում
B37: Միջոցառման տեսակը` | C37: Ծառայությունների մատուցում
B38: Միջոցառումն իրականացնողի անվանումը | C38: ՀՀ Գեղարքունիքի մարզպետարան
B39: Արդյունքի չափորոշիչներ
B40: Միջոցառման վրա կատարվող ծախսը (հազար դրամ) | D40: =F40 -> -950 | E40: =F40 -> -950 | F40: =havelvac1!F19 -> -950
B41: ՀԱՅԱՍՏԱՆԻ ՀԱՆՐԱՊԵՏՈՒԹՅԱՆ ԿԱՌԱՎԱՐՈՒԹՅԱՆ 2020 ԹՎԱԿԱՆԻ ԴԵԿՏԵՄԲԵՐԻ 30-Ի N 2215-Ն ՈՐՈՇՄԱՆ N 9 ՀԱՎԵԼՎԱԾԻ N 9.47 ԱՂՅՈՒՍԱԿՈՒՄ ԿԱՏԱՐՎՈՂ ՓՈՓՈԽՈՒԹՅՈՒՆՆԵՐԸ
B43: ՀՀ կառավարություն
B44: ՄԱՍ 2. ՊԵՏԱԿԱՆ ՄԱՐՄՆԻ ԳԾՈՎ ԱՐԴՅՈՒՆՔԱՅԻՆ (ԿԱՏԱՐՈՂԱԿԱՆ) ՑՈՒՑԱՆԻՇՆԵՐԸ
B46: Ծրագրի դասիչը | C46: Ծրագրի անվանումը
B47: 1139 | C47: ՀՀ կառավարության պահուստային ֆոնդ
B49: Ծրագրի միջոցառումները
B50: Ծրագրի դասիչը՝ | C50: 1139 | D50: Ցուցանիշների փոփոխությունը (ավելացումները նշված են դրական նշանով)
B51: Միջոցառման դասիչը՝ | C51: 11001 | D51: Առաջին կիսամյակ | E51: Ինն ամիս | F51: Տարի
...

Sheet havelvac4
F1: Հավելված N 4
F2: ՀՀ կառավարության 2021 թվականի
F3: ______________ ի ___Ն որոշման
B5: ՀԱՅԱՍՏԱՆԻ ՀԱՆՐԱՊԵՏՈՒԹՅԱՆ ԿԱՌԱՎԱՐՈՒԹՅԱՆ 2020 ԹՎԱԿԱՆԻ ԴԵԿՏԵՄԲԵՐԻ 30-Ի N 2215-Ն ՈՐՈՇՄԱՆ N 9.1 ՀԱՎԵԼՎԱԾԻ N 9.1.19 ԱՂՅՈՒՍԱԿՈՒՄ ԿԱՏԱՐՎՈՂ ՓՈՓՈԽՈՒԹՅՈՒՆՆԵՐԸ ԵՎ ԼՐԱՑՈՒՄՆԵՐԸ
B7: ՀՀ արտակարգ իրավիճակների նախարարություն
B8: ՄԱՍ 1. ՊԵՏԱԿԱՆ ՄԱՐՄՆԻ ԳԾՈՎ ԱՐԴՅՈՒՆՔԱՅԻՆ (ԿԱՏԱՐՈՂԱԿԱՆ) ՑՈՒՑԱՆԻՇՆԵՐԸ
B10: Ծրագրի դասիչը | C10: Ծրագրի անվանումը
B11: 1090 | C11: Փրկարարական ծառայություններ
B13: Ծրագրի միջոցառումները | D13: Ցուցանիշների փոփոխությունը (ավելացումները նշված են դրական նշանով)
B14: Ծրագրի դասիչը` | C14: 1090
B15: Միջոցառման դասիչը` | C15: 11005 | D15: Առաջին կիսամյակ | E15: Ինն ամիս | F15: Տարի
B16: Միջոցառման անվանումը` | C16: Սողանքային և քարաթափման երևույթների ուսումնասիրում
B17: Նկարագրությունը` | C17: Հանրապետության տարբեր հատվածներում (բնակավայրերում) ակտիվացած սողանքային և քարաթափման երևույթների ուսումնասիրում (ինժեներա-երկրաբանական, երկրաֆիզիկական և հիդրոերկրաբանական հետազոտություններ), աշխատանքների իրականացման խորհրդատվությունների տրամադրում
B18: Միջոցառման տեսակը` | C18: Ծառայությունների մատուցում
B19: Ծառայությունը մատուցող կազմակերպության(ների) անվանում(ներ)ը | C19: Մասնագիտացված կազմակերպություններ
B20: Արդյունքի չափորոշիչներ
B21: 0,5-8,0 խոր. մետր չափերով ժայռաբեկորների սողանքային տեղամասի ուսումնասիրում, քանակ | D21: 1 | E21: 1 | F21: 1
B22: Միջոցառման վրա կատարվող ծախսը (հազար դրամ) | D22: =F22 -> 950 | E22: =F22 -> 950 | F22: =havelvac1!F33 -> 950
B24: ՀԱՅԱՍՏԱՆԻ ՀԱՆՐԱՊԵՏՈՒԹՅԱՆ ԿԱՌԱՎԱՐՈՒԹՅԱՆ 2020 ԹՎԱԿԱՆԻ ԴԵԿՏԵՄԲԵՐԻ 30-Ի N 2215-Ն ՈՐՈՇՄԱՆ N 9.1 ՀԱՎԵԼՎԱԾԻ N 9.1.51 ԱՂՅՈՒՍԱԿՈՒՄ ԿԱՏԱՐՎՈՂ ՓՈՓՈԽՈՒԹՅՈՒՆՆԵՐԸ
B26: ՀՀ ԳԵՂԱՐՔՈՒՆԻՔԻ ՄԱՐԶՊԵՏԱՐԱՆ
B27: Ծրագրի դասիչը | C27: Ծրագրի անվանումը
B28: 1025 | C28: ՀՀ Գեղարքունիքի մարզում տարածքային պետական կառավարում
B30: Ծրագրի միջոցառումները | D30: Ցուցանիշների փոփոխությունը (նվազեցումները նշված են փակագծերում)
B31: Ծրագրի դասիչը՝ | C31: 1025
B32: Միջոցառման դասիչը՝ | C32: 11001 | D32: Առաջին կիսամյակ | E32: Ինն ամիս | F32: Տարի
B33: Միջոցառման անվանումը՝ | C33: ՀՀ կառավարության պահուստային ֆոնդ
B34: Նկարագրությունը՝ | C34: ՀՀ պետական բյուջեում նախատեսված ելքերի լրացուցիչ ֆինանսավորման՝ պետական բյուջեում չկանխատեսված ելքերի, ինչպես նաև բյուջետային երաշխիքների ապահովման ելքերի ֆինանսավորման ապահովում
B35: Միջոցառման տեսակը՝ | C35: Ծառայությունների մատուցում
B36: Միջոցառումն իրականացնողի անվանումը | C36: ՀՀ կառավարություն
C37: Արդյունքի չափորոշիչներ
B38: Միջոցառման վրա կատարվող ծախսը (հազար դրամ) | F38: =50000 -> 50000 | G38: =50000 -> 50000 | H38: =50000 -> 50000
B40: Ծրագրի դասիչը՝ | C40: 1139
B41: Միջոցառման դասիչը՝ | C41: 11001 | F41: Առաջին կիսամյակ | G41: Ինն ամիս | H41: Տարի
B42: Միջոցառման անվանումը` | C42: ՀՀ Գեղարքունիքի մարզպետարանի կողմից տարածքային պետական կառավարման ապահովում
B43: Նկարագրությունը` | C43: Մարզպետարանի ենթակայության հիմնարկների կառավարում, կրթության, ճանապարհաշինության, քաղաքաշինության և այլ ոլորտներում հասարակական պատվերի տեղաբաշխում, տնտեսության և սոցիալական տարբեր ոլորտներում մարզային միջոցառումների համակարգում
B44: Միջոցառման տեսակը` | C44: Ծառայությունների մատուցում
B45: Միջոցառումն իրականացնողի անվանումը | C45: ՀՀ Գեղարքունիքի մարզպետարան
B46: Արդյունքի չափորոշիչներ
B47: Միջոցառման վրա կատարվող ծախսը (հազար դրամ) | D47: =F47 -> -950 | E47: =F47 -> -950 | F47: =havelvac1!F19 -> -950
B49: ՀԱՅԱՍՏԱՆԻ ՀԱՆՐԱՊԵՏՈՒԹՅԱՆ ԿԱՌԱՎԱՐՈՒԹՅԱՆ 2020 ԹՎԱԿԱՆԻ ԴԵԿՏԵՄԲԵՐԻ 30-Ի N 2215-Ն ՈՐՈՇՄԱՆ N 9.1 ՀԱՎԵԼՎԱԾԻ N 9.1.58 ԱՂՅՈՒՍԱԿՈՒՄ ԿԱՏԱՐՎՈՂ ՓՈՓՈԽՈՒԹՅՈՒՆՆԵՐԸ
...

Sheet havelva5
A1: Հավելված N 5
A2: ՀՀ կառավարության 2021 թվականի
A3: ______________ ի ___Ն որոշման
A5: ՀԱՅԱՍՏԱՆԻ ՀԱՆՐԱՊԵՏՈՒԹՅԱՆ ԿԱՌԱՎԱՐՈՒԹՅԱՆ 2020 ԹՎԱԿԱՆԻ ԴԵԿՏԵՄԲԵՐԻ 30-Ի N 2215-Ն ՈՐՈՇՄԱՆ N 10 ՀԱՎԵԼՎԱԾՈՒՄ ԿԱՏԱՐՎՈՂ ԼՐԱՑՈՒՄՆԵՐԸ
A6: Կոդը | B6: Անվանումը | D6: Գնման ձևը | E6: Չափման միավորը | F6: Միավորի գինը | G6: Ցուցանիշների փոփոխությունը (ավելացումները նշված են դրական նշանով, իսկ նվազեցումները` փակագծերում)
G7: Քանակը | H7: Գումարը (հազար դրամով)
A8: ՀՀ Գեղարքունիքի մարզպետարան | H8: =H9+H13 -> 0
A9: Բաժին N 01 | B9: Խումբ N 01 | C9: Դաս N 01 | D9: ՀՀ Գեղարքունիքի մարզում տարածքային պետական կառավարում | H9: =H10 -> -950
A10: 1025 11001 | B10: ՀՀ Գեղարքունիքի մարզպետարանի կողմից տարածքային պետական կառավարման ապահովում | H10: =+H11 -> -950
A11: ՄԱՍ III. ԾԱՌԱՅՈՒԹՅՈՒՆՆԵՐ | H11: =SUM(H12:H12) -> -950
A12: 65311100/1 | B12: էլեկտրականության բաշխում | D12: ՄԱ | E12: դրամ | H12: -950
A13: Բաժին N 03 | B13: Խումբ N 02 | C13: Դաս N 01 | D13: Փրկարարական ծառայություններ | H13: =H14 -> 950
A14: 1090 11005 | B14: Սողանքային և քարաթափման երևույթների ուսումնասիրում | H14: 950
A15: ՄԱՍ III. ԾԱՌԱՅՈՒԹՅՈՒՆՆԵՐ | H15: =SUM(H16:H16) -> 950
A16: 71211100/501 | B16: ճարտարապետական խորհրդատվական ծառայություններ | D16: ԳՀ | E16: դրամ | F16: 950000 | G16: 1 | H16: 950
