Workbook
Name AgencyCode: #REF!
Name AgencyCode: #REF!
Name AgencyName: #REF!
Name AgencyName: #REF!
Name davit: #REF!
Name Functional1: #REF!
Name Functional1: #REF!
Name ggg: #REF!
Name PANature: #REF!
Name PANature: #REF!
Name PAType: #REF!
Name PAType: #REF!
Name Performance2: #REF!
Name Performance2: #REF!
Name PerformanceType: #REF!
Name PerformanceType: #REF!
Name Հավելված: #REF!
Name Մաս: #REF!
Name շախմատիստ: #REF!

Sheet havelvac1
F1: Հավելված N 1
F2: ՀՀ կառավարության 2021 թվականի
F3: ______________ ի ___Ն որոշման
A5: «ՀԱՅԱUՏԱՆԻ ՀԱՆՐԱՊԵՏՈՒԹՅԱՆ 2021 ԹՎԱԿԱՆԻ ՊԵՏԱԿԱՆ ԲՅՈՒՋԵԻ ՄԱUԻՆ» OՐԵՆՔԻ N 1 ՀԱՎԵԼՎԱԾԻ N 2 ԱՂՅՈՒՍԱԿՈՒՄ ԿԱՏԱՐՎՈՂ ՎԵՐԱԲԱՇԽՈՒՄԸ ԵՎ ՀԱՅԱՍՏԱՆԻ ՀԱՆՐԱՊԵՏՈՒԹՅԱՆ ԿԱՌԱՎԱՐՈՒԹՅԱՆ 2020 ԹՎԱԿԱՆԻ ԴԵԿՏԵՄԲԵՐԻ 30-Ի N 2215-Ն ՈՐՈՇՄԱՆ N 5 ՀԱՎԵԼՎԱԾԻ N 1 ԱՂՅՈՒՍԱԿՈՒՄ ԿԱՏԱՐՎՈՂ ՓՈՓՈԽՈՒԹՅՈՒՆՆԵՐԸ ԵՎ ԼՐԱՑՈՒՄՆԵՐԸ
F6: հազար դրամներով
A7: Ծրագրային դասիչը | C7: Բյուջետային հատկացումների գլխավոր կարգադրիչների, ծրագրերի և միջոցառումների անվանումները | D7: Ցուցանիշների փոփոխությունը (ավելացումները նշված են դրական նշանով, իսկ նվազեցումները` փակագծերում)
A8: Ծրագիր | B8: Միջոցառում | D8: Առաջին կիսամյակ | E8: Ինն ամիս | F8: Տարի
A9: 1192 | C9: ԸՆԴԱՄԵՆԸ | D9: =D24+D11+D38 -> 0 | E9: =E24+E11+E38 -> 0 | F9: =F24+F11+F38 -> 0
C10: այդ թվում
B11: ՀՀ Գեղարքունիքի մարզպետարան | D11: =D13 -> -950 | E11: =E13 -> -950 | F11: =F13 -> -950
A12: 1025 | C12: Ծրագրի անվանումը`
C13: ՀՀ Գեղարքունիքի մարզում տարածքային պետական կառավարում | D13: =+D19 -> -950 | E13: =+E19 -> -950 | F13: =+F19 -> -950
C14: Ծրագրի նպատակը`
C15: ՀՀ Գեղարքունիքի մարզում պետական քաղաքականության իրականացման ապահովում
C16: Վերջնական արդյունքի նկարագրությունը`
C17: ՀՀ Գեղարքունիքի մարզում իրականացվող պետական ծրագրերի արդյունավետության և հասցեականության բարելավում, հետադարձ կապի ապահովում
B18: 11001 | C18: Միջոցառման անվանումը`
C19: ՀՀ Գեղարքունիքի մարզպետարանի կողմից տարածքային պետական կառավարման ապահովում | D19: =F19 -> -950 | E19: =F19 -> -950 | F19: -950
C20: Միջոցառման նկարագրությունը`
C21: Մարզպետարանի ենթակայության հիմնարկների կառավարում, կրթության, ճանապարհաշինության, քաղաքաշինության և այլ ոլորտներում հասարակական պատվերի տեղաբաշխում, տնտեսության և սոցիալական տարբեր ոլորտներում մարզային միջոցառումների համակարգում
C22: Միջոցառման տեսակը
C23: Ծառայությունների մատուցում
B24: ՀՀ արտակարգ իրավիճակների նախարարություն | D24: =+D26 -> 950 | E24: =+E26 -> 950 | F24: =+F26 -> 950
A25: 1090 | C25: Ծրագրի անվանումը`
C26: Փրկարարական ծառայություններ | D26: =+D33 -> 950 | E26: =+E33 -> 950 | F26: =+F33 -> 950
C27: Ծրագրի նպատակը`
C28: Արտակարգ իրավիճակների արդյունավետ արձագանք
C29: Վերջնական արդյունքի նկարագրությունը`
C30: Արտակարգ իրավիճակների հնարավոր դեպքերի կանխում, դրանց ժամանակին արձագանքում, հետևանքների նվազեցում և բնակչության պաշտպանություն
C31: Ծրագրի միջոցառումներ
B32: 11005 | C32: Միջոցառման անվանումը`
C33: Սողանքային և քարաթափման երևույթների ուսումնասիրում | D33: =F33 -> 950 | E33: =F33 -> 950 | F33: =-F19 -> 950
C34: Միջոցառման նկարագրությունը`
C35: Հանրապետության տարբեր հատվածներում (բնակավայրերում) ակտիվացած սողանքային և քարաթափման երևույթների ուսումնասիրում (ինժեներա-երկրաբանական, երկրաֆիզիկական և հիդրոերկրաբանական հետազոտություններ), աշխատանքների իրականացման խորհրդատվությունների տրամադրում
C36: Միջոցառման տեսակը
C37: Ծառայությունների մատուցում
B38: ՀՀ կառավարություն | C38: ՀՀ կառավարություն | D38: =D40 -> 0 | E38: =E40 -> 0 | F38: =F40 -> 0
A39: 1139 | C39: Ծրագրի անվանումը`
C40: ՀՀ կառավարության պահուստային ֆոնդ | D40: =+D52+D46 -> 0 | E40: =+E52+E46 -> 0 | F40: =+F52+F46 -> 0
C41: Ծրագրի նպատակը`
C42: Պետական բյուջեում չկանխատեսված, ինչպես նաև բյուջետային երաշխիքների ապահովման ծախսերի ֆինանսավորման ապահովում
C43: Վերջնական արդյունքի նկարագրությունը`
C44: Պահուստային ֆոնդի կառավարման արդյունավետության և թափանցիկության ապահովում
B45: 11001 | C45: Միջոցառման անվանումը`
C46: ՀՀ կառավարության պահուստային ֆոնդ | D46: =F46 -> 950 | E46: =F46 -> 950 | F46: =-F52 -> 950
C47: Միջոցառման նկարագրությունը`
C48: ՀՀ պետական բյուջեում նախատեսված ելքերի լրացուցիչ ֆինանսավորման՝ պետական բյուջեում չկանխատեսված ելքերի, ինչպես նաև բյուջետային երաշխիքների ապահովման ելքերի ֆինանսավորման ապահովում
C49: Միջոցառման տեսակը
C50: Ծառայությունների մատուցում
B51: 11001 | C51: Միջոցառման անվանումը`
C52: ՀՀ կառավարության պահուստային ֆոնդ | D52: =F52 -> -950 | E52: =F52 -> -950 | F52: =F19 -> -950
C53: Միջոցառման նկարագրությունը`
C54: ՀՀ պետական բյուջեում նախատեսված ելքերի լրացուցիչ ֆինանսավորման՝ պետական բյուջեում չկանխատեսված ելքերի, ինչպես նաև բյուջետային երաշխիքների ապահովման ելքերի ֆինանսավորման ապահովում
C55: Միջոցառման տեսակը
C56: Ծառայությունների մատուցում

Sheet havelvac2
I1: Հավելված N 2
I2: ՀՀ կառավարության 2021 թվականի
I3: ______________ ի ___Ն որոշման
A5: ՀԱՅԱՍՏԱՆԻ ՀԱՆՐԱՊԵՏՈՒԹՅԱՆ ԿԱՌԱՎԱՐՈՒԹՅԱՆ 2020 ԹՎԱԿԱՆԻ ԴԵԿՏԵՄԲԵՐԻ 30-Ի N 2215-Ն ՈՐՈՇՄԱՆ N 3 ԵՎ N 4 ՀԱՎԵԼՎԱԾՆԵՐՈՒՄ ԿԱՏԱՐՎՈՂ ՓՈՓՈԽՈՒԹՅՈՒՆՆԵՐԸ ԵՎ ԼՐԱՑՈՒՄՆԵՐԸ
I7: հազար դրամներով
A8: Գործառական դասիչը | D8: Ծրագրային դասիչը | F8: Բյուջետային հատկացումների գլխավոր կարգադրիչների, ծրագրերի, միջոցառումների և միջոցառումները կատարող պետական մարմինների անվանումները | G8: Ցուցանիշների փոփոխությունը (ավելացումները նշված են դրական նշանով, իսկ նվազեցումները` փակագծերում)
A9: Բաժին | B9: Խումբ | C9: Դաս | D9: Ծրագիր | E9: Միջոցառում | G9: Առաջին կիսամյակ | H9: Ինն ամիս | I9: Տարի
F10: ԸՆԴԱՄԵՆԸ | G10: =G30+G12+G50 -> 0 | H10: =H30+H12+H50 -> 0 | I10: =I30+I12+I50 -> 0
F11: այդ թվում
F12: ՀՀ Գեղարքունիքի մարզպետարան | G12: =+G13 -> -950 | H12: =+H13 -> -950 | I12: =+I13 -> -950
A13: 01 | F13: ԸՆԴՀԱՆՈՒՐ ԲՆՈՒՅԹԻ ՀԱՆՐԱՅԻՆ ԾԱՌԱՅՈՒԹՅՈՒՆՆԵՐ | G13: =+G15 -> -950 | H13: =+H15 -> -950 | I13: =+I15 -> -950
F14: այդ թվում`
B15: 01 | F15: Օրենսդիր և գործադիր մարմիններ, պետական կառավարում, ֆինանսական և հարկաբյուջետային հարաբերություններ, արտաքին հարաբերություններ | G15: =+G17 -> -950 | H15: =+H17 -> -950 | I15: =+I17 -> -950
F16: այդ թվում`
C17: 01 | F17: Օրենսդիր և գործադիր մարմիններ, պետական կառավարում | G17: =G19 -> -950 | H17: =H19 -> -950 | I17: =I19 -> -950
F18: այդ թվում`
D19: 1025 | F19: ՀՀ Գեղարքունիքի մարզում տարածքային պետական կառավարում | G19: =+G21 -> -950 | H19: =+H21 -> -950 | I19: =+I21 -> -950
F20: այդ թվում`
E21: 11001 | F21: ՀՀ Գեղարքունիքի մարզպետարանի կողմից տարածքային պետական կառավարման ապահովում | G21: =G23 -> -950 | H21: =H23 -> -950 | I21: =I23 -> -950
F22: այդ թվում` ըստ կատարողների
F23: ՀՀ Գեղարքունիքի մարզպետարան | G23: =+G25 -> -950 | H23: =+H25 -> -950 | I23: =+I25 -> -950
F24: այդ թվում` բյուջետային ծախսերի տնտեսագիտական դասակարգման հոդվածների
F25: ԸՆԴԱՄԵՆԸ ԾԱԽՍԵՐ | G25: =+G29 -> -950 | H25: =+H29 -> -950 | I25: =+I29 -> -950
F26: ԸՆԹԱՑԻԿ ԾԱԽՍԵՐ | G26: =G27 -> -950 | H26: =H27 -> -950 | I26: =I27 -> -950
F27: ԾԱՌԱՅՈՒԹՅՈՒՆՆԵՐԻ ԵՎ ԱՊՐԱՆՔՆԵՐԻ ՁԵՌՔԲԵՐՈՒՄ | G27: =G28 -> -950 | H27: =H28 -> -950 | I27: =I28 -> -950
F28: Շարունակական ծախսեր | G28: =G29 -> -950 | H28: =H29 -> -950 | I28: =I29 -> -950
F29: - Էներգետիկ ծառայություններ | G29: =havelvac1!D19 -> -950 | H29: =havelvac1!E19 -> -950 | I29: =havelvac1!F19 -> -950
F30: ՀՀ արտակարգ իրավիճակների նախարարություն | G30: =+G31 -> 950 | H30: =+H31 -> 950 | I30: =+I31 -> 950
A31: 03 | F31: ՀԱՍԱՐԱԿԱԿԱՆ ԿԱՐԳ, ԱՆՎՏԱՆԳՈՒԹՅՈՒՆ ԵՎ ԴԱՏԱԿԱՆ ԳՈՐԾՈՒՆԵՈՒԹՅՈՒՆ | G31: =G33 -> 950 | H31: =H33 -> 950 | I31: =I33 -> 950
F32: այդ թվում`
B33: 02 | F33: Փրկարար ծառայություն | G33: =G35 -> 950 | H33: =H35 -> 950 | I33: =I35 -> 950
F34: այդ թվում`
C35: 01 | F35: Փրկարար ծառայություն | G35: =+G37 -> 950 | H35: =+H37 -> 950 | I35: =+I37 -> 950
F36: այդ թվում`
F37: ՀՀարտակարգ իրավիճակների նախարարություն | G37: =+G39 -> 950 | H37: =+H39 -> 950 | I37: =+I39 -> 950
F38: այդ թվում`
D39: 1090 | F39: Փրկարարական ծառայություններ | G39: =+G41 -> 950 | H39: =+H41 -> 950 | I39: =+I41 -> 950
F40: այդ թվում`
E41: 11005 | F41: Սողանքային և քարաթափման երևույթների ուսումնասիրում | G41: =+G43 -> 950 | H41: =+H43 -> 950 | I41: =+I43 -> 950
F42: այդ թվում` ըստ կատարողների
F43: ՀՀ Գեղարքունիքի մարզպետարան | G43: =G45 -> 950 | H43: =H45 -> 950 | I43: =I45 -> 950
F44: այդ թվում` բյուջետային ծախսերի տնտեսագիտական դասակարգման հոդվածներ
F45: ԸՆԴԱՄԵՆԸ ԾԱԽՍԵՐ | G45: =+G46 -> 950 | H45: =+H46 -> 950 | I45: =+I46 -> 950
F46: ԸՆԹԱՑԻԿ ԾԱԽՍԵՐ | G46: =G47 -> 950 | H46: =H47 -> 950 | I46: =I47 -> 950
F47: ԾԱՌԱՅՈՒԹՅՈՒՆՆԵՐԻ ԵՎ ԱՊՐԱՆՔՆԵՐԻ ՁԵՌՔԲԵՐՈՒՄ | G47: =G48 -> 950 | H47: =H48 -> 950 | I47: =I48 -> 950
F48: Այլ մասնագիտական ծառայությունների ձեռքբերում | G48: =G49 -> 950 | H48: =H49 -> 950 | I48: =I49 -> 950
F49: - Մասնագիտական ծառայություններ | G49: =havelvac1!D33 -> 950 | H49: =havelvac1!E33 -> 950 | I49: =havelvac1!F33 -> 950
F50: ՀՀ կառավարություն | G50: =+G51 -> 0 | H50: =+H51 -> 0 | I50: =+I51 -> 0
A51: 11 | F51: ՀԻՄՆԱԿԱՆ ԲԱԺԻՆՆԵՐԻՆ ՉԴԱՍՎՈՂ ՊԱՀՈՒՍՏԱՅԻՆ ՖՈՆԴԵՐ | G51: =+G53 -> 0 | H51: =+H53 -> 0 | I51: =+I53 -> 0
F52: այդ թվում`
B53: 01 | F53: ՀՀ կառավարության և համայնքների պահուստային ֆոնդ | G53: =+G55 -> 0 | H53: =+H55 -> 0 | I53: =+I55 -> 0
F54: այդ թվում`
C55: 01 | F55: ՀՀ կառավարության պահուստային ֆոնդ | G55: =+G57 -> 0 | H55: =+H57 -> 0 | I55: =+I57 -> 0
F56: այդ թվում`
D57: 1139 | F57: ՀՀ կառավարության պահուստային ֆոնդ | G57: =+G60+G68 -> 0 | H57: =+H60+H68 -> 0 | I57: =+I60+I68 -> 0
F58: այդ թվում`
F59: ՀՀ կառավարություն | G59: =+G60+G68 -> 0 | H59: =+H60+H68 -> 0 | I59: =+I60+I68 -> 0
E60: 11001 | F60: ՀՀ կառավարության պահուստային ֆոնդ | G60: =+G62 -> 950 | H60: =+H62 -> 950 | I60: =+I62 -> 950
F61: այդ թվում` ըստ կատարողների
F62: ՀՀ կառավարություն | G62: =+G64 -> 950 | H62: =+H64 -> 950 | I62: =+I64 -> 950
F63: այդ թվում` բյուջետային ծախսերի տնտեսագիտական դասակարգման հոդվածներ
F64: ԸՆԴԱՄԵՆԸ ԾԱԽՍԵՐ | G64: =+G65 -> 950 | H64: =+H65 -> 950 | I64: =+I65 -> 950
F65: ԸՆԹԱՑԻԿ ԾԱԽՍԵՐ | G65: =+G66 -> 950 | H65: =+H66 -> 950 | I65: =+I66 -> 950
F66: ԱՅԼ ԾԱԽՍԵՐ | G66: =+G67 -> 950 | H66: =+H67 -> 950 | I66: =+I67 -> 950
F67: Պահուստային միջոցներ | G67: 950 | H67: 950 | I67: 950
E68: 11001 | F68: ՀՀ կառավարության պահուստային ֆոնդ | G68: =G70 -> -950 | H68: =H70 -> -950 | I68: =I70 -> -950
F69: այդ թվում` ըստ կատարողների
F70: ՀՀ կառավարություն | G70: =G72 -> -950 | H70: =H72 -> -950 | I70: =I72 -> -950
F71: այդ թվում` բյուջետային ծախսերի տնտեսագիտական դասակարգման հոդվածներ
F72: ԸՆԴԱՄԵՆԸ ԾԱԽՍԵՐ | G72: =G74 -> -950 | H72: =H74 -> -950 | I72: =I74 -> -950
F73: ԸՆԹԱՑԻԿ ԾԱԽՍԵՐ | G73: =+G74 -> -950 | H73: =+H74 -> -950 | I73: =+I74 -> -950
F74: ԱՅԼ ԾԱԽՍԵՐ | G74: =+G75 -> -950 | H74: =+H75 -> -950 | I74: =+I75 -> -950
F75: Պահուստային միջոցներ | G75: -950 | H75: -950 | I75: -950

Sheet havelvac3
F1: Հավելված N 3
F2: ՀՀ կառավարության 2021 թվականի
F3: ______________ ի ___Ն որոշման
B5: ՀԱՅԱՍՏԱՆԻ ՀԱՆՐԱՊԵՏՈՒԹՅԱՆ ԿԱՌԱՎԱՐՈՒԹՅԱՆ 2020 ԹՎԱԿԱՆԻ ԴԵԿՏԵՄԲԵՐԻ 30-Ի N 2215-Ն ՈՐՈՇՄԱՆ N 9 ՀԱՎԵԼՎԱԾԻ N 9.19 ԱՂՅՈՒՍԱԿՈՒՄ ԿԱՏԱՐՎՈՂ ՓՈՓՈԽՈՒԹՅՈՒՆՆԵՐԸ ԵՎ ԼՐԱՑՈՒՄՆԵՐԸ
B7: ՀՀ արտակարգ իրավիճակների նախարարություն
B8: ՄԱՍ 2. ՊԵՏԱԿԱՆ ՄԱՐՄՆԻ ԳԾՈՎ ԱՐԴՅՈՒՆՔԱՅԻՆ (ԿԱՏԱՐՈՂԱԿԱՆ) ՑՈՒՑԱՆԻՇՆԵՐԸ
B10: Ծրագրի դասիչը | C10: Ծրագրի անվանումը
B11: 1090 | C11: Փրկարարական ծառայություններ
B13: Ծրագրի միջոցառումները | D13: Ցուցանիշների փոփոխությունը (ավելացումները նշված են դրական նշանով)
B14: Ծրագրի դասիչը` | C14: 1090
B15: Միջոցառման դասիչը` | C15: 11005 | D15: Առաջին կիսամյակ | E15: Ինն ամիս | F15: Տարի
B16: Միջոցառման անվանումը` | C16: Սողանքային և քարաթափման երևույթների ուսումնասիրում
B17: Նկարագրությունը` | C17: Հանրապետության տարբեր հատվածներում (բնակավայրերում) ակտիվացած սողանքային և քարաթափման երևույթների ուսումնասիրում (ինժեներա-երկրաբանական, երկրաֆիզիկական և հիդրոերկրաբանական հետազոտություններ), աշխատանքների իրականացման խորհրդատվությունների տրամադրում
B18: Միջոցառման տեսակը` | C18: Ծառայությունների մատուցում
B19: Ծառայությունը մատուցող կազմակերպության(ների) անվանում(ներ)ը | C19: Մասնագիտացված կազմակերպություններ
B20: Արդյունքի չափորոշիչներ
B21: 0,5-8,0 խոր. մետր չափերով ժայռաբեկորների սողանքային տեղամասի ուսումնասիրում, քանակ | D21: 1 | E21: 1 | F21: 1
B22: Միջոցառման վրա կատարվող ծախսը (հազար դրամ) | D22: =F22 -> 950 | E22: =F22 -> 950 | F22: =havelvac1!F33 -> 950
B24: ՀԱՅԱՍՏԱՆԻ ՀԱՆՐԱՊԵՏՈՒԹՅԱՆ ԿԱՌԱՎԱՐՈՒԹՅԱՆ 2020 ԹՎԱԿԱՆԻ ԴԵԿՏԵՄԲԵՐԻ 30-Ի N 2215-Ն ՈՐՈՇՄԱՆ N 9 ՀԱՎԵԼՎԱԾԻ N 9.40 ԱՂՅՈՒՍԱԿՈՒՄ ԿԱՏԱՐՎՈՂ ՓՈՓՈԽՈՒԹՅՈՒՆՆԵՐԸ
B26: ՀՀ Գեղարքունիքի մարզպետարան
B27: ՄԱՍ 2. ՊԵՏԱԿԱՆ ՄԱՐՄՆԻ ԳԾՈՎ ԱՐԴՅՈՒՆՔԱՅԻՆ (ԿԱՏԱՐՈՂԱԿԱՆ) ՑՈՒՑԱՆԻՇՆԵՐԸ
B29: Ծրագրի դասիչը | C29: Ծրագրի անվանումը
B30: 1025 | C30: ՀՀ Գեղարքունիքի մարզում տարածքային պետական կառավարում
B32: Ծրագրի միջոցառումները | D32: Ցուցանիշների փոփոխությունը (նվազեցումները նշված են փակագծերում)
B33: Ծրագրի դասիչը` | C33: 1025
B34: Միջոցառման դասիչը` | C34: 11001 | D34: Առաջին կիսամյակ | E34: Ինն ամիս | F34: Տարի
B35: Միջոցառման անվանումը` | C35: ՀՀ Գեղարքունիքի մարզպետարանի կողմից տարածքային պետական կառավարման ապահովում
B36: Նկարագրությունը` | C36: Մարզպետարանի ենթակայության հիմնարկների կառավարում, կրթության, ճանապարհաշինության, քաղաքաշինության և այլ ոլորտներում հասարակական պատվերի տեղաբաշխում, տնտեսության և սոցիալական տարբեր ոլորտներում մարզային միջոցառումների համակարգում
B37: Միջոցառման տեսակը` | C37: Ծառայությունների մատուցում
B38: Միջոցառումն իրականացնողի անվանումը | C38: ՀՀ Գեղարքունիքի մարզպետարան
B39: Արդյունքի չափորոշիչներ
B40: Միջոցառման վրա կատարվող ծախսը (հազար դրամ) | D40: =F40 -> -950 | E40: =F40 -> -950 | F40: =havelvac1!F19 -> -950
B41: ՀԱՅԱՍՏԱՆԻ ՀԱՆՐԱՊԵՏՈՒԹՅԱՆ ԿԱՌԱՎԱՐՈՒԹՅԱՆ 2020 ԹՎԱԿԱՆԻ ԴԵԿՏԵՄԲԵՐԻ 30-Ի N 2215-Ն ՈՐՈՇՄԱՆ N 9 ՀԱՎԵԼՎԱԾԻ N 9.47 ԱՂՅՈՒՍԱԿՈՒՄ ԿԱՏԱՐՎՈՂ ՓՈՓՈԽՈՒԹՅՈՒՆՆԵՐԸ
B43: ՀՀ կառավարություն
B44: ՄԱՍ 2. ՊԵՏԱԿԱՆ ՄԱՐՄՆԻ ԳԾՈՎ ԱՐԴՅՈՒՆՔԱՅԻՆ (ԿԱՏԱՐՈՂԱԿԱՆ) ՑՈՒՑԱՆԻՇՆԵՐԸ
B46: Ծրագրի դասիչը | C46: Ծրագրի անվանումը
B47: 1139 | C47: ՀՀ կառավարության պահուստային ֆոնդ
B49: Ծրագրի միջոցառումները
B50: Ծրագրի դասիչը՝ | C50: 1139 | D50: Ցուցանիշների փոփոխությունը (ավելացումները նշված են դրական նշանով)
B51: Միջոցառման դասիչը՝ | C51: 11001 | D51: Առաջին կիսամյակ | E51: Ինն ամիս | F51: Տարի
B52: Միջոցառման անվանումը՝ | C52: ՀՀ կառավարության պահուստային ֆոնդ
B53: Նկարագրությունը՝ | C53: ՀՀ պետական բյուջեում նախատեսված ելքերի լրացուցիչ ֆինանսավորման՝ պետական բյուջեում չկանխատեսված ելքերի, ինչպես նաև բյուջետային երաշխիքների ապահովման ելքերի ֆինանսավորման ապահովում
B54: Միջոցառման տեսակը՝ | C54: Ծառայությունների մատուցում
B55: Միջոցառումն իրականացնողի անվանումը | C55: ՀՀ կառավարություն
C56: Արդյունքի չափորոշիչներ
B57: Միջոցառման վրա կատարվող ծախսը (հազար դրամ) | D57: =F57 -> 950 | E57: =F57 -> 950 | F57: =havelvac1!F46 -> 950
B58: Ծրագրի դասիչը՝ | C58: 1139 | D58: Ցուցանիշների փոփոխությունը (նվազեցումները նշված են փակագծերում)
B59: Միջոցառման դասիչը՝ | C59: 11001 | D59: Առաջին կիսամյակ | E59: Ինն ամիս | F59: Տարի
B60: Միջոցառման անվանումը՝ | C60: ՀՀ կառավարության պահուստային ֆոնդ
B61: Նկարագրությունը՝ | C61: ՀՀ պետական բյուջեում նախատեսված ելքերի լրացուցիչ ֆինանսավորման՝ պետական բյուջեում չկանխատեսված ելքերի, ինչպես նաև բյուջետային երաշխիքների ապահովման ելքերի ֆինանսավորման ապահովում
B62: Միջոցառման տեսակը՝ | C62: Ծառայությունների մատուցում
B63: Միջոցառումն իրականացնողի անվանումը | C63: ՀՀ կառավարություն
C64: Արդյունքի չափորոշիչներ
B65: Միջոցառման վրա կատարվող ծախսը (հազար դրամ) | D65: =F65 -> -950 | E65: =F65 -> -950 | F65: =havelvac1!F52 -> -950

Sheet havelvac4
F1: Հավելված N 4
F2: ՀՀ կառավարության 2021 թվականի
F3: ______________ ի ___Ն որոշման
B5: ՀԱՅԱՍՏԱՆԻ ՀԱՆՐԱՊԵՏՈՒԹՅԱՆ ԿԱՌԱՎԱՐՈՒԹՅԱՆ 2020 ԹՎԱԿԱՆԻ ԴԵԿՏԵՄԲԵՐԻ 30-Ի N 2215-Ն ՈՐՈՇՄԱՆ N 9.1 ՀԱՎԵԼՎԱԾԻ N 9.1.19 ԱՂՅՈՒՍԱԿՈՒՄ ԿԱՏԱՐՎՈՂ ՓՈՓՈԽՈՒԹՅՈՒՆՆԵՐԸ ԵՎ ԼՐԱՑՈՒՄՆԵՐԸ
B7: ՀՀ արտակարգ իրավիճակների նախարարություն
B8: ՄԱՍ 1. ՊԵՏԱԿԱՆ ՄԱՐՄՆԻ ԳԾՈՎ ԱՐԴՅՈՒՆՔԱՅԻՆ (ԿԱՏԱՐՈՂԱԿԱՆ) ՑՈՒՑԱՆԻՇՆԵՐԸ
B10: Ծրագրի դասիչը | C10: Ծրագրի անվանումը
B11: 1090 | C11: Փրկարարական ծառայություններ
B13: Ծրագրի միջոցառումները | D13: Ցուցանիշների փոփոխությունը (ավելացումները նշված են դրական նշանով)
B14: Ծրագրի դասիչը` | C14: 1090
B15: Միջոցառման դասիչը` | C15: 11005 | D15: Առաջին կիսամյակ | E15: Ինն ամիս | F15: Տարի
B16: Միջոցառման անվանումը` | C16: Սողանքային և քարաթափման երևույթների ուսումնասիրում
B17: Նկարագրությունը` | C17: Հանրապետության տարբեր հատվածներում (բնակավայրերում) ակտիվացած սողանքային և քարաթափման երևույթների ուսումնասիրում (ինժեներա-երկրաբանական, երկրաֆիզիկական և հիդրոերկրաբանական հետազոտություններ), աշխատանքների իրականացման խորհրդատվությունների տրամադրում
B18: Միջոցառման տեսակը` | C18: Ծառայությունների մատուցում
B19: Ծառայությունը մատուցող կազմակերպության(ների) անվանում(ներ)ը | C19: Մասնագիտացված կազմակերպություններ
B20: Արդյունքի չափորոշիչներ
B21: 0,5-8,0 խոր. մետր չափերով ժայռաբեկորների սողանքային տեղամասի ուսումնասիրում, քանակ | D21: 1 | E21: 1 | F21: 1
B22: Միջոցառման վրա կատարվող ծախսը (հազար դրամ) | D22: =F22 -> 950 | E22: =F22 -> 950 | F22: =havelvac1!F33 -> 950
B24: ՀԱՅԱՍՏԱՆԻ ՀԱՆՐԱՊԵՏՈՒԹՅԱՆ ԿԱՌԱՎԱՐՈՒԹՅԱՆ 2020 ԹՎԱԿԱՆԻ ԴԵԿՏԵՄԲԵՐԻ 30-Ի N 2215-Ն ՈՐՈՇՄԱՆ N 9.1 ՀԱՎԵԼՎԱԾԻ N 9.1.51 ԱՂՅՈՒՍԱԿՈՒՄ ԿԱՏԱՐՎՈՂ ՓՈՓՈԽՈՒԹՅՈՒՆՆԵՐԸ
B26: ՀՀ ԳԵՂԱՐՔՈՒՆԻՔԻ ՄԱՐԶՊԵՏԱՐԱՆ
B27: Ծրագրի դասիչը | C27: Ծրագրի անվանումը
B28: 1025 | C28: ՀՀ Գեղարքունիքի մարզում տարածքային պետական կառավարում
B30: Ծրագրի միջոցառումները | D30: Ցուցանիշների փոփոխությունը (նվազեցումները նշված են փակագծերում)
B31: Ծրագրի դասիչը՝ | C31: 1025
B32: Միջոցառման դասիչը՝ | C32: 11001 | D32: Առաջին կիսամյակ | E32: Ինն ամիս | F32: Տարի
B33: Միջոցառման անվանումը՝ | C33: ՀՀ կառավարության պահուստային ֆոնդ
B34: Նկարագրությունը՝ | C34: ՀՀ պետական բյուջեում նախատեսված ելքերի լրացուցիչ ֆինանսավորման՝ պետական բյուջեում չկանխատեսված ելքերի, ինչպես նաև բյուջետային երաշխիքների ապահովման ելքերի ֆինանսավորման ապահովում
B35: Միջոցառման տեսակը՝ | C35: Ծառայությունների մատուցում
B36: Միջոցառումն իրականացնողի անվանումը | C36: ՀՀ կառավարություն
C37: Արդյունքի չափորոշիչներ
B38: Միջոցառման վրա կատարվող ծախսը (հազար դրամ) | F38: =50000 -> 50000 | G38: =50000 -> 50000 | H38: =50000 -> 50000
B40: Ծրագրի դասիչը՝ | C40: 1139
B41: Միջոցառման դասիչը՝ | C41: 11001 | F41: Առաջին կիսամյակ | G41: Ինն ամիս | H41: Տարի
B42: Միջոցառման անվանումը` | C42: ՀՀ Գեղարքունիքի մարզպետարանի կողմից տարածքային պետական կառավարման ապահովում
B43: Նկարագրությունը` | C43: Մարզպետարանի ենթակայության հիմնարկների կառավարում, կրթության, ճանապարհաշինության, քաղաքաշինության և այլ ոլորտներում հասարակական պատվերի տեղաբաշխում, տնտեսության և սոցիալական տարբեր ոլորտներում մարզային միջոցառումների համակարգում
B44: Միջոցառման տեսակը` | C44: Ծառայությունների մատուցում
B45: Միջոցառումն իրականացնողի անվանումը | C45: ՀՀ Գեղարքունիքի մարզպետարան
B46: Արդյունքի չափորոշիչներ
B47: Միջոցառման վրա կատարվող ծախսը (հազար դրամ) | D47: =F47 -> -950 | E47: =F47 -> -950 | F47: =havelvac1!F19 -> -950
B49: ՀԱՅԱՍՏԱՆԻ ՀԱՆՐԱՊԵՏՈՒԹՅԱՆ ԿԱՌԱՎԱՐՈՒԹՅԱՆ 2020 ԹՎԱԿԱՆԻ ԴԵԿՏԵՄԲԵՐԻ 30-Ի N 2215-Ն ՈՐՈՇՄԱՆ N 9.1 ՀԱՎԵԼՎԱԾԻ N 9.1.58 ԱՂՅՈՒՍԱԿՈՒՄ ԿԱՏԱՐՎՈՂ ՓՈՓՈԽՈՒԹՅՈՒՆՆԵՐԸ
B50: ՀՀ կառավարություն
B51: ՄԱՍ 2. ՊԵՏԱԿԱՆ ՄԱՐՄՆԻ ԳԾՈՎ ԱՐԴՅՈՒՆՔԱՅԻՆ (ԿԱՏԱՐՈՂԱԿԱՆ) ՑՈՒՑԱՆԻՇՆԵՐԸ
B53: Ծրագրի դասիչը | C53: Ծրագրի անվանումը
B54: 1139 | C54: ՀՀ կառավարության պահուստային ֆոնդ
B56: Ծրագրի միջոցառումները | D56: Ցուցանիշների փոփոխությունը (նվազեցումները նշված են փակագծերում)
B57: Ծրագրի դասիչը՝ | C57: 1139
B58: Միջոցառման դասիչը՝ | C58: 11001 | D58: Առաջին կիսամյակ | E58: Ինն ամիս | F58: Տարի
B59: Միջոցառման անվանումը՝ | C59: ՀՀ կառավարության պահուստային ֆոնդ
B60: Նկարագրությունը՝ | C60: ՀՀ պետական բյուջեում նախատեսված ելքերի լրացուցիչ ֆինանսավորման՝ պետական բյուջեում չկանխատեսված ելքերի, ինչպես նաև բյուջետային երաշխիքների ապահովման ելքերի ֆինանսավորման ապահովում
B61: Միջոցառման տեսակը՝ | C61: Ծառայությունների մատուցում
B62: Միջոցառումն իրականացնողի անվանումը | C62: ՀՀ կառավարություն
C63: Արդյունքի չափորոշիչներ
B64: Միջոցառման վրա կատարվող ծախսը (հազար դրամ) | D64: =F64 -> -950 | E64: =F64 -> -950 | F64: =havelvac1!F52 -> -950
B66: Ծրագրի դասիչը՝ | C66: 1139 | D66: Ցուցանիշների փոփոխությունը (ավելացումները նշված են դրական նշանով)
B67: Միջոցառման դասիչը՝ | C67: 11001 | D67: Առաջին կիսամյակ | E67: Ինն ամիս | F67: Տարի
B68: Միջոցառման անվանումը՝ | C68: ՀՀ կառավարության պահուստային ֆոնդ
B69: Նկարագրությունը՝ | C69: ՀՀ պետական բյուջեում նախատեսված ելքերի լրացուցիչ ֆինանսավորման՝ պետական բյուջեում չկանխատեսված ելքերի, ինչպես նաև բյուջետային երաշխիքների ապահովման ելքերի ֆինանսավորման ապահովում
B70: Միջոցառման տեսակը՝ | C70: Ծառայությունների մատուցում
B71: Միջոցառումն իրականացնողի անվանումը | C71: ՀՀ կառավարություն
C72: Արդյունքի չափորոշիչներ
B73: Միջոցառման վրա կատարվող ծախսը (հազար դրամ) | D73: =F73 -> 950 | E73: =F73 -> 950 | F73: =havelvac1!F46 -> 950

Sheet havelva5
A1: Հավելված N 5
A2: ՀՀ կառավարության 2021 թվականի
A3: ______________ ի ___Ն որոշման
A5: ՀԱՅԱՍՏԱՆԻ ՀԱՆՐԱՊԵՏՈՒԹՅԱՆ ԿԱՌԱՎԱՐՈՒԹՅԱՆ 2020 ԹՎԱԿԱՆԻ ԴԵԿՏԵՄԲԵՐԻ 30-Ի N 2215-Ն ՈՐՈՇՄԱՆ N 10 ՀԱՎԵԼՎԱԾՈՒՄ ԿԱՏԱՐՎՈՂ ԼՐԱՑՈՒՄՆԵՐԸ
A6: Կոդը | B6: Անվանումը | D6: Գնման ձևը | E6: Չափման միավորը | F6: Միավորի գինը | G6: Ցուցանիշների փոփոխությունը (ավելացումները նշված են դրական նշանով, իսկ նվազեցումները` փակագծերում)
G7: Քանակը | H7: Գումարը (հազար դրամով)
A8: ՀՀ Գեղարքունիքի մարզպետարան | H8: =H9+H13 -> 0
A9: Բաժին N 01 | B9: Խումբ N 01 | C9: Դաս N 01 | D9: ՀՀ Գեղարքունիքի մարզում տարածքային պետական կառավարում | H9: =H10 -> -950
A10: 1025 11001 | B10: ՀՀ Գեղարքունիքի մարզպետարանի կողմից տարածքային պետական կառավարման ապահովում | H10: =+H11 -> -950
A11: ՄԱՍ III. ԾԱՌԱՅՈՒԹՅՈՒՆՆԵՐ | H11: =SUM(H12:H12) -> -950
A12: 65311100/1 | B12: էլեկտրականության բաշխում | D12: ՄԱ | E12: դրամ | H12: -950
A13: Բաժին N 03 | B13: Խումբ N 02 | C13: Դաս N 01 | D13: Փրկարարական ծառայություններ | H13: =H14 -> 950
A14: 1090 11005 | B14: Սողանքային և քարաթափման երևույթների ուսումնասիրում | H14: 950
A15: ՄԱՍ III. ԾԱՌԱՅՈՒԹՅՈՒՆՆԵՐ | H15: =SUM(H16:H16) -> 950
A16: 71211100/501 | B16: ճարտարապետական խորհրդատվական ծառայություններ | D16: ԳՀ | E16: դրամ | F16: 950000 | G16: 1 | H16: 950
