Workbook

Sheet havelvac 1
I1: Հավելված 1
I2: ՀՀ կառավարության 2021 թվականի
I3: ------------ N ---------- որոշման
A5: ՀԱՅԱՍՏԱՆԻ ՀԱՆՐԱՊԵՏՈՒԹՅԱՆ ԿԱՌԱՎԱՐՈՒԹՅԱՆ 2020 ԹՎԱԿԱՆԻ ԴԵԿՏԵՄԲԵՐԻ 30-Ի N 2215-Ն ՈՐՈՇՄԱՆ N 3 ԵՎ 4 ՀԱՎԵԼՎԱԾՆԵՐՈՒՄ ԿԱՏԱՐՎՈՂ ԼՐԱՑՈՒՄՆԵՐԸ ԵՎ ՓՈՓՈԽՈՒԹՅՈՒՆՆԵՐԸ
H6: հազ. դրամ
A7: Գործառական դասիչը | D7: Ծրագրային դասիչը | F7: Բյուջետային հատկացումների գլխավոր կարգադրիչների, ծրագրերի, միջոցառումների և միջոցառումները կատարող պետական մարմինների անվանումները | G7: Ցուցանիշների փոփոխությունը (ավելացումները նշված են դրական նշանով, իսկ նվազեցումները` փակագծերում)
A8: Բաժին | B8: Խումբ | C8: Դաս | D8: Ծրագիր | E8: Միջոցառում | G8: Առաջին կիսամյակ | H8: Ինն ամիս | I8: Տարի
F9: ԸՆԴԱՄԵՆԸ | G9: =G10 -> 0 | H9: =H10 -> 0 | I9: =I10 -> 0
A10: 09 | F10: ԿՐԹՈՒԹՅՈՒՆ, այդ թվում՝ | G10: =G11 -> 0 | H10: =H11 -> 0 | I10: =I11 -> 0
B11: 06 | F11: Կրթությանը տրամադրվող օժանդակ ծառայություններ, այդ թվում՝ | G11: =G12 -> 0 | H11: =H12 -> 0 | I11: =I12 -> 0
C12: 01 | F12: Կրթությանը տրամադրվող օժանդակ ծառայություններ, այդ թվում՝ | G12: =G14 -> 0 | H12: =H14 -> 0 | I12: =I14 -> 0
F13: ՀՀ կրթության, գիտության, մշակույթի և սպորտի նախարարություն | G13: =+G14 -> 0 | H13: =H14 -> 0 | I13: =I14 -> 0
D14: 1193 | F14: Համընդհանուր ներառական կրթության համակարգի ներդրում | G14: =G16+G29 -> 0 | H14: =H16+H29 -> 0 | I14: =I16+I29 -> 0
F15: այդ թվում՝
E16: 31001 | F16: Ամերիկայի Միացյալ Նահանգների միջազգային զարգացման գործակալության աջակցությամբ իրականացվող «Ներառական կրթության համակարգի ներդրում» դրամաշնորհային ծրագիր | G16: =G18 -> -1318.2 | H16: =H18 -> -1318.2 | I16: =I18 -> -1318.2
F17: այդ թվում` ըստ կատարողների
F18: ՀՀ կրթության , գիտության, մշակույթի և սպորտի նախարարություն | G18: =G20 -> -1318.2 | H18: =H20 -> -1318.2 | I18: =I20 -> -1318.2
F19: այդ թվում` բյուջետային ծախսերի տնտեսագիտական դասակարգման հոդվածներ
F20: ԸՆԴԱՄԵՆԸ ԾԱԽՍԵՐ | G20: =G22+G27 -> -1318.2 | H20: =H22+H27 -> -1318.2 | I20: =I22+I27 -> -1318.2
F21: ՈՉ ՖԻՆԱՆՍԱԿԱՆ ԱԿՏԻՎՆԵՐԻ ԳԾՈՎ ԾԱԽՍԵՐ | G21: =G22+G27 -> -1318.2 | H21: =H22+H27 -> -1318.2 | I21: =I22+I27 -> -1318.2
F22: ՀԻՄՆԱԿԱՆ ՄԻՋՈՑՆԵՐ | G22: =G23+G25 -> -6958.2 | H22: =H23+H25 -> -6958.2 | I22: =I23+I25 -> -6958.2
F23: ՇԵՆՔԵՐ ԵՎ ՇԻՆՈՒԹՅՈՒՆՆԵՐ | G23: =G24 -> -9474.82 | H23: =H24 -> -9474.82 | I23: =I24 -> -9474.82
F24: - Շենքերի և շինությունների կապիտալ վերանորոգում | G24: -9474.82 | H24: -9474.82 | I24: -9474.82
F25: ՄԵՔԵՆԱՆԵՐ ԵՎ ՍԱՐՔԱՎՈՐՈՒՄՆԵՐ | G25: =G26 -> 2516.62 | H25: =H26 -> 2516.62 | I25: =I26 -> 2516.62
F26: - Վարչական սարքավորումներ | G26: =2666.62-150 -> 2516.62 | H26: =2666.62-150 -> 2516.62 | I26: =2666.62-150 -> 2516.62
F27: ԱՅԼ ՀԻՄՆԱԿԱՆ ՄԻՋՈՑՆԵՐ | G27: =G28 -> 5640 | H27: =H28 -> 5640 | I27: =I28 -> 5640
F28: - Նախագծահետազոտական ծախսեր | G28: 5640 | H28: 5640 | I28: 5640
E29: 11004 | F29: Ամերիկայի Միացյալ Նահանգների միջազգային զարգացման գործակալության աջակցությամբ իրականացնող «Ներառական կրթության համակարգի ներդրում դրամաշնորհային ծրագրի շրջանակներում զարգացման ծրագրերի ձեռքբերում և մոնիտորինգ | G29: =G31 -> 1318.2 | H29: =H31 -> 1318.2 | I29: =I31 -> 1318.2
F30: այդ թվում` ըստ կատարողների
F31: ՀՀ կրթության, գիտության, մշակույթի և սպորտի նախարարություն | G31: =G33 -> 1318.2 | H31: =H33 -> 1318.2 | I31: =I33 -> 1318.2
F32: այդ թվում` բյուջետային ծախսերի տնտեսագիտական դասակարգման հոդվածներ
F33: ԸՆԴԱՄԵՆԸ ԾԱԽՍԵՐ | G33: =G34 -> 1318.2 | H33: =H34 -> 1318.2 | I33: =I34 -> 1318.2
F34: ԸՆԹԱՑԻԿ ԾԱԽՍԵՐ | G34: =G35 -> 1318.2 | H34: =H35 -> 1318.2 | I34: =I35 -> 1318.2
F35: ԾԱՌԱՅՈՒԹՅՈՒՆՆԵՐԻ ԵՎ ԱՊՐԱՆՔՆԵՐԻ ՁԵՌՔԲԵՐՈՒՄ | G35: =G36 -> 1318.2 | H35: =H36 -> 1318.2 | I35: =I36 -> 1318.2
F36: ՆՅՈՒԹԵՐ (Ապրանքներ) | G36: =G37 -> 1318.2 | H36: =H37 -> 1318.2 | I36: =I37 -> 1318.2
F37: - Հատուկ նպատակային այլ նյութեր | G37: =1168.2+150 -> 1318.2 | H37: =1168.2+150 -> 1318.2 | I37: =1168.2+150 -> 1318.2
A38: 11 | F38: ՀԻՄՆԱԿԱՆ ԲԱԺԻՆՆԵՐԻՆ ՉԴԱՍՎՈՂ ՊԱՀՈՒՍՏԱՅԻՆ ՖՈՆԴԵՐ | G38: =G40 -> 0 | H38: =H40 -> 0 | I38: =I40 -> 0
F39: այդ թվում`
B40: 01 | F40: ՀՀ կառավարության և համայնքների պահուստային ֆոնդ | G40: =G42 -> 0 | H40: =H42 -> 0 | I40: =I42 -> 0
F41: այդ թվում`
C42: 01 | F42: ՀՀ կառավարության պահուստային ֆոնդ | G42: =G44 -> 0 | H42: =H44 -> 0 | I42: =I44 -> 0
F43: այդ թվում`
F44: ՀՀ կառավարություն | G44: =G45+G53 -> 0 | H44: =H45+H53 -> 0 | I44: =I45+I53 -> 0
D45: 1139 | E45: 11001 | F45: ՀՀ կառավարության պահուստային ֆոնդ | G45: =G47 -> 1318.2 | H45: =H47 -> 1318.2 | I45: =I47 -> 1318.2
F46: այդ թվում` ըստ կատարողների
F47: ՀՀ կառավարություն | G47: =G49 -> 1318.2 | H47: =H49 -> 1318.2 | I47: =I49 -> 1318.2
F48: այդ թվում` բյուջետային ծախսերի տնտեսագիտական դասակարգման հոդվածներ
F49: ԸՆԴԱՄԵՆԸ ԾԱԽՍԵՐ | G49: =G50 -> 1318.2 | H49: =H50 -> 1318.2 | I49: =I50 -> 1318.2
F50: ԸՆԹԱՑԻԿ ԾԱԽՍԵՐ | G50: =G51 -> 1318.2 | H50: =H51 -> 1318.2 | I50: =I51 -> 1318.2
F51: ԱՅԼ ԾԱԽՍԵՐ | G51: =G52 -> 1318.2 | H51: =H52 -> 1318.2 | I51: =I52 -> 1318.2
F52: Պահուստային միջոցներ | G52: =1168.2+150 -> 1318.2 | H52: =1168.2+150 -> 1318.2 | I52: =1168.2+150 -> 1318.2
E53: 11001 | F53: ՀՀ կառավարության պահուստային ֆոնդ | G53: =G55 -> -1318.2 | H53: =H55 -> -1318.2 | I53: =I55 -> -1318.2
F54: այդ թվում` ըստ կատարողների
F55: ՀՀ կառավարություն | G55: =G57 -> -1318.2 | H55: =H57 -> -1318.2 | I55: =I57 -> -1318.2
F56: այդ թվում` բյուջետային ծախսերի տնտեսագիտական դասակարգման հոդվածներ
F57: ԸՆԴԱՄԵՆԸ ԾԱԽՍԵՐ | G57: =G58 -> -1318.2 | H57: =H58 -> -1318.2 | I57: =I58 -> -1318.2
F58: ԸՆԹԱՑԻԿ ԾԱԽՍԵՐ | G58: =G59 -> -1318.2 | H58: =H59 -> -1318.2 | I58: =I59 -> -1318.2
F59: ԱՅԼ ԾԱԽՍԵՐ | G59: =G60 -> -1318.2 | H59: =H60 -> -1318.2 | I59: =I60 -> -1318.2
F60: Պահուստային միջոցներ | G60: -1318.2 | H60: -1318.2 | I60: -1318.2

Sheet havelvac 2
F1: Հավելված 2
F2: ՀՀ կառավարության 2021 թվականի
F3: ------------ N ---------- որոշման
A4: «ՀԱՅԱUՏԱՆԻ ՀԱՆՐԱՊԵՏՈՒԹՅԱՆ 2021 ԹՎԱԿԱՆԻ ՊԵՏԱԿԱՆ ԲՅՈՒՋԵԻ ՄԱUԻՆ» OՐԵՆՔԻ N 1 ՀԱՎԵԼՎԱԾԻ N 2 ԱՂՅՈՒՍԱԿՈՒՄ ԿԱՏԱՐՎՈՂ ՎԵՐԱԲԱՇԽՈՒՄԸ ԵՎ ՀԱՅԱՍՏԱՆԻ ՀԱՆՐԱՊԵՏՈՒԹՅԱՆ ԿԱՌԱՎԱՐՈՒԹՅԱՆ 2020 ԹՎԱԿԱՆԻ ԴԵԿՏԵՄԲԵՐԻ 30-Ի ԹԻՎ 2215-Ն ՈՐՈՇՄԱՆ N 5 ՀԱՎԵԼՎԱԾԻ N 1 ԱՂՅՈՒՍԱԿՈՒՄ ԿԱՏԱՐՎՈՂ ԼՐԱՑՈՒՄՆԵՐԸ ԵՎ ՓՈՓՈԽՈՒԹՅՈՒՆՆԵՐԸ
E5: հազ. դրամ
A6: Ծրագրային դասիչը | C6: Բյուջետային հատկացումների գլխավոր կարգադրիչների, ծրագրերի և միջոցառումների անվանումները | D6: Ցուցանիշների փոփոխությունը (ավելացումները նշված են դրական նշանով, իսկ նվազեցումները` փակագծերում)
D7: Առաջին կիսամյակ | E7: Ինն ամիս | F7: Տարի
A8: Ծրագիր | B8: Միջոցառում
C10: ԸՆԴԱՄԵՆԸ | D10: =D12 -> 0 | E10: =E12 -> 0 | F10: =F12 -> 0
C11: այդ թվում՝
C12: ՀՀ ԿՐԹՈՒԹՅԱՆ, ԳԻՏՈՒԹՅԱՆ, ՄՇԱԿՈՒՅԹԻ ԵՎ ՍՊՈՐՏԻ ՆԱԽԱՐԱՐՈՒԹՅՈՒՆ | D12: =D21+D27 -> 0 | E12: =E21+E27 -> 0 | F12: =F21+F27 -> 0
C13: այդ թվում՝
A14: 1193 | C14: Ծրագրի անվանումը՝ | D14: =D21+D27 -> 0 | E14: =E21+E27 -> 0 | F14: =F21+F27 -> 0
C15: Համընդհանուր ներառական կրթության համակարգի ներդրում
C16: Ծրագրի նպատակը՝
C17: Յուրաքանչյուր երեխայի համար կրթության մատչելիության, հավասար մասնակցության հնարավորության և որակի ապահովում՛ զարգացման առանձնահատկություններին համապատասխան և անհրաժեշտ պայմանների ստեղծման միջոցով
C18: Վերջնական արդյունքի նկարագրությունը՝
C19: Խոցելի խմբերի երեխաների ընդգրկվածության ապահովում հանրակրթական հաստատություններում
A20: Ծրագրի միջոցառումներ
B21: 31001 | C21: Միջոցառման անվանումը` | D21: ='havelvac 1'!G16 -> -1318.2 | E21: ='havelvac 1'!H16 -> -1318.2 | F21: ='havelvac 1'!I16 -> -1318.2
C22: Ամերիկայի Միացյալ Նահանգների միջազգային զարգացման գործակալության աջակցությամբ իրականացվող «Ներառական կրթության համակարգի ներդրում» դրամաշնորհային ծրագիր
C23: Միջոցառման նկարագրությունը`
C24: Ներառական կրթության համակարգի հզորացում բոլոր երեխաներին որակյալ ուսուցում ապահովելու նպատակով_x000D_
C25: Միջոցառման տեսակը
C26: Պետական մարմինների կողմից օգտագործվող ոչ ֆինանսական ակտիվների հետ գործառնություններ
B27: 11004 | C27: Միջոցառման անվանումը` | D27: ='havelvac 1'!G37 -> 1318.2 | E27: ='havelvac 1'!H37 -> 1318.2 | F27: ='havelvac 1'!I37 -> 1318.2
C28: Ամերիկայի Միացյալ Նահանգների միջազգային զարգացման գործակալության աջակցությամբ իրականացնող «Ներառական կրթության համակարգի ներդրում դրամաշնորհային ծրագրի շրջանակներում զարգացման ծրագրերի ձեռքբերում և մոնիտորինգ
C29: Միջոցառման նկարագրությունը`
C30: Ներառական կրթության համակարգի հզորացում բոլոր երեխաներին որակյալ ուսուցում ապահովելու նպատակով_x000D_
C31: Միջոցառման տեսակը
C32: Ծառայությունների մատուցում
C33: ՀՀ կառավարության պահուստային ֆոնդ | D33: =D34 -> 0 | E33: =E34 -> 0 | F33: =F34 -> 0
C34: ՀՀ կառավարություն | D34: =D41+D47 -> 0 | E34: =E41+E47 -> 0 | F34: =F41+F47 -> 0
A35: 1139 | C35: Ծրագրի անվանումը`
C36: ՀՀ կառավարության պահուստային ֆոնդ
C37: Ծրագրի նպատակը`
C38: Պետական բյուջեում չկանխատեսված՝ ինչպես նաև բյուջետային երաշխիքների ապահովման ծախսերի ֆինանսավորման ապահովում
C39: Վերջնական արդյունքի նկարագրությունը`
C40: Պահուստային ֆոնդի կառավարման արդյունավետություն և թափանցիկություն
B41: 11001 | C41: Միջոցառման անվանումը` | D41: ='[1]havelvac 1'!G51 -> 1318.2 | E41: ='[1]havelvac 1'!H51 -> 1318.2 | F41: ='[1]havelvac 1'!I51 -> 1318.2
C42: ՀՀ կառավարության պահուստային ֆոնդ
C43: Միջոցառման նկարագրությունը`
C44: ՀՀ պետական բյուջեում նախատեսված ելքերի լրացուցիչ ֆինանսավորման՝ պետական բյուջեում չկանխատեսված ելքերի՝ ինչպես նաև բյուջետային երաշխիքների ապահովման ելքերի ֆինանսավորման ապահովում
C45: Միջոցառման տեսակը
C46: Ծառայությունների մատուցում
B47: 11001 | C47: Միջոցառման անվանումը` | D47: ='[1]havelvac 1'!G59 -> -1318.2 | E47: ='[1]havelvac 1'!H59 -> -1318.2 | F47: ='[1]havelvac 1'!I59 -> -1318.2
C48: ՀՀ կառավարության պահուստային ֆոնդ
C49: Միջոցառման նկարագրությունը`
C50: ՀՀ պետական բյուջեում նախատեսված ելքերի լրացուցիչ ֆինանսավորման՝ պետական բյուջեում չկանխատեսված ելքերի՝ ինչպես նաև բյուջետային երաշխիքների ապահովման ելքերի ֆինանսավորման ապահովում
C51: Միջոցառման տեսակը
C52: Ծառայությունների մատուցում

Sheet havelvac  3
L1: Հավելված 3
L2: ՀՀ կառավարության 2021 թվականի
L3: ------------ N ---------- որոշման
A5: «ՀԱՅԱUՏԱՆԻ ՀԱՆՐԱՊԵՏՈՒԹՅԱՆ 2021 ԹՎԱԿԱՆԻ ՊԵՏԱԿԱՆ ԲՅՈՒՋԵԻ ՄԱUԻՆ» OՐԵՆՔԻ N 1 ՀԱՎԵԼՎԱԾԻ N 5 ԱՂՅՈՒՍԱԿՈՒՄ ԵՎ ՀԱՅԱՍՏԱՆԻ ՀԱՆՐԱՊԵՏՈՒԹՅԱՆ ԿԱՌԱՎԱՐՈՒԹՅԱՆ 2020 ԹՎԱԿԱՆԻ ԴԵԿՏԵՄԲԵՐԻ 30-Ի N 2215-Ն ՈՐՈՇՄԱՆ N 5 ՀԱՎԵԼՎԱԾԻ N 4 ԱՂՅՈՒՍԱԿՈՒՄ ԿԱՏԱՐՎՈՂ ԼՐԱՑՈՒՄՆԵՐԸ ԵՎ ՓՈՓՈԽՈՒԹՅՈՒՆՆԵՐԸ
K6: հազ. դրամ
A7: Ծրագրային դասիչը | C7: Բյուջետային հատկացումների գլխավոր կարգադրիչների, ծրագրերի, միջոցառումների և միջոցառումները կատարող պետական մարմինների անվանումները | D7: Ցուցանիշների փոփոխությունը (ավելացումները նշված են դրական նշանով, իսկ նվազեցումները` փակագծերում)
D8: Առաջին կիսամյակ | G8: Ինն ամիս | J8: Տարի
A9: Ծրագիր | B9: Միջոցառում | D9: Ընդամենը | E9: Դրամաշնորհային միջոցներ | F9: Համաֆինանսավորում | G9: Ընդամենը | H9: Դրամաշնորհային միջոցներ | I9: Համաֆինանսավորում | J9: Ընդամենը | K9: Դրամաշնորհային միջոցներ | L9: Համաֆինանսավորում
C10: Ընդամենը | D10: =D13+D12 -> 0 | E10: =E13+E12 -> 0 | F10: =F13+F12 -> 0 | G10: =G13+G12 -> 0 | H10: =H13+H12 -> 0 | I10: =I13+I12 -> 0 | J10: =J13+J12 -> 0 | K10: =K13+K12 -> 0 | L10: =L13+L12 -> 0
C11: այդ թվում՝
C12: -Ընթացիկ ծախսեր | D12: =D25 -> 1318.2 | E12: =E25 -> 1318.2 | F12: =F25 -> 0 | G12: =G25 -> 1318.2 | H12: =H25 -> 1318.2 | I12: =I25 -> 0 | J12: =J25 -> 1318.2 | K12: =K25 -> 1318.2 | L12: =L25 -> 0
C13: -Ոչ ֆինանսական ակտիվների գծով ծախսեր | D13: =D21 -> -1318.2 | E13: =E21 -> -1318.2 | F13: =F21 -> 0 | G13: =G21 -> -1318.2 | H13: =H21 -> -1318.2 | I13: =I21 -> 0 | J13: =J21 -> -1318.2 | K13: =K21 -> -1318.2 | L13: =L21 -> 0
C14: ՀՀ կրթության, գիտության, մշակույթի և սպորտի նախարարություն | D14: =D16 -> 0 | E14: =E16 -> 0 | F14: =F16 -> 0 | G14: =G16 -> 0 | H14: =H16 -> 0 | I14: =I16 -> 0 | J14: =J16 -> 0 | K14: =K16 -> 0 | L14: =L16 -> 0
C15: այդ թվում՝
A16: 1193 | C16: Համընդհանուր ներառական կրթության համակարգի ներդրում | D16: =E16+F16 -> 0 | E16: =F16+G16 -> 0 | F16: =G16+H16 -> 0 | G16: =H16+I16 -> 0 | H16: =I16+J16 -> 0 | I16: =J16+K16 -> 0 | J16: =K16+L16 -> 0 | K16: =L16+M16 -> 0 | L16: =M16+N16 -> 0
B17: 31001 | C17: Ամերիկայի Միացյալ Նահանգների միջազգային զարգացման գործակալության աջակցությամբ իրականացվող «Ներառական կրթության համակարգի ներդրում» դրամաշնորհային ծրագիր | D17: =D19 -> -1318.2 | E17: =E19 -> -1318.2 | F17: =F19 -> 0 | G17: =G19 -> -1318.2 | H17: =H19 -> -1318.2 | I17: =I19 -> 0 | J17: =J19 -> -1318.2 | K17: =K19 -> -1318.2 | L17: =L19 -> 0
C18: այդ թվում՝ ըստ կատարողի
C19: ՀՀ կրթության, գիտության, մշակույթի և սպորտի նախարարություն | D19: =D21 -> -1318.2 | E19: =E21 -> -1318.2 | F19: =F21 -> 0 | G19: =G21 -> -1318.2 | H19: =H21 -> -1318.2 | I19: =I21 -> 0 | J19: =J21 -> -1318.2 | K19: =K21 -> -1318.2 | L19: =L21 -> 0
C20: այդ թվում՝ բյուջետային ծախսերի տնտեսագիտական դասակարգման հոդվածներ
C21: ՈՉ ՖԻՆԱՆՍԱԿԱՆ ԱԿՏԻՎՆԵՐԻ ԳԾՈՎ ԾԱԽՍԵՐ | D21: =D22+D23+D24 -> -1318.2 | E21: =E22+E23+E24 -> -1318.2 | F21: =F22+F23+F24 -> 0 | G21: =G22+G23+G24 -> -1318.2 | H21: =H22+H23+H24 -> -1318.2 | I21: =I22+I23+I24 -> 0 | J21: =J22+J23+J24 -> -1318.2 | K21: =K22+K23+K24 -> -1318.2 | L21: =L22+L23+L24 -> 0
C22: - շենքեր շինությունների կապիտալ վերանորոգում | D22: =E22+F22 -> -9474.82 | E22: ='havelvac 1'!G24 -> -9474.82 | F22: 0 | G22: =H22+I22 -> -9474.82 | H22: =E22 -> -9474.82 | I22: 0 | J22: =K22+L22 -> -9474.82 | K22: =H22 -> -9474.82 | L22: 0
C23: - Նախագծահետազոտական ծախսեր | D23: =E23 -> 5640 | E23: ='havelvac 1'!G28 -> 5640 | G23: =H23+I23 -> 5640 | H23: =E23 -> 5640 | J23: =K23+L23 -> 5640 | K23: =H23 -> 5640
C24: - վարչական սարքավորումներ | D24: =E24+F24 -> 2516.62 | E24: 2516.62 | F24: 0 | G24: =H24+I24 -> 2516.62 | H24: 2516.62 | I24: 0 | J24: =K24+L24 -> 2516.62 | K24: 2516.62 | L24: 0
B25: 11004 | C25: Ամերիկայի Միացյալ Նահանգների միջազգային զարգացման գործակալության աջակցությամբ իրականացնող «Ներառական կրթության համակարգի ներդրում դրամաշնորհային ծրագրի շրջանակներում զարգացման ծրագրերի ձեռքբերում և մոնիտորինգ | D25: =D27 -> 1318.2 | E25: =E27 -> 1318.2 | F25: =F27 -> 0 | G25: =G27 -> 1318.2 | H25: =H27 -> 1318.2 | I25: =I27 -> 0 | J25: =J27 -> 1318.2 | K25: =K27 -> 1318.2 | L25: =L27 -> 0
C26: այդ թվում` ըստ կատարողների
C27: ՀՀ կրթության, գիտության, մշակույթի և սպորտի նախարարություն | D27: =E27+F27 -> 1318.2 | E27: =E29 -> 1318.2 | F27: =F29 -> 0 | G27: =H27+I27 -> 1318.2 | H27: =H29 -> 1318.2 | I27: =I29 -> 0 | J27: =J29 -> 1318.2 | K27: =K29 -> 1318.2 | L27: =L29 -> 0
C28: այդ թվում` բյուջետային ծախսերի տնտեսագիտական դասակարգման հոդվածներ
C29: ԸՆԹԱՑԻԿ ԾԱԽՍԵՐ | D29: =E29+F29 -> 1318.2 | E29: =SUM(E30:E30) -> 1318.2 | F29: =SUM(F30:F30) -> 0 | G29: =SUM(G30:G30) -> 1318.2 | H29: =SUM(H30:H30) -> 1318.2 | I29: =SUM(I30:I30) -> 0 | J29: =SUM(J30:J30) -> 1318.2 | K29: =SUM(K30:K30) -> 1318.2 | L29: =SUM(L30:L30) -> 0
C30: - Հատուկ նպատակային այլ նյութեր | D30: =E30+F30 -> 1318.2 | E30: ='havelvac 1'!I37 -> 1318.2 | F30: 0 | G30: =H30+I30 -> 1318.2 | H30: 1318.2 | I30: 0 | J30: =K30+L30 -> 1318.2 | K30: 1318.2 | L30: 0

Sheet havelvac 4,axyusak 1
E1: Հավելված 4, աղյուսակ1
E2: ՀՀ կառավարության 2021 թվականի
E3: ------------ N ---------- որոշման
A4: ՀԱՅԱՍՏԱՆԻ ՀԱՆՐԱՊԵՏՈՒԹՅԱՆ ԿԱՌԱՎԱՐՈՒԹՅԱՆ 2020 ԹՎԱԿԱՆԻ ԴԵԿՏԵՄԲԵՐԻ 30-Ի N 2215 -Ն ՈՐՈՇՄԱՆ N 9 ՀԱՎԵԼՎԱԾԻ N 9.14 ԵՎ 9.47 ԱՂՅՈՒՍԱԿՆԵՐՈՒՄ ԿԱՏԱՐՎՈՂ ԼՐԱՑՈՒՄՆԵՐԸ ԵՎ ՓՈՓՈԽՈՒԹՅՈՒՆՆԵՐԸ
A5: ՀՀ կրթության, գիտության, մշակույթի և սպորտի նախարարություն
A6: ՄԱՍ 2․ՊԵՏԱԿԱՆ ՄԱՐՄՆԻ ԳԾՈՎ ԱՐԴՅՈՒՆՔԱՅԻՆ (ԿԱՏԱՐՈՂԱԿԱՆ) ՑՈՒՑԱՆԻՇՆԵՐԸ
D7: հազ. դրամ
A8: Ծրագրի դասիչը | B8: Ծրագրի անվանումը
A9: 1193 | B9: Համընդհանուր ներառական կրթության համակարգի ներդրում
A10: Ծրագրի միջոցառումները
A11: Ծրագրի դասիչը` | B11: 1193 | C11: Ցուցանիշների փոփոխությունը (ավելացումները նշված են դրական նշանով, իսկ նվազեցումները` փակագծերում)
A12: Միջոցառման դասիչը` | B12: 31001 | C12: Առաջին կիսամյակ | D12: Ինն ամիս | E12: Տարի
A13: Միջոցառման անվանումը` | B13: Ամերիկայի Միացյալ Նահանգների միջազգային զարգացման գործակալության աջակցությամբ իրականացվող «Ներառական կրթության համակարգի ներդրում» դրամաշնորհային ծրագիր
A14: Նկարագրությունը` | B14: Ներառական կրթության համակարգի հզորացում բոլոր երեխաներին որակյալ ուսուցում ապահովելու նպատակով
A15: Միջոցառման տեսակը` | B15: Պետական մարմինների կողմից օգտագործվող ոչ ֆինանսական ակտիվների հետ գործառնություններ
A16: Ակտիվն օգտագործող կազմակերպության (ների) անվանում(ներ)ը | B16: Ուսումնական հաստատություններ (դպրոցներ)
A17: Արդյունքի չափորոշիչներ
A18: Ծրագրում ընդգրկված դպրոցների թիվը, հատ
A19: Ծրագրում ընդգրկված մանկավարժահոգեբանական աջակցության կենտրոնների թիվը, հատ
A20: Միջոցառման վրա կատարվող ծախսը (հազար դրամ) | C20: ='havelvac 1'!G16 -> -1318.2 | D20: ='havelvac 1'!H16 -> -1318.2 | E20: ='havelvac 1'!I16 -> -1318.2
A21: Միջոցառման դասիչը` | B21: 11004
A22: Միջոցառման անվանումը` | B22: Ամերիկայի Միացյալ Նահանգների միջազգային զարգացման գործակալության աջակցությամբ իրականացնող «Ներառական կրթության համակարգի ներդրում դրամաշնորհային ծրագրի զարգացման ծրագրերի ձեռքբերում և մոնիտորինգ
A23: Նկարագրությունը` | B23: Ներառական կրթության համակարգի հզորացում բոլոր երեխաներին որակյալ ուսուցում ապահովելու նպատակով
A24: Միջոցառման տեսակը` | B24: Ծառայությունների մատուցում
A25: Ծառայությունը մատուցող կազմակերպության(ների) անվանում(ներ)ը՛ | B25: «Գնումների մասին» ՀՀ օրենքի համաձայն ընտրված կազմակերպություն
A26: Արդյունքի չափորոշիչներ
A27: Ծրագրում ընդգրկված դպրոցների թիվը, հատ | C27: 9 | D27: 9 | E27: 9
A28: Ծրագրում ընդգրկված մանկավարժահոգեբանական աջակցության կենտրոնների թիվը, հատ | C28: 1 | D28: 1 | E28: 1
A29: Միջոցառման վրա կատարվող ծախսը (հազար դրամ) | C29: ='havelvac 1'!G37 -> 1318.2 | D29: ='havelvac 1'!H37 -> 1318.2 | E29: ='havelvac 1'!I37 -> 1318.2
A30: ՀՀ կառավարություն
A31: Ծրագրի դասիչը | B31: Ծրագրի անվանումը
A32: 1139 | B32: ՀՀ կառավարության պահուստային ֆոնդ
A33: Ծրագրի միջոցառումները
A34: Ծրագրի դասիչը՝ | B34: 1139 | C34: Ցուցանիշների փոփոխությունը (ավելացումները նշված են դրական նշանով)
A35: Միջոցառման դասիչը՝ | B35: 11001 | C35: Առաջին կիսամյակ | D35: Ինն ամիս | E35: Տարի
A36: Միջոցառման անվանումը՝ | B36: ՀՀ կառավարության պահուստային ֆոնդ
A37: Նկարագրությունը՝ | B37: ՀՀ պետական բյուջեում նախատեսված ելքերի լրացուցիչ ֆինանսավորման՝ պետական բյուջեում չկանխատեսված ելքերի, ինչպես նաև բյուջետային երաշխիքների ապահովման ելքերի ֆինանսավորման ապահովում
A38: Միջոցառման տեսակը՝ | B38: Ծառայությունների մատուցում
A39: Միջոցառումն իրականացնողի անվանումը | B39: ՀՀ կառավարություն
B40: Արդյունքի չափորոշիչներ
A41: Միջոցառման վրա կատարվող ծախսը (հազար դրամ) | C41: ='[1]havelvac 1'!G49 -> 1318.2 | D41: ='[1]havelvac 1'!H49 -> 1318.2 | E41: ='[1]havelvac 1'!I49 -> 1318.2
A43: Ծրագրի դասիչը՝ | B43: 1139 | C43: Ցուցանիշների փոփոխությունը ( նվազեցումները` փակագծերում)
A44: Միջոցառման դասիչը՝ | B44: 11001 | C44: Առաջին կիսամյակ | D44: Ինն ամիս | E44: Տարի
A45: Միջոցառման անվանումը՝ | B45: ՀՀ կառավարության պահուստային ֆոնդ
A46: Նկարագրությունը՝ | B46: ՀՀ պետական բյուջեում նախատեսված ելքերի լրացուցիչ ֆինանսավորման՝ պետական բյուջեում չկանխատեսված ելքերի, ինչպես նաև բյուջետային երաշխիքների ապահովման ելքերի ֆինանսավորման ապահովում
A47: Միջոցառման տեսակը՝ | B47: Ծառայությունների մատուցում
A48: Միջոցառումն իրականացնողի անվանումը | B48: ՀՀ կառավարություն
B49: Արդյունքի չափորոշիչներ
A50: Միջոցառման վրա կատարվող ծախսը (հազար դրամ) | C50: ='[1]havelvac 1'!G57 -> -1318.2 | D50: ='[1]havelvac 1'!H57 -> -1318.2 | E50: ='[1]havelvac 1'!I57 -> -1318.2

Sheet havelvac 4,axyusak 2
E1: Հավելված 4, աղյուսակ 2
D2: ՀՀ կառավարության 2021 թվականի
E3: ------------ N ---------- որոշման
A4: ՀԱՅԱՍՏԱՆԻ ՀԱՆՐԱՊԵՏՈՒԹՅԱՆ ԿԱՌԱՎԱՐՈՒԹՅԱՆ 2020 ԹՎԱԿԱՆԻ ԴԵԿՏԵՄԲԵՐԻ 30-Ի N 2215-Ն ՈՐՈՇՄԱՆ N 9.1 ՀԱՎԵԼՎԱԾԻ 9.1.14 ԵՎ 9.1.58 ԱՂՅՈՒՍԱԿՆԵՐՈՒՄ ԿԱՏԱՐՎՈՂ ԼՐԱՑՈՒՄՆԵՐԸ ԵՎ ՓՈՓՈԽՈՒԹՅՈՒՆՆԵՐԸ
A5: ՀՀ կրթության, գիտության, մշակույթի և սպորտի նախարարություն
A6: ՄԱՍ 2․ ՊԵՏԱԿԱՆ ՄԱՐՄՆԻ ԳԾՈՎ ԱՐԴՅՈՒՆՔԱՅԻՆ (ԿԱՏԱՐՈՂԱԿԱՆ) ՑՈՒՑԱՆԻՇՆԵՐԸ
D7: հազ. դրամ
A8: Ծրագրի դասիչը | B8: Ծրագրի անվանումը
A9: 1193 | B9: Համընդհանուր ներառական կրթության համակարգի ներդրում
A11: Ծրագրի միջոցառումները
A12: Ծրագրի դասիչը` | B12: 1193 | C12: Ցուցանիշների փոփոխությունը (ավելացումները նշված են դրական նշանով, իսկ նվազեցումները` փակագծերում)
A13: Միջոցառման դասիչը` | B13: 31001 | C13: Առաջին կիսամյակ | D13: Ինն ամիս | E13: Տարի
A14: Միջոցառման անվանումը` | B14: Ամերիկայի Միացյալ Նահանգների միջազգային զարգացման գործակալության աջակցությամբ իրականացվող «Ներառական կրթության համակարգի ներդրում» դրամաշնորհային ծրագիր
A15: Նկարագրությունը` | B15: Ներառական կրթության համակարգի հզորացում բոլոր երեխաներին որակյալ ուսուցում ապահովելու նպատակով_x000D_
A16: Միջոցառման տեսակը` | B16: Պետական մարմինների կողմից օգտագործվող ոչ ֆինանսական ակտիվների հետ գործառնություններ
A17: Ակտիվն օգտագործող կազմակերպության (ների) անվանում(ներ)ը | B17: Ուսումնական հաստատություններ (դպրոցներ)
A18: Արդյունքի չափորոշիչներ
A19: Ծրագրում ընդգրկված դպրոցների թիվը, հատ
A20: Ծրագրում ընդգրկված մանկավարժահոգեբանական աջակցության կենտրոնների թիվը, հատ
A21: Միջոցառման վրա կատարվող ծախսը (հազար դրամ) | C21: ='havelvac 4,axyusak 1'!C20 -> -1318.2 | D21: ='havelvac 4,axyusak 1'!D20 -> -1318.2 | E21: ='havelvac 4,axyusak 1'!E20 -> -1318.2
A22: Միջոցառման դասիչը` | B22: 11004
A23: Միջոցառման անվանումը` | B23: Ամերիկայի Միացյալ Նահանգների միջազգային զարգացման գործակալության աջակցությամբ իրականացնող «Ներառական կրթության համակարգի ներդրում դրամաշնորհային ծրագրի զարգացման ծրագրերի ձեռքբերում և մոնիտորինգ
A24: Նկարագրությունը` | B24: Ներառական կրթության համակարգի հզորացում բոլոր երեխաներին որակյալ ուսուցում ապահովելու նպատակով
A25: Միջոցառման տեսակը` | B25: Ծառայությունների մատուցում
A26: Ծառայությունը մատուցող կազմակերպության(ների) անվանում(ներ)ը՛ | B26: «Գնումների մասին» ՀՀ օրենքի համաձայն ընտրված կազմակերպություն
A27: Արդյունքի չափորոշիչներ
A28: Ծրագրում ընդգրկված դպրոցների թիվը, հատ | C28: 9 | D28: 9 | E28: 9
A29: Ծրագրում ընդգրկված մանկավարժահոգեբանական աջակցության կենտրոնների թիվը, հատ | C29: 1 | D29: 1 | E29: 1
A30: Միջոցառման վրա կատարվող ծախսը (հազար դրամ) | C30: ='havelvac 4,axyusak 1'!C29 -> 1318.2 | D30: ='havelvac 4,axyusak 1'!D29 -> 1318.2 | E30: ='havelvac 4,axyusak 1'!E29 -> 1318.2
A31: ՀՀ կառավարություն
A32: Ծրագրի դասիչը | B32: Ծրագրի անվանումը
A33: 1139 | B33: ՀՀ կառավարության պահուստային ֆոնդ
A34: Ծրագրի միջոցառումները
A35: Ծրագրի դասիչը՝ | B35: 1139 | C35: Ցուցանիշների փոփոխությունը (ավելացումները նշված են դրական նշանով, իսկ նվազեցումները` փակագծերում)
A36: Միջոցառման դասիչը՝ | B36: 11001 | C36: Առաջին կիսամյակ | D36: Ինն ամիս | E36: Տարի
A37: Միջոցառման անվանումը՝ | B37: ՀՀ կառավարության պահուստային ֆոնդ
A38: Նկարագրությունը՝ | B38: ՀՀ պետական բյուջեում նախատեսված ելքերի լրացուցիչ ֆինանսավորման՝ պետական բյուջեում չկանխատեսված ելքերի, ինչպես նաև բյուջետային երաշխիքների ապահովման ելքերի ֆինանսավորման ապահովում
A39: Միջոցառման տեսակը՝ | B39: Ծառայությունների մատուցում
A40: Միջոցառումն իրականացնողի անվանումը | B40: ՀՀ կառավարություն
B41: Արդյունքի չափորոշիչներ
A42: Միջոցառման վրա կատարվող ծախսը (հազար դրամ) | C42: ='[1]havelvac 1'!G50 -> 1318.2 | D42: ='[1]havelvac 1'!H50 -> 1318.2 | E42: ='[1]havelvac 1'!I50 -> 1318.2
A44: Ծրագրի դասիչը՝ | B44: 1139
A45: Միջոցառման դասիչը՝ | B45: 11001 | C45: Առաջին կիսամյակ | D45: Ինն ամիս | E45: Տարի
A46: Միջոցառման անվանումը՝ | B46: ՀՀ կառավարության պահուստային ֆոնդ
A47: Նկարագրությունը՝ | B47: ՀՀ պետական բյուջեում նախատեսված ելքերի լրացուցիչ ֆինանսավորման՝ պետական բյուջեում չկանխատեսված ելքերի, ինչպես նաև բյուջետային երաշխիքների ապահովման ելքերի ֆինանսավորման ապահովում
A48: Միջոցառման տեսակը՝ | B48: Ծառայությունների մատուցում
A49: Միջոցառումն իրականացնողի անվանումը | B49: ՀՀ կառավարություն
B50: Արդյունքի չափորոշիչներ
A51: Միջոցառման վրա կատարվող ծախսը (հազար դրամ) | C51: ='[1]havelvac 1'!G58 -> -1318.2 | D51: ='[1]havelvac 1'!H58 -> -1318.2 | E51: ='[1]havelvac 1'!I58 -> -1318.2

Sheet havelvac 5
G1: Հավելված 5
F2: ՀՀ կառավարության 2021 թվականի
F3: ------------ N ------------ որոշման
A4: ՀԱՅԱՍՏԱՆԻ ՀԱՆՐԱՊԵՏՈՒԹՅԱՆ ԿԱՌԱՎԱՐՈՒԹՅԱՆ 2020 ԹՎԱԿԱՆԻ ԴԵԿՏԵՄԲԵՐԻ 30-Ի N 2215-Ն ՈՐՈՇՄԱՆ N 10 ՀԱՎԵԼՎԱԾՈՒՄ ԿԱՏԱՐՎՈՂ ԼՐԱՑՈՒՄՆԵՐԸ ԵՎ ՓՈՓՈԽՈՒԹՅՈՒՆՆԵՐԸ
G5: հազ. դրամ
A6: Գնման առարկայի | F6: Ցուցանիշների փոփոխությունները ( ավելացումները նշված են դրական նշանով, իսկ նվազեցումները՝ փակագծերում)
A7: Կոդը | B7: Անվանումը | D7: Գնման ձևը | E7: Չափման միավորը | F7: Միավորի գինը | G7: Քանակը | H7: Գումարը (հազար դրամով)
A8: ՀՀ կրթության, գիտության, մշակույթի և սպորտի նախարարություն | H8: =SUM(H9) -> 0
A9: Բաժին N 09 | B9: Խումբ N 06 | C9: Դաս 01 | D9: Կրթությանը տրամադրվող օժանդակ ծառայություններ | H9: =H10 -> 0
A10: 1193 Համընդհանուր ներառական կրթության համակարգի ներդրում | H10: =H11+H58 -> 0
A11: 11004 Ամերիկայի Միացյալ Նահանգների միջազգային զարգացման գործակալության աջակցությամբ իրականացնող «Ներառական կրթության համակարգի ներդրում դրամաշնորհային ծրագրի շրջանակներում զարգացման ծրագրերի ձեռքբերում և մոնիտորինգ | H11: =H12 -> 1318.2
B12: ՄԱՍ I. ԱՊՐԱՆՔՆԵՐ | H12: =SUM(H13:H57) -> 1318.2
A13: 37521140-1 | B13: կրթական խաղեր | D13: ԳՀ | E13: հատ | F13: 6500 | G13: 10 | H13: =F13*G13/1000 -> 65
A14: 37521140-2 | B14: կրթական խաղեր | C14: 37521140/573 | D14: ԳՀ | E14: հատ | F14: 6500 | G14: 10 | H14: =F14*G14/1000 -> 65
A15: 37521140-3 | B15: կրթական խաղեր | C15: 37521140/551 | D15: ԳՀ | E15: հատ | F15: 15000 | G15: 10 | H15: =F15*G15/1000 -> 150
A16: 37521140-4 | B16: կրթական խաղեր | C16: 37521140/550 | D16: ԳՀ | E16: հատ | F16: 7000 | G16: 10 | H16: =F16*G16/1000 -> 70
A17: 37521140-5 | B17: կրթական խաղեր | C17: 37521140/576 | D17: ԳՀ | E17: հատ | F17: 2410 | G17: 1 | H17: =F17*G17/1000 -> 2.41
A18: 37521140-6 | B18: կրթական խաղեր | C18: 37521140/568 | D18: ԳՀ | E18: հատ | F18: 2790 | G18: 1 | H18: =F18*G18/1000 -> 2.79
A19: 37521140-7 | B19: կրթական խաղեր | C19: 37521140/586 | D19: ԳՀ | E19: հատ | F19: 5000 | G19: 10 | H19: =F19*G19/1000 -> 50
A20: 37521140-8 | B20: կրթական խաղեր | C20: 37521140/584 | D20: ԳՀ | E20: հատ | F20: 5000 | G20: 10 | H20: =F20*G20/1000 -> 50
A21: 37521140-9 | B21: կրթական խաղեր | C21: 37521140/567 | D21: ԳՀ | E21: հատ | F21: 7000 | G21: 10 | H21: =F21*G21/1000 -> 70
A22: 37521140-10 | B22: կրթական խաղեր | C22: 37521140/582 | D22: ԳՀ | E22: հատ | F22: 3500 | G22: 10 | H22: =F22*G22/1000 -> 35
A23: 37521140-11 | B23: կրթական խաղեր | C23: 37521140/566 | D23: ԳՀ | E23: հատ | F23: 2500 | G23: 11 | H23: =F23*G23/1000 -> 27.5
A24: 37521140-12 | B24: կրթական խաղեր | C24: 37521140/580 | D24: ԳՀ | E24: հատ | F24: 6000 | G24: 1 | H24: =F24*G24/1000 -> 6
A25: 37521140-13 | B25: կրթական խաղեր | C25: 37521140/579 | D25: ԳՀ | E25: հատ | F25: 12000 | G25: 1 | H25: =F25*G25/1000 -> 12
... A56: 39292110-1 | B56: գրատախտակներ | C56: 37521140/555 | D56: ԳՀ | E56: հատ | F56: 60000 | G56: 1 | H56: =F56*G56/1000 -> 60
A57: 44423400/501 | B57: Ցուցանակներ և հարակից առարկաներ | D57: ԳՀ | E57: հատ | F57: 15000 | G57: 10 | H57: =F57*G57/1000 -> 150
A58: 31001 Ամերիկայի Միացյալ Նահանգների միջազգային զարգացման գործակալության աջակցությամբ իրականացնող «Ներառական կրթության համակարգի ներդրում դրամաշնորհային ծրագիր | H58: =H59+H63+H65 -> -1318.2
B59: ՄԱՍ I. ԱՊՐԱՆՔՆԵՐ | H59: =H60+H61+H62 -> 2516.6204
A60: 39111140/501 | B60: աթոռներ | D60: ԳՀ | E60: հատ | F60: 15805 | G60: 84 | H60: =F60*G60/1000 -> 1327.62
A61: 39121200/501 | B61: սեղաններ | D61: ԳՀ | E61: հատ | F61: 44928.6 | G61: 14 | H61: =F61*G61/1000 -> 629.0004
A62: 39121520/501 | B62: գրապահարաններ | D62: ԳՀ | E62: հատ | F62: 40000 | G62: 14 | H62: =F62*G62/1000 -> 560
B63: ՄԱՍ II. ԱՇԽԱՏԱՆՔՆԵՐ | H63: =SUM(H64:H64) -> -13140.82
A64: 45611100-3 | B64: Կրթական օբյեկտների հիմնանորոգում | D64: ԲՄ | E64: դրամ | H64: =-H59-H11-H65 -> -13140.82
B65: ՄԱՍ III. ԾԱՌԱՅՈՒԹՅՈՒՆՆԵՐ | H65: =SUM(H66:H68) -> 9306
A66: 71241200-1 | B66: նախագծերի պատրաստում, ծախսերի գնահատում | D66: ԳՀ | E66: դրամ | F66: =4440000+1200000 -> 5640000 | G66: 1 | H66: =G66*F66/1000 -> 5640
A67: 71351540-1 | B67: տեխնիկական հսկողության ծառայություններ | D67: ԳՀ | E67: դրամ | F67: =2220000+600000 -> 2820000 | G67: 1 | H67: =G67*F67/1000 -> 2820
A68: 98111140-1 | B68: հեղինակային հսկողության ծառայություններ | D68: ՄԱ | E68: դրամ | F68: =666000+180000 -> 846000 | G68: 1 | H68: =G68*F68/1000 -> 846
