Workbook
Name AgencyCode: #REF!
Name AgencyCode: #REF!
Name AgencyCode: #REF!
Name AgencyCode: #REF!
Name AgencyCode: #REF!
Name AgencyName: #REF!
Name AgencyName: #REF!
Name AgencyName: #REF!
Name AgencyName: #REF!
Name AgencyName: #REF!
Name davit: #REF!
Name davit: #REF!
Name davit: #REF!
Name davit: #REF!
Name Functional1: #REF!
Name Functional1: #REF!
Name Functional1: #REF!
Name Functional1: #REF!
Name Functional1: #REF!
Name ggg: #REF!
Name ggg: #REF!
Name ggg: #REF!
Name ggg: #REF!
Name ggg: #REF!
Name PANature: #REF!
Name PANature: #REF!
Name PANature: #REF!
Name PANature: #REF!
Name PANature: #REF!
Name PAType: #REF!
Name PAType: #REF!
Name PAType: #REF!
Name PAType: #REF!
Name PAType: #REF!
Name Performance2: #REF!
Name Performance2: #REF!
Name Performance2: #REF!
Name Performance2: #REF!
Name Performance2: #REF!
Name PerformanceType: #REF!
Name PerformanceType: #REF!
Name PerformanceType: #REF!
Name PerformanceType: #REF!
Name PerformanceType: #REF!
Name Հավելված: #REF!
Name Հավելված: #REF!
Name Հավելված: #REF!
Name Հավելված: #REF!
Name Մաս: #REF!
Name Մաս: #REF!
Name Մաս: #REF!
Name Մաս: #REF!
Name շախմատիստ: #REF!
Name շախմատիստ: #REF!
Name շախմատիստ: #REF!
Name շախմատիստ: #REF!
Name շախմատիստ: #REF!

Sheet Հավելված N 1
D1: Հավելված N 1
C2: ՀՀ կառավարության 2021 թվականի
D3: N որոշման
A5: ՀԱՅԱUՏԱՆԻ ՀԱՆՐԱՊԵՏՈՒԹՅԱՆ ԿԱՌԱՎԱՐՈՒԹՅԱՆ 2020 ԹՎԱԿԱՆԻ ԴԵԿՏԵՄԲԵՐԻ 30-Ի N 2215-Ն ՈՐՈՇՄԱՆ N 1 ՀԱՎԵԼՎԱԾԻ N 1 ԱՂՅՈՒՍԱԿՈՒՄ ԿԱՏԱՐՎՈՂ ՓՈՓՈԽՈՒԹՅՈՒՆԸ
C6: (հազար դրամ)
A7: Պետական բյուջեի դեֆիցիտի ֆինանսավորման աղբյուրներն ու դրանց տարրերի անվանումները | B7: Ցուցանիշների փոփոխությունը (ավելացումները նշված են դրական նշանով)
B8: Առաջին կիսամյակ | C8: Ինն ամիս | D8: Տարի
A9: ԸՆԴԱՄԵՆԸ | B9: =B11 -> 20000 | C9: =C11 -> 0 | D9: =D11 -> 0
A10: այդ թվում՝
A11: Ա.Ներքին աղբյուրներ-ընդամենը | B11: =B13 -> 20000 | C11: =C13 -> 0 | D11: =+D13 -> 0
A12: այդ թվում՝
A13: 2. Ֆինանսական զուտ ակտիվներ | B13: =B14 -> 20000 | C13: =C14 -> 0 | D13: =D14 -> 0
A14: 2.6.Այլ | B14: =SUM(B15:B15) -> 20000 | C14: =SUM(C15:C15) -> 0 | D14: =SUM(D15:D15) -> 0
A15: ժամանակավորապես ազատ միջոցներ | B15: ='Հավելված N 3'!G34 -> 20000 | C15: ='Հավելված N 2'!E10 -> 0 | D15: ='[1]Հավելված 2'!F10 -> 0
A18: ՀԱՅԱՍՏԱՆԻ ՀԱՆՐԱՊԵՏՈՒԹՅԱՆ
A19: ՎԱՐՉԱՊԵՏԻ ԱՇԽԱՏԱԿԱԶՄԻ
A20: ՂԵԿԱՎԱՐ | B20: Ա.ԹՈՐՈՍՅԱՆ

Sheet Հավելված N 2
D1: Հավելված N 2
F2: ՀՀ կառավարության 2021 թվականի
F3: ______________ ի ___Ն որոշման
A5: «ՀԱՅԱUՏԱՆԻ ՀԱՆՐԱՊԵՏՈՒԹՅԱՆ 2021 ԹՎԱԿԱՆԻ ՊԵՏԱԿԱՆ ԲՅՈՒՋԵԻ ՄԱUԻՆ» OՐԵՆՔԻ N 1 ՀԱՎԵԼՎԱԾԻ N 2 ԱՂՅՈՒՍԱԿՈՒՄ ԿԱՏԱՐՎՈՂ ՎԵՐԱԲԱՇԽՈՒՄԸ ԵՎ ՀԱՅԱՍՏԱՆԻ ՀԱՆՐԱՊԵՏՈՒԹՅԱՆ ԿԱՌԱՎԱՐՈՒԹՅԱՆ 2020 ԹՎԱԿԱՆԻ ԴԵԿՏԵՄԲԵՐԻ 30-Ի ԹԻՎ 2215-Ն ՈՐՈՇՄԱՆ N 5 ՀԱՎԵԼՎԱԾԻ N 1 ԱՂՅՈՒՍԱԿՈՒՄ ԿԱՏԱՐՎՈՂ ՓՈՓՈԽՈՒԹՅՈՒՆԸ ԵՎ ԼՐԱՑՈՒՄԸ
E7: (հազար դրամ)
A8: Ծրագրային դասիչը | C8: Բյուջետային հատկացումների գլխավոր կարգադրիչների, ծրագրերի և միջոցառումների անվանումները | D8: Ցուցանիշների փոփոխությունը (ավելացումները նշված են դրական նշանով, իսկ նվազեցումները` փակագծերում)
A9: Ծրագիր | B9: Միջոցառում | D9: Առաջին կիսամյակ | E9: Ինն ամիս | F9: Տարի
C10: ԸՆԴԱՄԵՆԸ | D10: =D11+D30 -> 20000 | E10: =E11+E30 -> 0 | F10: =F11+F30 -> 0
C11: ՀՀ կառավարություն | D11: =+D12 -> 0 | E11: =+E12 -> -20000 | F11: =+F12 -> -20000
A12: 1139 | C12: Ծրագրի անվանումը` | D12: =D18+D24 -> 0 | E12: =E18+E24 -> -20000 | F12: =F18+F24 -> -20000
C13: ՀՀ կառավարության պահուստային ֆոնդ
C14: Ծրագրի նպատակը`
C15: Պետական բյուջեում չկանխատեսված՝ ինչպես նաև բյուջետային երաշխիքների ապահովման ծախսերի ֆինանսավորման ապահովում
C16: Վերջնական արդյունքի նկարագրությունը`
C17: Պահուստային ֆոնդի կառավարման արդյունավետություն և թափանցիկություն
B18: 11001 | C18: Միջոցառման անվանումը` | D18: =+'Հավելված N 3'!G26 -> -20000 | E18: =+'Հավելված N 3'!H26 -> -20000 | F18: =+'Հավելված N 3'!I26 -> -20000
C19: ՀՀ կառավարության պահուստային ֆոնդ
C20: Միջոցառման նկարագրությունը`
C21: ՀՀ պետական բյուջեում նախատեսված ելքերի լրացուցիչ ֆինանսավորման՝ պետական բյուջեում չկանխատեսված ելքերի՝ ինչպես նաև բյուջետային երաշխիքների ապահովման ելքերի ֆինանսավորման ապահովում
C22: Միջոցառման տեսակը
C23: Ծառայությունների մատուցում
B24: 11001 | C24: Միջոցառման անվանումը` | D24: =20000 -> 20000 | E24: =+'Հավելված N 3'!H32 -> 0 | F24: =+'Հավելված N 3'!I32 -> 0
C25: ՀՀ կառավարության պահուստային ֆոնդ
C26: Միջոցառման նկարագրությունը`
C27: ՀՀ պետական բյուջեում նախատեսված ելքերի լրացուցիչ ֆինանսավորման՝ պետական բյուջեում չկանխատեսված ելքերի՝ ինչպես նաև բյուջետային երաշխիքների ապահովման ելքերի ֆինանսավորման ապահովում
C28: Միջոցառման տեսակը
C29: Ծառայությունների մատուցում
C30: ՀՀ տարածքային կառավարման և ենթակառուցվածքների նախարարություն | D30: =+D31 -> 20000 | E30: =+E31 -> 20000 | F30: =+F31 -> 20000
A31: 1212 | C31: Ծրագրի անվանումը՝ | D31: =+D38 -> 20000 | E31: =+E38 -> 20000 | F31: =+F38 -> 20000
C32: Տարածքային զարգացում
C33: Ծրագրի նպատակը՝
C34: Տարածքային համաչափ զարգացման խթանում
C35: Վերջնական արդյունքի նկարագրությունը՝
C36: ՀՀ համայնքների կառավարման արդյունավետության բարձրացում և տնտեսական գործունեության խթանում
A37: Ծրագրի միջոցառումներ
B38: 12025 | C38: Միջոցառման անվանումը՝ | D38: =+'Հավելված N 3'!G50 -> 20000 | E38: =+'Հավելված N 3'!H50 -> 20000 | F38: =+'Հավելված N 3'!I50 -> 20000
C39: Մարզերում առաջնահերթ լուծում պահանջող հիմնախնդիրների լուծում
C40: Միջոցառման նկարագրությունը՝
C41: Մարզերում առաջնահերթ լուծում պահանջող ծրագրերի իրականացում, որի արդյունքում լուծում կտրվի բնակչության և համայնքների սոցիալական նշանակություն ունեցող հիմնախնդիրներին:
C42: Միջոցառման տեսակը՝
...

Sheet Հավելված N 3
H1: Հավելված N 3
G2: ՀՀ կառավարության 2021 թվականի
H3: ______________ ի ___Ն որոշման
B6: ՀԱՅԱՍՏԱՆԻ ՀԱՆՐԱՊԵՏՈՒԹՅԱՆ ԿԱՌԱՎԱՐՈՒԹՅԱՆ 2020 ԹՎԱԿԱՆԻ ԴԵԿՏԵՄԲԵՐԻ30-Ի N 2215-Ն ՈՐՈՇՄԱՆ N 3 և N 4 ՀԱՎԵԼՎԱԾՈՒՄ ԿԱՏԱՐՎՈՂ ՓՈՓՈԽՈՒԹՅՈՒՆԸ ԵՎ ԼՐԱՑՈՒՄԸ
I7: (հազար դրամ)
A8: Գործառական դասիչը | D8: Ծրագրային դասիչը | F8: Բյուջետային ծախսերի գործառական դասակարգման բաժինների, խմբերի և դասերի, բյուջետային ծրագրերի, միջոցառումների բյուջետային հատկացումնեյի գլխավոր կարգադրիչների անվանումները | G8: Ցուցանիշների փոփոխությունը (ավելացումները նշված են դրական նշանով, իսկ նվազեցումները` փակագծերում)
A9: Բաժին | B9: Խումբ | C9: Դաս | D9: Ծրագիր | E9: Միջոցառում
G10: Առաջին կիսամյակ | H10: Ինն ամիս | I10: Տարի
F11: ԸՆԴԱՄԵՆԸ | G11: =+G12+G35 -> 20000 | H11: =+H12+H35 -> 0 | I11: =+I12+I35 -> 0
A12: 11 | F12: ՀԻՄՆԱԿԱՆ ԲԱԺԻՆՆԵՐԻՆ ՉԴԱՍՎՈՂ ՊԱՀՈՒՍՏԱՅԻՆ ՖՈՆԴԵՐ | G12: =+G14 -> 0 | H12: =+H14 -> -20000 | I12: =+I14 -> -20000
F13: այդ թվում`
B14: 01 | F14: ՀՀ կառավարության և համայնքների պահուստային ֆոնդ | G14: =G16 -> 0 | H14: =H16 -> -20000 | I14: =I16 -> -20000
F15: այդ թվում`
C16: 01 | F16: ՀՀ կառավարության պահուստային ֆոնդ | G16: =G18 -> 0 | H16: =H18 -> -20000 | I16: =I18 -> -20000
F17: այդ թվում`
F18: ՀՀ կառավարություն | G18: =G19+G27 -> 0 | H18: =H19+H27 -> -20000 | I18: =I19+I27 -> -20000
D19: 1139 | E19: 11001 | F19: ՀՀ կառավարության պահուստային ֆոնդ | G19: =G21 -> -20000 | H19: =H21 -> -20000 | I19: =I21 -> -20000
F20: այդ թվում` ըստ կատարողների
F21: ՀՀ կառավարություն | G21: =G23 -> -20000 | H21: =H23 -> -20000 | I21: =I23 -> -20000
F22: այդ թվում` բյուջետային ծախսերի տնտեսագիտական դասակարգման հոդվածներ
F23: ԸՆԴԱՄԵՆԸ ԾԱԽՍԵՐ | G23: =G24 -> -20000 | H23: =H24 -> -20000 | I23: =I24 -> -20000
F24: ԸՆԹԱՑԻԿ ԾԱԽՍԵՐ | G24: =G25 -> -20000 | H24: =H25 -> -20000 | I24: =I25 -> -20000
F25: ԱՅԼ ԾԱԽՍԵՐ | G25: =G26 -> -20000 | H25: =H26 -> -20000 | I25: =I26 -> -20000
F26: Պահուստային միջոցներ | G26: -20000 | H26: =+G26 -> -20000 | I26: =+H26 -> -20000
D27: 1139 | E27: 11001 | F27: ՀՀ կառավարության պահուստային ֆոնդ | G27: =G29 -> 20000 | H27: =H29 -> 0 | I27: =I29 -> 0
F28: այդ թվում` ըստ կատարողների
F29: ՀՀ կառավարություն | G29: =G31 -> 20000 | H29: =H31 -> 0 | I29: =I31 -> 0
F30: այդ թվում` բյուջետային ծախսերի տնտեսագիտական դասակարգման հոդվածներ
F31: ԸՆԴԱՄԵՆԸ ԾԱԽՍԵՐ | G31: =G32 -> 20000 | H31: =H32 -> 0 | I31: =I32 -> 0
F32: ԸՆԹԱՑԻԿ ԾԱԽՍԵՐ | G32: =G33 -> 20000 | H32: =H33 -> 0 | I32: =I33 -> 0
F33: ԱՅԼ ԾԱԽՍԵՐ | G33: =G34 -> 20000 | H33: =H34 -> 0 | I33: =I34 -> 0
F34: Պահուստային միջոցներ | G34: 20000
A35: 01 | F35: ԸՆԴՀԱՆՈՒՐ ԲՆՈՒՅԹԻ ՀԱՆՐԱՅԻՆ ԾԱՌԱՅՈՒԹՅՈՒՆՆԵՐ | G35: =+G37 -> 20000 | H35: =+H37 -> 20000 | I35: =+I37 -> 20000
F36: այդ թվում`
B37: 08 | F37: Կառավարության տարբեր մակարդակների միջև իրականացվող ընդհանուր բնույթի տրանսֆերտներ | G37: =+G39 -> 20000 | H37: =+H39 -> 20000 | I37: =+I39 -> 20000
F38: այդ թվում՝
C39: 01 | F39: Կառավարության տարբեր մակարդակների միջև իրականացվող ընդհանուր բնույթի տրանսֆերտներ | G39: =+G40 -> 20000 | H39: =+H40 -> 20000 | I39: =+I40 -> 20000
F40: ՀՀ տարածքային կառավարման և ենթակառուցվածքների նախարարություն | G40: =+G42 -> 20000 | H40: =+H42 -> 20000 | I40: =+I42 -> 20000
F41: այդ թվում`
D42: 1212 | E42: 12025 | F42: Մարզերում առաջնահերթ լուծում պահանջող հիմնախնդիրների լուծում | G42: =+G44 -> 20000 | H42: =+H44 -> 20000 | I42: =+I44 -> 20000
...

Sheet Հավելված N 4
E1: Հավելված N 4
C2: ՀՀ կառավարության 2021 թվականի
D3: ______________ ի ___Ն որոշման
A6: ՀԱՅԱՍՏԱՆԻ ՀԱՆՐԱՊԵՏՈՒԹՅԱՆ ԿԱՌԱՎԱՐՈՒԹՅԱՆ 2020 ԹՎԱԿԱՆԻ ԴԵԿՏԵՄԲԵՐԻ 30-Ի ԹԻՎ 2215-Ն ՈՐՈՇՄԱՆ N 9 ՀԱՎԵԼՎԱԾԻ N 9.8 ԱՂՅՈՒՍԱԿՈՒՄ ԿԱՏԱՐՎՈՂ ԼՐԱՑՈՒՄՆԵՐԸ
A7: ՀՀ տարածքային կառավարման և ենթակառուցվածքների նախարարություն
A9: ՄԱՍ 2. ՊԵՏԱԿԱՆ ՄԱՐՄՆԻ ԳԾՈՎ ԱՐԴՅՈՒՆՔԱՅԻՆ (ԿԱՏԱՐՈՂԱԿԱՆ) ՑՈՒՑԱՆԻՇՆԵՐԸ
B11: Ծրագրի դասիչը | C11: Ծրագրի անվանումը
B12: 1212 | C12: Տարածքային զարգացում
B14: Ծրագրի դասիչը՝ | C14: 1212 | D14: Ցուցանիշների փոփոխությունը (ավելացումները նշված են դրական նշանով)
B15: Միջոցառման դասիչը՝ | C15: 12025 | D15: Առաջին կիսամյակ | E15: Ինն ամիս | F15: Տարի
B16: Միջոցառման անվանումը՝ | C16: Մարզերում առաջնահերթ լուծում պահանջող հիմնախնդիրների լուծում
B17: Նկարագրությունը՝ | C17: Մարզերում առաջնահերթ լուծում պահանջող ծրագրերի իրականացում, որի արդյունքում լուծում կտրվի բնակչության և համայնքների սոցիալական նշանակություն ունեցող հիմնախնդիրներին:
B18: Միջոցառման տեսակը՝ | C18: Տրանսֆերտների տրամադրում
B19: Շահառուների ընտրության չափորոշիչները | C19: կարկտահարությունից տուժված համայնքների բնակիչներ
B20: Արդյունքի չափորոշիչներ
B21: Շահառու համայնքների թիվը, հատ | D21: 18 | E21: 18 | F21: 18
B22: Միջոցառման վրա կատարվող ծախսը (հազար դրամ) | D22: =+'Հավելված N 3'!G49 -> 20000 | E22: =+'Հավելված N 3'!H49 -> 20000 | F22: =+'Հավելված N 3'!I49 -> 20000
B24: ՀԱՅԱՍՏԱՆԻ ՀԱՆՐԱՊԵՏՈՒԹՅԱՆ ԿԱՌԱՎԱՐՈՒԹՅԱՆ 2020 ԹՎԱԿԱՆԻ ԴԵԿՏԵՄԲԵՐԻ 30-Ի N 2215-Ն ՈՐՈՇՄԱՆ N 9 ՀԱՎԵԼՎԱԾԻ N 9.47 ԱՂՅՈՒՍԱԿՈՒՄ ԿԱՏԱՐՎՈՂ ՓՈՓՈԽՈՒԹՅՈՒՆԸ
A27: ՀՀ կառավարություն
B28: Ծրագրի դասիչը | C28: Ծրագրի անվանումը
B29: 1139 | C29: ՀՀ կառավարության պահուստային ֆոնդ
B30: Ծրագրի միջոցառումները
B31: Ծրագրի դասիչը՝ | C31: 1139 | D31: Ցուցանիշների փոփոխությունը (նվազեցումները նշված են փակագծերում)
B32: Միջոցառման դասիչը՝ | C32: 11001 | D32: Առաջին կիսամյակ | E32: Ինն ամիս | F32: Տարի
B33: Միջոցառման անվանումը՝ | C33: ՀՀ կառավարության պահուստային ֆոնդ
B34: Նկարագրությունը՝ | C34: ՀՀ պետական բյուջեում նախատեսված ելքերի լրացուցիչ ֆինանսավորման՝ պետական բյուջեում չկանխատեսված ելքերի, ինչպես նաև բյուջետային երաշխիքների ապահովման ելքերի ֆինանսավորման ապահովում
B35: Միջոցառման տեսակը՝ | C35: Ծառայությունների մատուցում
B36: Միջոցառումն իրականացնողի անվանումը | C36: ՀՀ կառավարություն
C37: Արդյունքի չափորոշիչներ
B38: Միջոցառման վրա կատարվող ծախսը (հազար դրամ) | D38: ='Հավելված N 2'!D11 -> 0 | E38: ='Հավելված N 2'!E11 -> -20000 | F38: ='Հավելված N 2'!F11 -> -20000
C40: ՀԱՅԱՍՏԱՆԻ ՀԱՆՐԱՊԵՏՈՒԹՅԱՆ
C41: ՎԱՐՉԱՊԵՏԻ ԱՇԽԱՏԱԿԱԶՄԻ
C42: ՂԵԿԱՎԱՐ | D42: Ա.ԹՈՐՈՍՅԱՆ

Sheet Հավելված N 5
E1: Հավելված N 5
C2: ՀՀ կառավարության 2021 թվականի
D3: ______________ ի ___Ն որոշման
A6: ՀԱՅԱՍՏԱՆԻ ՀԱՆՐԱՊԵՏՈՒԹՅԱՆ ԿԱՌԱՎԱՐՈՒԹՅԱՆ 2020 ԹՎԱԿԱՆԻ ԴԵԿՏԵՄԲԵՐԻ 30-Ի N 2215-Ն ՈՐՈՇՄԱՆ N 9.1 ՀԱՎԵԼՎԱԾՆԵՐԻ N 9.1.50 ԱՂՅՈՒՍԱԿՈՒՄ ԿԱՏԱՐՎՈՂ ԼՐԱՑՈՒՄՆԵՐԸ
A7: ՀՀ Արմավիրի մարզպետարան
A9: ՄԱՍ 2. ՊԵՏԱԿԱՆ ՄԱՐՄՆԻ ԳԾՈՎ ԱՐԴՅՈՒՆՔԱՅԻՆ (ԿԱՏԱՐՈՂԱԿԱՆ) ՑՈՒՑԱՆԻՇՆԵՐԸ
B11: Ծրագրի դասիչը | C11: Ծրագրի անվանումը
B12: 1212 | C12: Տարածքային զարգացում
B14: Ծրագրի դասիչը՝ | C14: 1212 | D14: Ցուցանիշների փոփոխությունը (ավելացումները նշված են դրական նշանով)
B15: Միջոցառման դասիչը՝ | C15: 12025 | D15: Առաջին կիսամյակ | E15: Ինն ամիս | F15: Տարի
B16: Միջոցառման անվանումը՝ | C16: Մարզերում առաջնահերթ լուծում պահանջող հիմնախնդիրների լուծում
B17: Նկարագրությունը՝ | C17: Մարզերում առաջնահերթ լուծում պահանջող ծրագրերի իրականացում, որի արդյունքում լուծում կտրվի բնակչության և համայնքների սոցիալական նշանակություն ունեցող հիմնախնդիրներին
B18: Միջոցառման տեսակը՝ | C18: Տրանսֆերտների տրամադրում
B19: Շահառուների ընտրության չափորոշիչները | C19: կարկտահարությունից տուժված համայնքների բնակիչներ
B20: Արդյունքի չափորոշիչներ
B21: Շահառու համայնքների թիվը, հատ | D21: 18 | E21: 18 | F21: 18
B22: Միջոցառման վրա կատարվող ծախսը (հազար դրամ) | D22: =+'Հավելված N 4'!D22 -> 20000 | E22: =+'Հավելված N 4'!E22 -> 20000 | F22: =+'Հավելված N 4'!F22 -> 20000
A24: ՀԱՅԱՍՏԱՆԻ ՀԱՆՐԱՊԵՏՈՒԹՅԱՆ ԿԱՌԱՎԱՐՈՒԹՅԱՆ 2020 ԹՎԱԿԱՆԻ ԴԵԿՏԵՄԲԵՐԻ 30-Ի N 2215-Ն ՈՐՈՇՄԱՆ N 9.1 ՀԱՎԵԼՎԱԾԻ N 9.1.58 ԱՂՅՈՒՍԱԿՈՒՄ ԿԱՏԱՐՎՈՂ ՓՈՓՈԽՈՒԹՅՈՒՆԸ
A25: ՀՀ կառավարություն
A26: ՄԱՍ 2. ՊԵՏԱԿԱՆ ՄԱՐՄՆԻ ԳԾՈՎ ԱՐԴՅՈՒՆՔԱՅԻՆ (ԿԱՏԱՐՈՂԱԿԱՆ) ՑՈՒՑԱՆԻՇՆԵՐԸ
B28: Ծրագրի դասիչը | C28: Ծրագրի անվանումը
B29: 1139 | C29: ՀՀ կառավարության պահուստային ֆոնդ
B30: Ծրագրի միջոցառումները
B31: Ծրագրի դասիչը՝ | C31: 1139 | D31: Ցուցանիշների փոփոխությունը (նվազեցումները նշված են փակագծերում)
B32: Միջոցառման դասիչը՝ | C32: 11001 | D32: Առաջին կիսամյակ | E32: Ինն ամիս | F32: Տարի
B33: Միջոցառման անվանումը՝ | C33: ՀՀ կառավարության պահուստային ֆոնդ
B34: Նկարագրությունը՝ | C34: ՀՀ պետական բյուջեում նախատեսված ելքերի լրացուցիչ ֆինանսավորման՝ պետական բյուջեում չկանխատեսված ելքերի, ինչպես նաև բյուջետային երաշխիքների ապահովման ելքերի ֆինանսավորման ապահովում
B35: Միջոցառման տեսակը՝ | C35: Ծառայությունների մատուցում
B36: Միջոցառումն իրականացնողի անվանումը | C36: ՀՀ կառավարություն
C37: Արդյունքի չափորոշիչներ
B38: Միջոցառման վրա կատարվող ծախսը (հազար դրամ) | D38: =+'Հավելված N 4'!D38 -> 0 | E38: =+'Հավելված N 4'!E38 -> -20000 | F38: =+'Հավելված N 4'!F38 -> -20000
C41: ՀԱՅԱՍՏԱՆԻ ՀԱՆՐԱՊԵՏՈՒԹՅԱՆ
C42: ՎԱՐՉԱՊԵՏԻ ԱՇԽԱՏԱԿԱԶՄԻ
C43: ՂԵԿԱՎԱՐ | D43: Ա.ԹՈՐՈՍՅԱՆ
