Workbook
Name շախմատիստ: #REF!
Name շախմատիստ: #REF!
Name շախմատիստ: #REF!

Sheet Հավելված N 1
D1: Հավելված N 1
D2: ՀՀ կառավարության 2021 թվականի
D3: ______________ ի ___Ն որոշման
A4: «ՀԱՅԱՍՏԱՆԻ ՀԱՆՐԱՊԵՏՈՒԹՅԱՆ 2021 ԹՎԱԿԱՆԻ ՊԵՏԱԿԱՆ ԲՅՈՒՋԵԻ ՄԱՍԻՆ» ՕՐԵՆՔԻ N 1 ՀԱՎԵԼՎԱԾԻ N 2 ԱՂՅՈՒՍԱԿՈՒՄ ԿԱՏԱՐՎՈՂ ՎԵՐԱԲԱՇԽՈՒՄԸ ԵՎ ՀԱՅԱՍՏԱՆԻ ՀԱՆՐԱՊԵՏՈՒԹՅԱՆ ԿԱՌԱՎԱՐՈՒԹՅԱՆ 2020 ԹՎԱԿԱՆԻ ԴԵԿՏԵՄԲԵՐԻ 30-Ի N 2215-Ն ՈՐՈՇՄԱՆ N 5 ՀԱՎԵԼՎԱԾԻ N 1 ԱՂՅՈՒՍԱԿՈՒՄ ԿԱՏԱՐՎՈՂ ՓՈՓՈԽՈՒԹՅՈՒՆՆԵՐԸ
F5: հազ. դրամ
A6: Ծրագրային դասիչը | C6: Բյուջետային հատկացումների գլխավոր կարգադրիչների, ծրագրերի և միջոցառումների անվանումները | D6: Ցուցանիշների փոփոխությունը (ավելացումները նշված են դրական նշանով, իսկ նվազեցումները՝ փակագծերում)
A7: ծրագիր | B7: միջոցառում | D7: Առաջին կիսամյակ | E7: Ինն ամիս | F7: Տարի
C8: ԸՆԴԱՄԵՆԸ | D8: =D10 -> 0 | E8: =E10 -> 0 | F8: =F10 -> 0
C9: այդ թվում
A10: ՀՀ կրթության, գիտության, մշակույթի և սպորտի նախարարություն | D10: =D12+D25 -> 0 | E10: =E12+E25 -> 0 | F10: =F12+F25 -> 0
A11: 1192 | C11: Ծրագրի անվանումը`
C12: Կրթության որակի ապահովում | D12: =D19 -> -7427.5 | E12: =E19 -> -63840.8 | F12: =F19 -> -203582.5
C13: Ծրագրի նպատակը`
C14: Ընթացիկ աշխատանքների, բարեփոխումների և նոր նախաձեռնությունների միջոցով ֆորմալ և ոչ-ֆորմալ կրթության ոլորտում իրականացվող միջոցառումների, մատուցվող ծառայությունների բովանդակության և կազմակերպման որակի շարունակական բարելավում
C15: Վերջնական արդյունքի նկարագրությունը`
C16: Նախադպրոցականից մինչև հետբուհական կրթության որակի, այն է սովորողների, միջավայրի, ծրագրերի և ուսումնական նյութերի բովանդակության, գործընթացների, ինչպես նաև վերջնարդյունքների որակի բարելավում ըստ ներպետական և միջազգային ցուցիչների
A17: Ծրագրի միջոցառումներ
B18: 11010 | C18: Միջոցառման անվանումը`
C19: Ատեստավորման նոր համակարգի ներդրում՛ ուղղված ուսուցիչների որակի բարձրացմանը | D19: =-7427.5 -> -7427.5 | E19: =-63840.8 -> -63840.8 | F19: =-203582.5 -> -203582.5
C20: Միջոցառման նկարագրությունը`
C21: Հանրակրթական դպրոցներում դասվանդող ուսուցիչների կամավոր ատեստավորման համակարգի մշակում և ներդրում
C22: Միջոցառման տեսակը
C23: Ծառայությունների մատուցում
A24: 1162 | C24: Ծրագրի անվանումը`
C25: Գիտական և գիտատեխնիկական հետազոտությունների ծրագիր | D25: =D32 -> 7427.5 | E25: =E32 -> 63840.8 | F25: =F32 -> 203582.5
C26: Ծրագրի նպատակը`
C27: Գիտական և գիտատեխնիկական գործունեության հիմնարար, կիրառական և թեմատիկ հետազոտությունների իրականացում, ենթակառուցվածքի և ազգային արժեք ներկայացնող գիտական օբյեկտների պահպանում և զարգացում, գիտական ներուժի վերարտադրության ապահովում£
C28: Վերջնական արդյունքի նկարագրությունը`
C29: Գիտության և տեխնիկայի զարգացման գերակա ուղղությունների հետազոտությունների իրականացում, գիտական ներուժի զարգացում, ազգային արժեք ներկայացնող գիտական օբյեկտների պահպանում
A30: Ծրագրի միջոցառումներ
B31: 11005 | C31: Միջոցառման անվանումը`
C32: Գիտական և գիտատեխնիկական պայմանագրային (թեմատիկ) հետազոտություններ | D32: 7427.5 | E32: 63840.8 | F32: 203582.5
C33: Միջոցառման նկարագրությունը`
C34: Գիտական և գիտատեխնիկական գործունեության պայմանագրային (թեմատիկ) հետազոտություններ
C35: Միջոցառման տեսակը
C36: Ծառայությունների մատուցում

Sheet Հավելված N 2
G1: Հավելված N 2
G2: ՀՀ կառավարության 2021 թվականի
G3: ______________ ի ___Ն որոշման
A4: ՀԱՅԱՍՏԱՆԻ ՀԱՆՐԱՊԵՏՈՒԹՅԱՆ ԿԱՌԱՎԱՐՈՒԹՅԱՆ 2020 ԹՎԱԿԱՆԻ ԴԵԿՏԵՄԲԵՐԻ 30-Ի N 2215-Ն ՈՐՈՇՄԱՆ N 3 և N 4 ՀԱՎԵԼՎԱԾՆԵՐՈՒՄ ԿԱՏԱՐՎՈՂ ՓՈՓՈԽՈՒԹՅՈՒՆՆԵՐԸ
I5: հազ. դրամ
A6: Գործառական դասիչը | D6: Ծրագրային դասիչը | F6: Բյուջետային ծախսերի գործառական դասակարգման բաժինների, խմբերի և դասերի, բյուջետային ծրագրերի միջոցառումների, բյուջետային հատկացումների գլխավոր կարգադրիչների անվանումները | G6: Ցուցանիշների փոփոխությունը (ավելացումները նշված են դրական նշանով, իսկ նվազեցումները՝ փակագծերում )
A7: Բաժին | B7: Խումբ | C7: Դաս | D7: Ծրագիր | E7: Միջոցառում | G7: Առաջին կիսամյակ | H7: Ինն ամիս | I7: Տարի
F8: ԸՆԴԱՄԵՆԸ | G8: =G10 -> 0 | H8: =H10 -> 0 | I8: =I10 -> 0
F9: այդ թվում`
A10: ՀՀ կրթության, գիտության, մշակույթի և սպորտի նախարարություն | G10: =G11+G28 -> 0 | H10: =H11+H28 -> 0 | I10: =I11+I28 -> 0
A11: 09 | F11: ԿՐԹՈՒԹՅՈՒՆ | G11: =G13 -> -7427.5 | H11: =H13 -> -63840.8 | I11: =I13 -> -203582.5
F12: այդ թվում`
B13: 06 | F13: Կրթությանը տրամադրվող օժանդակ ծառայություններ | G13: =G15 -> -7427.5 | H13: =H15 -> -63840.8 | I13: =I15 -> -203582.5
F14: այդ թվում`
C15: 01 | F15: Կրթությանը տրամադրվող օժանդակ ծառայություններ | G15: =G17 -> -7427.5 | H15: =H17 -> -63840.8 | I15: =I17 -> -203582.5
F16: այդ թվում`
D17: 1192 | E17: Կրթության որակի ապահովում | G17: =G19 -> -7427.5 | H17: =H19 -> -63840.8 | I17: =I19 -> -203582.5
F18: այդ թվում`
E19: 11010 | F19: Ատեստավորման նոր համակարգի ներդրում՛ ուղղված ուսուցիչների որակի բարձրացմանը | G19: =G21 -> -7427.5 | H19: =H21 -> -63840.8 | I19: =I21 -> -203582.5
F20: այդ թվում` ըստ կատարողների
F21: ՀՀ կրթության , գիտության, մշակույթի և սպորտի նախարարություն | G21: =G23 -> -7427.5 | H21: =H23 -> -63840.8 | I21: =I23 -> -203582.5
F22: այդ թվում` բյուջետային ծախսերի տնտեսագիտական դասակարգման հոդվածներ
F23: ԸՆԴԱՄԵՆԸ ԾԱԽՍԵՐ | G23: =G24 -> -7427.5 | H23: =H24 -> -63840.8 | I23: =I24 -> -203582.5
F24: ԸՆԹԱՑԻԿ ԾԱԽՍԵՐ | G24: =G25 -> -7427.5 | H24: =H25 -> -63840.8 | I24: =I25 -> -203582.5
F25: ԴՐԱՄԱՇՆՈՐՀՆԵՐ | G25: =G26 -> -7427.5 | H25: =H26 -> -63840.8 | I25: =I26 -> -203582.5
F26: Ընթացիկ դրամաշնորհներ պետական հատվածի այլ մակարդակներին | G26: =G27 -> -7427.5 | H26: =H27 -> -63840.8 | I26: =I27 -> -203582.5
F27: - Ընթացիկ դրամաշնորհներ պետական և համայնքային ոչ առևտրային կազմակերպություններին | G27: ='Հավելված N 1'!D19 -> -7427.5 | H27: ='Հավելված N 1'!E19 -> -63840.8 | I27: ='Հավելված N 1'!F19 -> -203582.5
A28: 01 | F28: ԸՆԴՀԱՆՈՒՐ ԲՆՈՒՅԹԻ ՀԱՆՐԱՅԻՆ ԾԱՌԱՅՈՒԹՅՈՒՆՆԵՐ | G28: =G30 -> 7427.5 | H28: =H30 -> 63840.8 | I28: =I30 -> 203582.5
F29: այդ թվում`
B30: 05 | F30: Ընդհանուր բնույթի հանրային ծառայությունների գծով հետազոտական և նախագծային աշխատանքներ | G30: =G32 -> 7427.5 | H30: =H32 -> 63840.8 | I30: =I32 -> 203582.5
F31: այդ թվում`
C32: 01 | F32: Ընդհանուր բնույթի հանրային ծառայությունների գծով հետազոտական և նախագծային աշխատանքներ | G32: =G34 -> 7427.5 | H32: =H34 -> 63840.8 | I32: =I34 -> 203582.5
F33: այդ թվում`
D34: 1162 | E34: Գիտական և գիտատեխնիկական հետազոտությունների ծրագիր | G34: =G36+G45 -> 7427.5 | H34: =H36+H45 -> 63840.8 | I34: =I36+I45 -> 203582.5
F35: այդ թվում`
E36: 11005 | F36: Գիտական և գիտատեխնիկական պայմանագրային (թեմատիկ) հետազոտություններ | G36: =G38 -> 7427.5 | H36: =H38 -> 63840.8 | I36: =I38 -> 203582.5
F37: այդ թվում` ըստ կատարողների
F38: ՀՀ կրթության , գիտության, մշակույթի և սպորտի նախարարություն | G38: =G40 -> 7427.5 | H38: =H40 -> 63840.8 | I38: =I40 -> 203582.5
F39: այդ թվում` բյուջետային ծախսերի տնտեսագիտական դասակարգման հոդվածներ
F40: ԸՆԴԱՄԵՆԸ ԾԱԽՍԵՐ | G40: =G41 -> 7427.5 | H40: =H41 -> 63840.8 | I40: =I41 -> 203582.5
...

Sheet Հավելված3
G1: Հավելված N 3
G2: ՀՀ կառավարության 2021 թվականի
G3: ______________ ի ___Ն որոշման
A5: ՀԱՅԱՍՏԱՆԻ ՀԱՆՐԱՊԵՏՈՒԹՅԱՆ ԿԱՌԱՎԱՐՈՒԹՅԱՆ 2020 ԹՎԱԿԱՆԻ ԴԵԿՏԵՄԲԵՐԻ 30-Ի N 2215-Ն ՈՐՈՇՄԱՆ N 5 ՀԱՎԵԼՎԱԾԻ N 7 ԱՂՅՈՒՍԱԿՈՒՄ ԿԱՏԱՐՎՈՂ ՓՈՓՈԽՈՒԹՅՈՒՆԸ
G6: հազ. դրամ
A7: Ծրագրային դասիչ | C7: Բյուջետային հատկացումների գլխավոր կարգադրիչների, ծրագրերի, միջոցառումների, ծախսային ուղղությունների անվանումները | F7: Միջոցառումները կատարող պետական մարմինների և դրամաշնորհ ստացող տնտեսվարող սուբյեկտների անվանումները | G7: Ցուցանիշների փոփոխությունը (նվազեցումները նշված են փակագծերում) Տարի
A8: Ծրագիր | B8: Միջոցառում
A9: 1 | B9: 2 | C9: 3 | F9: 4 | G9: 5
A10: ՀՀ կրթության, գիտության, մշակույթի և սպորտի նախարարություն | G10: =G11 -> -203582.5
A11: 1192 | B11: Կրթության որակի ապահովում | G11: =G12 -> -203582.5
B12: 11010 | C12: Ատեստավորման նոր համակարգի ներդրում՝ ուղղված ուսուցիչների որակի բարձրացմանը | F12: ՀՀ կրթության, գիտության, մշակույթի և սպորտի նախարարություն | G12: =G13 -> -203582.5
F13: Ատեստավորված ուսուցիչներ | G13: =-203582.5 -> -203582.5

Sheet Հավելված4
G1: Հավելված N 4
G2: ՀՀ կառավարության 2021 թվականի
G3: ______________ ի ___Ն որոշման
A5: ՀԱՅԱՍՏԱՆԻ ՀԱՆՐԱՊԵՏՈՒԹՅԱՆ ԿԱՌԱՎԱՐՈՒԹՅԱՆ 2020 ԹՎԱԿԱՆԻ ԴԵԿՏԵՄԲԵՐԻ 30-Ի N 2215-Ն ՈՐՈՇՄԱՆ N 5 ՀԱՎԵԼՎԱԾԻ N 7.1 ԱՂՅՈՒՍԱԿՈՒՄ ԿԱՏԱՐՎՈՂ ՓՈՓՈԽՈՒԹՅՈՒՆԸ
G6: հազ. դրամ
A7: Ծրագրային դասիչ | C7: Բյուջետային հատկացումների գլխավոր կարգադրիչների, ծրագրերի, միջոցառումների, ծախսային ուղղությունների անվանումները | F7: Միջոցառումները կատարող պետական մարմինների և դրամաշնորհ ստացող տնտեսվարող սուբյեկտների անվանումները | G7: Ցուցանիշների փոփոխությունը (ավելացումները նշված են դրական նշանով) Տարի
A8: Ծրագիր | B8: Միջոցառում
A9: 1 | B9: 2 | C9: 3 | F9: 4 | G9: 5
A10: ՀՀ կրթության, գիտության, մշակույթի և սպորտի նախարարություն | G10: =G11 -> 203582.5
A11: 1162 | B11: Գիտական և գիտատեխնիկական հետազոտությունների ծրագիր | G11: =G12 -> 203582.5
B12: 11005 | C12: Գիտական և գիտատեխնիկական գործունեության պայմանագրային (թեմատիկ) հետազոտություններ | F12: ՀՀ կրթության, գիտության, մշակույթի և սպորտի նախարարություն | G12: =G14 -> 203582.5
C13: այդ թվում՝ ըստ ուղղությունների
C14: Պայմանագրային (թեմատիկ) հետազոտություններ | F14: մրցույթով ընտրված գիտահետազոտական խմբեր և ֆիզիկական անձինք | G14: =G16 -> 203582.5
C15: այդ թվում
C16: Պայմանագրային (թեմատիկ) հետազոտությունների գիտական թեմաների ֆինանսավորում | F16: մրցույթով ընտրված գիտահետազոտական խմբեր | G16: 203582.5

Sheet Հավելված N5
B1: Հավելված N 5
B2: ՀՀ կառավարության 2021 թվականի
B3: ______________ ի ___Ն որոշման
A5: ՀԱՅԱՍՏԱՆԻ ՀԱՆՐԱՊԵՏՈՒԹՅԱՆ ԿԱՌԱՎԱՐՈՒԹՅԱՆ 2020 ԹՎԱԿԱՆԻ ԴԵԿՏԵՄԲԵՐԻ 30-Ի N 2215-Ն ՈՐՈՇՄԱՆ N 9 ԵՎ N 9.1 ՀԱՎԵԼՎԱԾՆԵՐԻ N 9.14 ԵՎ N 9.1.14 ԱՂՅՈՒՍԱԿՆԵՐՈՒՄ ԿԱՏԱՐՎՈՂ ՓՈՓՈԽՈՒԹՅՈՒՆՆԵՐԸ
D6: հազ. դրամ
A7: ՀՀ կրթության, գիտության, մշակույթի և սպորտի նախարարություն
A8: ՄԱՍ 2. ՊԵՏԱԿԱՆ ՄԱՐՄՆԻ ԳԾՈՎ ԱՐԴՅՈՒՆՔԱՅԻՆ (ԿԱՏԱՐՈՂԱԿԱՆ) ՑՈՒՑԱՆԻՇՆԵՐԸ
A10: Ծրագրի դասիչը | B10: Ծրագրի անվանումը
A11: 1192 | B11: Կրթության որակի ապահովում
A13: Ծրագրի միջոցառումները
A15: Ծրագրի դասիչը` | B15: 1192 | C15: Ցուցանիշների փոփոխությունը (նվազեցումները նշված են փակագծերում)
A16: Միջոցառման դասիչը` | B16: 11010 | C16: Առաջին կիսամյակ | D16: Ինն ամիս | E16: Տարի
A17: Միջոցառման անվանումը` | B17: Ատեստավորման նոր համակարգի ներդրում՛ ուղղված ուսուցիչների որակի բարձրացմանը
A18: Նկարագրությունը` | B18: Հանրակրթական դպրոցներում դասվանդող ուսուցիչների կամավոր ատեստավորման համակարգի մշակում և ներդրում
A19: Միջոցառման տեսակը` | B19: Ծառայությունների մատուցում
A20: Ծառայությունը մատուցող կազմակերպության(ների) անվանում(ներ)ը՛ | B20: Մասնագիտացված կազմակերպություն
A21: Արդյունքի չափորոշիչներ
A22: Կամավոր ատեստավորմանը մասնակցած ուսուցիչների թիվը, մարդ | C22: -691 | D22: -691 | E22: -691
A23: Կամավոր ատեստավորման արդյունքում հավելավճար ստացող ուսուցիչների թվաքանակը | C23: -564 | D23: -564 | E23: -564
A24: Միջոցառման վրա կատարվող ծախսը (հազար դրամ) | C24: ='Հավելված N 1'!D19 -> -7427.5 | D24: ='Հավելված N 1'!E19 -> -63840.8 | E24: ='Հավելված N 1'!F19 -> -203582.5
A26: Ծրագրի դասիչը | B26: Ծրագրի անվանումը
A27: 1162 | B27: Գիտական և գիտատեխնիկական հետազոտությունների ծրագիր
A29: Ծրագրի միջոցառումները
A31: Ծրագրի դասիչը` | B31: 1162 | C31: Ցուցանիշների փոփոխությունը (ավելացումները նշված են դրական նշանով)
A32: Միջոցառման դասիչը` | B32: 11005 | C32: Առաջին կիսամյակ | D32: Ինն ամիս | E32: Տարի
A33: Միջոցառման անվանումը` | B33: Գիտական և գիտատեխնիկական պայմանագրային (թեմատիկ) հետազոտություններ
A34: Նկարագրությունը` | B34: Գիտական և գիտատեխնիկական գործունեության պայմանագրային (թեմատիկ) հետազոտություններ
A35: Միջոցառման տեսակը` | B35: Ծառայությունների մատուցում
A36: Ծառայությունը մատուցող կազմակերպության(ների) անվանում(ներ)ը՛ | B36: Մրցույթով ընտրված կազմակերպություններ, մասնագիտացված կազմակերպություններ
A37: Արդյունքի չափորոշիչներ
A38: Թեմաների թիվ, հատ | C38: 4 | D38: 11 | E38: 26
A39: Թեմաներում ներգրավված կանանց թվաքանակ, մարդ | E39: 44
A40: Միջոցառման վրա կատարվող ծախսը (հազար դրամ) | C40: ='Հավելված N 1'!D32 -> 7427.5 | D40: ='Հավելված N 1'!E32 -> 63840.8 | E40: ='Հավելված N 1'!F32 -> 203582.5
