Workbook

Sheet Հավելված 1
F1: Հավելված N 1
A2: «ՀԱՅԱՍՏԱՆԻ ՀԱՆՐԱՊԵՏՈՒԹՅԱՆ 2021 ԹՎԱԿԱՆԻ ՊԵՏԱԿԱՆ ԲՅՈՒՋԵԻ ՄԱՍԻՆ» ՀԱՅԱՍՏԱՆԻ ՀԱՆՐԱՊԵՏՈՒԹՅԱՆ ՕՐԵՆՔԻ N 1 ՀԱՎԵԼՎԱԾԻ N 2 ԱՂՅՈՒՍԱԿՈՒՄ ԿԱՏԱՐՎՈՂ ՎԵՐԱԲԱՇԽՈՒՄԸ ԵՎ ՀԱՅԱՍՏԱՆԻ ՀԱՆՐԱՊԵՏՈՒԹՅԱՆ ԿԱՌԱՎԱՐՈՒԹՅԱՆ 2020 ԹՎԱԿԱՆԻ ԴԵԿՏԵՄԲԵՐԻ 30-Ի N 2215-Ն ՈՐՈՇՄԱՆ N 5 ՀԱՎԵԼՎԱԾԻ N 1 ԱՂՅՈՒՍԱԿՈՒՄ ԿԱՏԱՐՎՈՂ ՓՈՓՈԽՈՒԹՅՈՒՆՆԵՐԸ
F3: հազ. դրամ
A4: Ծրագրային դասիչը | C4: Բյուջետային հատկացումների գլխավոր կարգադրիչների, ծրագրերի և միջոցառումների անվանումները | D4: Ցուցանիշների փոփոխությունը (ավելացումները նշված են դրական նշանով, իսկ նվազեցումները՝ փակագծերում)
A5: Ծրագիր | B5: Միջոցառում | D5: Առաջին կիսամյակ | E5: Ինն ամիս | F5: Տարի
C6: ԸՆԴԱՄԵՆԸ | D6: =D7 -> -2.7284841e-12 | E6: =E7 -> 0 | F6: =F7 -> 0
C7: ՀՀ պետական եկամուտների կոմիտե | D7: =D8 -> -2.7284841e-12 | E7: =E8 -> 0 | F7: =F8 -> 0
A8: 1023 | C8: Ծրագրի անվանումը՝ | D8: =D15+D21+D27 -> -2.7284841e-12 | E8: =E15+E21+E27 -> 0 | F8: =F15+F21+F27 -> 0
C9: Հարկային և մաքսային ծառայություններ
C10: Ծրագրի նպատակը՝
C11: Հարկային և մաքսային միասնական պետական քաղաքականության իրականացում, հարկային և մաքսային օրենսդրության ամբողջական և համահավասար կիրառում
C12: Վերջնական արդյունքի նկարագրությունը՝
C13: Արդյունավետ հարկային և մաքսային հսկողության իրականացում, պետական բյուջեի եկամուտների ապահովում
A14: Ծրագրի միջոցառումներ
B15: 11001 | C15: Միջոցառման անվանումը՝ | D15: ='Հավելված 3'!G17 -> -4377.8 | E15: ='Հավելված 3'!H17 -> -25835.034 | F15: ='Հավելված 3'!I17 -> -25835.034
C16: Հարկային և մաքսային ծառայություններ
C17: Միջոցառման նկարագրությունը՝
C18: Հարկային և մաքսային քաղաքականության մշակման, պլանավորման, մոնիթորինգի, ծրագրերի համակարգման, գանձման, վերահսկողության և աջակցության ծառայություններ
C19: Միջոցառման տեսակը՝
C20: Ծառայության մատուցում
B21: 31004 | C21: Միջոցառման անվանումը` | D21: ='Հավելված 3'!G27 -> 4377.8 | E21: ='Հավելված 3'!H27 -> 4377.8 | F21: ='Հավելված 3'!I27 -> 4377.8
C22: ՀՀ պետական եկամուտների կոմիտեի շենքային պայմանների բարելավում
C23: Միջոցառման նկարագրությունը`
C24: ՀՀ պետական եկամուտների կոմիտեի շենքերի և շինությունների կապիտալ վերանորոգում, նախագծային աշխատանքների ձեռքբերում
C25: Միջոցառման տեսակը
C26: Պետական մարմինների կողմից օգտագործվող ոչ ֆինանսական ակտիվների հետ գործառնություններ
B27: 31005 | C27: Միջոցառման անվանումը | D27: ='Հավելված 3'!G36 -> 0 | E27: ='Հավելված 3'!H36 -> 21457.234 | F27: ='Հավելված 3'!I36 -> 21457.234
C28: ՀՀ պետական եկամուտների կոմիտեի շենքային պայմաններով ապահովում
C29: Միջոցառման նկարագրությունը
C30: ՀՀ պետական եկամուտների կոմիտեի շենքային պայմաններով ապահովման համար հողի և շենք-շինությունների ձեռքբերում
C31: Միջոցառման տեսակը
C32: Պետական մարմինների կողմից օգտագործվող ոչ ֆինանսական ակտիվների հետ գործառնություններ

Sheet Հավելված 2
H1: Հավելված N 2
A2: «ՀԱՅԱՍՏԱՆԻ ՀԱՆՐԱՊԵՏՈՒԹՅԱՆ 2021 ԹՎԱԿԱՆԻ ՊԵՏԱԿԱՆ ԲՅՈՒՋԵԻ ՄԱՍԻՆ» ՀԱՅԱՍՏԱՆԻ ՀԱՆՐԱՊԵՏՈՒԹՅԱՆ ՕՐԵՆՔԻ N 1 ՀԱՎԵԼՎԱԾԻ N 3 ԱՂՅՈՒՍԱԿՈՒՄ ԿԱՏԱՐՎՈՂ ՓՈՓՈԽՈՒԹՅՈՒՆՆԵՐԸ ԵՎ ԼՐԱՑՈՒՄՆԵՐԸ
H3: հազ. դրամ
A4: Ծրագրային դասիչ | C4: Բյուջետային գլխավոր կարգադրիչների, ծրագրերի, միջոցառումների և ուղղությունների անվանումները | D4: Ցուցանիշների փոփոխությունը (ավելացումները նշված են դրական նշանով)
D5: Ընդամենը | E5: այդ թվում՝
E6: Կառուցման աշխատանքներ | F6: Վերակառուցման, վերանորոգման և վերականգնման աշխատանքներ | G6: Նախագծահետազոտական, գեոդեզա-քարտեզագրական աշխատանքներ | H6: Ոչ ֆինանսական այլ ակտիվների ձեռքբերում
A7: Ծրագիր | B7: Միջոցառում
C8: ԸՆԴԱՄԵՆԸ | D8: =D10 -> 25835.034 | E8: =E10 -> 0 | F8: =F10 -> 0 | G8: =G10 -> 4377.8 | H8: =H10 -> 21457.234
C9: այդ թվում՝
C10: ՀՀ ՊԵՏԱԿԱՆ ԵԿԱՄՈՒՏՆԵՐԻ ԿՈՄԻՏԵ | D10: =D12+D15 -> 25835.034 | E10: =E12+E15 -> 0 | F10: =F12+F15 -> 0 | G10: =G12+G15 -> 4377.8 | H10: =H12+H15 -> 21457.234
C11: այդ թվում`
A12: 1023 | B12: 31004 | C12: ՀՀ պետական եկամուտների կոմիտեի շենքային պայմանների բարելավում | D12: =E12+F12+G12+H12 -> 4377.8 | E12: =E13+E14 -> 0 | F12: =F13+F14 -> 0 | G12: =G13+G14 -> 4377.8 | H12: =H13+H14 -> 0
C13: Արևմտյան մաքսատուն-վարչության Երևան թիվ 42 հասցեում գտնվող վարչական շենքի տարածքի վերանորոգման նախագծանախահաշվային փաստաթղթերի կազմման աշխատանքներ | D13: =SUM(E13:H13) -> 977.8 | G13: ='Հավելված 4'!F14 -> 977.8
C14: ՀՀ Սյունիքի մարզի ք. Սիսիան, Երևան մայրուղի 7-րդ կմ-ում գտնվող Հարավային մաքսատուն-վարչության տարածքում վերանորոգման նախագծանախահաշվային փաստաթղթերի կազմման աշխատանքներ | D14: =SUM(E14:H14) -> 3400 | G14: ='Հավելված 4'!F15 -> 3400
A15: 1023 | B15: 31005 | C15: ՀՀ պետական եկամուտների կոմիտեի շենքային պայմաններով ապահովում | D15: =SUM(E15:H15) -> 21457.234 | E15: =E17+E16+E19 -> 0 | F15: =F17+F16+F19 -> 0 | G15: =G17+G16+G19 -> 0 | H15: =SUM(H16:H27) -> 21457.234
C16: Սյունիքի մարզ Կարճևան համայնք Մայրուղի 10 հասցեի շինություն | D16: =SUM(E16:H16) -> 1059 | H16: ='Հավելված 4'!F20 -> 1059
C17: Սյունիքի մարզ Կարճևան համայնք Մայրուղի 10 հասցեի հողամաս | D17: =SUM(E17:H17) -> 1001 | H17: ='Հավելված 4'!F21 -> 1001
C18: Սյունիքի մարզ Կարճևան համայնք Մայրուղի 2 շինություն | D18: =SUM(E18:H18) -> 925 | H18: ='Հավելված 4'!F22 -> 925
C19: Սյունիքի մարզ Կարճևան համայնք Մայրուղի 2 հողամաս | D19: =SUM(E19:H19) -> 1230 | H19: ='Հավելված 4'!F23 -> 1230
C20: Սյունիքի մարզ Կարճևան համայնք Մայրուղի 5 շինություն | D20: =SUM(E20:H20) -> 1039 | H20: ='Հավելված 4'!F24 -> 1039
C21: Սյունիքի մարզ Կարճևան համայնք Մայրուղի 5 հողամաս | D21: =SUM(E21:H21) -> 784 | H21: ='Հավելված 4'!F25 -> 784
C22: Սյունիքի մարզ Կարճևան համայնք Մայրուղի շինություն | D22: =SUM(E22:H22) -> 772 | H22: ='Հավելված 4'!F26 -> 772
C23: Սյունիքի մարզ Կարճևան համայնք Մայրուղի հողամաս | D23: =SUM(E23:H23) -> 918 | H23: ='Հավելված 4'!F27 -> 918
C24: Սյունիքի մարզ Կարճևան համայնք հողամաս | D24: =SUM(E24:H24) -> 158 | H24: ='Հավելված 4'!F28 -> 158
C25: Սյունիքի մարզ ք․ Ագարակ Չարենցի փողոցի հարակից տարածք | D25: =SUM(E25:H25) -> 1653.234 | H25: ='Հավելված 4'!F29 -> 1653.234
C26: Շիրակի մարզ ք. Գյումրի, Թբիլիսյան խճուղի 2/16 հասցեի հողամաս | D26: =SUM(E26:H26) -> 9685 | H26: ='Հավելված 4'!F30 -> 9685
C27: Շիրակի մարզ ք. Գյումրի, Թբիլիսյան խճուղի 2/16 հասցեի շենք-շինություններ | D27: =SUM(E27:H27) -> 2233 | H27: ='Հավելված 4'!F31 -> 2233
C28: =SUM(C23:C27) -> 0

Sheet Հավելված 3
I1: Հավելված N 3
A2: ՀԱՅԱՍՏԱՆԻ ՀԱՆՐԱՊԵՏՈՒԹՅԱՆ ԿԱՌԱՎԱՐՈՒԹՅԱՆ 2020 ԹՎԱԿԱՆԻ ԴԵԿՏԵՄԲԵՐԻ 30-Ի N 2215-Ն ՈՐՈՇՄԱՆ NN 3 ԵՎ 4 ՀԱՎԵԼՎԱԾՆԵՐԻ ԱՂՅՈՒՍԱԿՆԵՐՈՒՄ ԿԱՏԱՐՎՈՂ ՓՈՓՈԽՈՒԹՅՈՒՆՆԵՐԸ ԵՎ ԼՐԱՑՈՒՄՆԵՐԸ
I3: հազ. դրամ
A4: Գործառնական դասիչը | D4: Ծրագրային դասիչը | F4: Բյուջետային ծախսերի գործառնական դասակարգման բաժինների, խմբերի և դասերի, բյուջետային ծրագրերի միջոցառումների, բյուջետային հատկացումների գլխավոր կարգադրիչների անվանումները | G4: Ցուցանիշների փոփոխությունը (ավելացումները նշված են դրական նշանով, իսկ նվազեցումները՝ փակագծերում)
A5: բաժին | B5: խումբ | C5: դաս | D5: ծրագիր | E5: միջոցառում | G5: Առաջին կիսամյակ | H5: Ինն ամիս | I5: Տարի
F6: ԸՆԴԱՄԵՆԸ ԾԱԽՍԵՐ | G6: =G8 -> -2.7284841e-12 | H6: =H8 -> 0 | I6: =I8 -> 0
F7: այդ թվում՝
A8: 01 | F8: ԸՆԴՀԱՆՈՒՐ ԲՆՈՒՅԹԻ ՀԱՆՐԱՅԻՆ ԾԱՌԱՅՈՒԹՅՈՒՆՆԵՐ | G8: =G10 -> -2.7284841e-12 | H8: =H10 -> 0 | I8: =I10 -> 0
F9: այդ թվում՝
B10: 01 | F10: Օրենսդիր և գործադիր մարմիններ, պետական կառավարում, ֆինանսական և հարկաբյուջետային հարաբերություններ, արտաքին հարաբերություններ | G10: =G12 -> -2.7284841e-12 | H10: =H12 -> 0 | I10: =I12 -> 0
F11: այդ թվում՝
C12: 02 | F12: Ֆինանսական և հարկաբյուջետային հարաբերություններ | G12: =G14 -> -2.7284841e-12 | H12: =H14 -> 0 | I12: =I14 -> 0
F13: այդ թվում՝
F14: ՀՀ պետական եկամուտների կոմիտե | G14: =G15 -> -2.7284841e-12 | H14: =H15 -> 0 | I14: =I15 -> 0
D15: 1023 | F15: Հարկային և մաքսային ծառայություններ | G15: =G17+G27+G36 -> -2.7284841e-12 | H15: =H17+H27+H36 -> 0 | I15: =I17+I27+I36 -> 0
F16: այդ թվում՝
E17: 11001 | F17: Հարկային և մաքսային ծառայություններ | G17: =G19 -> -4377.8 | H17: =H19 -> -25835.034 | I17: =I19 -> -25835.034
F18: այդ թվում՝ ըստ կատարողների
F19: ՀՀ պետական եկամուտների կոմիտե | G19: =G21 -> -4377.8 | H19: =H21 -> -25835.034 | I19: =I21 -> -25835.034
F20: այդ թվում՝ բյուջետային ծախսերի տնտեսագիտական դասակարգման հոդվածներ
F21: ԸՆԴԱՄԵՆԸ ԾԱԽՍԵՐ | G21: =G22 -> -4377.8 | H21: =H22 -> -25835.034 | I21: =I22 -> -25835.034
F22: ԸՆԹԱՑԻԿ ԾԱԽՍԵՐ | G22: =G23 -> -4377.8 | H22: =H23 -> -25835.034 | I22: =I23 -> -25835.034
F23: ԾԱՌԱՅՈՒԹՅՈՒՆՆԵՐԻ ԵՎ ԱՊՐԱՆՔՆԵՐԻ ՁԵՌՔԲԵՐՈՒՄ | G23: =G24 -> -4377.8 | H23: =H24 -> -25835.034 | I23: =I24 -> -25835.034
F24: Պայմանագրային այլ ծառայությունների ձեռքբերում | G24: =G25+G26 -> -4377.8 | H24: =H25+H26 -> -25835.034 | I24: =I25+I26 -> -25835.034
F25: - Համակարգչային ծառայություններ | G25: =-G26-G35-G47-G44 -> -49827.8 | H25: =-H26-H35-H47-H44 -> -71285.034 | I25: =-I26-I35-I47-I44 -> -71285.034
F26: - Ընդհանուր բնույթի այլ ծառայություններ | G26: 45450 | H26: 45450 | I26: 45450
E27: 31004 | F27: ՀՀ պետական եկամուտների կոմիտեի շենքային պայմանների բարելավում | G27: =G29 -> 4377.8 | H27: =H29 -> 4377.8 | I27: =I29 -> 4377.8
F28: այդ թվում` ըստ կատարողների
F29: ՀՀ պետական եկամուտների կոմիտե | G29: =G31 -> 4377.8 | H29: =H31 -> 4377.8 | I29: =I31 -> 4377.8
F30: այդ թվում` բյուջետային ծախսերի տնտեսագիտական դասակարգման հոդվածներ
F31: ԸՆԴԱՄԵՆԸ ԾԱԽՍԵՐ | G31: =G32 -> 4377.8 | H31: =H32 -> 4377.8 | I31: =I32 -> 4377.8
F32: ՈՉ ՖԻՆԱՆՍԱԿԱՆ ԱԿՏԻՎՆԵՐԻ ԳԾՈՎ ԾԱԽՍԵՐ | G32: =G33 -> 4377.8 | H32: =H33 -> 4377.8 | I32: =I33 -> 4377.8
F33: ՀԻՄՆԱԿԱՆ ՄԻՋՈՑՆԵՐ | G33: =G35 -> 4377.8 | H33: =H35 -> 4377.8 | I33: =I35 -> 4377.8
F34: ԱՅԼ ՀԻՄՆԱԿԱՆ ՄԻՋՈՑՆԵՐ | G34: =G35 -> 4377.8 | H34: =H35 -> 4377.8 | I34: =I35 -> 4377.8
F35: - Նախագծահետազոտական ծախսեր | G35: ='Հավելված 4'!D14+'Հավելված 4'!D15 -> 4377.8 | H35: ='Հավելված 4'!E14+'Հավելված 4'!E15 -> 4377.8 | I35: ='Հավելված 4'!F14+'Հավելված 4'!F15 -> 4377.8
E36: 31005 | F36: ՀՀ պետական եկամուտների կոմիտեի շենքային պայմաններով ապահովում | G36: =G38 -> 0 | H36: =H38 -> 21457.234 | I36: =I38 -> 21457.234
F37: այդ թվում՝ ըստ կատարողների
F38: ՀՀ պետական եկամուտների կոմիտե | G38: =G40 -> 0 | H38: =H40 -> 21457.234 | I38: =I40 -> 21457.234
F39: այդ թվում՝ բյուջետային ծախսերի տնտեսագիտական դասակարգման հոդվածներ
F40: ԸՆԴԱՄԵՆԸ ԾԱԽՍԵՐ | G40: =G41 -> 0 | H40: =H41 -> 21457.234 | I40: =I41 -> 21457.234
F41: ՈՉ ՖԻՆԱՆՍԱԿԱՆ ԱԿՏԻՎՆԵՐԻ ԳԾՈՎ ԾԱԽՍԵՐ | G41: =G45+G42 -> 0 | H41: =H45+H42 -> 21457.234 | I41: =I45+I42 -> 21457.234
F42: ՀԻՄՆԱԿԱՆ ՄԻՋՈՑՆԵՐ | G42: =G43 -> 0 | H42: =H43 -> 6028 | I42: =I43 -> 6028
F43: ՇԵՆՔԵՐ ԵՎ ՇԻՆՈՒԹՅՈՒՆՆԵՐ | G43: =G44 -> 0 | H43: =H44 -> 6028 | I43: =I44 -> 6028
F44: - Շենքերի և շինությունների ձեռքբերում | G44: ='Հավելված 4'!D20+'Հավելված 4'!D22+'Հավելված 4'!D24+'Հավելված 4'!D26+'Հավելված 4'!D31 -> 0 | H44: ='Հավելված 4'!E20+'Հավելված 4'!E22+'Հավելված 4'!E24+'Հավելված 4'!E26+'Հավելված 4'!E31 -> 6028 | I44: ='Հավելված 4'!F20+'Հավելված 4'!F22+'Հավելված 4'!F24+'Հավելված 4'!F26+'Հավելված 4'!F31 -> 6028
F45: ՉԱՐՏԱԴՐՎԱԾ ԱԿՏԻՎՆԵՐ | G45: =G46 -> 0 | H45: =H46 -> 15429.234 | I45: =I46 -> 15429.234
F46: ՀՈՂ | G46: =G47 -> 0 | H46: =H47 -> 15429.234 | I46: =I47 -> 15429.234
F47: - Հող | G47: 0 | H47: =+'Հավելված 4'!E21+'Հավելված 4'!E23+'Հավելված 4'!E25+'Հավելված 4'!E27+'Հավելված 4'!E28+'Հավելված 4'!E29+'Հավելված 4'!E30 -> 15429.234 | I47: =+'Հավելված 4'!F21+'Հավելված 4'!F23+'Հավելված 4'!F25+'Հավելված 4'!F27+'Հավելված 4'!F28+'Հավելված 4'!F29+'Հավելված 4'!F30 -> 15429.234

Sheet Հավելված 4
F1: Հավելված N 4
A2: ՀԱՅԱՍՏԱՆԻ ՀԱՆՐԱՊԵՏՈՒԹՅԱՆ ԿԱՌԱՎԱՐՈՒԹՅԱՆ 2020 ԹՎԱԿԱՆԻ ԴԵԿՏԵՄԲԵՐԻ 30-Ի N 2215-Ն ՈՐՈՇՄԱՆ N 5 ՀԱՎԵԼՎԱԾԻ N 2 ԱՂՅՈՒՍԱԿՈՒՄ ԿԱՏԱՐՎՈՂ ՓՈՓՈԽՈՒԹՅՈՒՆՆԵՐԸ ԵՎ ԼՐԱՑՈՒՄՆԵՐԸ
F3: հազ. դրամ
A4: Ծրագրային դասիչը | C4: Բյուջետային գլխավոր կարգադրիչների, ծրագրերի, միջոցառումների, միջոցառումները կատարող պետական մարմինների և ուղղությունների անվանումները | D4: Ցուցանիշների փոփոխությունը (ավելացումները նշված են դրական նշանով)
A5: Ծրագիրը | B5: Միջոցառումը | D5: Առաջին կիսամյակ | E5: Ինն ամիս | F5: Տարի
C6: ԸՆԴԱՄԵՆԸ | D6: =D8 -> 4377.8 | E6: =E8 -> 25835.034 | F6: =F8 -> 25835.034
C7: այդ թվում՝
C8: ՀՀ ՊԵՏԱԿԱՆ ԵԿԱՄՈՒՏՆԵՐԻ ԿՈՄԻՏԵ | D8: =D10+D16 -> 4377.8 | E8: =E10+E16 -> 25835.034 | F8: =F10+F16 -> 25835.034
C9: այդ թվում`
A10: 1023 | B10: 31004 | C10: ՀՀ պետական եկամուտների կոմիտեի շենքային ապահովվածության բարելավում | D10: =D12 -> 4377.8 | E10: =E12 -> 4377.8 | F10: =F12 -> 4377.8
C11: այդ թվում` ըստ կատարողների
C12: ՀՀ պետական եկամուտների կոմիտե | D12: =D14+D15 -> 4377.8 | E12: =E14+E15 -> 4377.8 | F12: =F14+F15 -> 4377.8
C13: այդ թվում` ըստ ուղղությունների
C14: Արևմտյան մաքսատուն-վարչության Երևան թիվ 42 հասցեում գտնվող վարչական շենքի տարածքի վերանորոգման նախագծանախահաշվային փաստաթղթերի կազմման աշխատանքներ | D14: 977.8 | E14: 977.8 | F14: 977.8
C15: ՀՀ Սյունիքի մարզի ք. Սիսիան, Երևան մայրուղի 7-րդ կմ-ում գտնվող Հարավային մաքսատուն-վարչության տարածքում վերանորոգման նախագծանախահաշվային փաստաթղթերի կազմման աշխատանքներ | D15: 3400 | E15: 3400 | F15: 3400
A16: 1023 | B16: 31005 | C16: ՀՀ պետական եկամուտների կոմիտեի շենքային պայմաններով ապահովում | D16: =D18 -> 0 | E16: =E18 -> 21457.234 | F16: =F18 -> 21457.234
C17: այդ թվում՝ ըստ կատարողների
C18: ՀՀ պետական եկամուտների կոմիտե | D18: =D23+D20+D21+D22+D24+D25+D26+D27+D28+D29+D30+D31 -> 0 | E18: =E23+E20+E21+E22+E24+E25+E26+E27+E28+E29+E30+E31 -> 21457.234 | F18: =F23+F20+F21+F22+F24+F25+F26+F27+F28+F29+F30+F31 -> 21457.234
C19: այդ թվում՝ ըստ ուղղությունների
C20: Սյունիքի մարզ Կարճևան համայնք Մայրուղի 10 հասցեի շինություն | D20: 0 | E20: 1059 | F20: 1059
C21: Սյունիքի մարզ Կարճևան համայնք Մայրուղի 10 հասցեի հողամաս | D21: 0 | E21: 1001 | F21: 1001
C22: Սյունիքի մարզ Կարճևան համայնք Մայրուղի 2 շինություն | D22: 0 | E22: 925 | F22: 925
C23: Սյունիքի մարզ Կարճևան համայնք Մայրուղի 2 հողամաս | D23: 0 | E23: 1230 | F23: 1230
C24: Սյունիքի մարզ Կարճևան համայնք Մայրուղի 5 շինություն | D24: 0 | E24: 1039 | F24: 1039
C25: Սյունիքի մարզ Կարճևան համայնք Մայրուղի 5 հողամաս | D25: 0 | E25: 784 | F25: 784
C26: Սյունիքի մարզ Կարճևան համայնք Մայրուղի շինություն | D26: 0 | E26: 772 | F26: 772
C27: Սյունիքի մարզ Կարճևան համայնք Մայրուղի հողամաս | D27: 0 | E27: 918 | F27: 918
C28: Սյունիքի մարզ Կարճևան համայնք հողամաս | D28: 0 | E28: 158 | F28: 158
C29: Սյունիքի մարզ ք․ Ագարակ Չարենցի փողոցի հարակից տարածք | D29: 0 | E29: 1653.234 | F29: 1653.234
C30: Շիրակի մարզ ք. Գյումրի, Թբիլիսյան խճուղի 2/16 հասցեի հողամաս | D30: 0 | E30: 9685 | F30: 9685
C31: Շիրակի մարզ ք. Գյումրի, Թբիլիսյան խճուղի 2/16 հասցեի շենք-շինություններ | D31: 0 | E31: 2233 | F31: 2233

Sheet Հավելված 5 աղյուսակներ 1,2
E1: Հավելված N 5
E2: Աղյուսակ N 1
A3: ՀԱՅԱՍՏԱՆԻ ՀԱՆՐԱՊԵՏՈՒԹՅԱՆ ԿԱՌԱՎԱՐՈՒԹՅԱՆ 2020 ԹՎԱԿԱՆԻ ԴԵԿՏԵՄԲԵՐԻ 30-Ի N 2215-Ն ՈՐՈՇՄԱՆ N 9 ՀԱՎԵԼՎԱԾԻ N 9.26 ԱՂՅՈՒՍԱԿՈՒՄ ԿԱՏԱՐՎՈՂ ՓՈՓՈԽՈՒԹՅՈՒՆՆԵՐԸ
A5: ՀՀ պետական եկամուտների կոմիտե
A7: ՄԱՍ 2. ՊԵՏԱԿԱՆ ՄԱՐՄՆԻ ԳԾՈՎ ԱՐԴՅՈՒՆՔԱՅԻՆ (ԿԱՏԱՐՈՂԱԿԱՆ) ՑՈՒՑԱՆԻՇՆԵՐԸ
A9: Ծրագրի դասիչը | B9: Ծրագրի անվանումը
A10: 1023 | B10: Հարկային և մաքսային ծառայություններ
A12: Ծրագրի միջոցառումները
A14: Ծրագրի դասիչը՝ | B14: 1023 | C14: Ցուցանիշների փոփոխությունը (նվազեցումները նշված են փակագծերում)
A15: Միջոցառման դասիչը՝ | B15: 11001 | C15: Առաջին կիսամյակ | D15: Ինն ամիս | E15: Տարի
A16: Միջոցառման անվանումը՝ | B16: Հարկային և մաքսային ծառայություններ
A17: Նկարագրությունը՝ | B17: Հարկային և մաքսային քաղաքականության մշակման, պլանավորման, մոնիտորինգի, ծրագրերի համակարգման, գանձման, վերահսկողության և աջակցության ծառայություններ
A18: Միջոցառման տեսակը՝ | B18: Ծառայությունների մատուցում
A19: Ծառայությունը մատուցող կազմակերպության անվանումը | B19: ՀՀ պետական եկամուտների կոմիտե
B20: Արդյունքի չափորոշիչներ
A21: Միջոցառման վրա կատարվող ծախսը (հազար դրամ) | C21: ='Հավելված 3'!G17 -> -4377.8 | D21: ='Հավելված 3'!H17 -> -25835.034 | E21: ='Հավելված 3'!I17 -> -25835.034
A24: Ծրագրի դասիչը` | B24: 1023 | C24: Ցուցանիշների փոփոխությունը (ավելացումները նշված են դրական նշանով)
A25: Միջոցառման դասիչը` | B25: 31004 | C25: Առաջին կիսամյակ | D25: Ինն ամիս | E25: Տարի
A26: Միջոցառման անվանումը` | B26: ՀՀ պետական եկամուտների կոմիտեի շենքային պայմանների բարելավում
A27: Նկարագրությունը` | B27: ՀՀ պետական եկամուտների կոմիտեի շենքերի և շինությունների կապիտալ վերանորոգում, նախագծային աշխատանքների ձեռքբերում
A28: Միջոցառման տեսակը` | B28: Պետական մարմինների կողմից օգտագործվող ոչ ֆինանսական ակտիվների հետ գործառնություններ
A29: Միջոցառումն իրականացնողի անվանումը | B29: ՀՀ պետական եկամուտների կոմիտե
B30: Արդյունքի չափորոշիչներ
A31: Նախագծվող մակերես, քմ | C31: 9687 | D31: 9687 | E31: 9687
A32: Նախագծվող աշխատանքների ավարտվածության աստիճանը, տոկոս | C32: 100 | D32: 100 | E32: 100
A33: Նախագծահետազոտական փաստաթղթերի թիվ, հատ | C33: 2 | D33: 2 | E33: 2
A34: Միջոցառման վրա կատարվող ծախսը (հազար դրամ) | C34: ='Հավելված 3'!G27 -> 4377.8 | D34: ='Հավելված 3'!H27 -> 4377.8 | E34: ='Հավելված 3'!I27 -> 4377.8
A36: Ծրագրի դասիչը` | B36: 1023 | C36: Ցուցանիշների փոփոխությունը (ավելացումները նշված են դրական նշանով)
A37: Միջոցառման դասիչը` | B37: 31005 | C37: Առաջին կիսամյակ | D37: Ինն ամիս | E37: Տարի
A38: Միջոցառման անվանումը` | B38: ՀՀ պետական եկամուտների կոմիտեի շենքային պայմաններով ապահովում
A39: Նկարագրությունը` | B39: ՀՀ պետական եկամուտների կոմիտեի շենքային պայմաններով ապահովման համար հողի և շենք-շինությունների ձեռքբերում
A40: Միջոցառման տեսակը` | B40: Պետական մարմինների կողմից օգտագործվող ոչ ֆինանսական ակտիվների հետ գործառնություններ
A41: Միջոցառումն իրականացնողի անվանումը | B41: ՀՀ պետական եկամուտների կոմիտե
B42: Արդյունքի չափորոշիչներ
A43: Սյունիքի մարզ,Կարճևան գյուղից ձեռք բերվող հողամասի մակերեսը (ք/մ) | D43: =(0.06+0.075+0.045+0.055)*10000 -> 2350 | E43: =(0.06+0.075+0.045+0.055)*10000 -> 2350
A44: Սյունիքի մարզ,Կարճևան գյուղից ձեռք բերվող շենքի և շինության քանակը (հատ) | D44: 4 | E44: 4
A45: Սյունիքի մարզ,Կարճևան գյուղից ձեռք բերվող շենքի և շինության մակերեսը (ք/մ) | D45: =38.1+38.1+37.3+36.9 -> 150.4 | E45: =38.1+38.1+37.3+36.9 -> 150.4
A46: Սյունիքի մարզի Ագարակ քաղաքից ձեռք բերվող հողամասի մակերեսը (ք/մ) | D46: 1354 | E46: 1354
A47: քաղ. Գյումրի, Թբիլիսյան խճուղի 2/16 հասցեի ձեռք բերվող հողատարածքի մակերեսը (ք/մ) | D47: 1148.9 | E47: 1148.9
A48: քաղ. Գյումրի, Թբիլիսյան խճուղի 2/16 հասցեի ձեռք բերվող շենքի և շինության քանակը (հատ) | D48: 1 | E48: 1
A49: քաղ. Գյումրի, Թբիլիսյան խճուղի 2/16 հասցեի ձեռք բերվող շենքի և շինության մակերեսը (ք/մ) | D49: 195.57 | E49: 195.57
A50: Միջոցառման վրա կատարվող ծախսը (հազար դրամ) | C50: ='Հավելված 3'!G36 -> 0 | D50: ='Հավելված 3'!H36 -> 21457.234 | E50: ='Հավելված 3'!I36 -> 21457.234
E51: Աղյուսակ N 2
A52: ՀԱՅԱՍՏԱՆԻ ՀԱՆՐԱՊԵՏՈՒԹՅԱՆ ԿԱՌԱՎԱՐՈՒԹՅԱՆ 2019 ԹՎԱԿԱՆԻ ԴԵԿՏԵՄԲԵՐԻ 30-Ի N 2215-Ն ՈՐՈՇՄԱՆ N 9.1 ՀԱՎԵԼՎԱԾԻ N 9.1.28 ԱՂՅՈՒՍԱԿՈՒՄ ԿԱՏԱՐՎՈՂ ՓՈՓՈԽՈՒԹՅՈՒՆՆԵՐԸ
A54: ՀՀ պետական եկամուտների կոմիտե
A56: ՄԱՍ 1. ՊԵՏԱԿԱՆ ՄԱՐՄՆԻ ԳԾՈՎ ԱՐԴՅՈՒՆՔԱՅԻՆ (ԿԱՏԱՐՈՂԱԿԱՆ) ՑՈՒՑԱՆԻՇՆԵՐԸ
A58: Ծրագրի դասիչը | B58: Ծրագրի անվանումը
A59: 1023 | B59: Հարկային և մաքսային ծառայություններ
A61: Ծրագրի միջոցառումները
A63: Ծրագրի դասիչը՝ | B63: 1023 | C63: Ցուցանիշների փոփոխությունը (նվազեցումները նշված են փակագծերում)
A64: Միջոցառման դասիչը՝ | B64: 11001 | C64: Առաջին կիսամյակ | D64: Ինն ամիս | E64: Տարի
A65: Միջոցառման անվանումը՝ | B65: Հարկային և մաքսային ծառայություններ
A66: Նկարագրությունը՝ | B66: Հարկային և մաքսային քաղաքականության մշակման, պլանավորման, մոնիտորինգի, ծրագրերի համակարգման, գանձման, վերահսկողության և աջակցության ծառայություններ
A67: Միջոցառման տեսակը՝ | B67: Ծառայությունների մատուցում
A68: Ծառայությունը մատուցող կազմակերպության անվանումը | B68: ՀՀ պետական եկամուտների կոմիտե
B69: Արդյունքի չափորոշիչներ
A70: Միջոցառման վրա կատարվող ծախսը (հազար դրամ) | C70: ='Հավելված 3'!G17 -> -4377.8 | D70: ='Հավելված 3'!H17 -> -25835.034 | E70: ='Հավելված 3'!I17 -> -25835.034
A73: Ծրագրի դասիչը` | B73: 1023 | C73: Ցուցանիշների փոփոխությունը (ավելացումները նշված են դրական նշանով)
A74: Միջոցառման դասիչը` | B74: 31004 | C74: Առաջին կիսամյակ | D74: Ինն ամիս | E74: Տարի
A75: Միջոցառման անվանումը` | B75: ՀՀ պետական եկամուտների կոմիտեի շենքային պայմանների բարելավում
A76: Նկարագրությունը` | B76: ՀՀ պետական եկամուտների կոմիտեի շենքերի և շինությունների կապիտալ վերանորոգում, նախագծային աշխատանքների ձեռքբերում
A77: Միջոցառման տեսակը` | B77: Պետական մարմինների կողմից օգտագործվող ոչ ֆինանսական ակտիվների հետ գործառնություններ
A78: Միջոցառումն իրականացնողի անվանումը | B78: ՀՀ պետական եկամուտների կոմիտե
B79: Արդյունքի չափորոշիչներ
A80: Նախագծվող մակերես, քմ | C80: 9687 | D80: 9687 | E80: 9687
A81: Նախագծվող աշխատանքների ավարտվածության աստիճանը, տոկոս | C81: 100 | D81: 100 | E81: 100
A82: Նախագծահետազոտական փաստաթղթերի թիվ, հատ | C82: 2 | D82: 2 | E82: 2
A83: Միջոցառման վրա կատարվող ծախսը (հազար դրամ) | C83: ='Հավելված 3'!G27 -> 4377.8 | D83: ='Հավելված 3'!H27 -> 4377.8 | E83: ='Հավելված 3'!I27 -> 4377.8
A85: Ծրագրի դասիչը` | B85: 1023 | C85: Ցուցանիշների փոփոխությունը (ավելացումները նշված են դրական նշանով)
A86: Միջոցառման դասիչը` | B86: 31005 | C86: Առաջին կիսամյակ | D86: Ինն ամիս | E86: Տարի
A87: Միջոցառման անվանումը` | B87: ՀՀ պետական եկամուտների կոմիտեի շենքային պայմաններով ապահովում
A88: Նկարագրությունը` | B88: ՀՀ պետական եկամուտների կոմիտեի շենքային պայմաններով ապահովման համար հողի և շենք-շինությունների ձեռքբերում
A89: Միջոցառման տեսակը` | B89: Պետական մարմինների կողմից օգտագործվող ոչ ֆինանսական ակտիվների հետ գործառնություններ
A90: Միջոցառումն իրականացնողի անվանումը | B90: ՀՀ պետական եկամուտների կոմիտե
B91: Արդյունքի չափորոշիչներ
A92: Սյունիքի մարզ,Կարճևան գյուղից ձեռք բերվող հողամասի մակերեսը (ք/մ) | D92: =(0.06+0.075+0.045+0.055)*10000 -> 2350 | E92: =(0.06+0.075+0.045+0.055)*10000 -> 2350
A93: Սյունիքի մարզ,Կարճևան գյուղից ձեռք բերվող շենքի և շինության քանակը (հատ) | D93: 4 | E93: 4
A94: Սյունիքի մարզ,Կարճևան գյուղից ձեռք բերվող շենքի և շինության մակերեսը (ք/մ) | D94: =38.1+38.1+37.3+36.9 -> 150.4 | E94: =38.1+38.1+37.3+36.9 -> 150.4
A95: Սյունիքի մարզի Ագարակ քաղաքից ձեռք բերվող հողամասի մակերեսը (ք/մ) | D95: 1354 | E95: 1354
A96: քաղ. Գյումրի, Թբիլիսյան խճուղի 2/16 հասցեի ձեռք բերվող հողատարածքի մակերեսը (ք/մ) | D96: 1148.9 | E96: 1148.9
A97: քաղ. Գյումրի, Թբիլիսյան խճուղի 2/16 հասցեի ձեռք բերվող շենքի և շինության քանակը (հատ) | D97: 1 | E97: 1
A98: քաղ. Գյումրի, Թբիլիսյան խճուղի 2/16 հասցեի ձեռք բերվող շենքի և շինության մակերեսը (ք/մ) | D98: 195.57 | E98: 195.57
A99: Միջոցառման վրա կատարվող ծախսը (հազար դրամ) | C99: ='Հավելված 3'!G36 -> 0 | D99: ='Հավելված 3'!H36 -> 21457.234 | E99: ='Հավելված 3'!I36 -> 21457.234

Sheet Հավելված 6
G1: Հավելված N 6
A2: ՀԱՅԱՍՏԱՆԻ ՀԱՆՐԱՊԵՏՈՒԹՅԱՆ ԿԱՌԱՎԱՐՈՒԹՅԱՆ 2020 ԹՎԱԿԱՆԻ ԴԵԿՏԵՄԲԵՐԻ 30-Ի N 2215-Ն ՈՐՈՇՄԱՆ N 10 ՀԱՎԵԼՎԱԾՈՒՄ ԿԱՏԱՐՎՈՂ ՓՈՓՈԽՈՒԹՅՈՒՆՆԵՐԸ ՈՒ ԼՐԱՑՈՒՄՆԵՐԸ
A4: Գնման առարկայի | E4: Ցուցանիշների փոփոխությունը (ավելացումները նշված են դրական նշանով, իսկ նվազեցումները՝ փակագծերում)
A5: կոդը | B5: անվանումը | C5: գնման ձևը | D5: չափի միավորը | E5: միավորի գինը | F5: քանակը | G5: Գումարը (հազար դրամ)
A7: ՀՀ պետական եկամուտների կոմիտե | G7: =G8 -> 0
A8: Բաժին N 01 | B8: Խումբ N 01 | C8: Դաս N 02 | D8: Ֆինանսական և հարկաբյուջետային հարաբերություններ | G8: =G9+G13+G17 -> 0
A9: 1023 11001 | B9: Հարկային և մաքսային ծառայություններ | G9: =G10 -> -25835.034
B10: ՄԱՍ III. ԾԱՌԱՅՈՒԹՅՈՒՆՆԵՐ | G10: =G11+G12 -> -25835.034
A11: 72261160-2 | B11: ծրագրային ապահովման սպասարկման ծառայություններ | C11: ԲՄ | D11: դրամ | G11: ='Հավելված 3'!I25 -> -71285.034
A12: 50311210-501 | B12: տեղեկատվական տեխնոլոգիաների սարքերի պահպանման ծառայություններ | C12: ԳՀ | D12: դրամ | E12: 45450000 | F12: 1 | G12: ='Հավելված 3'!I26 -> 45450
A13: 1023 31004 | B13: ՀՀ պետական եկամուտների կոմիտեի շենքային պայմանների բարելավում | G13: =G14 -> 4377.8
B14: ՄԱՍ III. ԾԱՌԱՅՈՒԹՅՈՒՆՆԵՐ | G14: =G15+G16 -> 4377.8
A15: 71241200-505 | B15: նախագծերի պատրաստում, ծախսերի գնահատում | C15: ԳՀ | D15: դրամ | E15: 3400000 | F15: 1 | G15: 3400
A16: 71241200-506 | B16: նախագծերի պատրաստում, ծախսերի գնահատում | C16: ԳՀ | D16: դրամ | E16: 977800 | F16: 1 | G16: 977.8
A17: 1023 31005 | B17: ՀՀ պետական եկամուտների կոմիտեի շենքային պայմաններով ապահովում | G17: =G18 -> 21457.234
B18: ՄԱՍ III. ԾԱՌԱՅՈՒԹՅՈՒՆՆԵՐ | G18: =SUM(G19:G30) -> 21457.234
A19: 70121190 | B19: բնակելի անշարժ գույքի գնման ծառայություններ | C19: ՄԱ | D19: դրամ | E19: 1059000 | F19: 1 | G19: 1059
A20: 70121140 | B20: հողերի գնման ծառայություններ | C20: ՄԱ | D20: դրամ | E20: 1001000 | F20: 1 | G20: 1001
A21: 70121190 | B21: բնակելի անշարժ գույքի գնման ծառայություններ | C21: ՄԱ | D21: դրամ | E21: 925000 | F21: 1 | G21: 925
A22: 70121140 | B22: հողերի գնման ծառայություններ | C22: ՄԱ | D22: դրամ | E22: 1230000 | F22: 1 | G22: 1230
A23: 70121190 | B23: բնակելի անշարժ գույքի գնման ծառայություններ | C23: ՄԱ | D23: դրամ | E23: 1039000 | F23: 1 | G23: 1039
A24: 70121140 | B24: հողերի գնման ծառայություններ | C24: ՄԱ | D24: դրամ | E24: 784000 | F24: 1 | G24: 784
A25: 70121190 | B25: բնակելի անշարժ գույքի գնման ծառայություններ | C25: ՄԱ | D25: դրամ | E25: 772000 | F25: 1 | G25: 772
A26: 70121140 | B26: հողերի գնման ծառայություններ | C26: ՄԱ | D26: դրամ | E26: 918000 | F26: 1 | G26: 918
A27: 70121140 | B27: հողերի գնման ծառայություններ | C27: ՄԱ | D27: դրամ | E27: 1653234 | F27: 1 | G27: 1653.234
A28: 70121140 | B28: հողերի գնման ծառայություններ | C28: ՄԱ | D28: դրամ | E28: 158000 | F28: 1 | G28: 158
A29: 70121190 | B29: բնակելի անշարժ գույքի գնման ծառայություններ | C29: ՄԱ | D29: դրամ | E29: 2233000 | F29: 1 | G29: 2233
A30: 70121140 | B30: հողերի գնման ծառայություններ | C30: ՄԱ | D30: դրամ | E30: 9685000 | F30: 1 | G30: 9685
