Workbook
Name շախմատիստ: #REF!
Name շախմատիստ: #REF!
Name շախմատիստ: #REF!

Sheet Հավելված N 1
D1: Հավելված N 1
D2: ՀՀ կառավարության 2021 թվականի
D3: ______________ ի ___Ն որոշման
A4: «ՀԱՅԱՍՏԱՆԻ ՀԱՆՐԱՊԵՏՈՒԹՅԱՆ 2021 ԹՎԱԿԱՆԻ ՊԵՏԱԿԱՆ ԲՅՈՒՋԵԻ ՄԱՍԻՆ» ՕՐԵՆՔԻ N 1 ՀԱՎԵԼՎԱԾԻ N 2 ԱՂՅՈՒՍԱԿՈՒՄ ԿԱՏԱՐՎՈՂ ՎԵՐԱԲԱՇԽՈՒՄԸ ԵՎ ՀԱՅԱՍՏԱՆԻ ՀԱՆՐԱՊԵՏՈՒԹՅԱՆ ԿԱՌԱՎԱՐՈՒԹՅԱՆ 2020 ԹՎԱԿԱՆԻ ԴԵԿՏԵՄԲԵՐԻ 30-Ի N 2215-Ն ՈՐՈՇՄԱՆ N 5 ՀԱՎԵԼՎԱԾԻ N 1 ԱՂՅՈՒՍԱԿՈՒՄ ԿԱՏԱՐՎՈՂ ԼՐԱՑՈՒՄԸ ԵՎ ՓՈՓՈԽՈՒԹՅՈՒՆԸ
F5: հազ. դրամ
A6: Ծրագրային դասիչը | C6: Բյուջետային հատկացումների գլխավոր կարգադրիչների, ծրագրերի և միջոցառումների անվանումները | D6: Ցուցանիշների փոփոխությունը (ավելացումները նշված են դրական նշանով, իսկ նվազեցումները՝ փակագծերում)
A7: ծրագիր | B7: միջոցառում | D7: Առաջին կիսամյակ | E7: Ինն ամիս | F7: Տարի
C8: ԸՆԴԱՄԵՆԸ | D8: =+D10 -> 0 | E8: =+E10 -> 0 | F8: =+F10 -> 0
C9: այդ թվում
A10: ՀՀ կրթության, գիտության, մշակույթի և սպորտի նախարարություն | D10: =+D12+D25 -> 0 | E10: =+E12+E25 -> 0 | F10: =+F12+F25 -> 0
A11: 1041 | C11: Ծրագրի անվանումը`
C12: Մեծ նվաճումների սպորտ | D12: =+D19 -> 50000 | E12: =+E19 -> 50000 | F12: =+F19 -> 50000
C13: Ծրագրի նպատակը`
C14: Նպաստել Հայաստանում մեծ սպորտի շարունակական զարգացմանը և միջազգային հարթակներում ՀՀ դիրքի բարելավմանը
C15: Վերջնական արդյունքի նկարագրությունը`
C16: ՀՀ առաջնությունների ընդլայնում, միջազգային սպորտային միջոցառումներին մասնակցության և նվաճումների ապահովում
C17: Ծրագրի միջոցառումներ
B18: 11033 | C18: Միջոցառման անվանումը`
C19: Օժանդակություն «Հայաստանի ֆուտբոլի ֆեդերացիա» ՀԿ-ին | D19: =+'Հավելված N 2'!G19 -> 50000 | E19: =+'Հավելված N 2'!H19 -> 50000 | F19: =+'Հավելված N 2'!I19 -> 50000
C20: Միջոցառման նկարագրությունը`
C21: Աջակցություն «Հայաստանի ֆուտբոլի ֆեդերացիա» ՀԿ-ին ընթացիկ ծախսերի կատարման համար
C22: Միջոցառման տեսակը
C23: Ծառայությունների մատուցում
A24: 1192 | C24: Ծրագրի անվանումը`
C25: Կրթության որակի ապահովում | D25: =+D32 -> -50000 | E25: =+E32 -> -50000 | F25: =+F32 -> -50000
C26: Ծրագրի նպատակը`
C27: Ընթացիկ աշխատանքների, բարեփոխումների և նոր նախաձեռնությունների միջոցով ֆորմալ և ոչ-ֆորմալ կրթության ոլորտում իրականացվող միջոցառումների, մատուցվող ծառայությունների բովանդակության և կազմակերպման որակի շարունակական բարելավում
C28: Վերջնական արդյունքի նկարագրությունը`
C29: Նախադպրոցականից մինչև հետբուհական կրթության որակի, այն է սովորողների, միջավայրի, ծրագրերի և ուսումնական նյութերի բովանդակության, գործընթացների, ինչպես նաև վերջնարդյունքների որակի բարելավում ըստ ներպետական և միջազգային ցուցիչների
C30: Ծրագրի միջոցառումներ՝
B31: 11010 | C31: Միջոցառման անվանումը`
C32: Ատեստավորման նոր համակարգի ներդրում՛ ուղղված ուսուցիչների որակի բարձրացմանը | D32: =+'Հավելված N 2'!G38 -> -50000 | E32: =+'Հավելված N 2'!H38 -> -50000 | F32: =+'Հավելված N 2'!I38 -> -50000
C33: Միջոցառման նկարագրությունը`
C34: Հանրակրթական դպրոցներում դասվանդող ուսուցիչների կամավոր ատեստավորման համակարգի մշակում և ներդրում
C35: Միջոցառման տեսակը
C36: Ծառայությունների մատուցում
C37: Ծառայությունների մատուցում

Sheet Հավելված N 2
G1: Հավելված N 2
G2: ՀՀ կառավարության 2021 թվականի
G3: ______________ ի ___Ն որոշման
A4: ՀԱՅԱՍՏԱՆԻ ՀԱՆՐԱՊԵՏՈՒԹՅԱՆ ԿԱՌԱՎԱՐՈՒԹՅԱՆ 2020 ԹՎԱԿԱՆԻ ԴԵԿՏԵՄԲԵՐԻ 30-Ի N 2215-Ն ՈՐՈՇՄԱՆ N 3 և N 4 ՀԱՎԵԼՎԱԾՆԵՐՈՒՄ ԿԱՏԱՐՎՈՂ ԼՐԱՑՈՒՄԸ ԵՎ ՓՈՓՈԽՈՒԹՅՈՒՆԸ
I5: հազ. դրամ
A6: Գործառական դասիչը | D6: Ծրագրային դասիչը | F6: Բյուջետային ծախսերի գործառական դասակարգման բաժինների, խմբերի և դասերի, բյուջետային ծրագրերի միջոցառումների, բյուջետային հատկացումների գլխավոր կարգադրիչների անվանումները | G6: Ցուցանիշների փոփոխությունը (ավելացումները նշված են դրական նշանով, իսկ նվազեցումները՝ փակագծերում )
A7: Բաժին | B7: Խումբ | C7: Դաս | D7: Ծրագիր | E7: Միջոցառում | G7: Առաջին կիսամյակ | H7: Ինն ամիս | I7: Տարի
F8: ԸՆԴԱՄԵՆԸ | G8: =+G10 -> 0 | H8: =+H10 -> 0 | I8: =+I10 -> 0
F9: այդ թվում`
A10: ՀՀ կրթության, գիտության, մշակույթի և սպորտի նախարարություն | G10: =+G11+G28 -> 0 | H10: =+H11+H28 -> 0 | I10: =+I11+I28 -> 0
A11: 08 | F11: ՀԱՆԳԻՍՏ, ՄՇԱԿՈՒՅԹ ԵՎ ԿՐՈՆ | G11: =+G13 -> 50000 | H11: =+H13 -> 50000 | I11: =+I13 -> 50000
F12: այդ թվում`
B13: 01 | F13: Հանգստի և սպորտի ծառայություններ | G13: =+G15 -> 50000 | H13: =+H15 -> 50000 | I13: =+I15 -> 50000
F14: այդ թվում`
C15: 01 | F15: Հանգստի և սպորտի ծառայություններ | G15: =+G17 -> 50000 | H15: =+H17 -> 50000 | I15: =+I17 -> 50000
F16: այդ թվում`
D17: 1041 | E17: Մեծ նվաճումների սպորտ | G17: =+G19 -> 50000 | H17: =+H19 -> 50000 | I17: =+I19 -> 50000
F18: այդ թվում`
E19: 11033 | F19: Օժանդակություն «Հայաստանի ֆուտբոլի ֆեդերացիա» ՀԿ-ին | G19: =+G21 -> 50000 | H19: =+H21 -> 50000 | I19: =+I21 -> 50000
F20: այդ թվում` ըստ կատարողների
F21: ՀՀ կրթության, գիտության, մշակույթի և սպորտի նախարարություն | G21: =+G23 -> 50000 | H21: =+H23 -> 50000 | I21: =+I23 -> 50000
F22: այդ թվում՝ բյուջետային ծախսերի տնտեսագիտական դասակարգման հոդվածներ
F23: ԸՆԴԱՄԵՆԸ ԾԱԽՍԵՐ | G23: =+G24 -> 50000 | H23: =+H24 -> 50000 | I23: =+I24 -> 50000
F24: ԸՆԹԱՑԻԿ ԾԱԽՍԵՐ | G24: =+G25 -> 50000 | H24: =+H25 -> 50000 | I24: =+I25 -> 50000
F25: ԴՐԱՄԱՇՆՈՐՀՆԵՐ | G25: =+G26 -> 50000 | H25: =+H26 -> 50000 | I25: =+I26 -> 50000
F26: Ընթացիկ դրամաշնորհներ պետական հատվածի այլ մակարդակներին | G26: =+G27 -> 50000 | H26: =+H27 -> 50000 | I26: =+I27 -> 50000
F27: - Այլ ընթացիկ դրամաշնորհներ | G27: 50000 | H27: 50000 | I27: 50000
A28: 09 | F28: ԿՐԹՈՒԹՅՈՒՆ | G28: =G30 -> -50000 | H28: =H30 -> -50000 | I28: =I30 -> -50000
F29: այդ թվում`
B30: 06 | F30: Կրթությանը տրամադրվող օժանդակ ծառայություններ | G30: =G32 -> -50000 | H30: =H32 -> -50000 | I30: =I32 -> -50000
F31: այդ թվում`
C32: 01 | F32: Կրթությանը տրամադրվող օժանդակ ծառայություններ | G32: =G34 -> -50000 | H32: =H34 -> -50000 | I32: =I34 -> -50000
F33: այդ թվում`
D34: 1192 | E34: Կրթության որակի ապահովում | G34: =+G36 -> -50000 | H34: =+H36 -> -50000 | I34: =+I36 -> -50000
F35: այդ թվում`
E36: 11010 | F36: Ատեստավորման նոր համակարգի ներդրում՛ ուղղված ուսուցիչների որակի բարձրացմանը | G36: =G38 -> -50000 | H36: =H38 -> -50000 | I36: =I38 -> -50000
F37: այդ թվում` ըստ կատարողների
F38: ՀՀ կրթության , գիտության, մշակույթի և սպորտի նախարարություն | G38: =G40 -> -50000 | H38: =H40 -> -50000 | I38: =I40 -> -50000
F39: այդ թվում` բյուջետային ծախսերի տնտեսագիտական դասակարգման հոդվածներ
F40: ԸՆԴԱՄԵՆԸ ԾԱԽՍԵՐ | G40: =G41 -> -50000 | H40: =H41 -> -50000 | I40: =I41 -> -50000
F41: ԸՆԹԱՑԻԿ ԾԱԽՍԵՐ | G41: =G42 -> -50000 | H41: =H42 -> -50000 | I41: =I42 -> -50000
F42: ԴՐԱՄԱՇՆՈՐՀՆԵՐ | G42: =G43 -> -50000 | H42: =H43 -> -50000 | I42: =I43 -> -50000
F43: Ընթացիկ դրամաշնորհներ պետական հատվածի այլ մակարդակներին | G43: =G44 -> -50000 | H43: =H44 -> -50000 | I43: =I44 -> -50000
F44: - Ընթացիկ դրամաշնորհներ պետական և համայնքային ոչ առևտրային կազմակերպություններին | G44: -50000 | H44: -50000 | I44: -50000

Sheet Հավելված3
G1: Հավելված N 3
G2: ՀՀ կառավարության 2021 թվականի
G3: ______________ ի ___Ն որոշման
A5: ՀԱՅԱՍՏԱՆԻ ՀԱՆՐԱՊԵՏՈՒԹՅԱՆ ԿԱՌԱՎԱՐՈՒԹՅԱՆ 2020 ԹՎԱԿԱՆԻ ԴԵԿՏԵՄԲԵՐԻ 30-Ի N 2215-Ն ՈՐՈՇՄԱՆ N 5 ՀԱՎԵԼՎԱԾԻ N 7 ԱՂՅՈՒՍԱԿՈՒՄ ԿԱՏԱՐՎՈՂ ԼՐԱՑՈՒՄԸ ԵՎ ՓՈՓՈԽՈՒԹՅՈՒՆԸ
G6: հազ. դրամ
A7: Ծրագրային դասիչ | C7: Բյուջետային հատկացումների գլխավոր կարգադրիչների, ծրագրերի, միջոցառումների, ծախսային ուղղությունների անվանումները | F7: Միջոցառումները կատարող պետական մարմինների և դրամաշնորհ ստացող տնտեսվարող սուբյեկտների անվանումները | G7: Ցուցանիշների փոփոխությունը (ավելացումները նշված են դրական նշանով) Տարի
A8: Ծրագիր | B8: Միջոցառում
A9: 1 | B9: 2 | C9: 3 | F9: 4 | G9: 5
A10: ՀՀ կրթության, գիտության, մշակույթի և սպորտի նախարարություն | G10: =+G11+G14 -> 0
A11: 1192 | B11: Կրթության որակի ապահովում | G11: =+G12 -> -50000
B12: 11010 | C12: Ատեստավորման նոր համակարգի ներդրում՝ ուղղված ուսուցիչների որակի բարձրացմանը | F12: ՀՀ կրթության, գիտության, մշակույթի և սպորտի նախարարություն | G12: =G13 -> -50000
F13: Ատեստավորված ուսուցիչներ | G13: =+'Հավելված N 1'!F32 -> -50000
A14: 1041 | B14: Մեծ նվաճումների սպորտ | G14: =G15 -> 50000
B15: 110033 | C15: Օժանդակություն «Հայաստանի ֆուտբոլի ֆեդերացիա» ՀԿ-ին | F15: ՀՀ կրթության, գիտության, մշակույթի և սպորտի նախարարություն | G15: =G16 -> 50000
F16: «Հայաստանի ֆուտբոլի ֆեդերացիա» ՀԿ | G16: =+'Հավելված N 1'!F19 -> 50000

Sheet Հավելված N4
B1: Հավելված N 4
B2: ՀՀ կառավարության 2021 թվականի
B3: ______________ ի ___Ն որոշման
A5: ՀԱՅԱՍՏԱՆԻ ՀԱՆՐԱՊԵՏՈՒԹՅԱՆ ԿԱՌԱՎԱՐՈՒԹՅԱՆ 2020 ԹՎԱԿԱՆԻ ԴԵԿՏԵՄԲԵՐԻ 30-Ի N 2215-Ն ՈՐՈՇՄԱՆ N 9 ՀԱՎԵԼՎԱԾԻ N 9.14 ԱՂՅՈՒՍԱԿՈՒՄ ԿԱՏԱՐՎՈՂ ԼՐԱՑՈՒՄԸ ԵՎ ՓՈՓՈԽՈՒԹՅՈՒՆԸ
D6: հազ. դրամ
A8: ՀՀ կրթության, գիտության, մշակույթի և սպորտի նախարարություն | E8: 9.14
A9: ՄԱՍ 2. ՊԵՏԱԿԱՆ ՄԱՐՄՆԻ ԳԾՈՎ ԱՐԴՅՈՒՆՔԱՅԻՆ (ԿԱՏԱՐՈՂԱԿԱՆ) ՑՈՒՑԱՆԻՇՆԵՐԸ
A11: Ծրագրի դասիչը | B11: Ծրագրի անվանումը
A12: 1192 | B12: Կրթության որակի ապահովում
A14: Ծրագրի միջոցառումները
A16: Ծրագրի դասիչը` | B16: 1192 | C16: Ցուցանիշների փոփոխությունը (նվազեցումները նշված են փակագծերում)
A17: Միջոցառման դասիչը` | B17: 11010 | C17: Առաջին կիսամյակ | D17: Ինն ամիս | E17: Տարի
A18: Միջոցառման անվանումը` | B18: Ատեստավորման նոր համակարգի ներդրում՛ ուղղված ուսուցիչների որակի բարձրացմանը
A19: Նկարագրությունը` | B19: Հանրակրթական դպրոցներում դասվանդող ուսուցիչների կամավոր ատեստավորման համակարգի մշակում և ներդրում
A20: Միջոցառման տեսակը` | B20: Ծառայությունների մատուցում
A21: Ծառայությունը մատուցող կազմակերպության(ների) անվանում(ներ)ը՛ | B21: Մասնագիտացված կազմակերպություն
A22: Արդյունքի չափորոշիչներ
A23: Կամավոր ատեստավորմանը մասնակցած ուսուցիչների թիվը, մարդ | C23: -169 | D23: -169 | E23: -169
A24: Կամավոր ատեստավորման արդյունքում հավելավճար ստացող ուսուցիչների թվաքանակը | C24: -138 | D24: -138 | E24: -138
A25: Միջոցառման վրա կատարվող ծախսը (հազար դրամ) | C25: ='Հավելված N 1'!D32 -> -50000 | D25: ='Հավելված N 1'!E32 -> -50000 | E25: ='Հավելված N 1'!F32 -> -50000
A27: Ծրագրի դասիչը | B27: Ծրագրի անվանումը
A28: 1041 | B28: Մեծ նվաճումների սպորտ
A30: Ծրագրի միջոցառումները
A32: Ծրագրի դասիչը` | B32: 1041 | C32: Ցուցանիշների փոփոխությունը (ավելացումները նշված են դրական նշանով)
A33: Միջոցառման դասիչը` | B33: 11033 | C33: Առաջին կիսամյակ | D33: Ինն ամիս | E33: Տարի
A34: Միջոցառման անվանումը` | B34: Օժանդակություն «Հայաստանի ֆուտբոլի ֆեդերացիա» ՀԿ-ին
A35: Նկարագրությունը` | B35: Աջակցություն «Հայաստանի ֆուտբոլի ֆեդերացիա» ՀԿ-ին ընթացիկ ծախսերի կատարման համար
A36: Միջոցառման տեսակը` | B36: Ծառայությունների մատուցում
A37: Ծառայությունը մատուցող կազմակերպության(ների) անվանում(ներ)ը՛ | B37: Մասնագիտացված կազմակերպություն
A38: Արդյունքի չափորոշիչներ
A39: Մարզական հասարակական կազմակերպության թիվը, հատ | C39: 1 | D39: 1 | E39: 1
A40: Միջոցառման վրա կատարվող ծախսը (հազար դրամ) | C40: =+'Հավելված N 1'!D19 -> 50000 | D40: =+'Հավելված N 1'!E19 -> 50000 | E40: =+'Հավելված N 1'!F19 -> 50000

Sheet Հավելված 5
B1: Հավելված N 5
B2: ՀՀ կառավարության 2021 թվականի
B3: ______________ ի ___Ն որոշման
A5: ՀԱՅԱՍՏԱՆԻ ՀԱՆՐԱՊԵՏՈՒԹՅԱՆ ԿԱՌԱՎԱՐՈՒԹՅԱՆ 2020 ԹՎԱԿԱՆԻ ԴԵԿՏԵՄԲԵՐԻ 30-Ի N 2215-Ն ՈՐՈՇՄԱՆ N 9.1 ՀԱՎԵԼՎԱԾԻ N 9.1.14 ԱՂՅՈՒՍԱԿՈՒՄ ԿԱՏԱՐՎՈՂ ԼՐԱՑՈՒՄԸ ԵՎ ՓՈՓՈԽՈՒԹՅՈՒՆԸ
D6: հազ. դրամ
A8: ՀՀ կրթության, գիտության, մշակույթի և սպորտի նախարարություն | E8: 9.1.14
A9: ՄԱՍ 1. ՊԵՏԱԿԱՆ ՄԱՐՄՆԻ ԳԾՈՎ ԱՐԴՅՈՒՆՔԱՅԻՆ (ԿԱՏԱՐՈՂԱԿԱՆ) ՑՈՒՑԱՆԻՇՆԵՐԸ
A11: Ծրագրի դասիչը | B11: Ծրագրի անվանումը
A12: 1192 | B12: Կրթության որակի ապահովում
A14: Ծրագրի միջոցառումները
A16: Ծրագրի դասիչը` | B16: 1192 | C16: Ցուցանիշների փոփոխությունը (նվազեցումները նշված են փակագծերում)
A17: Միջոցառման դասիչը` | B17: 11010 | C17: Առաջին կիսամյակ | D17: Ինն ամիս | E17: Տարի
A18: Միջոցառման անվանումը` | B18: Ատեստավորման նոր համակարգի ներդրում՛ ուղղված ուսուցիչների որակի բարձրացմանը
A19: Նկարագրությունը` | B19: Հանրակրթական դպրոցներում դասվանդող ուսուցիչների կամավոր ատեստավորման համակարգի մշակում և ներդրում
A20: Միջոցառման տեսակը` | B20: Ծառայությունների մատուցում
A21: Ծառայությունը մատուցող կազմակերպության(ների) անվանում(ներ)ը՛ | B21: Մասնագիտացված կազմակերպություն
A22: Արդյունքի չափորոշիչներ
A23: Կամավոր ատեստավորմանը մասնակցած ուսուցիչների թիվը, մարդ | C23: -169 | D23: -169 | E23: -169
A24: Կամավոր ատեստավորման արդյունքում հավելավճար ստացող ուսուցիչների թվաքանակը | C24: -138 | D24: -138 | E24: -138
A25: Միջոցառման վրա կատարվող ծախսը (հազար դրամ) | C25: ='Հավելված N 1'!D32 -> -50000 | D25: ='Հավելված N 1'!E32 -> -50000 | E25: ='Հավելված N 1'!F32 -> -50000
A27: Ծրագրի դասիչը | B27: Ծրագրի անվանումը
A28: 1041 | B28: Մեծ նվաճումների սպորտ
A30: Ծրագրի միջոցառումները
A32: Ծրագրի դասիչը` | B32: 1041 | C32: Ցուցանիշների փոփոխությունը (ավելացումները նշված են դրական նշանով)
A33: Միջոցառման դասիչը` | B33: 11033 | C33: Առաջին կիսամյակ | D33: Ինն ամիս | E33: Տարի
A34: Միջոցառման անվանումը` | B34: Օժանդակություն «Հայաստանի ֆուտբոլի ֆեդերացիա» ՀԿ-ին
A35: Նկարագրությունը` | B35: Աջակցություն «Հայաստանի ֆուտբոլի ֆեդերացիա» ՀԿ-ին ընթացիկ ծախսերի կատարման համար
A36: Միջոցառման տեսակը` | B36: Ծառայությունների մատուցում
A37: Ծառայությունը մատուցող կազմակերպության(ների) անվանում(ներ)ը՛ | B37: Մասնագիտացված կազմակերպություն
A38: Արդյունքի չափորոշիչներ
A39: Մարզական հասարակական կազմակերպության թիվը, հատ | C39: 1 | D39: 1 | E39: 1
A40: Միջոցառման վրա կատարվող ծախսը (հազար դրամ) | C40: =+'Հավելված N 1'!D19 -> 50000 | D40: =+'Հավելված N 1'!E19 -> 50000 | E40: =+'Հավելված N 1'!F19 -> 50000
