Workbook

Sheet Հավելված N 1
C1: Հավելված N 1
C2: ՀՀ կառավարության 2021 թվականի
C3: ______________ ի ___Ն որոշման
A4: ՀԱՅԱՍՏԱՆԻ ՀԱՆՐԱՊԵՏՈՒԹՅԱՆ ԿԱՌԱՎԱՐՈՒԹՅԱՆ 2020 ԹՎԱԿԱՆԻ ԴԵԿՏԵՄԲԵՐԻ 30-Ի N 2215-Ն ՈՐՈՇՄԱՆ N 1 ՀԱՎԵԼՎԱԾԻ N 1 ԱՂՅՈՒՍԱԿՈՒՄ ԿԱՏԱՐՎՈՂ ՓՈՓՈԽՈՒԹՅՈՒՆՆԵՐԸ
E5: հազ․ դրամ
A6: Պետական բյուջեի դեֆիցիտի ֆինանսավորման աղբյուրներն ու դրանց տարրերի անվանումները | D6: Ցուցանիշների փոփոխությունը (ավելացումները նշված են դրական նշանով)
D7: Առաջին կիսամյակ | E7: Ինն ամիս | F7: Տարի
A8: ԸՆԴԱՄԵՆԸ | D8: =+D10 -> 568461.3 | E8: =+E10 -> 568461.3 | F8: =+F10 -> 0
A9: այդ թվում՝
A10: Ա. Ներքին աղբյուրներ-ընդամենը | D10: =+D12 -> 568461.3 | E10: =+E12 -> 568461.3 | F10: =+F12 -> 0
A11: այդ թվում՝
A12: 2. Ֆինանսական զուտ ակտիվներ | D12: =+D14 -> 568461.3 | E12: =+E14 -> 568461.3 | F12: =+F14 -> 0
A13: այդ թվում՝
A14: 2.6. Այլ | D14: =+D15 -> 568461.3 | E14: =+E15 -> 568461.3 | F14: =+F15 -> 0
A15: ժամանակավորապես ազատ միջոցներ | D15: =+'Հավելված N 2'!D8 -> 568461.3 | E15: =+'Հավելված N 2'!E8 -> 568461.3 | F15: =+'Հավելված N 2'!F8 -> 0

Sheet Հավելված N 2
C1: Հավելված N 2
C2: ՀՀ կառավարության 2021 թվականի
C3: ______________ ի ___Ն որոշման
A4: «ՀԱՅԱՍՏԱՆԻ ՀԱՆՐԱՊԵՏՈՒԹՅԱՆ 2021 ԹՎԱԿԱՆԻ ՊԵՏԱԿԱՆ ԲՅՈՒՋԵԻ ՄԱՍԻՆ» ՕՐԵՆՔԻ N 1 ՀԱՎԵԼՎԱԾԻ N 2 ԱՂՅՈՒՍԱԿՈՒՄ ԿԱՏԱՐՎՈՂ ՎԵՐԱԲԱՇԽՈՒՄԸ ԵՎ ՀԱՅԱՍՏԱՆԻ ՀԱՆՐԱՊԵՏՈՒԹՅԱՆ ԿԱՌԱՎԱՐՈՒԹՅԱՆ 2020 ԹՎԱԿԱՆԻ ԴԵԿՏԵՄԲԵՐԻ 30-Ի N 2215-Ն ՈՐՈՇՄԱՆ N 5 ՀԱՎԵԼՎԱԾԻ N 1 ԱՂՅՈՒՍԱԿՈՒՄ ԿԱՏԱՐՎՈՂ ՓՈՓՈԽՈՒԹՅՈՒՆՆԵՐԸ ԵՎ ԼՐԱՑՈՒՄՆԵՐԸ
E5: հազ․ դրամ
A6: Ծրագրային դասիչը | C6: Բյուջետային հատկացումների գլխավոր կարգադրիչների, ծրագրերի և միջոցառումների անվանումները | D6: Ցուցանիշների փոփոխությունը (ավելացումները նշված են դրական նշանով, իսկ նվազեցումները՝ փակագծերում)
A7: ծրագիր | B7: միջոցառում | D7: Առաջին կիսամյակ | E7: Ինն ամիս | F7: Տարի
C8: ԸՆԴԱՄԵՆԸ | D8: =+D10 -> 568461.3 | E8: =+E10 -> 568461.3 | F8: =+F10 -> 0
C9: այդ թվում
A10: ՀՀ կրթության, գիտության, մշակույթի և սպորտի նախարարություն | D10: =+D36+D12 -> 568461.3 | E10: =+E36+E12 -> 568461.3 | F10: =+F36+F12 -> 0
A11: 1045 | C11: Ծրագրի անվանումը`
C12: Նախնական (արհեստագործական) և միջին մասնագիտական կրթություն | D12: =+D19+D25+D30 -> 16540 | E12: =+E19+E25+E30 -> 16540 | F12: =+F19+F25+F30 -> -231921.3
C13: Ծրագրի նպատակը`
C14: Աշխատաշուկայի արդի պահանջներին համապատասխան նախնական մասնագիտական (արհեստագործական) և միջին մասնագիտական կրթության որակավորում ունեցող մասնագետների պատրաստում՝ կրթության մատչելիության ապահովում:
C15: Վերջնական արդյունքի նկարագրությունը`
C16: Նախնական (արհեստագործական) և միջին մասնագիտական կրթության գավչության բարձրացում՝ մատչելի և մրցունակ նախնական (արհեստագործական) և միջին մասնագիտական կրթության ապահովում
A17: Ծրագրի միջոցառումներ
C18: Միջոցառման անվանումը`
B19: 11003 | C19: Ռազմական դրությամբ պայմանավորված միջին մասնագիտական կրթական ծրագրեր իրականացնող ուսումնական հաստատությունների սովորողների ուսման վարձի փոխհատուցում | D19: 16540 | E19: 16540 | F19: 16540
C20: Միջոցառման նկարագրությունը`
C21: 27.09.2020թ. սանձազերծված պատերազմի ընթացքում միջին մասնագիտական ուսումնական հաստատությունների մարտական գործողությունների մասնակից ուսանողների, ուսանող երեխաների, կանանց և/ կամ ամուսինների՝ 2020/21 ուս. տարվա 1-ին կիսամյակի ուսման վարձի փոխհատուցում:
C22: Միջոցառման տեսակը
C23: Տրանսֆերտների տրամադրում
C24: Միջոցառման անվանումը`
B25: 12002 | C25: Միջին մասնագիտական կրթություն ստացող ուսանողների կրթաթոշակ | D25: =+'Հավելված N 3'!G28 -> 0 | E25: =+'Հավելված N 3'!H28 -> 0 | F25: =+'Հավելված N 3'!I28 -> -61000
C26: Միջոցառման նկարագրությունը`
C27: Միջին մասնագիտական կրթություն ստացող ուսանողներին կրթաթոշակի տրամադրում
C28: Միջոցառման տեսակը
C29: Տրանսֆերտների տրամադրում
B30: 12004 | C30: Միջին մասնագիտական կրթության գծով ուսանողական նպաստների տրամադրում | D30: =+'Հավելված N 3'!G37 -> 0 | E30: =+'Հավելված N 3'!H37 -> 0 | F30: =+'Հավելված N 3'!I37 -> -187461.3
C31: Միջոցառման նկարագրությունը`
C32: Միջին մասնագիտական կրթության գծով ուսանողական նպաստների տրամադրում
C33: Միջոցառման տեսակը
C34: Տրանսֆերտների տրամադրում
A35: 1111 | C35: Ծրագրի անվանումը`
C36: Բարձրագույն և հետբուհական մասնագիտական կրթության ծրագիր | D36: =+D43+D49 -> 551921.3 | E36: =+E43+E49 -> 551921.3 | F36: =+F43+F49 -> 231921.3
C37: Ծրագրի նպատակը`
C38: Ապահովել մատչելի, որակյալ և մրցունակ բարձրագույն և հետբուհական մասնագիտական կրթություն
C39: Վերջնական արդյունքի նկարագրությունը`
C40: Գիտելիքների տնտեսության և գիտության զարգացման արդի պահանջներին համապատասխան բարձրագույն և հետբուհական մասնագիտական որակավորում ունեցող մասնագետների պատրաստում
...

Sheet Հավելված N 3
F1: Հավելված N 3
F2: ՀՀ կառավարության 2021 թվականի
F3: ______________ ի ___Ն որոշման
A4: ՀԱՅԱՍՏԱՆԻ ՀԱՆՐԱՊԵՏՈՒԹՅԱՆ ԿԱՌԱՎԱՐՈՒԹՅԱՆ 2020 ԹՎԱԿԱՆԻ ԴԵԿՏԵՄԲԵՐԻ 30-Ի N 2215-Ն ՈՐՈՇՄԱՆ N 3 և N 4 ՀԱՎԵԼՎԱԾՆԵՐՈՒՄ ԿԱՏԱՐՎՈՂ ՓՈՓՈԽՈՒԹՅՈՒՆՆԵՐԸ ԵՎ ԼՐԱՑՈՒՄՆԵՐԸ
H5: հազ․ դրամ
A6: Գործառական դասիչը | D6: Ծրագրային դասիչը | F6: Բյուջետային ծախսերի գործառական դասակարգման բաժինների, խմբերի և դասերի, բյուջետային ծրագրերի միջոցառումների, բյուջետային հատկացումների գլխավոր կարգադրիչների անվանումները | G6: Ցուցանիշների փոփոխություն (ավելացումները նշված են դրական նշանով, իսկ նվազեցումները՝ փակագծերում )
A7: Բաժին | B7: Խումբ | C7: Դաս | D7: Ծրագիր | E7: Միջոցառում | G7: Առաջին կիսամյակ | H7: Ինն ամիս | I7: Տարի
F8: ԸՆԴԱՄԵՆԸ | G8: =+G10 -> 568461.3 | H8: =+H10 -> 568461.3 | I8: =+I10 -> 0
F9: այդ թվում`
F10: ՀՀ կրթության, գիտության, մշակույթի և սպորտի նախարարություն | G10: =+G11 -> 568461.3 | H10: =+H11 -> 568461.3 | I10: =+I11 -> 0
A11: 09 | F11: ԿՐԹՈՒԹՅՈՒՆ | G11: =+G46+G13 -> 568461.3 | H11: =+H46+H13 -> 568461.3 | I11: =+I46+I13 -> 0
F12: այդ թվում`
B13: 03 | F13: Նախնական մասնագիտական (արկեստագործական) և միջին մասնագիտական կրթություն | G13: =G15 -> 16540 | H13: =H15 -> 16540 | I13: =I15 -> -231921.3
F14: այդ թվում`
C15: 02 | F15: Միջին մասնագիտական կրթություն | G15: =+G17 -> 16540 | H15: =+H17 -> 16540 | I15: =+I17 -> -231921.3
F16: այդ թվում`
D17: 1045 | F17: Նախնական (արհեստագործական) և միջին մասնագիտական կրթություն | G17: =+G19+G28+G37 -> 16540 | H17: =+H19+H28+H37 -> 16540 | I17: =+I19+I28+I37 -> -231921.3
F18: այդ թվում`
E19: 11003 | F19: Ռազմական դրությամբ պայմանավորված միջին մասնագիտական կրթական ծրագրեր իրականացնող ուսումնական հաստատությունների սովորողների ուսման վարձի փոխհատուցում | G19: =+G21 -> 16540 | H19: =+H21 -> 16540 | I19: =+I21 -> 16540
F20: այդ թվում` ըստ կատարողների
F21: ՀՀ կրթության , գիտության, մշակույթի և սպորտի նախարարություն | G21: =G23 -> 16540 | H21: =H23 -> 16540 | I21: =I23 -> 16540
F22: այդ թվում` բյուջետային ծախսերի տնտեսագիտական դասակարգման հոդվածներ
F23: ԸՆԴԱՄԵՆԸ ԾԱԽՍԵՐ | G23: =G24 -> 16540 | H23: =H24 -> 16540 | I23: =I24 -> 16540
F24: ԸՆԹԱՑԻԿ ԾԱԽՍԵՐ | G24: =G25 -> 16540 | H24: =H25 -> 16540 | I24: =I25 -> 16540
F25: ՍՈՑԻԱԼԱԿԱՆ ՆՊԱՍՏՆԵՐ ԵՎ ԿԵՆՍԱԹՈՇԱԿՆԵՐ | G25: =G26 -> 16540 | H25: =H26 -> 16540 | I25: =I26 -> 16540
F26: Սոցւալական օգնության դրամական արտահայտությամբ նպաստներ (բյուջեից) | G26: =G27 -> 16540 | H26: =H27 -> 16540 | I26: =I27 -> 16540
F27: - Այլ նպաստներ բյուջեից | G27: =+'Հավելված N 2'!D19 -> 16540 | H27: =+'Հավելված N 2'!E19 -> 16540 | I27: =+'Հավելված N 2'!F19 -> 16540
E28: 12002 | F28: Միջին մասնագիտական կրթություն ստացող ուսանողների կրթաթոշակ | G28: =+G30 -> 0 | H28: =+H30 -> 0 | I28: =+I30 -> -61000
F29: այդ թվում` ըստ կատարողների
F30: ՀՀ կրթության , գիտության, մշակույթի և սպորտի նախարարություն | G30: =G32 -> 0 | H30: =H32 -> 0 | I30: =I32 -> -61000
F31: այդ թվում` բյուջետային ծախսերի տնտեսագիտական դասակարգման հոդվածներ
F32: ԸՆԴԱՄԵՆԸ ԾԱԽՍԵՐ | G32: =G33 -> 0 | H32: =H33 -> 0 | I32: =I33 -> -61000
F33: ԸՆԹԱՑԻԿ ԾԱԽՍԵՐ | G33: =G34 -> 0 | H33: =H34 -> 0 | I33: =I34 -> -61000
F34: ՍՈՑԻԱԼԱԿԱՆ ՆՊԱՍՏՆԵՐ ԵՎ ԿԵՆՍԱԹՈՇԱԿՆԵՐ | G34: =G35 -> 0 | H34: =H35 -> 0 | I34: =I35 -> -61000
F35: Սոցիալական օգնության դրամական արտահայտությամբ նպաստներ (բյուջեից) | G35: =G36 -> 0 | H35: =H36 -> 0 | I35: =I36 -> -61000
F36: - Կրթական, մշակութային և սպորտային նպաստներ բյուջեից | G36: =+'Հավելված N 2'!D16 -> 0 | H36: =+'Հավելված N 2'!E16 -> 0 | I36: -61000
E37: 12004 | F37: Միջին մասնագիտական կրթության գծով ուսանողական նպաստների տրամադրում | G37: =+G39 -> 0 | H37: =+H39 -> 0 | I37: =+I39 -> -187461.3
F38: այդ թվում` ըստ կատարողների
F39: ՀՀ կրթության , գիտության, մշակույթի և սպորտի նախարարություն | G39: =G41 -> 0 | H39: =H41 -> 0 | I39: =I41 -> -187461.3
F40: այդ թվում` բյուջետային ծախսերի տնտեսագիտական դասակարգման հոդվածներ
...

Sheet Հավելված N4
B1: Հավելված N 4
B2: ՀՀ կառավարության 2021 թվականի
B3: ______________ ի ___Ն որոշման
A5: ՀԱՅԱՍՏԱՆԻ ՀԱՆՐԱՊԵՏՈՒԹՅԱՆ ԿԱՌԱՎԱՐՈՒԹՅԱՆ 2020 ԹՎԱԿԱՆԻ ԴԵԿՏԵՄԲԵՐԻ 30-Ի N 2215-Ն ՈՐՈՇՄԱՆ N 9 ՀԱՎԵԼՎԱԾԻ N 9.14 ԱՂՅՈՒՍԱԿՈՒՄ ԿԱՏԱՐՎՈՂ ՓՈՓՈԽՈՒԹՅՈՒՆՆԵՐԸ ԵՎ ԼՐԱՑՈՒՄՆԵՐԸ
D6: հազ․ դրամ
A7: ՀՀ կրթության, գիտության, մշակույթի և սպորտի նախարարություն | E7: 9.14
A8: ՄԱՍ 2. ՊԵՏԱԿԱՆ ՄԱՐՄՆԻ ԳԾՈՎ ԱՐԴՅՈՒՆՔԱՅԻՆ (ԿԱՏԱՐՈՂԱԿԱՆ) ՑՈՒՑԱՆԻՇՆԵՐԸ
A10: Ծրագրի դասիչը | B10: Ծրագրի անվանումը
A11: 1045 | B11: Նախնական (արհեստագործական) և միջին մասնագիտական կրթություն
A13: Ծրագրի միջոցառումները
A15: Ծրագրի դասիչը` | B15: 1045 | C15: Ցուցանիշների փոփոխություն (ավելացումները նշված են դրական նշանով )
A16: Միջոցառման դասիչը` | B16: 11003 | C16: Առաջին կիսամյակ | D16: Ինն ամիս | E16: Տարի
A17: Միջոցառման անվանումը` | B17: Ռազմական դրությամբ պայմանավորված միջին մասնագիտական կրթական ծրագրեր իրականացնող ուսումնական հաստատությունների սովորողների ուսման վարձի փոխհատուցում
A18: Նկարագրությունը` | B18: 27.09.2020թ. սանձազերծված պատերազմի ընթացքում միջին մասնագիտական ուսումնական հաստատությունների մարտական գործողությունների մասնակից ուսանողների, ուսանող երեխաների, կանանց և/ կամ ամուսինների՝ 2020/21 ուս. տարվա 1-ին կիսամյակի ուսման վարձի փոխհատուցում:
A19: Միջոցառման տեսակը` | B19: Տրանսֆերտների տրամադրում
A20: Շահառուների ընտրության չափորոշիչը | B20: Միջին մասնագիտական կրթություն ստացող ուսանողներ
A21: Արդյունքի չափորոշիչներ
A22: Շահառուների թիվ, մարդ | C22: 150 | D22: 150 | E22: 150
A23: Միջոցառման վրա կատարվող ծախսը (հազար դրամ) | C23: =+'Հավելված N 2'!D19 -> 16540 | D23: =+'Հավելված N 2'!E19 -> 16540 | E23: =+'Հավելված N 2'!F19 -> 16540
A25: Ծրագրի դասիչը` | B25: 1045 | C25: Ցուցանիշների փոփոխություն (նվազեցումները նշված են փակագծերում )
A26: Միջոցառման դասիչը` | B26: 12002 | C26: Առաջին կիսամյակ | D26: Ինն ամիս | E26: Տարի
A27: Միջոցառման անվանումը` | B27: Միջին մասնագիտական կրթություն ստացող ուսանողների կրթաթոշակ
A28: Նկարագրությունը` | B28: Միջին մասնագիտական կրթություն ստացող ուսանողներին կրթաթոշակի տրամադրում
A29: Միջոցառման տեսակը` | B29: Տրանսֆերտների տրամադրում
A30: Շահառուների ընտրության չափորոշիչը | B30: Միջին մասնագիտական կրթություն ստացող ուսանողներ
A31: Արդյունքի չափորոշիչներ
A32: Կրթաթոշակ ստացող ուսանողների թիվ, մարդ | D32: -1070 | E32: -1070
A33: Միջոցառման վրա կատարվող ծախսը (հազար դրամ) | C33: =+'Հավելված N 2'!D25 -> 0 | D33: =+'Հավելված N 2'!E25 -> 0 | E33: =+'Հավելված N 2'!F25 -> -61000
A35: Ծրագրի դասիչը` | B35: 1045 | C35: Ցուցանիշների փոփոխություն (նվազեցումները նշված են փակագծերում )
A36: Միջոցառման դասիչը` | B36: 12004 | C36: Առաջին կիսամյակ | D36: Ինն ամիս | E36: Տարի
A37: Միջոցառման անվանումը` | B37: Միջին մասնագիտական կրթության գծով ուսանողական նպաստների տրամադրում
A38: Նկարագրությունը` | B38: Միջին մասնագիտական կրթության գծով ուսանողական նպաստների տրամադրում
A39: Միջոցառման տեսակը` | B39: Տրանսֆերտների տրամադրում
A40: Շահառուների ընտրության չափորոշիչը | B40: Միջին մասնագիտական կրթություն ստացող ուսանողներ
A41: Արդյունքի չափորոշիչներ
A42: Ուսանողական նպաստ ստացող ուսանողների թիվը, մարդ | D42: -551 | E42: -551
A43: Միջոցառման վրա կատարվող ծախսը (հազար դրամ) | C43: =+'Հավելված N 2'!D30 -> 0 | D43: =+'Հավելված N 2'!E30 -> 0 | E43: =+'Հավելված N 2'!F30 -> -187461.3
A46: Ծրագրի դասիչը | B46: Ծրագրի անվանումը
A47: 1111 | B47: Բարձրագույն և հետբուհական մասնագիտական կրթության ծրագիր
A49: Ծրագրի միջոցառումները
...

Sheet Հավելված N5
B1: Հավելված N 5
B2: ՀՀ կառավարության 2021 թվականի
B3: ______________ ի ___Ն որոշման
A5: ՀԱՅԱՍՏԱՆԻ ՀԱՆՐԱՊԵՏՈՒԹՅԱՆ ԿԱՌԱՎԱՐՈՒԹՅԱՆ 2020 ԹՎԱԿԱՆԻ ԴԵԿՏԵՄԲԵՐԻ 30-Ի N 2215-Ն ՈՐՈՇՄԱՆ N 9.1 ՀԱՎԵԼՎԱԾԻ N 9.1.14 ԱՂՅՈՒՍԱԿՈՒՄ ԿԱՏԱՐՎՈՂ ՓՈՓՈԽՈՒԹՅՈՒՆՆԵՐԸ ԵՎ ԼՐԱՑՈՒՄՆԵՐԸ
D6: հազ․ դրամ
A7: ՀՀ կրթության, գիտության, մշակույթի և սպորտի նախարարություն | E7: 9.1.14
A8: ՄԱՍ 1. ՊԵՏԱԿԱՆ ՄԱՐՄՆԻ ԳԾՈՎ ԱՐԴՅՈՒՆՔԱՅԻՆ (ԿԱՏԱՐՈՂԱԿԱՆ) ՑՈՒՑԱՆԻՇՆԵՐԸ
A10: Ծրագրի դասիչը | B10: Ծրագրի անվանումը
A11: 1045 | B11: Նախնական (արհեստագործական) և միջին մասնագիտական կրթություն
A13: Ծրագրի միջոցառումները
A15: Ծրագրի դասիչը` | B15: 1045 | C15: Ցուցանիշների փոփոխություն (ավելացումները նշված են դրական նշանով )
A16: Միջոցառման դասիչը` | B16: 11003 | C16: Առաջին կիսամյակ | D16: Ինն ամիս | E16: Տարի
A17: Միջոցառման անվանումը` | B17: Ռազմական դրությամբ պայմանավորված միջին մասնագիտական կրթական ծրագրեր իրականացնող ուսումնական հաստատությունների սովորողների ուսման վարձի փոխհատուցում
A18: Նկարագրությունը` | B18: 27.09.2020թ. սանձազերծված պատերազմի ընթացքում միջին մասնագիտական ուսումնական հաստատությունների մարտական գործողությունների մասնակից ուսանողների, ուսանող երեխաների, կանանց և/ կամ ամուսինների՝ 2020/21 ուս. տարվա 1-ին կիսամյակի ուսման վարձի փոխհատուցում:
A19: Միջոցառման տեսակը` | B19: Տրանսֆերտների տրամադրում
A20: Շահառուների ընտրության չափորոշիչը | B20: Միջին մասնագիտական կրթություն ստացող ուսանողներ
A21: Արդյունքի չափորոշիչներ
A22: Շահառուների թիվ, մարդ | C22: 150 | D22: 150 | E22: 150
A23: Միջոցառման վրա կատարվող ծախսը (հազար դրամ) | C23: =+'Հավելված N 2'!D19 -> 16540 | D23: =+'Հավելված N 2'!E19 -> 16540 | E23: =+'Հավելված N 2'!F19 -> 16540
A25: Ծրագրի դասիչը` | B25: 1045 | C25: Ցուցանիշների փոփոխություն (նվազեցումները նշված են փակագծերում )
A26: Միջոցառման դասիչը` | B26: 12002 | C26: Առաջին կիսամյակ | D26: Ինն ամիս | E26: Տարի
A27: Միջոցառման անվանումը` | B27: Միջին մասնագիտական կրթություն ստացող ուսանողների կրթաթոշակ
A28: Նկարագրությունը` | B28: Միջին մասնագիտական կրթություն ստացող ուսանողներին կրթաթոշակի տրամադրում
A29: Միջոցառման տեսակը` | B29: Տրանսֆերտների տրամադրում
A30: Շահառուների ընտրության չափորոշիչը | B30: Միջին մասնագիտական կրթություն ստացող ուսանողներ
A31: Արդյունքի չափորոշիչներ
A32: Կրթաթոշակ ստացող ուսանողների թիվ, մարդ | D32: -1070 | E32: -1070
A33: Միջոցառման վրա կատարվող ծախսը (հազար դրամ) | C33: =+'Հավելված N 2'!D25 -> 0 | D33: =+'Հավելված N 2'!E25 -> 0 | E33: =+'Հավելված N 2'!F25 -> -61000
A35: Ծրագրի դասիչը` | B35: 1045 | C35: Ցուցանիշների փոփոխություն (նվազեցումները նշված են փակագծերում )
A36: Միջոցառման դասիչը` | B36: 12004 | C36: Առաջին կիսամյակ | D36: Ինն ամիս | E36: Տարի
A37: Միջոցառման անվանումը` | B37: Միջին մասնագիտական կրթության գծով ուսանողական նպաստների տրամադրում
A38: Նկարագրությունը` | B38: Միջին մասնագիտական կրթության գծով ուսանողական նպաստների տրամադրում
A39: Միջոցառման տեսակը` | B39: Տրանսֆերտների տրամադրում
A40: Շահառուների ընտրության չափորոշիչը | B40: Միջին մասնագիտական կրթություն ստացող ուսանողներ
A41: Արդյունքի չափորոշիչներ
A42: Ուսանողական նպաստ ստացող ուսանողների թիվը, մարդ | D42: -551 | E42: -551
A43: Միջոցառման վրա կատարվող ծախսը (հազար դրամ) | C43: =+'Հավելված N 2'!D30 -> 0 | D43: =+'Հավելված N 2'!E30 -> 0 | E43: =+'Հավելված N 2'!F30 -> -187461.3
A46: Ծրագրի դասիչը | B46: Ծրագրի անվանումը
A47: 1111 | B47: Բարձրագույն և հետբուհական մասնագիտական կրթության ծրագիր
A49: Ծրագրի միջոցառումները
...
