Workbook
Name AgencyCode: #REF!
Name AgencyCode: #REF!
Name AgencyName: #REF!
Name AgencyName: #REF!
Name Functional1: #REF!
Name Functional1: #REF!
Name havelvac: #REF!
Name PANature: #REF!
Name PANature: #REF!
Name PAType: #REF!
Name PAType: #REF!
Name Performance2: #REF!
Name Performance2: #REF!
Name PerformanceType: #REF!
Name PerformanceType: #REF!

Sheet 1
F1: Հավելված N 1
F2: ՀՀ կառավարության 2021 թվականի
F3: ___________ ___-ի N _______ -Ն որոշման
A6: «ՀԱՅԱUՏԱՆԻ ՀԱՆՐԱՊԵՏՈՒԹՅԱՆ 2021 ԹՎԱԿԱՆԻ ՊԵՏԱԿԱՆ ԲՅՈՒՋԵԻ ՄԱUԻՆ» ՀԱՅԱUՏԱՆԻ ՀԱՆՐԱՊԵՏՈՒԹՅԱՆ OՐԵՆՔԻ N 1 ՀԱՎԵԼՎԱԾԻ N 2 ԱՂՅՈՒՍԱԿՈՒՄ ԿԱՏԱՐՎՈՂ ՎԵՐԱԲԱՇԽՈՒՄԸ ԵՎ ՀԱՅԱՍՏԱՆԻ ՀԱՆՐԱՊԵՏՈՒԹՅԱՆ ԿԱՌԱՎԱՐՈՒԹՅԱՆ 2020 ԹՎԱԿԱՆԻ ԴԵԿՏԵՄԲԵՐԻ 30-Ի N 2215-Ն ՈՐՈՇՄԱՆ N 5 ՀԱՎԵԼՎԱԾԻ N 1 ԱՂՅՈՒՍԱԿՈՒՄ ԿԱՏԱՐՎՈՂ ՓՈՓՈԽՈՒԹՅՈՒՆՆԵՐԸ
F8: հազար դրամներով
A9: Ծրագրային դասիչը | C9: Բյուջետային հատկացումների գլխավոր կարգադրիչների, ծրագրերի և միջոցառումների անվանումները | D9: Ցուցանիշների փոփոխությունները (ավելացումները նշված են դրական նշանով, իսկ նվազեցումները՝ փակագծերում)
A10: Ծրագիր | B10: Միջոցառում | D10: Առաջին կիսամյակ | E10: Ինն ամիս | F10: Տարի
C11: ԸՆԴԱՄԵՆԸ | D11: =+D12+D26+D40 -> 0 | E11: =+E12+E26+E40 -> 0 | F11: =+F12+F26+F40 -> 0
B12: ՀՀ վարչապետի աշխատակազմ | D12: =+D13 -> -2424.2 | E12: =+E13 -> -3476.2 | F12: =+F13 -> -4720.4
A13: 1213 | C13: Ծրագրի անվանումը` | D13: =+D20 -> -2424.2 | E13: =+E20 -> -3476.2 | F13: =+F20 -> -4720.4
C14: Տեսչական վերահսկողության ծրագիր
C15: Ծրագրի նպատակը`
C16: Տեսչական վերահսկողության ապահովում
C17: Վերջնական արդյունքի նկարագրությունը`
C18: Տեխնիկական կանոնակարգերին համապատասխանության գնահատում և պահանջների պահպանում
A19: Ծրագրի միջոցառումներ
B20: 11006 | C20: Միջոցառման անվանումը` | D20: -2424.2 | E20: -3476.2 | F20: =-4720.4 -> -4720.4
C21: Քաղաքաշինության և ճարտարապետության բնագավառում վերահսկողության ծառայություններ
C22: Միջոցառման նկարագրությունը`
C23: Քաղաքաշինության՝ տեխնիկական և հրդեհային անվտանգության՝ տրանսպորտի՝ էներգետիկայի՝ պետական և տեղական նշանակության գեոդեզիական և քարտեզագրական աշխատանքների և հողօգտագործման բնագավառներում վերահսկողության իրականացում
C24: Միջոցառման տեսակը
C25: Ծառայությունների մատուցում
B26: ՀՀ Շրջակա միջավայրի նախարարություն | D26: =+D27 -> -2910.5 | E26: =+E27 -> -4642.9 | F26: =+F27 -> -6929.7
A27: 1016 | C27: Ծրագրի անվանումը` | D27: =+D34 -> -2910.5 | E27: =+E34 -> -4642.9 | F27: =+F34 -> -6929.7
C28: Շրջակա միջավայրի վրա ազդեցության գնահատում և մոնիթորինգ
C29: Ծրագրի նպատակը`
C30: Նպաստել շրջակա միջավայրի և բնական ռեսուրսների (բացառությամբ օգտակար հանածոների) պահպանությանը
C31: Վերջնական արդյունքի նկարագրությունը`
C32: Շրջակա միջավայրի վերաբերյալ ամբողջական տեղեկատվության հրապարակում
A33: Ծրագրի միջոցառումներ
B34: 11004 | C34: Միջոցառման անվանումը` | D34: -2910.5 | E34: -4642.9 | F34: -6929.7
C35: Հիդրոօդերևութաբանություն, շրջակա միջավայրի մոնիթորիգ և տեղեկատվության ապահովում
C36: Միջոցառման նկարագրությունը`
C37: Հիդրոօդերևութաբանություն, շրջակա միջավայրի մոնիթորիգի տեղեկատվության տրամադրման աշխատանքներ
C38: Միջոցառման տեսակը
C39: Ծառայությունների մատուցում
B40: ՀՀ արտակարգ իրավիճակների նախարարություն | D40: =+D41 -> 5334.7 | E40: =+E41 -> 8119.1 | F40: =+F41 -> 11650.1
A41: 1112 | C41: Ծրագրի անվանումը` | D41: =+D48 -> 5334.7 | E41: =+E48 -> 8119.1 | F41: =+F48 -> 11650.1
C42: Արտակարգ իրավիճակների բնագավառի պետական քաղաքականության մշակում, ծրագրերի համակարգում և մոնիտորինգ
C43: Ծրագրի նպատակը`
...

Sheet 2
H1: Հավելված N2
F2: ՀՀ կառավարության 2021 թվականի
F3: ___________ ___-ի N _______ -Ն որոշման
A5: ՀԱՅԱՍՏԱՆԻ ՀԱՆՐԱՊԵՏՈՒԹՅԱՆ ԿԱՌԱՎԱՐՈՒԹՅԱՆ 2020 ԹՎԱԿԱՆԻ ԴԵԿՏԵՄԲԵՐԻ 30-Ի N 2215-Ն ՈՐՈՇՄԱՆ NN 3 ԵՎ 4 ՀԱՎԵԼՎԱԾՆԵՐՈՒՄ ԿԱՏԱՐՎՈՂ ՓՈՓՈԽՈՒԹՅՈՒՆՆԵՐԸ
H6: հազար դրամներով
A7: Գործառական դասիչը | D7: Ծրագրային դասիչը | F7: Բյուջետային ծախսերի գործառական դասակարգման բաժինների, խմբերի և դասերի, բյուջետային հատկացումների գլխավոր կարգադրիչների, ծրագրերի, միջոցառումների և միջոցառումները կատարող պետական մարմինների անվանումները | G7: Ցուցանիշների փոփոխությունները (ավելացումները նշված են դրական նշանով,իսկ նվազեցումները՝ փակագծերում)
A8: Բաժին | B8: Խումբ | C8: Դաս | D8: Ծրագիր | E8: Միջոցառում | G8: Առաջին կիսամյակ | H8: Ինն ամիս | I8: Տարի
F9: ԸՆԴԱՄԵՆԸ | G9: 0 | H9: =+H10+H28+H45 -> 0 | I9: =+I10+I28+I45 -> 0
A10: 01 | F10: ԸՆԴՀԱՆՈՒՐ ԲՆՈՒՅԹԻ ՀԱՆՐԱՅԻՆ ԾԱՌԱՅՈՒԹՅՈՒՆՆԵՐ | G10: =+G12 -> -2424.2 | H10: =+H12 -> -3476.2 | I10: =+I12 -> -4720.4
F11: այդ թվում`
B12: 01 | F12: Օրենսդիր և գործադիր մարմիններ, պետական կառավարում, ֆինանսական և հարկաբյուջետային հարաբերություններ, արտաքին հարաբերություններ | G12: =+G14 -> -2424.2 | H12: =+H14 -> -3476.2 | I12: =+I14 -> -4720.4
F13: այդ թվում`
C14: 01 | F14: Օրենսդիր և գործադիր մարմիններ, պետական կառավարում | G14: =+G16 -> -2424.2 | H14: =+H16 -> -3476.2 | I14: =+I16 -> -4720.4
F15: այդ թվում`
D16: 1213 | F16: Տեսչական վերահսկողության ծրագիր | G16: =+G18 -> -2424.2 | H16: =+H18 -> -3476.2 | I16: =+I18 -> -4720.4
F17: այդ թվում`
E18: 11006 | F18: Քաղաքաշինության և ճարտարապետության բնագավառում վերահսկողության ծառայություններ | G18: =+G20 -> -2424.2 | H18: =+H20 -> -3476.2 | I18: =+I20 -> -4720.4
F19: այդ թվում` ըստ կատարողների
F20: ՀՀ վարչապետի աշխատակազմ | G20: =+G22 -> -2424.2 | H20: =+H22 -> -3476.2 | I20: =+I22 -> -4720.4
F21: այդ թվում` բյուջետային ծախսերի տնտեսագիտական դասակարգման հոդվածներ
F22: ԸՆԴԱՄԵՆԸ ԾԱԽՍԵՐ | G22: =+G23 -> -2424.2 | H22: =+H23 -> -3476.2 | I22: =+I23 -> -4720.4
F23: ԸՆԹԱՑԻԿ ԾԱԽՍԵՐ | G23: =+G24 -> -2424.2 | H23: =+H24 -> -3476.2 | I23: =+I24 -> -4720.4
F24: ԾԱՌԱՅՈՒԹՅՈՒՆՆԵՐԻ ԵՎ ԱՊՐԱՆՔՆԵՐԻ ՁԵՌՔԲԵՐՈՒՄ | G24: =+G25 -> -2424.2 | H24: =+H25 -> -3476.2 | I24: =+I25 -> -4720.4
F25: Շարունակական ծախսեր | G25: =+G26+G27 -> -2424.2 | H25: =+H26+H27 -> -3476.2 | I25: =+I26+I27 -> -4720.4
F26: - Էներգետիկ ծառայություններ | G26: -2390.2 | H26: -3425.2 | I26: -4652.4
F27: - Կոմունալ ծառայություններ | G27: -34 | H27: -51 | I27: -68
A28: 03 | F28: ՀԱՍԱՐԱԿԱԿԱՆ ԿԱՐԳ, ԱՆՎՏԱՆԳՈՒԹՅՈՒՆ ԵՎ ԴԱՏԱԿԱՆ ԳՈՐԾՈՒՆԵՈՒԹՅՈՒՆ | G28: =+G30 -> 5334.7 | H28: =+H30 -> 8119.1 | I28: =+I30 -> 11650.1
F29: այդ թվում`
B30: 02 | F30: Փրկարար ծառայություն | G30: =+G32 -> 5334.7 | H30: =+H32 -> 8119.1 | I30: =+I32 -> 11650.1
F31: այդ թվում`
C32: 01 | F32: Փրկարար ծառայություն | G32: =+G34 -> 5334.7 | H32: =+H34 -> 8119.1 | I32: =+I34 -> 11650.1
F33: այդ թվում
D34: 1112 | F34: Արտակարգ իրավիճակների բնագավառի պետական քաղաքականության մշակում, ծրագրերի համակարգում և մոնիտորինգ | G34: =+G36 -> 5334.7 | H34: =+H36 -> 8119.1 | I34: =+I36 -> 11650.1
F35: այդ թվում`
E36: 11001 | F36: Արտակարգ իրավիճակների բնագավառում քաղաքականության մշակում, խորհրդատվական ծառայությունների տրամադրում և մոնիտորինգի իրականացում | G36: =+G38 -> 5334.7 | H36: =+H38 -> 8119.1 | I36: =+I38 -> 11650.1
F37: այդ թվում` ըստ կատարողների
F38: ՀՀ արտակարգ իրավիճակների նախարարություն | G38: =+G40 -> 5334.7 | H38: =+H40 -> 8119.1 | I38: =+I40 -> 11650.1
F39: այդ թվում` բյուջետային ծախսերի տնտեսագիտական դասակարգման հոդվածներ
F40: ԸՆԴԱՄԵՆԸ ԾԱԽՍԵՐ | G40: =+G41 -> 5334.7 | H40: =+H41 -> 8119.1 | I40: =+I41 -> 11650.1
F41: ԸՆԹԱՑԻԿ ԾԱԽՍԵՐ | G41: =+G42 -> 5334.7 | H41: =+H42 -> 8119.1 | I41: =+I42 -> 11650.1
...

Sheet 3
D1: Հավելված N3
E2: ՀՀ կառավարության 2021 թվականի
D3: ___________ ___-ի N _______ -Ն որոշման
A5: ՀԱՅԱՍՏԱՆԻ ՀԱՆՐԱՊԵՏՈՒԹՅԱՆ ԿԱՌԱՎԱՐՈՒԹՅԱՆ 2020 ԹՎԱԿԱՆԻ ԴԵԿՏԵՄԲԵՐԻ 30-Ի ԹԻՎ 2215-Ն ՈՐՈՇՄԱՆ N 9 ՀԱՎԵԼՎԱԾԻ NN 9.3, 9.13 ԵՎ 9.19 ԱՂՅՈՒՍԱԿՆԵՐՈՒՄ ԿԱՏԱՐՎՈՂ ՓՈՓՈԽՈՒԹՅՈՒՆՆԵՐԸ
A7: ՀՀ վարչապետի աշխատակազմ
A8: ՄԱՍ 2. ՊԵՏԱԿԱՆ ՄԱՐՄՆԻ ԳԾՈՎ ԱՐԴՅՈՒՆՔԱՅԻՆ (ԿԱՏԱՐՈՂԱԿԱՆ) ՑՈՒՑԱՆԻՇՆԵՐԸ
A9: Ծրագրի դասիչը | B9: Ծրագրի անվանումը
A10: 1213 | B10: Տեսչական վերահսկողության ծրագիր
A12: Ծրագրի միջոցառումները
A13: Ծրագրի դասիչը՝ | B13: 1213 | C13: Ցուցանիշների փոփոխությունը (նվազեցումները նշված են փակագծերում)
A14: Միջոցառման դասիչը՝ | B14: 11006 | C14: Առաջին կիսամյակ | D14: Ինն ամիս | E14: Տարի
A15: Միջոցառման անվանումը՝ | B15: Քաղաքաշինության և ճարտարապետության բնագավառում վերահսկողության ծառայություններ
A16: Նկարագրությունը՝ | B16: Քաղաքաշինության՝ տեխնիկական և հրդեհային անվտանգության՝ տրանսպորտի՝ էներգետիկայի՝ պետական և տեղական նշանակության գեոդեզիական և քարտեզագրական աշխատանքների և հողօգտագործման բնագավառներում վերահսկողության իրականացում
A17: Միջոցառման տեսակը՝ | B17: Ծառայության մատուցում
A18: Միջոցառումն իրականացնողի անվանումը | B18: ՀՀ քաղաքաշինության, տեխնիկական և հրդեհային անվտանգության տեսչական մարմին
B19: Արդյունքի չափորոշիչներ
A20: Միջոցառման վրա կատարվող ծախսը (հազար դրամ) | C20: =+'2'!G10 -> -2424.2 | D20: =+'2'!H10 -> -3476.2 | E20: =+'2'!I10 -> -4720.4
A22: ՀՀ շրջակա միջավայրի նախարարություն
A23: ՄԱՍ 2. ՊԵՏԱԿԱՆ ՄԱՐՄՆԻ ԳԾՈՎ ԱՐԴՅՈՒՆՔԱՅԻՆ (ԿԱՏԱՐՈՂԱԿԱՆ) ՑՈՒՑԱՆԻՇՆԵՐԸ
A25: Ծրագրի դասիչը | B25: Ծրագրի անվանումը
A26: 1016 | B26: Շրջակա միջավայրի վրա ազդեցության գնահատում և մոնիթորինգ
A27: Ծրագրի միջոցառումները
A29: Ծրագրի դասիչը՝ | B29: 1016 | C29: Ցուցանիշների փոփոխությունը (նվազեցումները նշված են փակագծերում)
A30: Միջոցառման դասիչը՝ | B30: 11004 | C30: Առաջին կիսամյակ | D30: Ինն ամիս | E30: Տարի
A31: Միջոցառման անվանումը՝ | B31: Հիդրոօդերևութաբանություն, շրջակա միջավայրի մոնիթորիգ և տեղեկատվության ապահովում
A32: Նկարագրությունը՝ | B32: Հիդրոօդերևութաբանություն, շրջակա միջավայրի մոնիթորիգի տեղեկատվության տրամադրման աշխատանքներ
A33: Միջոցառման տեսակը՝ | B33: Ծառայությունների մատուցում
A34: Միջոցառումն իրականացնողի անվանումը՝ | B34: Մասնագիտացված կազմակերպություններ
B35: Արդյունքի չափորոշիչներ
A36: Միջոցառման վրա կատարվող ծախսը (հազար դրամ) | C36: =+'2'!G45 -> -2910.5 | D36: =+'2'!H45 -> -4642.9 | E36: =+'2'!I45 -> -6929.7
A38: ՀՀ արտակարգ իրավիճակների նախարարություն
A39: ՄԱՍ 2. ՊԵՏԱԿԱՆ ՄԱՐՄՆԻ ԳԾՈՎ ԱՐԴՅՈՒՆՔԱՅԻՆ (ԿԱՏԱՐՈՂԱԿԱՆ) ՑՈՒՑԱՆԻՇՆԵՐԸ
A41: Ծրագրի դասիչը | B41: Ծրագրի անվանումը
A42: 1112 | B42: Արտակարգ իրավիճակների բնագավառի պետական քաղաքականության մշակում՝ ծրագրերի համակարգում և մոնիտորինգ
A43: Ծրագրի միջոցառումները
A44: Ծրագրի դասիչը՝ | B44: 1112 | C44: Ցուցանիշների փոփոխությունը (ավելացումները նշված են դրական նշանով)
A45: Միջոցառման դասիչը՝ | B45: 11001 | C45: Առաջին կիսամյակ | D45: Ինն ամիս | E45: Տարի
A46: Միջոցառման անվանումը՝ | B46: Արտակարգ իրավիճակների բնագավառում քաղաքականության մշակում՝ խորհրդատվական ծառայությունների տրամադրում և մոնիտորինգի իրականացում
A47: Նկարագրությունը՝ | B47: Արտակարգ իրավիճակների բնագավառում քաղաքականության մշակում՝ խորհրդատվական ծառայությունների տրամադրում և մոնիտորինգի իրականացում
A48: Միջոցառման տեսակը՝ | B48: Ծառայության մատուցում
...

Sheet 4
C1: Հավելված N 4 ՀՀ կառավարության 2021 թվականի __________-ի ____-ի N _____-Ն որոշման
A2: ՀԱՅԱՍՏԱՆԻ ՀԱՆՐԱՊԵՏՈՒԹՅԱՆ ԿԱՌԱՎԱՐՈՒԹՅԱՆ 2020 ԹՎԱԿԱՆԻ ԴԵԿՏԵՄԲԵՐԻ 30-Ի ԹԻՎ 2215-Ն ՈՐՈՇՄԱՆ N 9.1 ՀԱՎԵԼՎԱԾԻ N 9.1.3, 9.1.13 ԵՎ 9.1.19 ԱՂՅՈՒՍԱԿՆԵՐՈՒՄ ԿԱՏԱՐՎՈՂ ՓՈՓՈԽՈՒԹՅՈՒՆՆԵՐԸ
A4: ՀՀ վարչապետի աշխատակազմ
A5: ՄԱՍ 1. ՊԵՏԱԿԱՆ ՄԱՐՄՆԻ ԳԾՈՎ ԱՐԴՅՈՒՆՔԱՅԻՆ (ԿԱՏԱՐՈՂԱԿԱՆ) ՑՈՒՑԱՆԻՇՆԵՐԸ
A6: Ծրագրի դասիչը | B6: Ծրագրի անվանումը
A7: 1213 | B7: Տեսչական վերահսկողության ծրագիր
A8: Ծրագրի միջոցառումները
A9: Ծրագրի դասիչը՝ | B9: 1213 | C9: Ցուցանիշների փոփոխությունը (նվազեցումները նշված են փակագծերում)
A10: Միջոցառման դասիչը՝ | B10: 11006 | C10: Առաջին կիսամյակ | D10: Ինն ամիս | E10: Տարի
A11: Միջոցառման անվանումը՝ | B11: Քաղաքաշինության և ճարտարապետության բնագավառում վերահսկողության ծառայություններ
A12: Նկարագրությունը՝ | B12: Քաղաքաշինության՝ տեխնիկական և հրդեհային անվտանգության՝ տրանսպորտի՝ էներգետիկայի՝ պետական և տեղական նշանակության գեոդեզիական և քարտեզագրական աշխատանքների և հողօգտագործման բնագավառներում վերահսկողության իրականացում
A13: Միջոցառման տեսակը՝ | B13: Ծառայության մատուցում
A14: Միջոցառումն իրականացնողի անվանումը | B14: ՀՀ քաղաքաշինության, տեխնիկական և հրդեհային անվտանգության տեսչական մարմին
B15: Արդյունքի չափորոշիչներ
A16: Միջոցառման վրա կատարվող ծախսը (հազար դրամ) | C16: =+'3'!C20 -> -2424.2 | D16: =+'3'!D20 -> -3476.2 | E16: =+'3'!E20 -> -4720.4
A18: ՀՀ շրջակա միջավայրի նախարարություն
A19: ՄԱՍ 1. ՊԵՏԱԿԱՆ ՄԱՐՄՆԻ ԳԾՈՎ ԱՐԴՅՈՒՆՔԱՅԻՆ (ԿԱՏԱՐՈՂԱԿԱՆ) ՑՈՒՑԱՆԻՇՆԵՐԸ
A21: Ծրագրի դասիչը | B21: Ծրագրի անվանումը
A22: 1016 | B22: Շրջակա միջավայրի վրա ազդեցության գնահատում և մոնիթորինգ
A23: Ծրագրի միջոցառումները
A25: Ծրագրի դասիչը՝ | B25: 1016 | C25: Ցուցանիշների փոփոխությունը (նվազեցումները նշված են փակագծերում)
A26: Միջոցառման դասիչը՝ | B26: 11004 | C26: Առաջին կիսամյակ | D26: Ինն ամիս | E26: Տարի
A27: Միջոցառման անվանումը՝ | B27: Հիդրոօդերևութաբանություն, շրջակա միջավայրի մոնիթորիգ և տեղեկատվության ապահովում
A28: Նկարագրությունը՝ | B28: Հիդրոօդերևութաբանություն, շրջակա միջավայրի մոնիթորիգի տեղեկատվության տրամադրման աշխատանքներ
A29: Միջոցառման տեսակը՝ | B29: Ծառայությունների մատուցում
A30: Միջոցառումն իրականացնողի անվանումը՝ | B30: Մասնագիտացված կազմակերպություններ
B31: Արդյունքի չափորոշիչներ
A32: Միջոցառման վրա կատարվող ծախսը (հազար դրամ) | C32: =+'3'!C36 -> -2910.5 | D32: =+'3'!D36 -> -4642.9 | E32: =+'3'!E36 -> -6929.7
A34: ՀՀ արտակարգ իրավիճակների նախարարություն
A35: ՄԱՍ 1. ՊԵՏԱԿԱՆ ՄԱՐՄՆԻ ԳԾՈՎ ԱՐԴՅՈՒՆՔԱՅԻՆ (ԿԱՏԱՐՈՂԱԿԱՆ) ՑՈՒՑԱՆԻՇՆԵՐԸ
A37: Ծրագրի դասիչը | B37: Ծրագրի անվանումը
A38: 1112 | B38: Արտակարգ իրավիճակների բնագավառի պետական քաղաքականության մշակում՝ ծրագրերի համակարգում և մոնիտորինգ
A39: Ծրագրի միջոցառումները
A40: Ծրագրի դասիչը՝ | B40: 1112 | C40: Ցուցանիշների փոփոխությունը (ավելացումները նշված են դրական նշանով)
A41: Միջոցառման դասիչը՝ | B41: 11001 | C41: Առաջին կիսամյակ | D41: Ինն ամիս | E41: Տարի
A42: Միջոցառման անվանումը՝ | B42: Արտակարգ իրավիճակների բնագավառում քաղաքականության մշակում՝ խորհրդատվական ծառայությունների տրամադրում և մոնիտորինգի իրականացում
A43: Նկարագրությունը՝ | B43: Արտակարգ իրավիճակների բնագավառում քաղաքականության մշակում՝ խորհրդատվական ծառայությունների տրամադրում և մոնիտորինգի իրականացում
A44: Միջոցառման տեսակը՝ | B44: Ծառայության մատուցում
A45: Միջոցառումն իրականացնողի անվանումը | B45: ՀՀ արտակարգ իրավիճակների նախարարություն
B46: Արդյունքի չափորոշիչներ
...

Sheet 5
E1: Հավելված N5
E2: ՀՀ կառավարության 2021 թվականի
E3: ______________ ի ___Ն որոշման
A5: ՀԱՅԱՍՏԱՆԻ ՀԱՆՐԱՊԵՏՈՒԹՅԱՆ ԿԱՌԱՎԱՐՈՒԹՅԱՆ 2020 ԹՎԱԿԱՆԻ ԴԵԿՏԵՄԲԵՐԻ 30-Ի N 2215-Ն ՈՐՈՇՄԱՆ N 5 ՀԱՎԵԼՎԱԾԻ N 7 ԱՂՅՈՒՍԱԿՈՒՄ ԿԱՏԱՐՎՈՂ ՓՈՓՈԽՈՒԹՅՈՒՆՆԵՐԸ
G7: հազար դրամներով
A8: Ծրագրային դասիչ | C8: Բյուջետային հատկացումների գլխավոր կարգադրիչների, ծրագրերի, միջոցառումների, ծախսային ուղղությունների անվանումները | F8: Միջոցառումները կատարող պետական մարմինների և դրամաշնորհ ստացող տնտեսվարող սուբյեկտների անվանումները | G8: Ցուցանիշների փոփոխությունը (նվազեցումները նշված են փակագծերում)
G9: Տարի
A10: Ծրագիր | B10: Միջոցառում
A11: 1 | B11: 2 | C11: 3 | F11: 4 | G11: 5
A12: ՀՀ շրջակա միջավայրի նախարարություն | G12: =+G13 -> -6929.7
A13: 1016 | B13: Շրջակա միջավայրի վրա ազդեցության գնահատում և մոնիթորինգ | G13: =+G14 -> -6929.7
B14: 11004 | C14: Հիդրոօդերևութաբանություն, շրջակա միջավայրի մոնիթորինգ և տեղեկատվության ապահովում | F14: ՀՀ շրջակա միջավայրի նախարարություն | G14: =+G15 -> -6929.7
F15: «Հիդրոօդերևութաբանության և մոնիթորինգի կենտրոն» ՊՈԱԿ | G15: =+'2'!I52 -> -6929.7
A17: ՀԱՅԱՍՏԱՆԻ ՀԱՆՐԱՊԵՏՈՒԹՅԱՆ ՎԱՐՉԱՊԵՏԻ ԱՇԽԱՏԱԿԱԶՄԻ
A18: ՂԵԿԱՎԱՐ Ա. ԹՈՐՈՍՅԱՆ

Sheet 6
F1: Հավելված N 6
E2: ՀՀ կառավարության 2021 թվականի
E3: ______________ ի ___Ն որոշման
A6: ՀԱՅԱՍՏԱՆԻ ՀԱՆՐԱՊԵՏՈՒԹՅԱՆ ԿԱՌԱՎԱՐՈՒԹՅԱՆ 2020ԹՎԱԿԱՆԻ ԴԵԿՏԵՄԲԵՐԻ 30-Ի N 2215-Ն ՈՐՈՇՄԱՆ N 10 ՀԱՎԵԼՎԱԾՈՒՄ ԿԱՏԱՐՎՈՂ ՓՈՓՈԽՈՒԹՅՈՒՆՆԵՐԸ ԵՎ ԼՐԱՑՈՒՄՆԵՐԸ
A8: Գնման առարկայի | F8: Ցուցանիշների փոփոխությունները (ավելացումները նշված են դրական նշանով, իսկ նվազեցումները՝ փակագծերում)
A9: Կոդը | B9: Անվանումը | C9: Գնման ձև | D9: Չափման միավորը | E9: Միավորի գինը | F9: Քանակը | G9: Գումարը (հազար դրամով)
A11: ՀՀ վարչապետի աշխատակազմ | G11: =+G12 -> -4720.4
A12: Բաժին N 01 | B12: Խումբ N 01 | C12: Դաս N 01 | D12: Օրենսդիր և գործադիր մարմիններ, պետական կառավարում, ֆինանսական և հարկաբյուջետային հարաբերություններ, արտաքին հարաբերություններ | G12: =+G13 -> -4720.4
A13: 1213 11006 | B13: Քաղաքաշինության և ճարտարապետության բնագավառում վերահսկողության ծառայություններ | G13: =+G14 -> -4720.4
A14: ՄԱՍ III. ԾԱՌԱՅՈՒԹՅՈՒՆՆԵՐ | G14: =SUM(G15:G18) -> -4720.4
A15: 65111100-1 | B15: Խմելու ջրի բաշխում | C15: ՄԱ | D15: դրամ | G15: -56
A16: 65211100-1 | B16: Գազի բաշխում | C16: ՄԱ | D16: դրամ | G16: -1281.2
A17: 65311100-2 | B17: Էլեկտրականության բաշխում | C17: ՄԱ | D17: դրամ | G17: -3371.2
A18: 90921100-1 | B18: Ախտահանման և մակաբույծների ոչնչացման ծառայություններ քաղաքային կամ գյուղական վայրերում | C18: ՄԱ | D18: դրամ | G18: -12
A19: ՀՀ արտակարգ իրավիճակների նախարարություն | G19: =+G20 -> 11650.1
A20: Բաժին N 03 | B20: Խումբ N 02 | C20: Դաս N 01 | D20: Փրկարար ծառայություն | G20: =+G21 -> 11650.1
A21: 1112 11001 | B21: Արտակարգ իրավիճակների բնագավառում քաղաքականության մշակում՝ խորհրդատվական ծառայությունների տրամադրում և մոնիտորինգի իրականացում | G21: =+G22 -> 11650.1
A22: ՄԱՍ III. ԾԱՌԱՅՈՒԹՅՈՒՆՆԵՐ | G22: =SUM(G23:G25) -> 11650.1
A23: 65111100-1 | B23: Խմելու ջրի բաշխում | C23: ՄԱ | D23: դրամ | E23: 130100 | F23: 1 | G23: =E23*F23/1000 -> 130.1
A24: 65211100-1 | B24: Գազի բաշխում | C24: ՄԱ | D24: դրամ | E24: 7000000 | F24: 1 | G24: =+E24*F24/1000 -> 7000
A25: 65311100-1 | B25: Էլեկտրականության բաշխում | C25: ՄԱ | D25: դրամ | E25: 4520000 | F25: 1 | G25: =+E25*F25/1000 -> 4520
A27: ՀԱՅԱՍՏԱՆԻ ՀԱՆՐԱՊԵՏՈՒԹՅԱՆ ՎԱՐՉԱՊԵՏԻ ԱՇԽԱՏԱԿԱԶՄԻ
A28: ՂԵԿԱՎԱՐ Ա. ԹՈՐՈՍՅԱՆ
