Workbook
Name AgencyCode: #REF!
Name AgencyCode: #REF!
Name AgencyCode: #REF!
Name AgencyName: #REF!
Name AgencyName: #REF!
Name AgencyName: #REF!
Name åû: #REF!
Name davit: #REF!
Name Functional1: #REF!
Name Functional1: #REF!
Name Functional1: #REF!
Name ggg: #REF!
Name mas: #REF!
Name mass: #REF!
Name PANature: #REF!
Name PANature: #REF!
Name PANature: #REF!
Name PAType: #REF!
Name PAType: #REF!
Name PAType: #REF!
Name Performance2: #REF!
Name Performance2: #REF!
Name Performance2: #REF!
Name PerformanceType: #REF!
Name PerformanceType: #REF!
Name PerformanceType: #REF!
Name x: #REF!
Name Հավելված: #REF!
Name Մաս: #REF!
Name շախմատիստ: #REF!

Sheet Հ1
F1: Հավելված N 1
F2: ՀՀ կառավարության 2021 թվականի
F3: ______________ ի ___Ն որոշման
A5: «ՀԱՅԱUՏԱՆԻ ՀԱՆՐԱՊԵՏՈՒԹՅԱՆ 2021 ԹՎԱԿԱՆԻ ՊԵՏԱԿԱՆ ԲՅՈՒՋԵԻ ՄԱUԻՆ» OՐԵՆՔԻ N 1 ՀԱՎԵԼՎԱԾԻ N 2 ԱՂՅՈՒՍԱԿՈՒՄ ԿԱՏԱՐՎՈՂ ՎԵՐԱԲԱՇԽՈՒՄԸ ԵՎ ՀԱՅԱՍՏԱՆԻ ՀԱՆՐԱՊԵՏՈՒԹՅԱՆ ԿԱՌԱՎԱՐՈՒԹՅԱՆ 2020 ԹՎԱԿԱՆԻ ԴԵԿՏԵՄԲԵՐԻ 30-Ի N 2215-Ն ՈՐՈՇՄԱՆ N 5 ՀԱՎԵԼՎԱԾԻ N 1 ԱՂՅՈՒՍԱԿՈՒՄ ԿԱՏԱՐՎՈՂ ՓՈՓՈԽՈՒԹՅՈՒՆՆԵՐԸ
F7: հազար դրամ
A8: Ծրագրային դասիչը | C8: Բյուջետային հատկացումների գլխավոր կարգադրիչների, ծրագրերի և միջոցառումների անվանումները | D8: Ցուցանիշների փոփոխությունը (ավելացումները նշված են դրական նշանով, իսկ նվազեցումները` փակագծերում)
A9: Ծրագիր | B9: Միջոցառում | D9: Առաջին կիսամյակ | E9: Ինն ամիս | F9: Տարի
C10: ԸՆԴԱՄԵՆԸ | D10: 0 | E10: 0 | F10: 0
C11: այդ թվում
C12: ՀՀ տարածքային կառավարման և ենթակառուցվածքների նախարարություն | D12: =D13 -> 42920 | E12: =E13 -> 42920 | F12: =F13 -> 42920
A13: 1212 | C13: Ծրագրի անվանումը` | D13: =+D20 -> 42920 | E13: =+E20 -> 42920 | F13: =+F20 -> 42920
C14: Տարածքային զարգացում
C15: Ծրագրի նպատակը`
C16: Տարածքային համաչափ զարգացման խթանում
C17: Վերջնական արդյունքի նկարագրությունը`
C18: ՀՀ համայնքների կառավարման արդյունավետության բարձրացում և տնտեսական գործունեության խթանում
C19: Ծրագրի միջոցառումներ
B20: 12017 | C20: Միջոցառման անվանումը` | D20: =-D27 -> 42920 | E20: =-E27 -> 42920 | F20: =-F27 -> 42920
C21: Պատերազմի արդյունքում ժամանակավորապես Հայաստանի Հանրապետությունում գտնվող քաղաքացիներին մշտական բնակության վայր տեղափոխում
C22: Միջոցառման նկարագրությունը`
C23: Ադրբեջանի կողմից սանձազերծված պատերազմի արդյունքում Արցախի Հանրապետությունից Հայաստանի Հանրապետություն ժամանակավորապես ժամանած քաղաքացիներին Արցախի Հանրապետություն ուղարկելու նպատակով` Երևանի քաղաքապետարանի և ՀՀ մարզպետարանների կողմից կազմակերպված ուղևորափոխադրումների փոխհատուցում
C24: Միջոցառման տեսակը
C25: Տրանսֆերտների տրամադրում
C26: ՀՀ կառավարություն | D26: =D27 -> -42920 | E26: =E27 -> -42920 | F26: =F27 -> -42920
A27: 1139 | C27: Ծրագրի անվանումը` | D27: =+D34 -> -42920 | E27: =+E34 -> -42920 | F27: =+F34 -> -42920
C28: ՀՀ կառավարության պահուստային ֆոնդ
C29: Ծրագրի նպատակը`
C30: Պետական բյուջեում չկանխատեսված, ինչպես նաեւ բյուջետային երաշխիքների ապահովման ծախսերի ֆինանսավորման ապահովում
C31: Վերջնական արդյունքի նկարագրությունը`
C32: Պահուստային ֆոնդի կառավարման արդյունավետության և թափանցիկության ապահովում
C33: Ծրագրի միջոցառումներ
B34: 11001 | C34: Միջոցառման անվանումը` | D34: =+Հ2!G21 -> -42920 | E34: =+Հ2!H21 -> -42920 | F34: =+Հ2!I21 -> -42920
C35: ՀՀ կառավարության պահուստային ֆոնդ
C36: Միջոցառման նկարագրությունը`
C37: ՀՀ պետական բյուջեում նախատեսված ելքերի լրացուցիչ ֆինանսավորման, պետական բյուջեում չկանխատեսված ելքերի, ինչպես նաև բյուջետային երաշխիքների ապահովման ելքերի ֆինանսավորման ապահովում
C38: Միջոցառման տեսակը
C39: Ծառայությունների մատուցում

Sheet Հ2
I1: Հավելված N 2
I2: ՀՀ կառավարության 2021 թվականի
I3: ______________ ի ___Ն որոշման
A5: ՀԱՅԱՍՏԱՆԻ ՀԱՆՐԱՊԵՏՈՒԹՅԱՆ ԿԱՌԱՎԱՐՈՒԹՅԱՆ 2020 ԹՎԱԿԱՆԻ ԴԵԿՏԵՄԲԵՐԻ 30-Ի N 2215-Ն ՈՐՈՇՄԱՆ NN 3 ԵՎ 4 ՀԱՎԵԼՎԱԾՆԵՐՈՒՄ ԿԱՏԱՐՎՈՂ ՓՈՓՈԽՈՒԹՅՈՒՆՆԵՐԸ
I7: հազար դրամ
A8: Գործառական դասիչը | D8: Ծրագրային դասիչը | F8: Բյուջետային հատկացումների գլխավոր կարգադրիչների, ծրագրերի, միջոցառումների և միջոցառումները կատարող պետական մարմինների անվանումները | G8: Ցուցանիշների փոփոխությունը (ավելացումները նշված են դրական նշանով, իսկ նվազեցումները` փակագծերում)
A9: Բաժին | B9: Խումբ | C9: Դաս | D9: Ծրագիր | E9: Միջոցառում | G9: Առաջին կիսամյակ | H9: Ինն ամիս | I9: Տարի
F10: ԸՆԴԱՄԵՆԸ | G10: =+G12+G31 -> 0 | H10: =+H12+H31 -> 0 | I10: =+I12+I31 -> 0
F11: այդ թվում
F12: ՀՀ կառավարություն | G12: =+G13 -> -42920 | H12: =+H13 -> -42920 | I12: =+I13 -> -42920
A13: 11 | F13: ՀԻՄՆԱԿԱՆ ԲԱԺԻՆՆԵՐԻՆ ՉԴԱՍՎՈՂ ՊԱՀՈՒՍՏԱՅԻՆ ՖՈՆԴԵՐ | G13: =+G15 -> -42920 | H13: =+H15 -> -42920 | I13: =+I15 -> -42920
F14: այդ թվում`
B15: 01 | F15: ՀՀ կառավարության և համայնքների պահուստային ֆոնդ | G15: =+G17 -> -42920 | H15: =+H17 -> -42920 | I15: =+I17 -> -42920
F16: այդ թվում`
C17: 01 | F17: ՀՀ կառավարության պահուստային ֆոնդ | G17: =+G19 -> -42920 | H17: =+H19 -> -42920 | I17: =+I19 -> -42920
F18: այդ թվում`
D19: 1139 | F19: ՀՀ կառավարության պահուստային ֆոնդ | G19: =+G21 -> -42920 | H19: =+H21 -> -42920 | I19: =+I21 -> -42920
F20: այդ թվում`
E21: 11001 | F21: ՀՀ կառավարության պահուստային ֆոնդ | G21: =+G23 -> -42920 | H21: =+H23 -> -42920 | I21: =+I23 -> -42920
F22: այդ թվում`
F23: ՀՀ կառավարության պահուստային ֆոնդ | G23: =+G25 -> -42920 | H23: =+H25 -> -42920 | I23: =+I25 -> -42920
F24: այդ թվում` ըստ կատարողների
F25: ՀՀ կառավարություն | G25: =+G28 -> -42920 | H25: =+H28 -> -42920 | I25: =+I28 -> -42920
F26: այդ թվում` բյուջետային ծախսերի տնտեսագիտական դասակարգման հոդվածներ | G26: =+G27 -> -42920 | H26: =+H27 -> -42920 | I26: =+I27 -> -42920
F27: ԸՆԴԱՄԵՆԸ ԾԱԽՍԵՐ | G27: =+G28 -> -42920 | H27: =+H28 -> -42920 | I27: =+I28 -> -42920
F28: ԸՆԹԱՑԻԿ ԾԱԽՍԵՐ | G28: =+G29 -> -42920 | H28: =+H29 -> -42920 | I28: =+I29 -> -42920
F29: ԱՅԼ ԾԱԽՍԵՐ | G29: =+G30 -> -42920 | H29: =+H30 -> -42920 | I29: =+I30 -> -42920
F30: Պահուստային միջոցներ | G30: =-G50 -> -42920 | H30: =-H50 -> -42920 | I30: =-I50 -> -42920
F31: ՀՀ տարածքային կառավարման և ենթակառուցվածքների նախարարություն | G31: =+G32 -> 42920 | H31: =+H32 -> 42920 | I31: =+I32 -> 42920
A32: 01 | F32: ԸՆԴՀԱՆՈՒՐ ԲՆՈՒՅԹԻ ՀԱՆՐԱՅԻՆ ԾԱՌԱՅՈՒԹՅՈՒՆՆԵՐ | G32: =G34 -> 42920 | H32: =H34 -> 42920 | I32: =I34 -> 42920
F33: այդ թվում`
B34: 08 | F34: Կառավարության տարբեր մակարդակների միջև իրականացվող ընդհանուր բնույթի տրանսֆերտներ | G34: =G36 -> 42920 | H34: =H36 -> 42920 | I34: =I36 -> 42920
F35: այդ թվում`
C36: 01 | F36: Կառավարության տարբեր մակարդակների միջև իրականացվող ընդհանուր բնույթի տրանսֆերտներ | G36: =+G38 -> 42920 | H36: =+H38 -> 42920 | I36: =+I38 -> 42920
F37: այդ թվում`
F38: ՀՀ տարածքային կառավարման և ենթակառուցվածքների նախարարություն | G38: =+G40 -> 42920 | H38: =+H40 -> 42920 | I38: =+I40 -> 42920
F39: այդ թվում`
D40: 1212 | E40: Տարածքային զարգացում | G40: =+G42 -> 42920 | H40: =+H42 -> 42920 | I40: =+I42 -> 42920
E41: 12017 | F41: այդ թվում`
F42: =+Հ1!C21 -> Պատերազմի արդյունքում ժամանակավորապես Հայաստանի Հանրապետությունում գտնվող քաղաքացիներին մշտական բնակության վայր տեղափոխում | G42: =+G44 -> 42920 | H42: =+H44 -> 42920 | I42: =+I44 -> 42920
...

Sheet Հ3
G1: Հավելված 3
G2: ՀՀ կառավարության 2021 թվականի
G3: ______________ ի ___Ն որոշման
A5: «ՀԱՅԱՍՏԱՆԻ ՀԱՆՐԱՊԵՏՈՒԹՅԱՆ 2021 ԹՎԱԿԱՆԻ ՊԵՏԱԿԱՆ ԲՅՈՒՋԵԻ ՄԱՍԻՆ» ՕՐԵՆՔԻ N 1 ՀԱՎԵԼՎԱԾԻ N 7 ԱՂՅՈՒՍԱԿՈՒՄ ԵՎ ՀԱՅԱՍՏԱՆԻ ՀԱՆՐԱՊԵՏՈՒԹՅԱՆ ԿԱՌԱՎԱՐՈՒԹՅԱՆ 2020 ԹՎԱԿԱՆԻ ԴԵԿՏԵՄԲԵՐԻ 30-Ի N 2215-Ն ՈՐՈՇՄԱՆ N 5 ՀԱՎԵԼՎԱԾԻ N 6 ԱՂՅՈՒՍԱԿՈՒՄ ԿԱՏԱՐՎՈՂ ՓՈՓՈԽՈՒԹՅՈՒՆԸ
G7: հազար դրամ
B8: Ծրագրային դասիչը | D8: Հատկացումների տրամադրման նպատակները և բյուջետային գլխավոր կարգադրիչների, ծրագրերի, միջոցառումների և կատարող պետական մարմնի անվանումները | E8: Ցուցանիշների փոփոխությունը (ավելացումները նշված են դրական նշանով)
B9: Ծրագիր | C9: Միջոցառում | E9: Առաջին կիսամյակ | F9: Ինն ամիս | G9: Տարի
D10: Ընդամենը | E10: =+E12 -> 42920 | F10: =+F12 -> 42920 | G10: =+G12 -> 42920
B11: այդ թվում`
B12: ՀՀ տարածքային կառավարման և ենթակառուցվածքների նախարարություն | E12: =+E14 -> 42920 | F12: =+F14 -> 42920 | G12: =+G14 -> 42920
B13: այդ թվում`
B14: 1212 | C14: Տարածքային զարգացում | E14: =E15 -> 42920 | F14: =F15 -> 42920 | G14: =G15 -> 42920
C15: 12017 | D15: =+Հ2!F42 -> Պատերազմի արդյունքում ժամանակավորապես Հայաստանի Հանրապետությունում գտնվող քաղաքացիներին մշտական բնակության վայր տեղափոխում | E15: =+E16 -> 42920 | F15: =+F16 -> 42920 | G15: =+G16 -> 42920
D16: ՀՀ տարածքային կառավարման և ենթակառուցվածքների նախարարություն | E16: =+Հ2!G50 -> 42920 | F16: =+Հ2!H50 -> 42920 | G16: =+Հ2!I50 -> 42920

Sheet Հ4
F1: Հավելված N 4
F2: ՀՀ կառավարության 2021 թվականի
F3: ______________ ի ___Ն որոշման
A5: ՀԱՅԱՍՏԱՆԻ ՀԱՆՐԱՊԵՏՈՒԹՅԱՆ ԿԱՌԱՎԱՐՈՒԹՅԱՆ 2020 ԹՎԱԿԱՆԻ ԴԵԿՏԵՄԲԵՐԻ 30-Ի N 2215-Ն ՈՐՈՇՄԱՆ N 9 ՀԱՎԵԼՎԱԾԻ NN 9.47 ԵՎ 9.8 ԱՂՅՈՒՍԱԿՆԵՐՈՒՄ ԿԱՏԱՐՎՈՂ ՓՈՓՈԽՈՒԹՅՈՒՆՆԵՐԸ
B7: ՀՀ կառավարություն
B9: ՄԱՍ 2. ՊԵՏԱԿԱՆ ՄԱՐՄՆԻ ԳԾՈՎ ԱՐԴՅՈՒՆՔԱՅԻՆ (ԿԱՏԱՐՈՂԱԿԱՆ) ՑՈՒՑԱՆԻՇՆԵՐԸ
B11: Ծրագրի դասիչը | C11: Ծրագրի անվանումը
B12: 1139 | C12: ՀՀ կառավարության պահուստային ֆոնդ
B14: Ծրագրի միջոցառումները
B16: Ծրագրի դասիչը՝ | C16: 1139 | D16: Ցուցանիշների փոփոխությունը (նվազեցումները նշված են փակագծերում)
B17: Միջոցառման դասիչը՝ | C17: 11001 | D17: Առաջին կիսամյակ | E17: Ինն ամիս | F17: Տարի
B18: Միջոցառման անվանումը՝ | C18: ՀՀ կառավարության պահուստային ֆոնդ
B19: Նկարագրությունը՝ | C19: ՀՀ պետական բյուջեում նախատեսված ելքերի լրացուցիչ ֆինանսավորման, պետական բյուջեում չկանխատեսված ելքերի, ինչպես նաև բյուջետային երաշխիքների ապահովման ելքերի ֆինանսավորման ապահովում
B20: Միջոցառման տեսակը՝ | C20: Ծառայությունների մատուցում
B21: Միջոցառումն իրականացնողի անվանումը | C21: Արդյունքի չափորոշիչներ
C22: Արդյունքի չափորոշիչներ
B23: Միջոցառման վրա կատարվող ծախսը (հազար դրամ) | D23: =-D43 -> -42920 | E23: =-E43 -> -42920 | F23: =-F43 -> -42920
B26: ՀՀ տարածքային կառավարման և ենթակառուցվածքների նախարարություն
B28: ՄԱՍ 2. ՊԵՏԱԿԱՆ ՄԱՐՄՆԻ ԳԾՈՎ ԱՐԴՅՈՒՆՔԱՅԻՆ (ԿԱՏԱՐՈՂԱԿԱՆ) ՑՈՒՑԱՆԻՇՆԵՐԸ
B30: Ծրագրի դասիչը | C30: Ծրագրի անվանումը
B31: 1212 | C31: Տարածքային զարգացում
B33: Ծրագրի միջոցառումները
B34: Ծրագրի դասիչը` | C34: 1212 | D34: Ցուցանիշների փոփոխությունը (ավելացումները նշված են դրական նշանով)
B35: Միջոցառման դասիչը` | C35: 12017 | D35: Առաջին կիսամյակ | E35: Ինն ամիս | F35: Տարի
B36: Միջոցառման անվանումը` | C36: =+Հ1!C21 -> Պատերազմի արդյունքում ժամանակավորապես Հայաստանի Հանրապետությունում գտնվող քաղաքացիներին մշտական բնակության վայր տեղափոխում
B37: Նկարագրությունը` | C37: =+Հ1!C23 -> Ադրբեջանի կողմից սանձազերծված պատերազմի արդյունքում Արցախի Հանրապետությունից Հայաստանի Հանրապետություն ժամանակավորապես ժամանած քաղաքացիներին Արցախի Հանրապետություն ուղարկելու նպատակով` Երևանի քաղաքապետարանի և ՀՀ մարզպետարանների կողմից կազմակերպված ուղևորափոխադրումների փոխհատուցում
B38: Միջոցառման տեսակը` | C38: Տրանսֆերտների տրամադրում
B39: Շահառուների ընտրության չափանիշները` | C39: Մասնագիտացված միավոր
B40: Արդյունքի չափորոշիչներ
B41: Տեղափոխված ուղևորների քանակ, մարդ | D41: =+Հ5!D40 -> 6102 | E41: =+Հ5!E40 -> 6102 | F41: =+Հ5!F40 -> 6102
B42: Երթերի քանակ, հատ | D42: =+Հ5!D41 -> 148 | E42: =+Հ5!E41 -> 148 | F42: =+Հ5!F41 -> 148
B43: Միջոցառման վրա կատարվող ծախսը (հազար դրամ) | D43: =+Հ5!D42 -> 42920 | E43: =+Հ5!E42 -> 42920 | F43: =+Հ5!F42 -> 42920

Sheet Հ5
F1: Հավելված N 5
F2: ՀՀ կառավարության 2021 թվականի
F3: ______________ ի ___Ն որոշման
A5: ՀԱՅԱՍՏԱՆԻ ՀԱՆՐԱՊԵՏՈՒԹՅԱՆ ԿԱՌԱՎԱՐՈՒԹՅԱՆ 2020 ԹՎԱԿԱՆԻ ԴԵԿՏԵՄԲԵՐԻ 30-Ի N 2215-Ն ՈՐՈՇՄԱՆ N 9.1 ՀԱՎԵԼՎԱԾԻ NN 9.1.58 ԵՎ 9.1.8 ԱՂՅՈՒՍԱԿՆԵՐՈՒՄ ԿԱՏԱՐՎՈՂ ՓՈՓՈԽՈՒԹՅՈՒՆՆԵՐԸ
B7: ՀՀ կառավարություն
B9: ՄԱՍ 1. ՊԵՏԱԿԱՆ ՄԱՐՄՆԻ ԳԾՈՎ ԱՐԴՅՈՒՆՔԱՅԻՆ (ԿԱՏԱՐՈՂԱԿԱՆ) ՑՈՒՑԱՆԻՇՆԵՐԸ
B11: Ծրագրի դասիչը | C11: Ծրագրի անվանումը
B12: 1139 | C12: ՀՀ կառավարության պահուստային ֆոնդ
B14: Ծրագրի միջոցառումները
B16: Ծրագրի դասիչը՝ | C16: 1139 | D16: Ցուցանիշների փոփոխությունը (նվազեցումները նշված են փակագծերում)
B17: Միջոցառման դասիչը՝ | C17: 11001 | D17: Առաջին կիսամյակ | E17: Ինն ամիս | F17: Տարի
B18: Միջոցառման անվանումը՝ | C18: ՀՀ կառավարության պահուստային ֆոնդ
B19: Նկարագրությունը՝ | C19: ՀՀ պետական բյուջեում նախատեսված ելքերի լրացուցիչ ֆինանսավորման, պետական բյուջեում չկանխատեսված ելքերի, ինչպես նաև բյուջետային երաշխիքների ապահովման ելքերի ֆինանսավորման ապահովում
B20: Միջոցառման տեսակը՝ | C20: Ծառայությունների մատուցում
B21: Միջոցառումն իրականացնողի անվանումը | C21: Արդյունքի չափորոշիչներ
C22: Արդյունքի չափորոշիչներ
B23: Միջոցառման վրա կատարվող ծախսը (հազար դրամ) | D23: =-D42 -> -42920 | E23: =-E42 -> -42920 | F23: =-F42 -> -42920
B26: ՀՀ տարածքային կառավարման և ենթակառուցվածքների նախարարություն
B27: ՄԱՍ 1. ՊԵՏԱԿԱՆ ՄԱՐՄՆԻ ԳԾՈՎ ԱՐԴՅՈՒՆՔԱՅԻՆ (ԿԱՏԱՐՈՂԱԿԱՆ) ՑՈՒՑԱՆԻՇՆԵՐԸ
B29: Ծրագրի դասիչը | C29: Ծրագրի անվանումը
B30: 1212 | C30: Տարածքային զարգացում
B32: Ծրագրի միջոցառումները
B33: Ծրագրի դասիչը` | C33: 1212 | D33: Ցուցանիշների փոփոխությունը (ավելացումները նշված են դրական նշանով)
B34: Միջոցառման դասիչը` | C34: 12017 | D34: Առաջին կիսամյակ | E34: Ինն ամիս | F34: Տարի
B35: Միջոցառման անվանումը` | C35: Պատերազմի արդյունքում ժամանակավորապես Հայաստանի Հանրապետությունում գտնվող քաղաքացիներին մշտական բնակության վայր տեղափոխում
B36: Նկարագրությունը` | C36: Ադրբեջանի կողմից սանձազերծված պատերազմի արդյունքում Արցախի Հանրապետությունից Հայաստանի Հանրապետություն ժամանակավորապես ժամանած քաղաքացիներին Արցախի Հանրապետություն ուղարկելու նպատակով` Երևանի քաղաքապետարանի և ՀՀ մարզպետարանների կողմից կազմակերպված ուղևորափոխադրումների փոխհատուցում
B37: Միջոցառման տեսակը` | C37: Տրանսֆերտների տրամադրում
B38: Շահառուների ընտրության չափանիշները` | C38: Մասնագիտացված միավոր
B39: Արդյունքի չափորոշիչներ
B40: Տեղափոխված ուղևորների քանակ, մարդ | D40: 6102 | E40: 6102 | F40: 6102
B41: Երթերի քանակ, հատ | D41: 148 | E41: 148 | F41: 148
B42: Միջոցառման վրա կատարվող ծախսը (հազար դրամ) | D42: 42920 | E42: 42920 | F42: 42920
