Workbook
Name AgencyCode: #REF!
Name AgencyCode: #REF!
Name AgencyName: #REF!
Name AgencyName: #REF!
Name Functional1: #REF!
Name Functional1: #REF!
Name havelvac: #REF!
Name PANature: #REF!
Name PANature: #REF!
Name PAType: #REF!
Name PAType: #REF!
Name Performance2: #REF!
Name Performance2: #REF!
Name PerformanceType: #REF!
Name PerformanceType: #REF!

Sheet 1
F1: Հավելված N 1
F2: ՀՀ կառավարության 2021 թվականի
F3: ___________ ___-ի N _______ -Ն որոշման
A6: «ՀԱՅԱUՏԱՆԻ ՀԱՆՐԱՊԵՏՈՒԹՅԱՆ 2021 ԹՎԱԿԱՆԻ ՊԵՏԱԿԱՆ ԲՅՈՒՋԵԻ ՄԱUԻՆ» ՀԱՅԱUՏԱՆԻ ՀԱՆՐԱՊԵՏՈՒԹՅԱՆ OՐԵՆՔԻ N 1 ՀԱՎԵԼՎԱԾԻ N 2 ԱՂՅՈՒՍԱԿՈՒՄ ԿԱՏԱՐՎՈՂ ՎԵՐԱԲԱՇԽՈՒՄԸ ԵՎ ՀԱՅԱՍՏԱՆԻ ՀԱՆՐԱՊԵՏՈՒԹՅԱՆ ԿԱՌԱՎԱՐՈՒԹՅԱՆ 2020 ԹՎԱԿԱՆԻ ԴԵԿՏԵՄԲԵՐԻ 30-Ի N 2215-Ն ՈՐՈՇՄԱՆ N5 ՀԱՎԵԼՎԱԾԻ N1 ԱՂՅՈՒՍԱԿՈՒՄ ԿԱՏԱՐՎՈՂ ՓՈՓՈԽՈՒԹՅՈՒՆՆԵՐԸ ԵՎ ԼՐԱՑՈՒՄՆԵՐԸ
F8: հազար դրամներով
A9: Ծրագրային դասիչը | C9: Բյուջետային հատկացումների գլխավոր կարգադրիչների, ծրագրերի և միջոցառումների անվանումները | D9: Ցուցանիշների փոփոխությունները (Ավելացումները նշված են դրական նշանով, իսկ նվազեցումները՝ փակագծերում)
A10: Ծրագիր | B10: Միջոցառում | D10: Առաջին կիսամյակ | E10: Ինն ամիս | F10: Տարի
C11: ԸՆԴԱՄԵՆԸ | D11: =+D12 -> 0 | E11: =+E12 -> 0 | F11: =+F12 -> 0
B12: ՀՀ արտակարգ իրավիճակների նախարարություն | D12: =+D13 -> 0 | E12: =+E13 -> 0 | F12: =+F13 -> 0
A13: 1090 | C13: Ծրագրի անվանումը` | D13: =+D20+D26 -> 0 | E13: =+E20+E26 -> 0 | F13: =+F20+F26 -> 0
C14: Փրկարարական ծառայություններ
C15: Ծրագրի նպատակը`
C16: Արտակարգ իրավիճակների արդյունավետ արձագանք
C17: Վերջնական արդյունքի նկարագրությունը`
C18: Արտակարգ իրավիճակների հնարավոր դեպքերի կանխում՝ դրանց ժամանակին արձագանքում՝ հետևանքների նվազեցում և բնակչության պաշտպանություն
C19: Ծրագրի միջոցառումներ
B20: 11001 | C20: Միջոցառման անվանումը՝ | D20: -1195 | E20: -1995 | F20: -2645
C21: Փրկարարական ծառայություններ
C22: Միջոցառման նկարագրությունը՝
C23: Հրդեհաշիջման, հակահրդեհային քարոզչության, բնական և տեխնածին աղետների ժամանակ բնակչության և կառույցների պաշտպանություն
C24: Միջոցառման տեսակը՝
C25: Ծառայությունների մատուցում
B26: 31001 | C26: Միջոցառման անվանումը՝ | D26: 1195 | E26: 1995 | F26: 2645
C27: Փրկարար ծառայության տեխնիկական հագեցվածության բարելավում
C28: Միջոցառման նկարագրությունը՝
C29: Համակարգչային և գրասենյակային սարքավորումների ձեռքբերում
C30: Միջոցառման տեսակը՝
C31: Պետական մարմինների կողմից ոչ ֆինանասական ակտիվների ձեռքբերում
A32: 1112 | C32: Ծրագրի անվանումը` | D32: =+D39+D45 -> 0 | E32: =+E39+E45 -> 0 | F32: =+F39+F45 -> 0
C33: Արտակարգ իրավիճակների բնագավառի պետական քաղաքականության մշակում, ծրագրերի համակարգում և մոնիտորինգ
C34: Ծրագրի նպատակը`
C35: Արտակարգ իրավիճակների բնագավառում պետական արդյունավետ քաղաքականության մշակման և իրականացման ապահովում
C36: Վերջնական արդյունքի նկարագրությունը`
C37: Արտակարգ իրավիճակների քաղաքականության իրագործմանն ուղղված ծրագրերի ազդեցության և արդյունավետության բարելավում
A38: Ծրագրի միջոցառումներ
B39: 11001 | C39: Միջոցառման անվանումը` | D39: -115.2 | E39: -115.2 | F39: -115.2
C40: Արտակարգ իրավիճակների բնագավառում քաղաքականության մշակում, խորհրդատվական ծառայությունների տրամադրում և մոնիտորինգի իրականացում
C41: Միջոցառման նկարագրությունը`
C42: Արտակարգ իրավիճակների բնագավառում քաղաքականության մշակում, խորհրդատվական ծառայությունների տրամադրում և մոնիտորինգի իրականացում
C43: Միջոցառման տեսակը
...

Sheet 2
H1: Հավելված N 2
F2: ՀՀ կառավարության 2021 թվականի
F3: ___________ ___-ի N _______ -Ն որոշման
A5: «ՀԱՅԱՍՏԱՆԻ ՀԱՆՐԱՊԵՏՈՒԹՅԱՆ 2021 ԹՎԱԿԱՆԻ ՊԵՏԱԿԱՆ ԲՅՈՒՋԵԻ ՄԱՍԻՆ» ՀԱՅԱՍՏԱՆԻ ՀԱՆՐԱՊԵՏՈՒԹՅԱՆ ՕՐԵՆՔԻ N 1 ՀԱՎԵԼՎԱԾԻ N 3 ԱՂՅՈՒՍԱԿՈՒՄ ԿԱՏԱՐՎՈՂ ԼՐԱՑՈՒՄՆԵՐԸ
G6: հազար դրամներով
A7: Ծրագրային դասիչ | C7: Բյուջետային գլխավոր կարգադրիչների, ծրագրերի, միջոցառումների և ուղղությունների անվանումները | D7: Ընդամենը | E7: Ցուցանիշների փոփոխությունը (ավելացումները նշված են դրական նշանով)
E8: այդ թվում՝
A9: Ծրագիր | B9: Միջոցառում | E9: Կառուցման աշխատանքներ | F9: Վերակառուցման, վերանորոգման և վերականգնման աշխատանքներ | G9: Նախագծահե- տազոտական, գեոդեզիա- քարտեզագրա- կան աշխա- տանքներ | H9: Ոչ ֆինանսական այլ ակտիվների ձեռքբերում
C10: ԸՆԴԱՄԵՆԸ | D10: =D12 -> 2760.2 | E10: =E12 -> 0 | F10: =F12 -> 0 | G10: =G12 -> 0 | H10: =H12 -> 2760.2
C11: այդ թվում՝
C12: ՀՀ ԱՐՏԱԿԱՐԳ ԻՐԱՎԻՃԱԿՆԵՐԻ ՆԱԽԱՐԱՐՈՒԹՅՈՒՆ | D12: =+H12 -> 2760.2 | E12: 0 | F12: 0 | G12: 0 | H12: =+H14+H15 -> 2760.2
C13: այդ թվում`
A14: 1090 | B14: 31001 | C14: Փրկարար ծառայության տեխնիկական հագեցվածության բարելավում | D14: =+E14+F14+G14+H14 -> 2645 | E14: =+E15 -> 0 | F14: =+F15 -> 0 | G14: =+G15 -> 0 | H14: 2645
A15: 1112 | B15: 31001 | C15: Արտակարգ իրավիճակների նախարարության տեխնիկական հագեցվածության բարելավում | D15: =+E15+F15+G15+H15 -> 115.2 | E15: 0 | F15: 0 | G15: 0 | H15: =+'1'!F45 -> 115.2

Sheet 3
H1: Հավելված N 3
F2: ՀՀ կառավարության 2021 թվականի
F3: ___________ ___-ի N _______ -Ն որոշման
A5: ՀԱՅԱՍՏԱՆԻ ՀԱՆՐԱՊԵՏՈՒԹՅԱՆ ԿԱՌԱՎԱՐՈՒԹՅԱՆ 2020 ԹՎԱԿԱՆԻ ԴԵԿՏԵՄԲԵՐԻ 30-Ի N 2215-Ն ՈՐՈՇՄԱՆ N 3 ԵՎ N 4 ՀԱՎԵԼՎԱԾՆԵՐՈՒՄ ԿԱՏԱՐՎՈՂ ՓՈՓՈԽՈՒԹՅՈՒՆՆԵՐԸ ԵՎ ԼՐԱՑՈՒՄՆԵՐԸ
H6: հազար դրամներով
A7: Գործառական դասիչը | D7: Ծրագրային դասիչը | F7: Բյուջետային ծախսերի գործառական դասակարգման բաժինների, խմբերի և դասերի, բյուջետային հատկացումների գլխավոր կարգադրիչների, ծրագրերի, միջոցառումների և միջոցառումները կատարող պետական մարմինների անվանումները | G7: Ցուցանիշների փոփոխությունները (ավելացումները նշված են դրական նշանով,իսկ նվազեցումները՝ փակագծերում)
A8: Բաժին | B8: Խումբ | C8: Դաս | D8: Ծրագիր | E8: Միջոցառում | G8: Առաջին կիսամյակ | H8: Ինն ամիս | I8: Տարի
F9: ԸՆԴԱՄԵՆԸ | G9: 0 | H9: 0 | I9: 0
A10: 03 | F10: ՀԱՍԱՐԱԿԱԿԱՆ ԿԱՐԳ, ԱՆՎՏԱՆԳՈՒԹՅՈՒՆ ԵՎ ԴԱՏԱԿԱՆ ԳՈՐԾՈՒՆԵՈՒԹՅՈՒՆ | G10: =+G12 -> 0 | H10: =+H12 -> 0 | I10: =+I12 -> 0
F11: այդ թվում`
B12: 02 | F12: Փրկարար ծառայություն | G12: =+G14 -> 0 | H12: =+H14 -> 0 | I12: =+I14 -> 0
F13: այդ թվում`
C14: 01 | F14: Փրկարար ծառայություն | G14: =+G16+G35 -> 0 | H14: =+H16+H35 -> 0 | I14: =+I16+I35 -> 0
F15: այդ թվում
D16: 1090 | F16: Փրկարարական ծառայություններ | G16: =+G18+G26 -> 0 | H16: =+H18+H26 -> 0 | I16: =+I18+I26 -> 0
F17: այդ թվում`
E18: 11001 | F18: Փրկարարական ծառայություններ | G18: =+G20 -> -1195 | H18: =+H20 -> -1995 | I18: =+I20 -> -2645
F19: այդ թվում` ըստ կատարողների
F20: ՀՀ արտակարգ իրավիճակների նախարարություն | G20: =+G22 -> -1195 | H20: =+H22 -> -1995 | I20: =+I22 -> -2645
F21: այդ թվում` բյուջետային ծախսերի տնտեսագիտական դասակարգման հոդվածներ
F22: ԸՆԴԱՄԵՆԸ ԾԱԽՍԵՐ | G22: =+G23 -> -1195 | H22: =+H23 -> -1995 | I22: =+I23 -> -2645
F23: ԸՆԹԱՑԻԿ ԾԱԽՍԵՐ | G23: =+G24 -> -1195 | H23: =+H24 -> -1995 | I23: =+I24 -> -2645
F24: Նյութեր (Ապրանքներ) | G24: =+G25 -> -1195 | H24: =+H25 -> -1995 | I24: =+I25 -> -2645
F25: - Տրանսպորտային նյութեր | G25: =+'1'!D20 -> -1195 | H25: =+'1'!E20 -> -1995 | I25: =+'1'!F20 -> -2645
E26: 31001 | F26: Փրկարար ծառայության տեխնիկական հագեցվածության բարելավում | G26: =+G28 -> 1195 | H26: =+H28 -> 1995 | I26: =+I28 -> 2645
F27: այդ թվում` ըստ կատարողների
F28: ՀՀ արտակարգ իրավիճակների նախարարություն | G28: =+G30 -> 1195 | H28: =+H30 -> 1995 | I28: =+I30 -> 2645
F29: այդ թվում` բյուջետային ծախսերի տնտեսագիտական դասակարգման հոդվածներ
F30: ԸՆԴԱՄԵՆԸ ԾԱԽՍԵՐ | G30: =+G31 -> 1195 | H30: =+H31 -> 1995 | I30: =+I31 -> 2645
F31: ՈՉ ՖԻՆԱՆՍԱԿԱՆ ԱԿՏԻՎՆԵՐԻ ԳԾՈՎ ԾԱԽՍԵՐ | G31: =+G32 -> 1195 | H31: =+H32 -> 1995 | I31: =+I32 -> 2645
F32: ՀԻՄՆԱԿԱՆ ՄԻՋՈՑՆԵՐ | G32: =+G33 -> 1195 | H32: =+H33 -> 1995 | I32: =+I33 -> 2645
F33: ՄԵՔԵՆԱՆԵՐ ԵՎ ՍԱՐՔԱՎՈՐՈՒՄՆԵՐ | G33: =+G34 -> 1195 | H33: =+H34 -> 1995 | I33: =+I34 -> 2645
F34: - Վարչական սարքավորումներ | G34: =+'1'!D26 -> 1195 | H34: =+'1'!E26 -> 1995 | I34: =+'1'!F26 -> 2645
D35: 1112 | F35: Արտակարգ իրավիճակների բնագավառի պետական քաղաքականության մշակում, ծրագրերի համակարգում և մոնիտորինգ | G35: =+G37+G46 -> 0 | H35: =+H37+H46 -> 0 | I35: =+I37+I46 -> 0
F36: այդ թվում`
E37: 11001 | F37: Արտակարգ իրավիճակների բնագավառում քաղաքականության մշակում, խորհրդատվական ծառայությունների տրամադրում և մոնիտորինգի իրականացում | G37: =+G39 -> -115.2 | H37: =+H39 -> -115.2 | I37: =+I39 -> -115.2
F38: այդ թվում` ըստ կատարողների
F39: ՀՀ արտակարգ իրավիճակների նախարարություն | G39: =+G41 -> -115.2 | H39: =+H41 -> -115.2 | I39: =+I41 -> -115.2
F40: այդ թվում` բյուջետային ծախսերի տնտեսագիտական դասակարգման հոդվածներ
F41: ԸՆԴԱՄԵՆԸ ԾԱԽՍԵՐ | G41: =+G42 -> -115.2 | H41: =+H42 -> -115.2 | I41: =+I42 -> -115.2
...

Sheet 4
F1: Հավելված N 4
E2: ՀՀ կառավարության 2021 թվականի
E3: ___________ ___-ի N _______ -Ն որոշման
A5: ՀԱՅԱՍՏԱՆԻ ՀԱՆՐԱՊԵՏՈՒԹՅԱՆ ԿԱՌԱՎԱՐՈՒԹՅԱՆ 2020 ԹՎԱԿԱՆԻ ԴԵԿՏԵՄԲԵՐԻ 30-Ի N 2215-Ն ՈՐՈՇՄԱՆ N 5 ՀԱՎԵԼՎԱԾԻ N 2 ԱՂՅՈՒՍԱԿՈՒՄ ԿԱՏԱՐՎՈՂ ԼՐԱՑՈՒՄՆԵՐԸ
E6: հազար դրամներով
A7: Ծրագրային դասիչ | C7: Բյուջետային գլխավոր կարգադրիչների, ծրագրերի, միջոցառումների, միջոցառումները կատարող պետական մարմինների և ուղղությունների անվանումները | D7: Ցուցանիշների փոփոխությունը (ավելացումները նշված են դրական նշանով)
D8: Առաջին կիսամյակ | E8: Ինն ամիս | F8: Տարի
A9: Ծրագիր | B9: Միջոցառում
C10: ԸՆԴԱՄԵՆԸ | D10: =D11 -> 1310.2 | E10: =E11 -> 2110.2 | F10: =F11 -> 2760.2
C11: ՀՀ ԱՐՏԱԿԱՐԳ ԻՐԱՎԻՃԱԿՆԵՐԻ ՆԱԽԱՐԱՐՈՒԹՅՈՒՆ | D11: =+D13+D16 -> 1310.2 | E11: =+E13+E16 -> 2110.2 | F11: =+F13+F16 -> 2760.2
C12: այդ թվում`
A13: 1090 | B13: 31001 | C13: Փրկարար ծառայության տեխնիկական հագեցվածության բարելավում | D13: =+D15 -> 1195 | E13: =E15 -> 1995 | F13: =F15 -> 2645
C14: այդ թվում ըստ կատարողների`
C15: ՀՀ արտակարգ իրավիճակների նախարարություն | D15: =+'3'!G26 -> 1195 | E15: =+'3'!H26 -> 1995 | F15: =+'3'!I26 -> 2645
A16: 1112 | B16: 31001 | C16: Արտակարգ իրավիճակների նախարարության տեխնիկական հագեցվածության բարելավում | D16: =+D18 -> 115.2 | E16: =+E18 -> 115.2 | F16: =+F18 -> 115.2
C17: այդ թվում ըստ կատարողների`
C18: ՀՀ արտակարգ իրավիճակների նախարարություն | D18: =+'3'!G46 -> 115.2 | E18: =+'3'!H46 -> 115.2 | F18: =+'3'!I46 -> 115.2

Sheet 5
G1: Հավելված N 5
H2: ՀՀ կառավարության 2021 թվականի
G3: ___________ ___-ի N _______ -Ն որոշման
A5: ՀԱՅԱՍՏԱՆԻ ՀԱՆՐԱՊԵՏՈՒԹՅԱՆ ԿԱՌԱՎԱՐՈՒԹՅԱՆ 2020 ԹՎԱԿԱՆԻ ԴԵԿՏԵՄԲԵՐԻ 30-Ի ԹԻՎ 2215-Ն ՈՐՈՇՄԱՆ N 9 ՀԱՎԵԼՎԱԾԻ 9.19 ԵՎ 9.47 ԱՂՅՈՒՍԱԿՆԵՐՈՒՄ ԿԱՏԱՐՎՈՂ ՓՈՓՈԽՈՒԹՅՈՒՆՆԵՐԸ ԵՎ ԼՐԱՑՈՒՄՆԵՐԸ
A6: ՀՀ արտակարգ իրավիճակների նախարարություն
A7: ՄԱՍ 2. ՊԵՏԱԿԱՆ ՄԱՐՄՆԻ ԳԾՈՎ ԱՐԴՅՈՒՆՔԱՅԻՆ (ԿԱՏԱՐՈՂԱԿԱՆ) ՑՈՒՑԱՆԻՇՆԵՐԸ
A9: Ծրագրի դասիչը | B9: Ծրագրի անվանումը
A10: 1090 | B10: Փրկարարական ծառայություններ
A11: Ծրագրի միջոցառումները
A12: Ծրագրի դասիչը՝ | B12: 1090 | C12: Ցուցանիշների փոփոխությունը (նվազեցումները նշված են փակագծերում)
A13: Միջոցառման դասիչը՝ | B13: 11001 | C13: Առաջին կիսամյակ | D13: Ինն ամիս | E13: Տարի
A14: Միջոցառման անվանումը՝ | B14: Փրկարարական ծառայություններ
A15: Նկարագրությունը՝ | B15: Հրդեհաշիջման, հակահրդեհային քարոզչության, բնական և տեխնածին աղետների ժամանակ բնակչության և կառույցների պաշտպանություն
A16: Միջոցառման տեսակը՝ | B16: Ծառայությունների մատուցում
A17: Միջոցառումն իրականացնողի անվանումը` | B17: ՀՀ արտակարգ իրավիճակների նախարարություն
A18: Արդյունքի չափորոշիչներ
A19: Øß³ÏíáÕ ÝáñÙ³ïÇí Çñ³í³Ï³Ý ³Ïï»ñÇ Ý³Ë³·Í»ñÇ ù³Ý³Ï, Ñ³ï
A20: Ð³Ù³Ï³ñ·íáÕ, Çñ³Ï³Ý³óíáÕ ¨ í»ñ³ÑëÏÙ³Ý »ÝÃ³ñÏíáÕ ÙÇçáó³éáõÙÝ»ñÇ ù³Ý³Ï, Ñ³ï
A21: Միջոցառման վրա կատարվող ծախսը (հազար դրամ) | C21: =+'3'!G18 -> -1195 | D21: =+'3'!H18 -> -1995 | E21: =+'3'!I18 -> -2645
A22: Ծրագրի դասիչը՝ | B22: 1090 | C22: Ցուցանիշների փոփոխությունը (ավելացումները նշված են դրական նշանով)
A23: Միջոցառման դասիչը՝ | B23: 31001 | C23: Առաջին կիսամյակ | D23: Ինն ամիս | E23: Տարի
A24: Միջոցառման անվանումը՝ | B24: Փրկարար ծառայության տեխնիկական հագեցվածության բարելավում
A25: Նկարագրությունը՝ | B25: Համակարգչային և գրասենյակային սարքավորումների ձեռքբերում
A26: Միջոցառման տեսակը՝ | B26: Պետական մարմինների կողմից ոչ ֆինանասական ակտիվների ձեռքբերում
A27: Միջոցառումն իրականացնողի անվանումը` | B27: Փրկարար ծառայություն
A28: Արդյունքի չափորոշիչներ
A29: Øß³ÏíáÕ ÝáñÙ³ïÇí Çñ³í³Ï³Ý ³Ïï»ñÇ Ý³Ë³·Í»ñÇ ù³Ý³Ï, Ñ³ï
A30: Ð³Ù³Ï³ñ·íáÕ, Çñ³Ï³Ý³óíáÕ ¨ í»ñ³ÑëÏÙ³Ý »ÝÃ³ñÏíáÕ ÙÇçáó³éáõÙÝ»ñÇ ù³Ý³Ï, Ñ³ï
A31: Քանակական | B31: Համակարգչային սարքավորումների քանակ, հատ | C31: 21 | D31: 21 | E31: 21
B32: Գրասենյակային գույքի քանակ, հատ | C32: 2 | D32: 30 | E32: 33
A33: Ժամկետային | B33: Սարքավորումների ծառայության կանխատեսվող միջին ժամկետ, տարի | C33: 5 | D33: 5 | E33: 5
A34: Միջոցառման վրա կատարվող ծախսը (հազար դրամ) | C34: =+'3'!G26 -> 1195 | D34: =+'3'!H26 -> 1995 | E34: =+'3'!I26 -> 2645
A35: Ծրագրի դասիչը | B35: Ծրագրի անվանումը
A36: 1112 | B36: Արտակարգ իրավիճակների բնագավառի պետական քաղաքականության մշակում՝ ծրագրերի համակարգում և մոնիտորինգ
A37: Ծրագրի միջոցառումները
A38: Ծրագրի դասիչը՝ | B38: 1112 | C38: Ցուցանիշների փոփոխությունը (նվազեցումները նշված են փակագծերում)
A39: Միջոցառման դասիչը՝ | B39: 11001 | C39: Առաջին կիսամյակ | D39: Ինն ամիս | E39: Տարի
A40: Միջոցառման անվանումը՝ | B40: Արտակարգ իրավիճակների բնագավառում քաղաքականության մշակում՝ խորհրդատվական ծառայությունների տրամադրում և մոնիտորինգի իրականացում
A41: Նկարագրությունը՝ | B41: Արտակարգ իրավիճակների բնագավառում քաղաքականության մշակում՝ խորհրդատվական ծառայությունների տրամադրում և մոնիտորինգի իրականացում
A42: Միջոցառման տեսակը՝ | B42: Ծառայությունների մատուցում
...

Sheet 6
D1: Հավելված N 6 ՀՀ կառավարության 2021 թվականի __________-ի ____-ի N _____-Ն որոշման
A2: ՀԱՅԱՍՏԱՆԻ ՀԱՆՐԱՊԵՏՈՒԹՅԱՆ ԿԱՌԱՎԱՐՈՒԹՅԱՆ 2020 ԹՎԱԿԱՆԻ ԴԵԿՏԵՄԲԵՐԻ 30-Ի ԹԻՎ 2215-Ն ՈՐՈՇՄԱՆ N9.1 ՀԱՎԵԼՎԱԾԻ 9.1.19 ԵՎ 9.1.58 ԱՂՅՈՒՍԱԿՆԵՐՈՒՄ ԿԱՏԱՐՎՈՂ ՓՈՓՈԽՈՒԹՅՈՒՆՆԵՐԸ ԵՎ ԼՐԱՑՈՒՄՆԵՐԸ
A3: ՀՀ վարչապետի աշխատակազմ
A4: ՄԱՍ 1. ՊԵՏԱԿԱՆ ՄԱՐՄՆԻ ԳԾՈՎ ԱՐԴՅՈՒՆՔԱՅԻՆ (ԿԱՏԱՐՈՂԱԿԱՆ) ՑՈՒՑԱՆԻՇՆԵՐԸ
A5: Ծրագրի դասիչը | B5: Ծրագրի անվանումը
A6: 1090 | B6: Փրկարարական ծառայություններ
A7: Ծրագրի միջոցառումները
A8: Ծրագրի դասիչը՝ | B8: 1090 | C8: Ցուցանիշների փոփոխությունը (նվազեցումները նշված են փակագծերում)
A9: Միջոցառման դասիչը՝ | B9: 11001 | C9: Առաջին կիսամյակ | D9: Ինն ամիս | E9: Տարի
A10: Միջոցառման անվանումը՝ | B10: Փրկարարական ծառայություններ
A11: Նկարագրությունը՝ | B11: Հրդեհաշիջման, հակահրդեհային քարոզչության, բնական և տեխնածին աղետների ժամանակ բնակչության և կառույցների պաշտպանություն
A12: Միջոցառման տեսակը՝ | B12: Ծառայությունների մատուցում
A13: Միջոցառումն իրականացնողի անվանումը` | B13: ՀՀ արտակարգ իրավիճակների նախարարություն
A14: Արդյունքի չափորոշիչներ
A15: Øß³ÏíáÕ ÝáñÙ³ïÇí Çñ³í³Ï³Ý ³Ïï»ñÇ Ý³Ë³·Í»ñÇ ù³Ý³Ï, Ñ³ï
A16: Ð³Ù³Ï³ñ·íáÕ, Çñ³Ï³Ý³óíáÕ ¨ í»ñ³ÑëÏÙ³Ý »ÝÃ³ñÏíáÕ ÙÇçáó³éáõÙÝ»ñÇ ù³Ý³Ï, Ñ³ï
A17: Միջոցառման վրա կատարվող ծախսը (հազար դրամ) | C17: =+'5'!C21 -> -1195 | D17: =+'5'!D21 -> -1995 | E17: =+'5'!E21 -> -2645
A18: Ծրագրի դասիչը՝ | B18: 1090 | C18: Ցուցանիշների փոփոխությունը (ավելացումները նշված են դրական նշանով)
A19: Միջոցառման դասիչը՝ | B19: 31001 | C19: Առաջին կիսամյակ | D19: Ինն ամիս | E19: Տարի
A20: Միջոցառման անվանումը՝ | B20: Փրկարար ծառայության տեխնիկական հագեցվածության բարելավում
A21: Նկարագրությունը՝ | B21: Համակարգչային և գրասենյակային սարքավորումների ձեռքբերում
A22: Միջոցառման տեսակը՝ | B22: Պետական մարմինների կողմից ոչ ֆինանասական ակտիվների ձեռքբերում
A23: Միջոցառումն իրականացնողի անվանումը` | B23: Փրկարար ծառայություն
A24: Արդյունքի չափորոշիչներ
A25: Øß³ÏíáÕ ÝáñÙ³ïÇí Çñ³í³Ï³Ý ³Ïï»ñÇ Ý³Ë³·Í»ñÇ ù³Ý³Ï, Ñ³ï
A26: Ð³Ù³Ï³ñ·íáÕ, Çñ³Ï³Ý³óíáÕ ¨ í»ñ³ÑëÏÙ³Ý »ÝÃ³ñÏíáÕ ÙÇçáó³éáõÙÝ»ñÇ ù³Ý³Ï, Ñ³ï
A27: Քանակական | B27: Համակարգչային սարքավորումների քանակ, հատ | C27: 21 | D27: 21 | E27: 21
B28: Գրասենյակային գույքի քանակ, հատ | C28: 2 | D28: 30 | E28: 33
A29: Ժամկետային | B29: Սարքավորումների ծառայության կանխատեսվող միջին ժամկետ, տարի | C29: 5 | D29: 5 | E29: 5
A30: Միջոցառման վրա կատարվող ծախսը (հազար դրամ) | C30: =+'5'!C34 -> 1195 | D30: =+'5'!D34 -> 1995 | E30: =+'5'!E34 -> 2645
A31: Ծրագրի դասիչը | B31: Ծրագրի անվանումը
A32: 1112 | B32: Արտակարգ իրավիճակների բնագավառի պետական քաղաքականության մշակում՝ ծրագրերի համակարգում և մոնիտորինգ
A33: Ծրագրի միջոցառումները
A34: Ծրագրի դասիչը՝ | B34: 1112 | C34: Ցուցանիշների փոփոխությունը (նվազեցումները նշված են փակագծերում)
A35: Միջոցառման դասիչը՝ | B35: 11001 | C35: Առաջին կիսամյակ | D35: Ինն ամիս | E35: Տարի
A36: Միջոցառման անվանումը՝ | B36: Արտակարգ իրավիճակների բնագավառում քաղաքականության մշակում՝ խորհրդատվական ծառայությունների տրամադրում և մոնիտորինգի իրականացում
A37: Նկարագրությունը՝ | B37: Արտակարգ իրավիճակների բնագավառում քաղաքականության մշակում՝ խորհրդատվական ծառայությունների տրամադրում և մոնիտորինգի իրականացում
A38: Միջոցառման տեսակը՝ | B38: Ծառայությունների մատուցում
A39: Միջոցառումն իրականացնողի անվանումը | B39: ՀՀ արտակարգ իրավիճակների նախարարություն
B40: Արդյունքի չափորոշիչներ
...

Sheet 7
F1: Հավելված N 7
E2: ՀՀ կառավարության 2021 թվականի
E3: ______________ ի ___Ն որոշման
A6: ՀԱՅԱՍՏԱՆԻ ՀԱՆՐԱՊԵՏՈՒԹՅԱՆ ԿԱՌԱՎԱՐՈՒԹՅԱՆ 2019ԹՎԱԿԱՆԻ ԴԵԿՏԵՄԲԵՐԻ 30-Ի N 2215-Ն ՈՐՈՇՄԱՆ N10 ՀԱՎԵԼՎԱԾՈՒՄ ԿԱՏԱՐՎՈՂ ՓՈՓՈԽՈՒԹՅՈՒՆՆԵՐԸ ԵՎ ԼՐԱՑՈՒՄՆԵՐԸ
A8: Գնման առարկայի | G8: Գումարը (հազար դրամով) Ցուցանիշների փոփոխությունները (Ավելացումները նշված են դրական նշանով, իսկ նվազեցումները՝ փակագծերում)
A9: Կոդը | B9: Անվանումը | C9: Գնման ձև | D9: Չափման միավորը | E9: Միավորի գինը | F9: Քանակը
A11: ՀՀ արտակարգ իրավիճակների նախարարություն | G11: =+G12+G22+G35 -> -115.2
A12: Բաժին N 03 | B12: Խումբ N 02 | C12: Դաս N 01 | D12: Փրկարարական ծառայություններ | G12: =+G13 -> -2645
A13: 1090 11001 | B13: Փրկարարական ծառայություններ | G13: =+G14 -> -2645
A14: ՄԱՍ I. ԱՊՐԱՆՔՆԵՐ | G14: =SUM(G15:G21) -> -2645
A15: 09211100-8 | B15: Շարժիչի յուղեր | C15: ԳՀ | D15: լիտր | E15: 1600 | F15: -150 | G15: =+E15*F15/1000 -> -240
A16: 09211410-1 | B16: Փոխանցման տուփի յուղեր | C16: ԳՀ | D16: լիտր | E16: 1300 | F16: -401 | G16: =+E16*F16/1000 -> -521.3
A17: 09211631-1 | B17: Հակակոռոզիոն յուղեր | C17: ԳՀ | D17: կգ | E17: 1400 | F17: -100 | G17: =+E17*F17/1000 -> -140
A18: 09211631-2 | B18: Հակակոռոզիոն յուղեր | C18: ԳՀ | D18: կգ | E18: 1100 | F18: -100 | G18: =+E18*F18/1000 -> -110
A19: 09211650-1 | B19: Արգելակի հեղուկ | C19: ԳՀ | D19: լիտր | E19: 1200 | F19: -20 | G19: =+E19*F19/1000 -> -24
A20: 09211600-2 | B20: Հիդրավլիկ համակարգերում և այլ նպատակներով օգտագործվող յուղեր | C20: ԳՀ | D20: լիտր | E20: 1500 | F20: -460.46667 | G20: =+E20*F20/1000 -> -690.7
A21: 24951320-3 | B21: Հակասառիչ հեղուկ | C21: ԳՀ | D21: կգ | E21: 400 | F21: -2297.5 | G21: =+E21*F21/1000 -> -919
A22: 1090 31001 | B22: Փրկարար ծառայության տեխնիկական հագեցվածության բարելավում | G22: =+G23 -> 2645
A23: ՄԱՍ I. ԱՊՐԱՆՔՆԵՐ | G23: =SUM(G24:G34) -> 2645
A24: 39121100/501 | B24: Գրաեղաններ | C24: ԳՀ | D24: հատ | E24: 70 000 | F24: 1 | G24: =+E24*F24/1000 -> 70
A25: 39111180/502 | B25: Աթոռ` գրասենյակային | C25: ԳՀ | D25: հատ | E25: 15 000 | F25: 20 | G25: =+E25*F25/1000 -> 300
A26: 39151300/501 | B26: Փափուկ կահույք | C26: ԳՀ | D26: լրակազմ | E26: 250 000 | F26: 2 | G26: =+E26*F26/1000 -> 500
A27: 39121400/501 | B27: Լրագրասեղան | C27: ԳՀ | D27: հատ | E27: 30 000 | F27: 2 | G27: =+E27*F27/1000 -> 60
A28: 39121520/505 | B28: Գրապահարաններ | C28: ԳՀ | D28: հատ | E28: 65 000 | F28: 2 | G28: =+E28*F28/1000 -> 130
A29: 39141260/503 | B29: Զգեստապահարաններ | C29: ԳՀ | D29: հատ | E29: 60 000 | F29: 2 | G29: =+E29*F29/1000 -> 120
A30: 39111220/501 | B30: Բազկաթոռ՝ ղեկավարի | C30: ԳՀ | D30: հատ | E30: 90 000 | F30: 2 | G30: =+E30*F30/1000 -> 180
A31: 39121360/502 | B31: Սեղան՝ ղեկավարի | C31: ԳՀ | D31: հատ | E31: 120 000 | F31: 1 | G31: =+E31*F31/1000 -> 120
A32: 39111220/504 | B32: Բազկաթոռ՝ ղեկավարի | C32: ԳՀ | D32: հատ | E32: 150 000 | F32: 1 | G32: =+E32*F32/1000 -> 150
A33: 30239140/501 | B33: Տպիչ սարք բազմաֆունկցիոնալ A4 33 էջ/րոպե արագության | C33: ԳՀ | D33: հատ | E33: 75 000 | F33: 5 | G33: =+E33*F33/1000 -> 375
A34: 30239110/501 | B34: Տպիչ սարք բազմաֆունկցիոնալ A4 18 էջ/րոպե արագության | C34: ԳՀ | D34: հատ | E34: 40 000 | F34: 16 | G34: =+E34*F34/1000 -> 640
A35: Բաժին N 03 | B35: Խումբ N 02 | C35: Դաս N 01 | D35: Արտակարգ իրավիճակների բնագավառի պետական քաղաքականության մշակում՝ ծրագրերի համակագում և մոնիտորինգ | G35: =+G36 -> -115.2
A36: 1112 11001 | B36: Արտակարգ իրավիճակների բնագավառում քաղաքականության մշակում՝ խորհրդատվական ծառայությունների տրամադրում և մոնիտորինգի իրականացում | G36: =+G37 -> -115.2
A37: ՄԱՍIII. ԾԱՌԱՅՈՒԹՅՈՒՆՆԵՐ | G37: =+G38 -> -115.2
A38: 79991160/1 | B38: Արխիվացման ծառայություններ | C38: ՄԱ | D38: դրամ | G38: -115.2
A41: ՀԱՅԱՍՏԱՆԻ ՀԱՆՐԱՊԵՏՈՒԹՅԱՆ ՎԱՐՉԱՊԵՏԻ ԱՇԽԱՏԱԿԱԶՄԻ
A42: ՂԵԿԱՎԱՐ Ա. ԹՈՐՈՍՅԱՆ
