Workbook
Name AgencyCode: #REF!
Name AgencyCode: #REF!
Name AgencyCode: #REF!
Name AgencyCode: #REF!
Name AgencyCode: #REF!
Name AgencyName: #REF!
Name AgencyName: #REF!
Name AgencyName: #REF!
Name AgencyName: #REF!
Name AgencyName: #REF!
Name davit: #REF!
Name davit: #REF!
Name davit: #REF!
Name davit: #REF!
Name Functional1: #REF!
Name Functional1: #REF!
Name Functional1: #REF!
Name Functional1: #REF!
Name Functional1: #REF!
Name ggg: #REF!
Name ggg: #REF!
Name ggg: #REF!
Name ggg: #REF!
Name ggg: #REF!
Name PANature: #REF!
Name PANature: #REF!
Name PANature: #REF!
Name PANature: #REF!
Name PANature: #REF!
Name PAType: #REF!
Name PAType: #REF!
Name PAType: #REF!
Name PAType: #REF!
Name PAType: #REF!
Name Performance2: #REF!
Name Performance2: #REF!
Name Performance2: #REF!
Name Performance2: #REF!
Name Performance2: #REF!
Name PerformanceType: #REF!
Name PerformanceType: #REF!
Name PerformanceType: #REF!
Name PerformanceType: #REF!
Name PerformanceType: #REF!
Name Հավելված: #REF!
Name Հավելված: #REF!
Name Հավելված: #REF!
Name Հավելված: #REF!
Name Մաս: #REF!
Name Մաս: #REF!
Name Մաս: #REF!
Name Մաս: #REF!
Name շախմատիստ: #REF!
Name շախմատիստ: #REF!
Name շախմատիստ: #REF!
Name շախմատիստ: #REF!
Name շախմատիստ: #REF!

Sheet Հավելված N 1
D1: Հավելված N 1
F2: ՀՀ կառավարության 2021 թվականի
F3: ______________ ի ___Ն որոշման
A5: «ՀԱՅԱUՏԱՆԻ ՀԱՆՐԱՊԵՏՈՒԹՅԱՆ 2021 ԹՎԱԿԱՆԻ ՊԵՏԱԿԱՆ ԲՅՈՒՋԵԻ ՄԱUԻՆ» OՐԵՆՔԻ N 1 ՀԱՎԵԼՎԱԾԻ N 2 ԱՂՅՈՒՍԱԿՈՒՄ ԿԱՏԱՐՎՈՂ ՎԵՐԱԲԱՇԽՈՒՄԸ ԵՎ ՀԱՅԱՍՏԱՆԻ ՀԱՆՐԱՊԵՏՈՒԹՅԱՆ ԿԱՌԱՎԱՐՈՒԹՅԱՆ 2020 ԹՎԱԿԱՆԻ ԴԵԿՏԵՄԲԵՐԻ 30-Ի ԹԻՎ 2215-Ն ՈՐՈՇՄԱՆ N 5 ՀԱՎԵԼՎԱԾԻ N 1 ԱՂՅՈՒՍԱԿՈՒՄ ԿԱՏԱՐՎՈՂ ՓՈՓՈԽՈՒԹՅՈՒՆԸ ԵՎ ԼՐԱՑՈՒՄԸ
E7: (հազար դրամ)
A8: Ծրագրային դասիչը | C8: Բյուջետային հատկացումների գլխավոր կարգադրիչների, ծրագրերի և միջոցառումների անվանումները | D8: Ցուցանիշների փոփոխությունը (ավելացումները նշված են դրական նշանով, իսկ նվազեցումները` փակագծերում)
A9: Ծրագիր | B9: Միջոցառում | D9: Առաջին կիսամյակ | E9: Ինն ամիս | F9: Տարի
C10: ԸՆԴԱՄԵՆԸ | D10: =D11+D24 -> 0 | E10: =E11+E24 -> 0 | F10: =F11+F24 -> 0
C11: ՀՀ կառավարություն | D11: =+D12 -> -2860 | E11: =+E12 -> -2860 | F11: =+F12 -> -2860
A12: 1139 | C12: Ծրագրի անվանումը` | D12: =+D18 -> -2860 | E12: =+E18 -> -2860 | F12: =+F18 -> -2860
C13: ՀՀ կառավարության պահուստային ֆոնդ
C14: Ծրագրի նպատակը`
C15: Պետական բյուջեում չկանխատեսված՝ ինչպես նաև բյուջետային երաշխիքների ապահովման ծախսերի ֆինանսավորման ապահովում
C16: Վերջնական արդյունքի նկարագրությունը`
C17: Պահուստային ֆոնդի կառավարման արդյունավետություն և թափանցիկություն
B18: 11001 | C18: Միջոցառման անվանումը` | D18: =+'Հավելված N 2'!G26 -> -2860 | E18: =+'Հավելված N 2'!H26 -> -2860 | F18: =+'Հավելված N 2'!I26 -> -2860
C19: ՀՀ կառավարության պահուստային ֆոնդ
C20: Միջոցառման նկարագրությունը`
C21: ՀՀ պետական բյուջեում նախատեսված ելքերի լրացուցիչ ֆինանսավորման՝ պետական բյուջեում չկանխատեսված ելքերի՝ ինչպես նաև բյուջետային երաշխիքների ապահովման ելքերի ֆինանսավորման ապահովում
C22: Միջոցառման տեսակը
C23: Ծառայությունների մատուցում
C24: ՀՀ արտակարգ իրավիճակների նախարարություն | D24: =+D25 -> 2860 | E24: =+E25 -> 2860 | F24: =+F25 -> 2860
A25: 1090 | C25: Ծրագրի անվանումը` | D25: =+D32 -> 2860 | E25: =+E32 -> 2860 | F25: =+F32 -> 2860
C26: Փրկարարական ծառայություններ
C27: Ծրագրի նպատակը`
C28: Արտակարգ իրավիճակների արդյունավետ արձագանք
C29: Վերջնական արդյունքի նկարագրությունը`
C30: Արտակարգ իրավիճակների հնարավոր դեպքերի կանխում, դրանց ժամանակին արձագանքում, հետևանքների նվազեցում և բնակչության պաշտպանություն
A31: Ծրագրի միջոցառումներ
B32: 11001 | C32: Միջոցառման անվանումը` | D32: 2860 | E32: 2860 | F32: 2860
C33: Փրկարարական ծառայություններ
C34: Միջոցառման նկարագրությունը`
C35: Հրդեհաշիջման, հակահրդեհային քարոզչության, բնական և տեխնածին աղետների ժամանակ բնակչության և կառույցների պաշտպանություն
C36: Միջոցառման տեսակը
C37: Ծառայությունների մատուցում
C41: ՀԱՅԱՍՏԱՆԻ ՀԱՆՐԱՊԵՏՈՒԹՅԱՆ
C42: ՎԱՐՉԱՊԵՏԻ ԱՇԽԱՏԱԿԱԶՄԻ
C43: ՂԵԿԱՎԱՐ | D43: Ա.ԹՈՐՈՍՅԱՆ

Sheet Հավելված N 2
H1: Հավելված N 2
G2: ՀՀ կառավարության 2021 թվականի
H3: ______________ ի ___Ն որոշման
B6: ՀԱՅԱՍՏԱՆԻ ՀԱՆՐԱՊԵՏՈՒԹՅԱՆ ԿԱՌԱՎԱՐՈՒԹՅԱՆ 2020 ԹՎԱԿԱՆԻ ԴԵԿՏԵՄԲԵՐԻ30-Ի N 2215-Ն ՈՐՈՇՄԱՆ N 3 և N 4 ՀԱՎԵԼՎԱԾՈՒՄ ԿԱՏԱՐՎՈՂ ՓՈՓՈԽՈՒԹՅՈՒՆԸ ԵՎ ԼՐԱՑՈՒՄԸ
I7: (հազար դրամ)
A8: Գործառական դասիչը | D8: Ծրագրային դասիչը | F8: Բյուջետային ծախսերի գործառական դասակարգման բաժինների, խմբերի և դասերի, բյուջետային ծրագրերի, միջոցառումների բյուջետային հատկացումնեյի գլխավոր կարգադրիչների անվանումները | G8: Ցուցանիշների փոփոխությունը (ավելացումները նշված են դրական նշանով, իսկ նվազեցումները` փակագծերում)
A9: Բաժին | B9: Խումբ | C9: Դաս | D9: Ծրագիր | E9: Միջոցառում
G10: Առաջին կիսամյակ | H10: Ինն ամիս | I10: Տարի
F11: ԸՆԴԱՄԵՆԸ | G11: =+G12+G27 -> 0 | H11: =+H12+H27 -> 0 | I11: =+I12+I27 -> 0
A12: 11 | F12: ՀԻՄՆԱԿԱՆ ԲԱԺԻՆՆԵՐԻՆ ՉԴԱՍՎՈՂ ՊԱՀՈՒՍՏԱՅԻՆ ՖՈՆԴԵՐ | G12: =+G14 -> -2860 | H12: =+H14 -> -2860 | I12: =+I14 -> -2860
F13: այդ թվում`
B14: 01 | F14: ՀՀ կառավարության և համայնքների պահուստային ֆոնդ | G14: =G16 -> -2860 | H14: =H16 -> -2860 | I14: =I16 -> -2860
F15: այդ թվում`
C16: 01 | F16: ՀՀ կառավարության պահուստային ֆոնդ | G16: =G18 -> -2860 | H16: =H18 -> -2860 | I16: =I18 -> -2860
F17: այդ թվում`
F18: ՀՀ կառավարություն | G18: =+G19 -> -2860 | H18: =+H19 -> -2860 | I18: =+I19 -> -2860
D19: 1139 | E19: 11001 | F19: ՀՀ կառավարության պահուստային ֆոնդ | G19: =G21 -> -2860 | H19: =H21 -> -2860 | I19: =I21 -> -2860
F20: այդ թվում` ըստ կատարողների
F21: ՀՀ կառավարություն | G21: =G23 -> -2860 | H21: =H23 -> -2860 | I21: =I23 -> -2860
F22: այդ թվում` բյուջետային ծախսերի տնտեսագիտական դասակարգման հոդվածներ
F23: ԸՆԴԱՄԵՆԸ ԾԱԽՍԵՐ | G23: =G24 -> -2860 | H23: =H24 -> -2860 | I23: =I24 -> -2860
F24: ԸՆԹԱՑԻԿ ԾԱԽՍԵՐ | G24: =G25 -> -2860 | H24: =H25 -> -2860 | I24: =I25 -> -2860
F25: ԱՅԼ ԾԱԽՍԵՐ | G25: =G26 -> -2860 | H25: =H26 -> -2860 | I25: =I26 -> -2860
F26: Պահուստային միջոցներ | G26: -2860 | H26: =+G26 -> -2860 | I26: =+H26 -> -2860
A27: 03 | F27: ՀԱՍԱՐԱԿԱԿԱՆ ԿԱՐԳ, ԱՆՎՏԱՆԳՈՒԹՅՈՒՆ ԵՎ ԴԱՏԱԿԱՆ ԳՈՐԾՈՒՆԵՈՒԹՅՈՒՆ | G27: =+G29 -> 2860 | H27: =+H29 -> 2860 | I27: =+I29 -> 2860
F28: այդ թվում`
B29: 02 | F29: Փրկարար ծառայություն | G29: =+G31 -> 2860 | H29: =+H31 -> 2860 | I29: =+I31 -> 2860
F30: այդ թվում`
C31: 01 | F31: Փրկարար ծառայություն | G31: =+G32 -> 2860 | H31: =+H32 -> 2860 | I31: =+I32 -> 2860
F32: այդ թվում` | G32: =+G34 -> 2860 | H32: =+H34 -> 2860 | I32: =+I34 -> 2860
F33: ՀՀ արտակարգ իրավիճակների նախարարություն
F34: այդ թվում` | G34: =+G36 -> 2860 | H34: =+H36 -> 2860 | I34: =+I36 -> 2860
D35: 1090 | E35: Փրկարարական ծառայություններ
E36: 11001 | F36: Փրկարարական ծառայություններ | G36: =+G38 -> 2860 | H36: =+H38 -> 2860 | I36: =+I38 -> 2860
F37: այդ թվում` ըստ կատարողների
F38: ՀՀ արտակարգ իրավիճակների նախարարություն | G38: =+G39 -> 2860 | H38: =+H39 -> 2860 | I38: =+I39 -> 2860
F39: այդ թվում` բյուջետային ծախսերի տնտեսագիտական դասակարգման հոդվածներ | G39: =+G40 -> 2860 | H39: =+H40 -> 2860 | I39: =+I40 -> 2860
F40: ԸՆԴԱՄԵՆԸ ԾԱԽՍԵՐ | G40: =+G41 -> 2860 | H40: =+H41 -> 2860 | I40: =+I41 -> 2860
F41: ԸՆԹԱՑԻԿ ԾԱԽՍԵՐ | G41: =+G42 -> 2860 | H41: =+H42 -> 2860 | I41: =+I42 -> 2860
F42: ԾԱՌԱՅՈՒԹՅՈՒՆՆԵՐԻ ԵՎ ԱՊՐԱՆՔՆԵՐԻ ՁԵՌՔԲԵՐՈՒՄ | G42: =G43 -> 2860 | H42: =+G42 -> 2860 | I42: =+H42 -> 2860
F43: Նյութեր (Ապրանքներ) | G43: =G44 -> 2860 | H43: =H44 -> 2860 | I43: =I44 -> 2860
F44: - Տրանսպորտային նյութեր | G44: 2860 | H44: 2860 | I44: 2860
C45: ՎԱՐՉԱՊԵՏԻ ԱՇԽԱՏԱԿԱԶՄԻ
C46: ՂԵԿԱՎԱՐ | G46: Ա.ԹՈՐՈՍՅԱՆ

Sheet Հավելված N 3
E1: Հավելված N 3
C2: ՀՀ կառավարության 2021 թվականի
D3: ______________ ի ___Ն որոշման
B6: ՀԱՅԱՍՏԱՆԻ ՀԱՆՐԱՊԵՏՈՒԹՅԱՆ ԿԱՌԱՎԱՐՈՒԹՅԱՆ 2020 ԹՎԱԿԱՆԻ ԴԵԿՏԵՄԲԵՐԻ 30-Ի N 2215-Ն ՈՐՈՇՄԱՆ N 9 ՀԱՎԵԼՎԱԾԻ N 9.19 ԱՂՅՈՒՍԱԿՈՒՄ ԿԱՏԱՐՎՈՂ ՓՈՓՈԽՈՒԹՅՈՒՆՆԵՐԸ
B8: ՀՀ արտակարգ իրավիճակների նախարարություն
B9: ՄԱՍ 2. ՊԵՏԱԿԱՆ ՄԱՐՄՆԻ ԳԾՈՎ ԱՐԴՅՈՒՆՔԱՅԻՆ (ԿԱՏԱՐՈՂԱԿԱՆ) ՑՈՒՑԱՆԻՇՆԵՐԸ
B11: Ծրագրի դասիչը | C11: Ծրագրի անվանումը
B12: 1090 | C12: Փրկարարական ծառայություններ
B14: Ծրագրի միջոցառումները
B15: Ծրագրի դասիչը` | C15: 1090 | D15: Ցուցանիշների փոփոխությունը (ավելացումները նշված են դրական նշանով)
B16: Միջոցառման դասիչը` | C16: 11001 | D16: Առաջին կիսամյակ | E16: Ինն ամիս | F16: Տարի
B17: Միջոցառման անվանումը` | C17: Փրկարարական ծառայություններ
B18: Նկարագրությունը` | C18: Հրդեհաշիջման, հակահրդեհային քարոզչության, բնական և տեխնածին աղետների ժամանակ բնակչության և կառույցների պաշտպանություն
B19: Միջոցառման տեսակը` | C19: Ծառայությունների մատուցում
B20: Միջոցառումն իրականացնողի անվանումը? | C20: ՀՀ արտակարգ իրավիճակների նախարարություն
B21: Արդյունքի չափորոշիչներ
B22: Միջոցառման վրա կատարվող ծախսը (հազար դրամ) | D22: 2860 | E22: 2860 | F22: 2860
B24: ՀԱՅԱՍՏԱՆԻ ՀԱՆՐԱՊԵՏՈՒԹՅԱՆ ԿԱՌԱՎԱՐՈՒԹՅԱՆ 2020 ԹՎԱԿԱՆԻ ԴԵԿՏԵՄԲԵՐԻ 30-Ի N 2215-Ն ՈՐՈՇՄԱՆ N 9 ՀԱՎԵԼՎԱԾԻ N 9.47 ԱՂՅՈՒՍԱԿՈՒՄ ԿԱՏԱՐՎՈՂ ՓՈՓՈԽՈՒԹՅՈՒՆԸ
A27: ՀՀ կառավարություն
B28: Ծրագրի դասիչը | C28: Ծրագրի անվանումը
B29: 1139 | C29: ՀՀ կառավարության պահուստային ֆոնդ
B30: Ծրագրի միջոցառումները
B31: Ծրագրի դասիչը՝ | C31: 1139 | D31: Ցուցանիշների փոփոխությունը (նվազեցումները նշված են փակագծերում)
B32: Միջոցառման դասիչը՝ | C32: 11001 | D32: Առաջին կիսամյակ | E32: Ինն ամիս | F32: Տարի
B33: Միջոցառման անվանումը՝ | C33: ՀՀ կառավարության պահուստային ֆոնդ
B34: Նկարագրությունը՝ | C34: ՀՀ պետական բյուջեում նախատեսված ելքերի լրացուցիչ ֆինանսավորման՝ պետական բյուջեում չկանխատեսված ելքերի, ինչպես նաև բյուջետային երաշխիքների ապահովման ելքերի ֆինանսավորման ապահովում
B35: Միջոցառման տեսակը՝ | C35: Ծառայությունների մատուցում
B36: Միջոցառումն իրականացնողի անվանումը | C36: ՀՀ կառավարություն
C37: Արդյունքի չափորոշիչներ
B38: Միջոցառման վրա կատարվող ծախսը (հազար դրամ) | D38: ='Հավելված N 1'!D11 -> -2860 | E38: ='Հավելված N 1'!E11 -> -2860 | F38: ='Հավելված N 1'!F11 -> -2860
C40: ՀԱՅԱՍՏԱՆԻ ՀԱՆՐԱՊԵՏՈՒԹՅԱՆ
C41: ՎԱՐՉԱՊԵՏԻ ԱՇԽԱՏԱԿԱԶՄԻ
C42: ՂԵԿԱՎԱՐ | D42: Ա.ԹՈՐՈՍՅԱՆ

Sheet Հավելված N 4
E1: Հավելված N 4
C2: ՀՀ կառավարության 2021 թվականի
D3: ______________ ի ___Ն որոշման
B6: ՀԱՅԱՍՏԱՆԻ ՀԱՆՐԱՊԵՏՈՒԹՅԱՆ ԿԱՌԱՎԱՐՈՒԹՅԱՆ 2020 ԹՎԱԿԱՆԻ ԴԵԿՏԵՄԲԵՐԻ 30-Ի N 2215-Ն ՈՐՈՇՄԱՆ N 9.1 ՀԱՎԵԼՎԱԾԻ N 9.1.19 ԱՂՅՈՒՍԱԿՈՒՄ ԿԱՏԱՐՎՈՂ ՓՈՓՈԽՈՒԹՅՈՒՆՆԵՐԸ
B8: ՀՀ արտակարգ իրավիճակների նախարարություն
B9: ՄԱՍ 1. ՊԵՏԱԿԱՆ ՄԱՐՄՆԻ ԳԾՈՎ ԱՐԴՅՈՒՆՔԱՅԻՆ (ԿԱՏԱՐՈՂԱԿԱՆ) ՑՈՒՑԱՆԻՇՆԵՐԸ
B11: Ծրագրի դասիչը | C11: Ծրագրի անվանումը
B12: 1090 | C12: Փրկարարական ծառայություններ
B14: Ծրագրի միջոցառումները
B15: Ծրագրի դասիչը` | C15: 1090 | D15: Ցուցանիշների փոփոխությունը (ավելացումները նշված են դրական նշանով)
B16: Միջոցառման դասիչը` | C16: 11001 | D16: Առաջին կիսամյակ | E16: Ինն ամիս | F16: Տարի
B17: Միջոցառման անվանումը` | C17: Փրկարարական ծառայություններ
B18: Նկարագրությունը` | C18: Հրդեհաշիջման, հակահրդեհային քարոզչության, բնական և տեխնածին աղետների ժամանակ բնակչության և կառույցների պաշտպանություն
B19: Միջոցառման տեսակը` | C19: Ծառայությունների մատուցում
B20: Միջոցառումն իրականացնողի անվանումը | C20: ՀՀ արտակարգ իրավիճակների նախարարություն
B21: Արդյունքի չափորոշիչներ
B22: Միջոցառման վրա կատարվող ծախսը (հազար դրամ) | D22: ='Հավելված N 3'!D22 -> 2860 | E22: ='Հավելված N 3'!E22 -> 2860 | F22: ='Հավելված N 3'!F22 -> 2860
A24: ՀԱՅԱՍՏԱՆԻ ՀԱՆՐԱՊԵՏՈՒԹՅԱՆ ԿԱՌԱՎԱՐՈՒԹՅԱՆ 2020 ԹՎԱԿԱՆԻ ԴԵԿՏԵՄԲԵՐԻ 30-Ի N 2215-Ն ՈՐՈՇՄԱՆ N 9.1 ՀԱՎԵԼՎԱԾԻ N 9.1.58 ԱՂՅՈՒՍԱԿՈՒՄ ԿԱՏԱՐՎՈՂ ՓՈՓՈԽՈՒԹՅՈՒՆԸ
A25: ՀՀ կառավարություն
A26: ՄԱՍ 2. ՊԵՏԱԿԱՆ ՄԱՐՄՆԻ ԳԾՈՎ ԱՐԴՅՈՒՆՔԱՅԻՆ (ԿԱՏԱՐՈՂԱԿԱՆ) ՑՈՒՑԱՆԻՇՆԵՐԸ
B28: Ծրագրի դասիչը | C28: Ծրագրի անվանումը
B29: 1139 | C29: ՀՀ կառավարության պահուստային ֆոնդ
B30: Ծրագրի միջոցառումները
B31: Ծրագրի դասիչը՝ | C31: 1139 | D31: Ցուցանիշների փոփոխությունը (նվազեցումները նշված են փակագծերում)
B32: Միջոցառման դասիչը՝ | C32: 11001 | D32: Առաջին կիսամյակ | E32: Ինն ամիս | F32: Տարի
B33: Միջոցառման անվանումը՝ | C33: ՀՀ կառավարության պահուստային ֆոնդ
B34: Նկարագրությունը՝ | C34: ՀՀ պետական բյուջեում նախատեսված ելքերի լրացուցիչ ֆինանսավորման՝ պետական բյուջեում չկանխատեսված ելքերի, ինչպես նաև բյուջետային երաշխիքների ապահովման ելքերի ֆինանսավորման ապահովում
B35: Միջոցառման տեսակը՝ | C35: Ծառայությունների մատուցում
B36: Միջոցառումն իրականացնողի անվանումը | C36: ՀՀ կառավարություն
C37: Արդյունքի չափորոշիչներ
B38: Միջոցառման վրա կատարվող ծախսը (հազար դրամ) | D38: =+'Հավելված N 3'!D38 -> -2860 | E38: =+'Հավելված N 3'!E38 -> -2860 | F38: =+'Հավելված N 3'!F38 -> -2860
C41: ՀԱՅԱՍՏԱՆԻ ՀԱՆՐԱՊԵՏՈՒԹՅԱՆ
C42: ՎԱՐՉԱՊԵՏԻ ԱՇԽԱՏԱԿԱԶՄԻ
C43: ՂԵԿԱՎԱՐ | D43: Ա.ԹՈՐՈՍՅԱՆ

Sheet Հավելված N 5
A1: Հավելված N5
A2: ՀՀ կառավարության 2021 թվականի
A3: ______________ ի ___Ն որոշման
A5: ՀԱՅԱՍՏԱՆԻ ՀԱՆՐԱՊԵՏՈՒԹՅԱՆ ԿԱՌԱՎԱՐՈՒԹՅԱՆ 2020 ԹՎԱԿԱՆԻ ԴԵԿՏԵՄԲԵՐԻ 30-Ի N 2215-Ն ՈՐՈՇՄԱՆ N 10 ՀԱՎԵԼՎԱԾՈՒՄ ԿԱՏԱՐՎՈՂ ԼՐԱՑՈՒՄՆԵՐԸ
A6: Կոդը | B6: Անվանումը | C6: Գնման ձևը | D6: Չափման միավորը | E6: Միավորի գինը | F6: Քանակը | G6: Գումարը (հազար դրամով) Ցուցանիշների փոփոխությունը (ավելացումները նշված են դրական նշանով)
A8: ՀՀ արտակարգ իրավիճակների նախարարություն | G8: =+G9 -> 2860
A9: Բաժին N 03 | B9: Խումբ N 02 | C9: Դաս N 01 | D9: Փրկարար ծառայություն | G9: =+G10 -> 2860
A10: 1001 1001 | B10: Փրկարարական ծառայություններ | G10: =G11 -> 2860
A11: ՄԱՍ I. ԱՊՐԱՆՔՆԵՐ | G11: =G12 -> 2860
A12: 09134200-5 | B12: դիզելային վառելիք, ամառային | C12: ԳՀ | D12: լիտր | E12: 440 | F12: 6500 | G12: =+E12*F12/1000 -> 2860
