Workbook
Name AgencyCode: #REF!
Name AgencyName: #REF!
Name davit: #REF!
Name Functional1: #REF!
Name ggg: #REF!
Name PANature: #REF!
Name PAType: #REF!
Name Performance2: #REF!
Name PerformanceType: #REF!
Name Հավելված: #REF!
Name Մաս: #REF!
Name շախմատիստ: #REF!

Sheet 1
C1: ՀԱՎԵԼՎԱԾ N 1
A3: «ՀԱՅԱՍՏԱՆԻ ՀԱՆՐԱՊԵՏՈՒԹՅԱՆ 2021 ԹՎԱԿԱՆԻ ՊԵՏԱԿԱՆ ԲՅՈՒՋԵԻ ՄԱՍԻՆ» ՀԱՅԱՍՏԱՆԻ ՀԱՆՐԱՊԵՏՈՒԹՅԱՆ ՕՐԵՆՔԻ N 3 ՀԱՎԵԼՎԱԾԻ N 1 ԱՂՅՈՒՍԱԿՈՒՄ ԵՎ ՀԱՅԱUՏԱՆԻ ՀԱՆՐԱՊԵՏՈՒԹՅԱՆ ԿԱՌԱՎԱՐՈՒԹՅԱՆ ԴԵԿՏԵՄԲԵՐԻ 30-Ի N 2215-Ն ՈՐՈՇՄԱՆ N 1 ՀԱՎԵԼՎԱԾԻ N 1 ԱՂՅՈՒՍԱԿՈՒՄ ԿԱՏԱՐՎՈՂ ՓՈՓՈԽՈՒԹՅՈՒՆՆԵՐԸ
C4: հազ. դրամ
B5: Ցուցանիշների փոփոխությունը (ավելացումները նշված են դրական նշանով, իսկ նվազեցումները` փակագծերում)
A6: Պետական բյուջեի դեֆիցիտի ֆինանսավորման աղբյուրներն ու դրանց տարրերի անվանումները | B6: Ինն ամիս | C6: Տարի
A7: ԸՆԴԱՄԵՆԸ | B7: =B9+B16 -> 1145851.9 | C7: =C9+C16 -> 0
A8: այդ թվում՝
A9: Ա.Ներքին աղբյուրներ-ընդամենը | B9: =+B11 -> 8729177.5 | C9: =+C11 -> 7583325.6
A10: այդ թվում՝
A11: 2. Ֆինանսական զուտ ակտիվներ | B11: =B13+B14 -> 8729177.5 | C11: =C13+C14 -> 7583325.6
A12: այդ թվում՝
A13: 2.3 Ելքերի ֆինանսավորմանն ուղղվող ՀՀ 2021 թվականի պետական բյուջեի տարեսկզբի ազատ մնացորդի միջոցներ | B13: =-B23 -> 7583325.6 | C13: =-C23 -> 7583325.6
A14: 2.6.Այլ | B14: =B15 -> 1145851.9 | C14: =C15 -> 0
A15: ժամանակավորապես ազատ միջոցներ | B15: 1145851.9 | C15: ='5'!E8 -> 0
A16: Բ. Արտաքին աղբյուրներ - ընդամենը | B16: =B18 -> -7583325.6 | C16: =C18 -> -7583325.6
A17: այդ թվում
A18: 2.Ֆինանսական զուտ ակտիվներ | B18: =B20 -> -7583325.6 | C18: =C20 -> -7583325.6
A19: այդ թվում՝
A20: 2.1.Վարկերի և փոխատվությունների տրամադրում | B20: =B21 -> -7583325.6 | C20: =C21 -> -7583325.6
A21: ՀՀ ֆինանսների նախարարություն | B21: =B23 -> -7583325.6 | C21: =C23 -> -7583325.6
A22: որից`
A23: Միջպետական վարկ Արցախի Հանրապետությանը | B23: -7583325.6 | C23: -7583325.6

Sheet 2
E1: Հավելված N 2
A3: «ՀԱՅԱՍՏԱՆԻ ՀԱՆՐԱՊԵՏՈՒԹՅԱՆ 2021 ԹՎԱԿԱՆԻ ՊԵՏԱԿԱՆ ԲՅՈՒՋԵԻ ՄԱՍԻՆ» ՀԱՅԱՍՏԱՆԻ ՀԱՆՐԱՊԵՏՈՒԹՅԱՆ ՕՐԵՆՔԻ N 3 ՀԱՎԵԼՎԱԾԻ N 1.1 ԱՂՅՈՒՍԱԿՈՒՄ ԵՎ ՀԱՅԱՍՏԱՆԻ ՀԱՆՐԱՊԵՏՈՒԹՅԱՆ ԿԱՌԱՎԱՐՈՒԹՅԱՆ ԴԵԿՏԵՄԲԵՐԻ 30-Ի N 2215-Ն N 1 ՀԱՎԵԼՎԱԾԻ N 2 ԱՂՅՈՒՍԱԿՈՒՄ ԿԱՏԱՐՎՈՂ ՓՈՓԽՈՒԹՅՈՒՆՆԵՐԸ
E4: հազ.դրամ
A5: Ծրագրային դասիչ | C5: Բյուջետային գլխավոր կարգադրիչների, ծրագրերի և միջոցառումների անվանումները | D5: Ցուցանիշների փոփոխությունը (ավելացումները նշված են դրական նշանով)
A6: Ծրագիր | B6: Միջոցառում | D6: Ինն ամիս | E6: Տարի
C7: ԸՆԴԱՄԵՆԸ այդ թվում | D7: =+D9 -> 7583325.6 | E7: =+E9 -> 7583325.6
C8: ՀՀ ֆինանսների նախարարություն
A9: 1210 | C9: Ծրագրի անվանումը՝ Միջպետական վարկերի տրամադրում | D9: =D13 -> 7583325.6 | E9: =E13 -> 7583325.6
C10: Ծրագրի նպատակը՝ Արտաքին տնտեսական աջակցության տրամադրում
C11: Վերջնական արդյունքի նկարագրությունը՝ Արտաքին տնտեսական աջակցության շրջանակներում բյուջետային վարկերի տրամադրման ապահովում
A12: Ֆինանսական ակտիվների կառավարման միջոցառումներ
B13: 42001 | C13: Միջոցառման անվանումը՝ Բյուջետային վարկի տրամադրում Արցախի Հանրապետությանը | D13: =-'1'!B23 -> 7583325.6 | E13: =-'1'!C23 -> 7583325.6
C15: Միջոցառման նկարագրությունը՝ Արցախի Հանրապետության կառավարությանն աջակցության նպատակով վարկի տրամադրում
C17: Միջոցառման տեսակը՝ Վարկերի տրամադրում

Sheet 3
E1: Հավելված N 3
A3: «ՀԱՅԱՍՏԱՆԻ ՀԱՆՐԱՊԵՏՈՒԹՅԱՆ 2021 ԹՎԱԿԱՆԻ ՊԵՏԱԿԱՆ ԲՅՈՒՋԵԻ ՄԱՍԻՆ» ՀԱՅԱՍՏԱՆԻ ՀԱՆՐԱՊԵՏՈՒԹՅԱՆ ՕՐԵՆՔԻ N 3 ՀԱՎԵԼՎԱԾՈՒՄ N3.1.1.1.1 ԱՂՅՈՒՍԱԿԻ ԵՎ ՀԱՅԱՍՏԱՆԻ ՀԱՆՐԱՊԵՏՈՒԹՅԱՆ ԿԱՌԱՎԱՐՈՒԹՅԱՆ ԴԵԿՏԵՄԲԵՐԻ 30-Ի N 2215-Ն ՈՐՈՇՄԱՆ N 1 ՀԱՎԵԼՎԱԾՈՒՄ N 5 ԱՂՅՈՒՍԱԿԻ ՓՈՓՈԽՈՒԹՅՈՒՆՆԵՐԸ
E7: հազ. դրամ
A8: Ծրագրային դասիչ | C8: Պետական բյուջեի դեֆիցիտի ֆինանսավորման աղբյուրներն ու դրանց տարրերի անվանումները | D8: Ցուցանիշների փոփոխությունը (ավելացումները նշված են դրական նշանով)
A9: Ծրագիր | B9: Միջոցառում | D9: Ինն ամիս | E9: Տարի
C10: ԸՆԴԱՄԵՆԸ | D10: =+D12 -> 7583325.6 | E10: =+E12 -> 7583325.6
C11: այդ թվում՝
C12: ՀՀ ֆինանսների նախարարություն | D12: =+D13 -> 7583325.6 | E12: =+E13 -> 7583325.6
A13: 1210 | C13: Միջպետական վարկերի տրամադրում | D13: =D16 -> 7583325.6 | E13: =E16 -> 7583325.6
B14: 42001 | C14: Բյուջետային վարկի տրամադրում Արցախի Հանրապետությանը | D14: =+D18 -> 7583325.6 | E14: =+E18 -> 7583325.6
C15: այդ թվում՝ ըստ կատարողների
C16: ՀՀ ֆինանսների նախարարություն | D16: =+D14 -> 7583325.6 | E16: =+E14 -> 7583325.6
C17: այդ թվում՝ ըստ տնտեսագիտական դասակարգման հոդվածների՝
C18: ՀԻՄՆԱԿԱՆ ԳՈՒՄԱՐԻ ՄԱՐՄԱՆ ԵՎ ՖԻՆԱՆՍԱԿԱՆ ԱԿՏԻՎՆԵՐԻ ՁԵՌՔԲԵՐՄԱՆ ԳԾՈՎ ԾԱԽՍԵՐ, այդ թվում` | D18: =+D19 -> 7583325.6 | E18: =+E19 -> 7583325.6
C19: ՖԻՆԱՆՍԱԿԱՆ ԱԿՏԻՎՆԵՐԻ ՁԵՌՔԲԵՐՈՒՄ, այդ թվում | D19: =+D20 -> 7583325.6 | E19: =+E20 -> 7583325.6
C20: ԱՐՏԱՔԻՆ ՖԻՆԱՆՍԱԿԱՆ ԱԿՏԻՎՆԵՐԻ ՁԵՌՔԲԵՐՈՒՄ, այդ թվում` | D20: =+D21 -> 7583325.6 | E20: =+E21 -> 7583325.6
C21: Վարկեր այլ պետությունների կառավարություններին և կազմակերպություններին | D21: =-'1'!B23 -> 7583325.6 | E21: =-'1'!C23 -> 7583325.6

Sheet 4
D1: Հավելված N 4
A3: ՀԱՅԱՍՏԱՆԻ ՀԱՆՐԱՊԵՏՈՒԹՅԱՆ ԿԱՌԱՎԱՐՈՒԹՅԱՆ ԴԵԿՏԵՄԲԵՐԻ 30-Ի N 2215-Ն ՈՐՈՇՄԱՆ N1 ՀԱՎԵԼՎԱԾԻ N4 ԱՂՅՈՒՍԱԿՈՒՄ ԿԱՏԱՐՎՈՂ ՓՈՓՈԽՈՒԹՅՈՒՆՆԵՐԸ
A4: ՄԱՍ 2. ՊԵՏԱԿԱՆ ՄԱՐՄՆԻ ԳԾՈՎ ԱՐԴՅՈՒՆՔԱՅԻՆ (ԿԱՏԱՐՈՂԱԿԱՆ) ՑՈՒՑԱՆԻՇՆԵՐԸ
A6: Ծրագրի դասիչը | B6: Ծրագրի անվանումը
A7: 1210 | B7: Միջպետական վարկերի տրամադրում
A8: Ծրագրի միջոցառումները
A9: Ծրագրի դասիչը՝ | B9: 1210 | C9: Ցուցանիշների փոփոխությունը (ավելացումները նշված են դրական նշանով
A10: Միջոցառման դասիչը՝ | B10: 42001 | C10: Ինն ամիս | D10: Տարի
A11: Միջոցառման անվանումը՝ | B11: Բյուջետային վարկի տրամադրում Արցախի Հանրապետությանը
A12: Նկարագրությունը՝ | B12: Արցախի Հանրապետության կառավարությանն աջակցության նպատակով վարկի տրամադրում
A13: Միջոցառման տեսակը՝ | B13: Վարկերի տրամադրում
A14: Միջոցառումն իրականացնողի անվանումը՝ | B14: ՀՀ ֆինանսների նախարարություն
B15: Արդյունքի չափորոշիչներ
A16: Այլ ֆինանսական
A17: Միջոցառման վրա կատարվող ծախսը (հազար դրամ) | C17: =+D17 -> 7583325.6 | D17: =-'1'!C23 -> 7583325.6

Sheet 5
E1: Հավելված N 5
A3: «ՀԱՅԱՍՏԱՆԻ ՀԱՆՐԱՊԵՏՈՒԹՅԱՆ 2021 ԹՎԱԿԱՆԻ ՊԵՏԱԿԱՆ ԲՅՈՒՋԵԻ ՄԱՍԻՆ» ՀԱՅԱՍՏԱՆԻ ՀԱՆՐԱՊԵՏՈՒԹՅԱՆ ՕՐԵՆՔԻ N 1 ՀԱՎԵԼՎԱԾԻ N 2 ԱՂՅՈՒՍԱԿՈՒՄ ԿԱՏԱՐՎՈՂ ՎԵՐԱԲԱՇԽՈՒՄԸ ԵՎ ՀԱՅԱՍՏԱՆԻ ՀԱՆՐԱՊԵՏՈՒԹՅԱՆ ԿԱՌԱՎԱՐՈՒԹՅԱՆ 2020 ԹՎԱԿԱՆԻ ԴԵԿՏԵՄԲԵՐԻ 30-Ի N 2215-Ն ՈՐՈՇՄԱՆ N 5 ՀԱՎԵԼՎԱԾԻ N 1 ԱՂՅՈՒՍԱԿՈՒՄ ԿԱՏԱՐՎՈՂ ՓՈՓՈԽՈՒԹՅՈՒՆՆԵՐԸ
E5: հազար դրամ
A6: Ծրագրային դասիչը | C6: Բյուջետային գլխավոր կարգադրիչների, ծրագրերի և միջոցառումների անվանումները | D6: Ցուցանիշների փոփոխությունը (ավելացումները նշված են դրական նշանով, իսկ նվազեցումները` փակագծերում)
A7: Ծրագիր | B7: Միջոցառում | D7: Ինն ամիս | E7: Տարի
C8: ԸՆԴԱՄԵՆԸ | D8: =D9+D23 -> 1145851.9 | E8: =E9+E23 -> 0
C9: ՀՀ աշխատանքի և սոցիալական հարցերի նախարարություն | D9: =+D10 -> 1145851.9 | E9: =+E10 -> 1145851.9
A10: 1205 | C10: Ծրագրի անվանումը` | D10: =D17 -> 1145851.9 | E10: =E17 -> 1145851.9
C11: Սոցիալական ապահովություն
C12: Ծրագրի նպատակը`
C13: Սոցիալական ապահովության իրավունքի իրականացման ապահովում
C14: Վերջնական արդյունքի նկարագրությունը`
C15: Սոցիալական ապահովության իրավունքի իրականացում
A16: Ծրագրի միջոցառումներ
B17: 12015 | C17: Միջոցառման անվանումը` | D17: 1145851.9 | E17: 1145851.9
C18: Ռազմական դրությամբ պայմանավորված՝ աջակցություն Արցախի բնակչությանը
C19: Միջոցառման նկարագրությունը`
C20: Աջակցություն Արցախի Հանրապետության կառավարությանը, 2020 թվականի դեկտեմբեր և 2021 թվականի Արցախի բնակչության սպառած էլեկտրաէներգիայի և գազի, կապի դիմաց վճարման ենթակա, ինչպես նաև վճարված եկամտային հարկի գումարների վերադարձի գծով ծախսերը ֆինանսավորելու համար
C21: Միջոցառման տեսակը
C22: Տրանսֆերտների տրամադրում
B23: ՀՀ կառավարություն | D23: =D24 -> 0 | E23: =E24 -> -1145851.9
A24: 1139 | C24: Ծրագրի անվանումը | D24: =D31+D37 -> 0 | E24: =E31+E37 -> -1145851.9
C25: ՀՀ կառավարության պահուստային ֆոնդ
C26: Ծրագրի նպատակը
C27: ՀՀ պետական բյուջեում չկանխատեսված, ինչպես նաեւ բյուջետային երաշխիքների ապահովման ծախսերի ֆինանսավորման ապահովում
C28: Վերջնական արդյունքի նկարագրությունը
C29: Պահուստային ֆոնդի կառավարման արդյունավետության և թափանցիկության ապահովում
C30: Ծրագրի միջոցառումներ
B31: 11001 | C31: Միջոցառման անվանումը | D31: -1145851.9 | E31: -1145851.9
C32: ՀՀ կառավարության պահուստային ֆոնդ
C33: Միջոցառման նկարագրությունը
C34: ՀՀ պետական բյուջեում նախատեսված ելքերի լրացուցիչ ֆինանսավորման՝ պետական բյուջեում չկանխատեսված ելքերի՝ ինչպես նաև բյուջետային երաշխիքների ապահովման ելքերի ֆինանսավորման ապահովում
C35: Միջոցառման տեսակը
C36: Ծառայությունների մատուցում
B37: 11001 | C37: Միջոցառման անվանումը | D37: 1145851.9 | E37: 0
C38: ՀՀ կառավարության պահուստային ֆոնդ
C39: Միջոցառման նկարագրությունը
C40: ՀՀ պետական բյուջեում նախատեսված ելքերի լրացուցիչ ֆինանսավորման՝ պետական բյուջեում չկանխատեսված ելքերի՝ ինչպես նաև բյուջետային երաշխիքների ապահովման ելքերի ֆինանսավորման ապահովում
C41: Միջոցառման տեսակը
C42: Ծառայությունների մատուցում

Sheet 6
H1: Հավելված N 6
A3: ՀԱՅԱՍՏԱՆԻ ՀԱՆՐԱՊԵՏՈՒԹՅԱՆ ԿԱՌԱՎԱՐՈՒԹՅԱՆ 2020 ԹՎԱԿԱՆԻ ԴԵԿՏԵՄԲԵՐԻ 30-Ի N 2215-Ն ՈՐՈՇՄԱՆ N 3 և 4 ՀԱՎԵԼՎԱԾՆԵՐՈՒՄ ԿԱՏԱՐՎՈՂ ՓՈՓՈԽՈՒԹՅՈՒՆՆԵՐԸ
H5: հազար դրամ
A6: Գործառական դասիչը | D6: Ծրագրային դասիչը | F6: Բյուջետային ծախսերի գործառական դասակարգման բաժինների, խմբերի և դասերի, Բյուջետային հատկացումների գլխավոր կարգադրիչների, ծրագրերի, միջոցառումների և միջոցառումները կատարող պետական մարմինների անվանումները | G6: Ցուցանիշների փոփոխությունը (ավելացումները նշված են դրական նշանով, իսկ նվազեցումները` փակագծերում)
A7: Բաժին | B7: Խումբ | C7: Դաս | D7: Ծրագիր | E7: Միջոցառում | G7: Ինն ամիս | H7: Տարի
F8: ԸՆԴԱՄԵՆԸ | G8: =G10+G27 -> 1145851.9 | H8: =H10+H27 -> 0
F9: այդ թվում`
A10: 10 | F10: Սոցիալական պաշտպանություն | G10: =G17 -> 1145851.9 | H10: =H17 -> 1145851.9
F11: այդ թվում`
B12: 09 | F12: Սոցիալական պաշտպանություն (այլ դասերին չպատկանող) | G12: =+G14 -> 1145851.9 | H12: =+H14 -> 1145851.9
F13: այդ թվում՝
C14: 02 | F14: Սոցիալական պաշտպանությանը տրամադրվող օժանդակ ծառայություններ (այլ դասերին չպատկանող) | G14: =+G17 -> 1145851.9 | H14: =+H17 -> 1145851.9
F15: այդ թվում`
F16: ՀՀ աշխատանքի և սոցիալական հարցերի նախարարություն | G16: =G17 -> 1145851.9 | H16: =H17 -> 1145851.9
D17: 1205 | F17: Սոցիալական ապահովություն | G17: =G19 -> 1145851.9 | H17: =H19 -> 1145851.9
F18: այդ թվում`
E19: 12015 | F19: ='5'!C18 -> Ռազմական դրությամբ պայմանավորված՝ աջակցություն Արցախի բնակչությանը | G19: =G21 -> 1145851.9 | H19: =H21 -> 1145851.9
F20: այդ թվում` ըստ կատարողների
F21: ՀՀ աշխատանքի և սոցիալական հարցերի նախարարության միասնական սոցիալական ծառայություն | G21: =+G23 -> 1145851.9 | H21: =+H23 -> 1145851.9
F22: այդ թվում` բյուջետային ծախսերի տնտեսագիտական դասակարգման հոդվածներ
F23: ԸՆԴԱՄԵՆԸ ԾԱԽՍԵՐ | G23: =+G25 -> 1145851.9 | H23: =+H25 -> 1145851.9
F24: ԸՆԹԱՑԻԿ ԾԱԽՍԵՐ
F25: ՍՈՑԻԱԼԱԿԱՆ ՆՊԱՍՏՆԵՐ ԵՎ ԿԵՆՍԱԹՈՇԱԿՆԵՐ | G25: =G26 -> 1145851.9 | H25: =H26 -> 1145851.9
F26: - Այլ նպաստներ բյուջեից | G26: ='5'!D17 -> 1145851.9 | H26: ='5'!E17 -> 1145851.9
A27: 11 | D27: 1139 | F27: ՀԻՄՆԱԿԱՆ ԲԱԺԻՆՆԵՐԻՆ ՉԴԱՍՎՈՂ ՊԱՀՈՒՍՏԱՅԻՆ ՖՈՆԴԵՐ | G27: =G29 -> 0 | H27: =H29 -> -1145851.9
F28: այդ թվում`
B29: 01 | F29: ՀՀ կառավարության և համայնքների պահուստային ֆոնդ | G29: =G31 -> 0 | H29: =H31 -> -1145851.9
F30: այդ թվում`
C31: 01 | F31: ՀՀ կառավարության պահուստային ֆոնդ | G31: =+G33+G42 -> 0 | H31: =+H33+H42 -> -1145851.9
F32: այդ թվում`
F33: ՀՀ կառավարություն | G33: =G34 -> -1145851.9 | H33: =H34 -> -1145851.9
E34: 11001 | F34: ՀՀ կառավարության պահուստային ֆոնդ | G34: =+G36 -> -1145851.9 | H34: =+H36 -> -1145851.9
F35: այդ թվում` ըստ կատարողների
F36: ՀՀ կառավարություն | G36: =+G38 -> -1145851.9 | H36: =+H38 -> -1145851.9
F37: այդ թվում` բյուջետային ծախսերի տնտեսագիտական դասակարգման հոդվածներ
F38: ԸՆԴԱՄԵՆԸ ԾԱԽՍԵՐ | G38: =+G39 -> -1145851.9 | H38: =+H39 -> -1145851.9
F39: ԸՆԹԱՑԻԿ ԾԱԽՍԵՐ | G39: =+G40 -> -1145851.9 | H39: =+H40 -> -1145851.9
F40: ԱՅԼ ԾԱԽՍԵՐ | G40: =+G41 -> -1145851.9 | H40: =+H41 -> -1145851.9
F41: Պահուստային միջոցներ | G41: =-G26 -> -1145851.9 | H41: =-H26 -> -1145851.9
E42: 11001 | F42: ՀՀ կառավարության պահուստային ֆոնդ | G42: =+G44 -> 1145851.9 | H42: =+H44 -> 0
...

Sheet 7
B1: Հավելված N 7
A3: ՀԱՅԱՍՏԱՆԻ ՀԱՆՐԱՊԵՏՈՒԹՅԱՆ ԿԱՌԱՎԱՐՈՒԹՅԱՆ 2020 ԹՎԱԿԱՆԻ ԴԵԿՏԵՄԲԵՐԻ 30-Ի N 2215-Ն ՈՐՈՇՄԱՆ N 9 ՀԱՎԵԼՎԱԾԻ 9․16 ԵՎ 9.47 ԱՂՅՈՒՍԱԿՆԵՐՈՒՄ ԿԱՏԱՐՎՈՂ ՓՈՓՈԽՈՒԹՅՈՒՆՆԵՐԸ
A4: ՀՀ աշխատանքի և սոցիալական հարցերի նախարարություն
A5: ՄԱՍ 2. ՊԵՏԱԿԱՆ ՄԱՐՄՆԻ ԳԾՈՎ ԱՐԴՅՈՒՆՔԱՅԻՆ (ԿԱՏԱՐՈՂԱԿԱՆ) ՑՈՒՑԱՆԻՇՆԵՐԸ
A7: Ծրագրի դասիչը | B7: Ծրագրի անվանումը
A8: 1205 | B8: Սոցիալական ապահովություն
A10: Ծրագրի միջոցառումները
A12: Ծրագրի դասիչը` | C12: Ցուցանիշների փոփոխությունը (ավելացումները նշված են դրական նշանով)
A13: Միջոցառման դասիչը` | B13: ='5'!B17 -> 12015 | C13: Ինն ամիս | D13: Տարի
A14: Միջոցառման անվանումը` | B14: ='5'!C18 -> Ռազմական դրությամբ պայմանավորված՝ աջակցություն Արցախի բնակչությանը
A15: Նկարագրությունը` | B15: ='5'!C20 -> Աջակցություն Արցախի Հանրապետության կառավարությանը, 2020 թվականի դեկտեմբեր և 2021 թվականի Արցախի բնակչության սպառած էլեկտրաէներգիայի և գազի, կապի դիմաց վճարման ենթակա, ինչպես նաև վճարված եկամտային հարկի գումարների վերադարձի գծով ծախսերը ֆինանսավորելու համար
A16: Միջոցառման տեսակը` | B16: Տրանսֆերտների տրամադրում
A17: Շահառուների ընտրության չափանիշները | B17: Սպառած էլեկտրաէներգիայի և գազի, կապի համար չվճարած, ինչպես նաև եկամտային հարկի գումարների վերադարձի գծով Արցախի Հանրապետության բնակիչներ
A18: Արդյունքի չափորոշիչներ
A19: Միջոցառման վրա կատարվող ծախսը (հազար դրամ) | C19: ='6'!G26 -> 1145851.9 | D19: ='6'!H26 -> 1145851.9
B21: ՀՀ կառավարություն
A23: Ծրագրի դասիչը | B23: Ծրագրի անվանումը
A24: 1139 | B24: ՀՀ կառավարության պահուստային ֆոնդ
A26: Ծրագրի միջոցառումները
A28: Ծրագրի դասիչը՝ | B28: 1139 | C28: Ցուցանիշների փոփոխությունը ( նվազեցումները նշված են փակագծերում)
A29: Միջոցառման դասիչը՝ | B29: 11001 | C29: Ինն ամիս | D29: Տարի
A30: Միջոցառման անվանումը՝ | B30: ՀՀ կառավարության պահուստային ֆոնդ
A31: Նկարագրությունը՝ | B31: ՀՀ պետական բյուջեում նախատեսված ելքերի լրացուցիչ ֆինանսավորման,պետական բյուջեում չկանխատեսված ելքերի, ինչպես նաև բյուջետային երաշխիքների ապահովման ելքերի ֆինանսավորման ապահովում
A32: Միջոցառման տեսակը՝ | B32: Ծառայության մատուցում
A33: Միջոցառումն իրականացնողի անվանումը | B33: ՀՀ կառավարություն
B34: Արդյունքի չափորոշիչներ
A35: Միջոցառման վրա կատարվող ծախսը (հազար դրամ) | C35: ='6'!G41 -> -1145851.9 | D35: ='6'!H41 -> -1145851.9

Sheet 8
B1: Հավելված N 8
A3: ՀԱՅԱՍՏԱՆԻ ՀԱՆՐԱՊԵՏՈՒԹՅԱՆ ԿԱՌԱՎԱՐՈՒԹՅԱՆ 2020 ԹՎԱԿԱՆԻ ԴԵԿՏԵՄԲԵՐԻ 30-Ի ԹԻՎ 2215-Ն ՈՐՈՇՄԱՆ N 9.1 ՀԱՎԵԼՎԱԾԻ N 9.1.20 ԵՎ 9.1.58 ԱՂՅՈՒՍԱԿՆԵՐՈՒՄ ԿԱՏԱՐՎՈՂ ՓՈՓՈԽՈՒԹՅՈՒՆՆԵՐԸ
A4: ՀՀ աշխատանքի և սոցիալական հարցերի նախարարության միասնական սոցիալական ծառայություն
A5: ՄԱՍ 1. ՊԵՏԱԿԱՆ ՄԱՐՄՆԻ ԳԾՈՎ ԱՐԴՅՈՒՆՔԱՅԻՆ (ԿԱՏԱՐՈՂԱԿԱՆ) ՑՈՒՑԱՆԻՇՆԵՐԸ
A7: Ծրագրի դասիչը | B7: Ծրագրի անվանումը
A8: 1205 | B8: Սոցիալական ապահովություն
A10: Ծրագրի միջոցառումները
A12: Ծրագրի դասիչը` | C12: Ցուցանիշների փոփոխություն (ավելացումները նշված են դրական նշանով)
A13: Միջոցառման դասիչը` | B13: ='7'!B13 -> 12015 | C13: Ինն ամիս | D13: Տարի
A14: Միջոցառման անվանումը` | B14: =+'7'!B14 -> Ռազմական դրությամբ պայմանավորված՝ աջակցություն Արցախի բնակչությանը
A15: Նկարագրությունը` | B15: =+'7'!B15 -> Աջակցություն Արցախի Հանրապետության կառավարությանը, 2020 թվականի դեկտեմբեր և 2021 թվականի Արցախի բնակչության սպառած էլեկտրաէներգիայի և գազի, կապի դիմաց վճարման ենթակա, ինչպես նաև վճարված եկամտային հարկի գումարների վերադարձի գծով ծախսերը ֆինանսավորելու համար
A16: Միջոցառման տեսակը` | B16: Տրանսֆերտների տրամադրում
A17: Շահառուների ընտրության չափանիշները | B17: Սպառած էլեկտրաէներգիայի և գազի, կապի համար չվճարած, ինչպես նաև եկամտային հարկի գումարների վերադարձի գծով Արցախի Հանրապետության բնակիչներ
A18: Արդյունքի չափորոշիչներ
A19: Միջոցառման վրա կատարվող ծախսը (հազար դրամ) | C19: ='7'!C19 -> 1145851.9 | D19: ='7'!D19 -> 1145851.9
B20: ՀՀ կառավարություն
A22: Ծրագրի դասիչը | B22: Ծրագրի անվանումը
A23: 1139 | B23: ՀՀ կառավարության պահուստային ֆոնդ
A25: Ծրագրի միջոցառումները
A27: Ծրագրի դասիչը՝ | B27: 1139 | C27: Ցուցանիշների փոփոխությունը ( նվազեցումները նշված են փակագծերում)
A28: Միջոցառման դասիչը՝ | B28: 11001 | C28: Ինն ամիս | D28: Տարի
A29: Միջոցառման անվանումը՝ | B29: ՀՀ կառավարության պահուստային ֆոնդ
A30: Նկարագրությունը՝ | B30: ՀՀ պետական բյուջեում նախատեսված ելքերի լրացուցիչ ֆինանսավորման,պետական բյուջեում չկանխատեսված ելքերի, ինչպես նաև բյուջետային երաշխիքների ապահովման ելքերի ֆինանսավորման ապահովում
A31: Միջոցառման տեսակը՝ | B31: Ծառայության մատուցում
A32: Միջոցառումն իրականացնողի անվանումը | B32: ՀՀ կառավարություն
B33: Արդյունքի չափորոշիչներ
A34: Միջոցառման վրա կատարվող ծախսը (հազար դրամ) | C34: -1145851.9 | D34: ='6'!H40 -> -1145851.9
