Workbook

Sheet Հավելված 1
E1: Հավելված 1
E2: ՀՀ կառավարության 2021 թվականի
E3: ___________ ___-ի N _______ -Ն որոշման
A4: «ՀԱՅԱՍՏԱՆԻ ՀԱՆՐԱՊԵՏՈՒԹՅԱՆ 2021 ԹՎԱԿԱՆԻ ՊԵՏԱԿԱՆ ԲՅՈՒՋԵԻ ՄԱՍԻՆ» ՀԱՅԱՍՏԱՆԻ ՀԱՆՐԱՊԵՏՈՒԹՅԱՆ ՕՐԵՆՔԻ N 1 ՀԱՎԵԼՎԱԾԻ N 2 ԱՂՅՈՒՍԱԿՈՒՄ ԿԱՏԱՐՎՈՂ ՎԵՐԱԲԱՇԽՈՒՄԸ ԵՎ ՀԱՅԱՍՏԱՆԻ ՀԱՆՐԱՊԵՏՈՒԹՅԱՆ ԿԱՌԱՎԱՐՈՒԹՅԱՆ 2020 ԹՎԱԿԱՆԻ ԴԵԿՏԵՄԲԵՐԻ 30-Ի N 2215-Ն ՈՐՈՇՄԱՆ N 5 ՀԱՎԵԼՎԱԾԻ N 1 ԱՂՅՈՒՍԱԿՈՒՄ ԿԱՏԱՐՎՈՂ ՓՈՓՈԽՈՒԹՅՈՒՆՆԵՐԸ
E5: հազար դրամներով
A6: Ծրագրային դասիչը | C6: Բյուջետային գլխավոր կարգադրիչների, ծրագրերի և միջոցառումների անվանումները | D6: Ցուցանիշների փոփոխությունը (ավելացումները նշված են դրական նշանով, իսկ նվազեցումները փակագծերում)
A7: Ծրագիր | B7: Միջոցա ռում | D7: Ինն ամիս | E7: Տարի
C9: ԸՆԴԱՄԵՆԸ | D9: =D10+D24 -> 0 | E9: =E10+E24 -> 0
C10: ՀՀ ազգային անվտանգության ծառայություն | D10: =+D11 -> 0 | E10: =+E11 -> 601260
A11: 1138 | C11: Ծրագրի անվանումը` | D11: =D18 -> 0 | E11: =E18 -> 601260
C12: Ազգային անվտանգություն
C13: Ծրագրի նպատակը`
C14: Ներքին և արտաքին սպառնալիքներից անձի՝ հասարակության ու պետության անվտանգության ապահովում
C15: Վերջնական արդյունքի նկարագրությունը`
C16: Այլ պետությունների կողմից հետախուզական գործունեության կասեցում՝պետական սահմանի անձեռնամխելիության ապահովում՝ կոռուպցիոն ռիսկերի շեշտակի նվազեցում
A17: Ծրագրի միջոցառումներ | C17: Ծրագրի միջոցառումներ
B18: 31003 | C18: Միջոցառման անվանումը` | D18: 0 | E18: 601260
C19: Ազգային անվտանգության համակարգի տրանսպորտային սարքավորումների հագեցվածության բարելավում
C20: Միջոցառման նկարագրությունը`
C21: Ազգային անվտանգության համակարգի ստորաբաժանումների համար տրանսպորտային սարքավորումների ձեռքբերում
C22: Միջոցառման տեսակը
C23: Պետական մարմինների կողմից օգտագործվող ոչ ֆինանսական ակտիվների հետ գործառնություններ
C24: ՀՀ կառավարություն | D24: =D25 -> 0 | E24: =E25 -> -601260
A25: 1139 | C25: Ծրագրի անվանումը` | D25: =D32 -> 0 | E25: =E32 -> -601260
C26: ՀՀ կառավարության պահուստային ֆոնդ
C27: Ծրագրի նպատակը`
C28: Պետական բյուջեում չկանխատեսված, ինչպես նաեւ բյուջետային երաշխիքների ապահովման ծախսերի ֆինանսավորման ապահովում_x000D_
C29: Վերջնական արդյունքի նկարագրությունը`
C30: Պահուստային ֆոնդի կառավարման արդյունավետության և թափանցիկության ապահովում
C31: Ծրագրի միջոցառումներ
B32: 11001 | C32: Միջոցառման անվանումը` | D32: 0 | E32: =-E18 -> -601260
C33: ՀՀ կառավարության պահուստային ֆոնդ
C34: Միջոցառման նկարագրությունը`
C35: ՀՀ պետական բյուջեում նախատեսված ելքերի լրացուցիչ ֆինանսավորման՝ պետական բյուջեում չկանխատեսված ելքերի՝ ինչպես նաև բյուջետային երաշխիքների ապահովման ելքերի ֆինանսավորման ապահովում
C36: Միջոցառման տեսակը
C37: Ծառայությունների մատուցում

Sheet հավելված 2
H1: Հավելված 2
F2: ՀՀ կառավարության 2021 թվականի
F3: ___________ ___-ի N _______ -Ն որոշման
A5: «ՀԱՅԱՍՏԱՆԻ ՀԱՆՐԱՊԵՏՈՒԹՅԱՆ 2021 ԹՎԱԿԱՆԻ ՊԵՏԱԿԱՆ ԲՅՈՒՋԵԻ ՄԱՍԻՆ» ՀԱՅԱՍՏԱՆԻ ՀԱՆՐԱՊԵՏՈՒԹՅԱՆ ՕՐԵՆՔԻ N 1 ՀԱՎԵԼՎԱԾԻ N 3 ԱՂՅՈՒՍԱԿՈՒՄ ԿԱՏԱՐՎՈՂ ՓՈՓՈԽՈՒԹՅՈՒՆՆԵՐԸ
G6: հազար դրամներով
A7: Ծրագրային դասիչ | C7: Բյուջետային գլխավոր կարգադրիչների, ծրագրերի, միջոցառումների և ուղղությունների անվանումները | D7: Ընդամենը | E7: Ցուցանիշների փոփոխությունը (ավելացումները նշված են դրական նշանով)
E8: այդ թվում՝
A9: Ծրագիր | B9: Միջոցառում | E9: Կառուցման աշխատանքներ | F9: Վերակառուցման, վերանորոգման և վերականգնման աշխատանքներ | G9: Նախագծահե- տազոտական, գեոդեզիա- քարտեզագրա- կան աշխա- տանքներ | H9: Ոչ ֆինանսական այլ ակտիվների ձեռքբերում
C10: ԸՆԴԱՄԵՆԸ | D10: =D12 -> 601260 | E10: =E12 -> 0 | F10: =F12 -> 0 | G10: =G12 -> 0 | H10: =H12 -> 601260
C11: այդ թվում՝
C12: ՀՀ ԱԶԳԱՅԻՆ ԱՆՎՏԱՆԳՈՒԹՅԱՆ ԾԱՌԱՅՈՒԹՅՈՒՆ | D12: =D14 -> 601260 | E12: =E14 -> 0 | F12: =F14 -> 0 | G12: =G14 -> 0 | H12: =H14 -> 601260
C13: այդ թվում`
A14: 1138 | B14: 31003 | C14: Ազգային անվտանգության համակարգի տրանսպորտային սարքավորումների հագեցվածության բարելավում | D14: =E14+F14+G14+H14 -> 601260 | E14: =E16 -> 0 | F14: =F16 -> 0 | G14: =G16 -> 0 | H14: ='Հավելված 1'!E18 -> 601260

Sheet Հավելված 3
H1: Հավելված 3
G2: ՀՀ կառավարության 2021 թվականի
G3: ___________ ___-ի N _______ -Ն որոշման
A5: ՀԱՅԱՍՏԱՆԻ ՀԱՆՐԱՊԵՏՈՒԹՅԱՆ ԿԱՌԱՎԱՐՈՒԹՅԱՆ 2020 ԹՎԱԿԱՆԻ ԴԵԿՏԵՄԲԵՐԻ 30-Ի N 2215-Ն ՈՐՈՇՄԱՆ N 3 ԵՎ N 4 ՀԱՎԵԼՎԱԾՆԵՐՈՒՄ ԿԱՏԱՐՎՈՂ ՓՈՓՈԽՈՒԹՅՈՒՆՆԵՐԸ
G7: հազար դրամներով
A8: Գործառական դասիչը | D8: Ծրագրային դասիչը | F8: Բյուջետային հատկացումների գլխավոր կարգադրիչների, ծրագրերի, միջոցառումների և միջոցառումները կատարող պետական մարմինների անվանումները | G8: Ցուցանիշների փոփոխությունը (ավելացումները նշված են դրական նշանով, իսկ նվազեցումները՝ փակագծերում)
A9: Բաժին | B9: Խումբ | C9: Դաս | D9: Ծրագիր | E9: Միջոց առում | G9: Ինն ամիս | H9: Տարի
F11: ԸՆԴԱՄԵՆԸ ԾԱԽՍԵՐ | G11: =+G13+G31 -> 0 | H11: =+H13+H31 -> 0
F12: այդ թվում`
A13: 03 | F13: ՀԱՍԱՐԱԿԱԿԱՆ ԿԱՐԳ, ԱՆՎՏԱՆԳՈՒԹՅՈՒՆ ԵՎ ԴԱՏԱԿԱՆ ԳՈՐԾՈՒՆԵՈՒԹՅՈՒՆ | G13: =+G15 -> 0 | H13: =+H15 -> 601260
F14: այդ թվում`
B15: 01 | F15: Հասարակական կարգ և անվտանգություն | G15: =+G17 -> 0 | H15: =+H17 -> 601260
F16: այդ թվում`
C17: 02 | F17: Ազգային անվտանգություն | G17: =+G19 -> 0 | H17: =+H19 -> 601260
F18: այդ թվում`
D19: 1138 | F19: Ազգային անվտանգություն | G19: =G21 -> 0 | H19: =H21 -> 601260
F20: այդ թվում`
F21: ՀՀ ազգային անվտանգության ծառայություն | G21: =G22 -> 0 | H21: =H22 -> 601260
E22: 31003 | F22: Ազգային անվտանգության համակարգի տրանսպորտային սարքավորումների հագեցվածության բարելավում | G22: =G24 -> 0 | H22: =H24 -> 601260
F23: այդ թվում` ըստ կատարողների
F24: ՀՀ ազգային անվտանգության ծառայություն | G24: =G26 -> 0 | H24: =H26 -> 601260
F25: այդ թվում` բյուջետային ծախսերի տնտեսագիտական դասակարգման հոդվածներ
F26: ԸՆԴԱՄԵՆԸ ԾԱԽՍԵՐ | G26: =G27 -> 0 | H26: =H27 -> 601260
F27: ՈՉ ՖԻՆԱՆՍԱԿԱՆ ԱԿՏԻՎՆԵՐԻ ԳԾՈՎ ԾԱԽՍԵՐ | G27: =G28 -> 0 | H27: =H28 -> 601260
F28: ՀԻՄՆԱԿԱՆ ՄԻՋՈՑՆԵՐ | G28: =G29 -> 0 | H28: =H29 -> 601260
F29: ՄԵՔԵՆԱՆԵՐ ԵՎ ՍԱՐՔԱՎՈՐՈՒՄՆԵՐ | G29: =G30 -> 0 | H29: =H30 -> 601260
F30: - Տրանսպորտային սարքավորումներ | G30: ='Հավելված 1'!D18 -> 0 | H30: ='Հավելված 1'!E18 -> 601260
A31: 11 | F31: ՀԻՄՆԱԿԱՆ ԲԱԺԻՆՆԵՐԻՆ ՉԴԱՍՎՈՂ ՊԱՀՈՒՍՏԱՅԻՆ ՖՈՆԴԵՐ | G31: =+G33 -> 0 | H31: =+H33 -> -601260
F32: այդ թվում`
B33: 01 | F33: ՀՀ կառավարության և համայնքների պահուստային ֆոնդ | G33: =+G35 -> 0 | H33: =+H35 -> -601260
F34: այդ թվում`
C35: 01 | F35: ՀՀ կառավարության պահուստային ֆոնդ | G35: =+G37 -> 0 | H35: =+H37 -> -601260
F36: այդ թվում`
D37: 1139 | F37: ՀՀ կառավարության պահուստային ֆոնդ | G37: =G39 -> 0 | H37: =H39 -> -601260
F38: այդ թվում`
F39: ՀՀ կառավարություն | G39: =+G40 -> 0 | H39: =+H40 -> -601260
E40: 11001 | F40: ՀՀ կառավարության պահուստային ֆոնդ | G40: =+G42 -> 0 | H40: =+H42 -> -601260
F41: այդ թվում` ըստ կատարողների
F42: ՀՀ կառավարություն | G42: =+G44 -> 0 | H42: =+H44 -> -601260
F43: այդ թվում` բյուջետային ծախսերի տնտեսագիտական դասակարգման հոդվածներ
F44: ԸՆԴԱՄԵՆԸ ԾԱԽՍԵՐ | G44: =+G45 -> 0 | H44: =+H45 -> -601260
F45: ԸՆԹԱՑԻԿ ԾԱԽՍԵՐ | G45: =+G46 -> 0 | H45: =+H46 -> -601260
F46: ԱՅԼ ԾԱԽՍԵՐ | G46: =+G47 -> 0 | H46: =+H47 -> -601260
F47: Պահուստային միջոցներ | G47: ='Հավելված 1'!D32 -> 0 | H47: ='Հավելված 1'!E32 -> -601260

Sheet հավելված 4
E1: Հավելված 4
D2: ՀՀ կառավարության 2021 թվականի
D3: ___________ ___-ի N _______ -Ն որոշման
A5: ՀԱՅԱՍՏԱՆԻ ՀԱՆՐԱՊԵՏՈՒԹՅԱՆ ԿԱՌԱՎԱՐՈՒԹՅԱՆ 2020 ԹՎԱԿԱՆԻ ԴԵԿՏԵՄԲԵՐԻ 30-Ի N 2215-Ն ՈՐՈՇՄԱՆ N 5 ՀԱՎԵԼՎԱԾԻ N 2 ԱՂՅՈՒՍԱԿՈՒՄ ԿԱՏԱՐՎՈՂ ՓՈՓՈԽՈՒԹՅՈՒՆՆԵՐԸ
D6: հազար դրամներով
A7: Ծրագրային դասիչ | C7: Բյուջետային գլխավոր կարգադրիչների, ծրագրերի, միջոցառումների, միջոցառումները կատարող պետական մարմինների և ուղղությունների անվանումները | D7: Ցուցանիշների փոփոխությունը (ավելացումները նշված են դրական նշանով)
D8: Ինն ամիս | E8: Տարի
A9: Ծրագիր | B9: Միջոցառում
C10: ԸՆԴԱՄԵՆԸ | D10: =D11 -> 0 | E10: =E11 -> 601260
C11: ՀՀ ԱԶԳԱՅԻՆ ԱՆՎՏԱՆԳՈՒԹՅԱՆ ԾԱՌԱՅՈՒԹՅՈՒՆ | D11: =D15 -> 0 | E11: =E15 -> 601260
C12: այդ թվում`
A13: 1138 | B13: 31003 | C13: Ազգային անվտանգության համակարգի տրանսպորտային սարքավորումների հագեցվածության բարելավում | D13: 0 | E13: ='Հավելված 1'!E18 -> 601260
C14: այդ թվում` ըստ կատարողների
C15: ՀՀ ազգային անվտանգության ծառայություն | D15: =D13 -> 0 | E15: =E13 -> 601260

Sheet Հավելված 5
D1: Հավելված 5
C2: ՀՀ կառավարության 2021 թվականի
C3: ___________ ___-ի N _______ -Ն որոշման
A5: ՀԱՅԱՍՏԱՆԻ ՀԱՆՐԱՊԵՏՈՒԹՅԱՆ ԿԱՌԱՎԱՐՈՒԹՅԱՆ 2020 ԹՎԱԿԱՆԻ ԴԵԿՏԵՄԲԵՐԻ 30-Ի N 2215-Ն ՈՐՈՇՄԱՆ N 9 ՀԱՎԵԼՎԱԾԻ N9.27 ԵՎ N9.47 ԱՂՅՈՒՍԱԿՆԵՐՈՒՄ ԿԱՏԱՐՎՈՂ ՓՈՓՈԽՈՒԹՅՈՒՆՆԵՐԸ
A7: ՀՀ ազգային անվտանգության ծառայություն
A8: ՄԱՍ 2. ՊԵՏԱԿԱՆ ՄԱՐՄՆԻ ԳԾՈՎ ԱՐԴՅՈՒՆՔԱՅԻՆ (ԿԱՏԱՐՈՂԱԿԱՆ) ՑՈՒՑԱՆԻՇՆԵՐԸ
A10: Ծրագրի դասիչը | B10: Ծրագրի անվանումը
A11: 1138 | B11: Ազգային անվտանգություն
A13: Ծրագրի միջոցառումները
A14: Ծրագրի դասիչը` | B14: 1138 | C14: Ցուցանիշների փոփոխությունը (ավելացումները նշված են դրական նշանով)
A15: Միջոցառման դասիչը` | B15: 31003 | C15: Ինն ամիս | D15: Տարի
A16: Միջոցառման անվանումը` | B16: Ազգային անվտանգության համակարգի տրանսպորտային սարքավորումների հագեցվածության բարելավում
A17: Նկարագրությունը` | B17: Ազգային անվտանգության համակարգի ստորաբաժանումների համար տրանսպորտային սարքավորումների ձեռքբերում
A18: Միջոցառման տեսակը` | B18: Պետական մարմինների կողմից օգտագործվող ոչ ֆինանսական ակտիվների հետ գործառնություններ
A19: Միջոցառումն իրականացնողի անվանումը | B19: ՀՀ ազգային անվտանգության ծառայություն
A20: Արդյունքի չափորոշիչներ
A21: Միջոցառման վրա կատարվող ծախսը (հազար դրամ) | C21: ='Հավելված 1'!D18 -> 0 | D21: ='Հավելված 1'!E18 -> 601260
A24: ՀՀ Կառավարություն
A25: ՄԱՍ 2. ՊԵՏԱԿԱՆ ՄԱՐՄՆԻ ԳԾՈՎ ԱՐԴՅՈՒՆՔԱՅԻՆ (ԿԱՏԱՐՈՂԱԿԱՆ) ՑՈՒՑԱՆԻՇՆԵՐԸ
A27: Ծրագրի դասիչը | B27: Ծրագրի անվանումը
A28: 1139 | B28: ՀՀ կառավարության պահուստային ֆոնդ
A30: Ծրագրի միջոցառումները
A31: Ծրագրի դասիչը` | B31: 1139 | C31: Ցուցանիշների փոփոխությունը (նվազեցումները նշված են փակագծերում)
A32: Միջոցառման դասիչը` | B32: 11001 | C32: Ինն ամիս | D32: Տարի
A33: Միջոցառման անվանումը` | B33: ՀՀ կառավարության պահուստային ֆոնդ
A34: Նկարագրությունը` | B34: ՀՀ պետական բյուջեում նախատեսված ելքերի լրացուցիչ ֆինանսավորման, պետական բյուջեում չկանխատեսված ելքերի, ինչպես նաև բյուջետային երաշխիքների ապահովման ելքերի ֆինանսավորման ապահովում
A35: Միջոցառման տեսակը` | B35: Ծառայությունների մատուցում
A36: Միջոցառումն իրականացնողի անվանումը | B36: ՀՀ կառավարություն
A37: Արդյունքի չափորոշիչներ
A38: Միջոցառման վրա կատարվող ծախսը (հազար դրամ) | C38: ='Հավելված 1'!D32 -> 0 | D38: ='Հավելված 1'!E32 -> -601260

Sheet Հավելված 6
D1: Հավելված 6
C2: ՀՀ կառավարության 2021 թվականի
C3: ___________ ___-ի N _______ -Ն որոշման
A5: ՀԱՅԱՍՏԱՆԻ ՀԱՆՐԱՊԵՏՈՒԹՅԱՆ ԿԱՌԱՎԱՐՈՒԹՅԱՆ 2020 ԹՎԱԿԱՆԻ ԴԵԿՏԵՄԲԵՐԻ 30-Ի N 2215-Ն ՈՐՈՇՄԱՆ N 9.1 ՀԱՎԵԼՎԱԾԻ N9.1.32 ԵՎ N9.1.58 ԱՂՅՈՒՍԱԿՆԵՐՈՒՄ ԿԱՏԱՐՎՈՂ ՓՈՓՈԽՈՒԹՅՈՒՆՆԵՐԸ
A7: ՀՀ ազգային անվտանգության ծառայություն
A8: ՄԱՍ 1. ՊԵՏԱԿԱՆ ՄԱՐՄՆԻ ԳԾՈՎ ԱՐԴՅՈՒՆՔԱՅԻՆ (ԿԱՏԱՐՈՂԱԿԱՆ) ՑՈՒՑԱՆԻՇՆԵՐԸ
A10: Ծրագրի դասիչը | B10: Ծրագրի անվանումը
A11: 1138 | B11: Ազգային անվտանգություն
A13: Ծրագրի միջոցառումները
A14: Ծրագրի դասիչը` | B14: 1138 | C14: Ցուցանիշների փոփոխությունը (ավելացումները նշված են դրական նշանով)
A15: Միջոցառման դասիչը` | B15: 31003 | C15: Ինն ամիս | D15: Տարի
A16: Միջոցառման անվանումը` | B16: Ազգային անվտանգության համակարգի տրանսպորտային սարքավորումների հագեցվածության բարելավում
A17: Նկարագրությունը` | B17: Ազգային անվտանգության համակարգի ստորաբաժանումների համար տրանսպորտային սարքավորումների ձեռքբերում
A18: Միջոցառման տեսակը` | B18: Պետական մարմինների կողմից օգտագործվող ոչ ֆինանսական ակտիվների հետ գործառնություններ
A19: Միջոցառումն իրականացնողի անվանումը | B19: ՀՀ ազգային անվտանգության ծառայություն
A20: Արդյունքի չափորոշիչներ
A21: Միջոցառման վրա կատարվող ծախսը (հազար դրամ) | C21: ='Հավելված 1'!D18 -> 0 | D21: ='Հավելված 1'!E18 -> 601260
A23: ՀՀ Կառավարություն
A24: ՄԱՍ 1. ՊԵՏԱԿԱՆ ՄԱՐՄՆԻ ԳԾՈՎ ԱՐԴՅՈՒՆՔԱՅԻՆ (ԿԱՏԱՐՈՂԱԿԱՆ) ՑՈՒՑԱՆԻՇՆԵՐԸ
A26: Ծրագրի դասիչը | B26: Ծրագրի անվանումը
A27: 1139 | B27: ՀՀ կառավարության պահուստային ֆոնդ
A29: Ծրագրի միջոցառումները
A30: Ծրագրի դասիչը` | B30: 1139 | C30: Ցուցանիշների փոփոխությունը (նվազեցումները նշված են փակագծերում)
A31: Միջոցառման դասիչը` | B31: 11001 | C31: Ինն ամիս | D31: Տարի
A32: Միջոցառման անվանումը` | B32: ՀՀ կառավարության պահուստային ֆոնդ
A33: Նկարագրությունը` | B33: ՀՀ պետական բյուջեում նախատեսված ելքերի լրացուցիչ ֆինանսավորման, պետական բյուջեում չկանխատեսված ելքերի, ինչպես նաև բյուջետային երաշխիքների ապահովման ելքերի ֆինանսավորման ապահովում
A34: Միջոցառման տեսակը` | B34: Ծառայությունների մատուցում
A35: Միջոցառումն իրականացնողի անվանումը | B35: ՀՀ կառավարություն
A36: Արդյունքի չափորոշիչներ
A37: Միջոցառման վրա կատարվող ծախսը (հազար դրամ) | C37: ='Հավելված 5'!C38 -> 0 | D37: ='Հավելված 5'!D38 -> -601260
