Workbook
Name AgencyCode: #REF!
Name AgencyCode: #REF!
Name AgencyCode: #REF!
Name AgencyCode: #REF!
Name AgencyName: #REF!
Name AgencyName: #REF!
Name AgencyName: #REF!
Name AgencyName: #REF!
Name davit: #REF!
Name davit: #REF!
Name davit: #REF!
Name Functional1: #REF!
Name Functional1: #REF!
Name Functional1: #REF!
Name Functional1: #REF!
Name ggg: #REF!
Name ggg: #REF!
Name ggg: #REF!
Name PANature: #REF!
Name PANature: #REF!
Name PANature: #REF!
Name PANature: #REF!
Name PAType: #REF!
Name PAType: #REF!
Name PAType: #REF!
Name PAType: #REF!
Name Performance2: #REF!
Name Performance2: #REF!
Name Performance2: #REF!
Name Performance2: #REF!
Name PerformanceType: #REF!
Name PerformanceType: #REF!
Name PerformanceType: #REF!
Name PerformanceType: #REF!
Name Հավելված: #REF!
Name Հավելված: #REF!
Name Հավելված: #REF!
Name Մաս: #REF!
Name Մաս: #REF!
Name Մաս: #REF!
Name շախմատիստ: #REF!
Name շախմատիստ: #REF!
Name շախմատիստ: #REF!

Sheet Havelvats 1
D1: Հավելված N 1
D2: ՀՀ կառավարության 2021 թվականի
D3: ______________ ի ___Ն որոշման
A5: «ՀԱՅԱUՏԱՆԻ ՀԱՆՐԱՊԵՏՈՒԹՅԱՆ 2021 ԹՎԱԿԱՆԻ ՊԵՏԱԿԱՆ ԲՅՈՒՋԵԻ ՄԱUԻՆ» ՀԱՅԱUՏԱՆԻ ՀԱՆՐԱՊԵՏՈՒԹՅԱՆ OՐԵՆՔԻ N 1 ՀԱՎԵԼՎԱԾԻ N 2 ԱՂՅՈՒՍԱԿՈՒՄ ԿԱՏԱՐՎՈՂ ՎԵՐԱԲԱՇԽՈՒՄԸ ԵՎ ՀԱՅԱՍՏԱՆԻ ՀԱՆՐԱՊԵՏՈՒԹՅԱՆ ԿԱՌԱՎԱՐՈՒԹՅԱՆ 2020 ԹՎԱԿԱՆԻ ԴԵԿՏԵՄԲԵՐԻ 30-Ի N 2215-Ն ՈՐՈՇՄԱՆ N 5 ՀԱՎԵԼՎԱԾԻ N 1 ԱՂՅՈՒՍԱԿՈՒՄ ԿԱՏԱՐՎՈՂ ՓՈՓՈԽՈՒԹՅՈՒՆՆԵՐԸ ԵՎ ԼՐԱՑՈՒՄՆԵՐԸ
D8: հազ. դրամներով
A9: Ծրագրային դասիչը | C9: Բյուջետային հատկացումների գլխավոր կարգադրիչների, ծրագրերի և միջոցառումների անվանումները | D9: Ցուցանիշների փոփոխությունը (ավելացումները նշված են դրական նշանով, իսկ նվազեցումները՝ փակագծերում)
A10: Ծրագիր | B10: Միջոցառում | D10: Տարի
C11: ԸՆԴԱՄԵՆԸ | D11: =+D13+D27 -> 0
C12: այդ թվում
C13: ՀՀ ԿՐԹՈՒԹՅԱՆ, ԳԻՏՈՒԹՅԱՆ, ՄՇԱԿՈՒՅԹԻ ԵՎ ՍՊՈՐՏԻ ՆԱԽԱՐԱՐՈՒԹՅՈՒՆ | D13: =+D15 -> 13565.8
A14: 1046 | C14: Ծրագրի անվանումը`
C15: Հանրակրթության ծրագիր | D15: =+D22 -> 13565.8
C16: Ծրագրի նպատակը`
C17: Ապահովել անվճար և որակյալ հանրակրթություն
C18: Վերջնական արդյունքի նկարագրությունը`
C19: Մտավոր, հոգևոր, ֆիզիկական և սոցիալական ունակությունների համակողմանի ու ներդաշնակ զարգացմամբ, հայրենասիրության, պետականության և մարդասիրության ոգով դաստիրակված, պատշաճ վարքով և վարվելակերպով անձի ձևավորում
C20: Ծրագրի միջոցառումներ
B21: 12013 | C21: Միջոցառման անվանումը`
C22: Նախադպրոցական ուսումնական հաստատությունների գործունեության ապահովում | D22: 13565.8
C23: Միջոցառման նկարագրությունը`
C24: Օժանդակություն համայնքներին՝ նախադպրոցական ուսումնական հաստատությունների գործարկումն ապահովելու նպատակով
C25: Միջոցառման տեսակը
C26: Ծառայությունների մատուցում
C27: ՀՀ ԿԱՌԱՎԱՐՈՒԹՅՈՒՆ | D27: =+D29 -> -13565.8
A28: 1139 | C28: Ծրագրի անվանումը`
C29: ՀՀ կառավարության պահուստային ֆոնդ | D29: =+D35 -> -13565.8
C30: Ծրագրի նպատակը`
C31: Պետական բյուջեում չկանխատեսված, ինչպես նաև բյուջետային երաշխիքների ապահովման ծախսերի ֆինանսավորման ապահովում
C32: Վերջնական արդյունքի նկարագրությունը`
C33: Պահուստային ֆոնդի կառավարման արդյունավետության և թափանցիկության ապահովում
B34: 11001 | C34: Միջոցառման անվանումը`
C35: ՀՀ կառավարության պահուստային ֆոնդ | D35: -13565.8
C36: Միջոցառման նկարագրությունը`
C37: ՀՀ պետական բյուջեում նախատեսված ելքերի լրացուցիչ ֆինանսավորման՝ պետական բյուջեում չկանխատեսված ելքերի, ինչպես նաև բյուջետային երաշխիքների ապահովման ելքերի ֆինանսավորման ապահովում
C38: Միջոցառման տեսակը
C39: Ծառայությունների մատուցում

Sheet Havelvats 2 
G1: Հավելված N 2
G2: ՀՀ կառավարության 2021 թվականի
G3: ______________ ի ___Ն որոշման
A5: ՀԱՅԱՍՏԱՆԻ ՀԱՆՐԱՊԵՏՈՒԹՅԱՆ ԿԱՌԱՎԱՐՈՒԹՅԱՆ 2020 ԹՎԱԿԱՆԻ ԴԵԿՏԵՄԲԵՐԻ 30-Ի N2215-Ն ՈՐՈՇՄԱՆ N 3 ԵՎ N 4 ՀԱՎԵԼՎԱԾՆԵՐՈՒՄ ԿԱՏԱՐՎՈՂ ՓՈՓՈԽՈՒԹՅՈՒՆՆԵՐԸ ԵՎ ԼՐԱՑՈՒՄՆԵՐԸ
A9: Գործառական դասիչը | D9: Ծրագրային դասիչը | F9: Բյուջետային հատկացումների գլխավոր կարգադրիչների, ծրագրերի, միջոցառումների և միջոցառումները կատարող պետական մարմինների անվանումները | G9: Ցուցանիշների փոփոխությունը (ավելացումները նշված են դրական նշանով, իսկ նվազեցումները՝ փակագծերում)
A10: Բաժին | B10: Խումբ | C10: Դաս | D10: Ծրագիր | E10: Միջոցառում | G10: Տարի
F11: ԸՆԴԱՄԵՆԸ | G11: =+G13+G54 -> 0
F12: այդ թվում
F13: ՀՀ ԿՐԹՈՒԹՅԱՆ, ԳԻՏՈՒԹՅԱՆ, ՄՇԱԿՈՒՅԹԻ ԵՎ ՍՊՈՐՏԻ ՆԱԽԱՐԱՐՈՒԹՅՈՒՆ | G13: =+G14 -> 13565.8
A14: 09 | F14: ԿՐԹՈՒԹՅՈՒՆ | G14: =+G16 -> 13565.8
F15: այդ թվում`
B16: 01 | F16: Նախադպրոցական և տարրական ընդհանուր կրթություն | G16: =+G18 -> 13565.8
F17: այդ թվում`
C18: 01 | F18: Նախադպրոցական կրթություն | G18: =+G20 -> 13565.8
F19: այդ թվում`
F20: ՀՀ կրթության, գիտության, մշակույթի և սպորտի նախարարություն | G20: =+G22 -> 13565.8
F21: այդ թվում`
D22: 1146 | E22: Հանրակրթության ծրագիր | G22: =+G24 -> 13565.8
F23: այդ թվում`
E24: 12013 | F24: Նախադպրոցական ուսումնական հաստատությունների գործունեության ապահովում | G24: =G26+G33+G40+G47 -> 13565.8
F25: այդ թվում` ըստ կատարողների
F26: ՀՀ Արարատի մարզպետարան | G26: =G28 -> 1996
F27: այդ թվում՝ բյուջետային ծախսերի տնտեսագիտական դասակարգման հոդվածներ
F28: ԸՆԴԱՄԵՆԸ ԾԱԽՍԵՐ | G28: =G29 -> 1996
F29: ԸՆԹԱՑԻԿ ԾԱԽՍԵՐ | G29: =+G30 -> 1996
F30: ԴՐԱՄԱՇՆՈՐՀՆԵՐ | G30: =+G31 -> 1996
F31: Ընթացիկ դրամաշնորհներ պետական հատվածի այլ մակարդակներին | G31: =+G32 -> 1996
F32: - Ընթացիկ սուբվենցիաներ համայնքներին | G32: =1996 -> 1996
F33: ՀՀ Արմավիրի մարզպետարան | G33: =G35 -> 1840
F34: այդ թվում՝ բյուջետային ծախսերի տնտեսագիտական դասակարգման հոդվածներ
F35: ԸՆԴԱՄԵՆԸ ԾԱԽՍԵՐ | G35: =G36 -> 1840
F36: ԸՆԹԱՑԻԿ ԾԱԽՍԵՐ | G36: =+G37 -> 1840
F37: ԴՐԱՄԱՇՆՈՐՀՆԵՐ | G37: =+G38 -> 1840
F38: Ընթացիկ դրամաշնորհներ պետական հատվածի այլ մակարդակներին | G38: =+G39 -> 1840
F39: - Ընթացիկ սուբվենցիաներ համայնքներին | G39: 1840
F40: ՀՀ Լոռու մարզպետարան | G40: =G42 -> 2517.2
F41: այդ թվում՝ բյուջետային ծախսերի տնտեսագիտական դասակարգման հոդվածներ
F42: ԸՆԴԱՄԵՆԸ ԾԱԽՍԵՐ | G42: =G43 -> 2517.2
F43: ԸՆԹԱՑԻԿ ԾԱԽՍԵՐ | G43: =+G44 -> 2517.2
F44: ԴՐԱՄԱՇՆՈՐՀՆԵՐ | G44: =+G45 -> 2517.2
...

Sheet Havelvats 3
D1: Հավելված N 3
D2: ՀՀ կառավարության 2021 թվականի
D3: ______________ ի ___Ն որոշման
B5: ՀԱՅԱՍՏԱՆԻ ՀԱՆՐԱՊԵՏՈՒԹՅԱՆ ԿԱՌԱՎԱՐՈՒԹՅԱՆ 2020 ԹՎԱԿԱՆԻ ԴԵԿՏԵՄԲԵՐԻ 30-Ի N 2215-Ն ՈՐՈՇՄԱՆ N 9 ՀԱՎԵԼՎԱԾԻ N 9.14 ԵՎ 9․47 ԱՂՅՈՒՍԱԿՆԵՐՈՒՄ ԿԱՏԱՐՎՈՂ ՓՈՓՈԽՈՒԹՅՈՒՆՆԵՐԸ ԵՎ ԼՐԱՑՈՒՄՆԵՐԸ
A7: Աղյուսակ 9․14
C8: ՀՀ կրթության, գիտության, մշակույթի և սպորտի նախարարություն
B9: ՄԱՍ 2. ՊԵՏԱԿԱՆ ՄԱՐՄՆԻ ԳԾՈՎ ԱՐԴՅՈՒՆՔԱՅԻՆ (ԿԱՏԱՐՈՂԱԿԱՆ) ՑՈՒՑԱՆԻՇՆԵՐԸ
B10: Ծրագրի դասիչը | C10: Ծրագրի անվանումը
B11: 1146 | C11: Հանրակրթության ծրագիր
B12: Ծրագրի միջոցառումները
B13: Ծրագրի դասիչը՝ | C13: 1146 | D13: Ցուցանիշների փոփոխությունը (ավելացումները նշված են դրական նշանով)
B14: Միջոցառման դասիչը՝ | C14: 12013 | D14: Տարի
B15: Միջոցառման անվանումը՝ | C15: Նախադպրոցական ուսումնական հաստատությունների գործունեության ապահովում
B16: Նկարագրությունը՝ | C16: Օժանդակություն համայնքներին՝ նախադպրոցական ուսումնական հաստատությունների գործարկումն ապահովելու նպատակով
B17: Միջոցառման տեսակը՝ | C17: Ծառայությունների մատուցում
B18: Ծառայությունը մատուցող կազմակերպությունների անվանումը | C18: Մասնագիտացված կազմակերպություն
B19: Արդյունքի չափորոշիչներ
B20: Նախադպրոցական ուսումնական հաստատությունների թիվը, հատ | D20: 6
B21: Նախադպրոցական ուսումնական հաստատություններում սովորողների թիվը, մարդ | D21: 226
B22: Միջոցառման վրա կատարվող ծախսը (հազար դրամ) | D22: ='Havelvats 1'!D22 -> 13565.8
A24: Աղյուսակ 9․47
C25: ՀՀ կառավարություն
B26: ՄԱՍ 2. ՊԵՏԱԿԱՆ ՄԱՐՄՆԻ ԳԾՈՎ ԱՐԴՅՈՒՆՔԱՅԻՆ (ԿԱՏԱՐՈՂԱԿԱՆ) ՑՈՒՑԱՆԻՇՆԵՐԸ
B29: Ծրագրի դասիչը | C29: Ծրագրի անվանումը
B30: 1139 | C30: ՀՀ կառավարության պահուստային ֆոնդ
B31: Ծրագրի միջոցառումները
B32: Ծրագրի դասիչը՝ | C32: 1139 | D32: Ցուցանիշների փոփոխությունը (նվազեցումները նշված են փակագծերում)
B33: Միջոցառման դասիչը՝ | C33: 11001 | D33: Տարի
B34: Միջոցառման անվանումը՝ | C34: ՀՀ կառավարության պահուստային ֆոնդ
B35: Նկարագրությունը՝ | C35: ՀՀ պետական բյուջեում նախատեսված ելքերի լրացուցիչ ֆինանսավորման՝ պետական բյուջեում չկանխատեսված ելքերի, ինչպես նաև բյուջետային երաշխիքների ապահովման ելքերի ֆինանսավորման ապահովում
B36: Միջոցառման տեսակը՝ | C36: Ծառայությունների մատուցում
B37: Միջոցառումն իրականացնողի անվանումը | C37: ՀՀ կառավարություն
C38: Արդյունքի չափորոշիչներ
B39: Միջոցառման վրա կատարվող ծախսը (հազար դրամ) | D39: =+'Havelvats 1'!D35 -> -13565.8

Sheet Havelvats 4
D1: Հավելված N 4
D2: ՀՀ կառավարության 2021 թվականի
D3: ______________ ի ___Ն որոշման
B5: ՀԱՅԱՍՏԱՆԻ ՀԱՆՐԱՊԵՏՈՒԹՅԱՆ ԿԱՌԱՎԱՐՈՒԹՅԱՆ 2020 ԹՎԱԿԱՆԻ ԴԵԿՏԵՄԲԵՐԻ 30-Ի N 2215-Ն ՈՐՈՇՄԱՆ N 9.1 ՀԱՎԵԼՎԱԾԻ N 9.1.49, 9.1.50, 9.1.52, 9.1.53 ԵՎ 9․1.58 ԱՂՅՈՒՍԱԿՆԵՐՈՒՄ ԿԱՏԱՐՎՈՂ ՓՈՓՈԽՈՒԹՅՈՒՆՆԵՐԸ ԵՎ ԼՐԱՑՈՒՄՆԵՐԸ
A7: Աղյուսակ 9․1.49
C8: ՀՀ Արարատի մարզպետարան
B9: ՄԱՍ 2. ՊԵՏԱԿԱՆ ՄԱՐՄՆԻ ԳԾՈՎ ԱՐԴՅՈՒՆՔԱՅԻՆ (ԿԱՏԱՐՈՂԱԿԱՆ) ՑՈՒՑԱՆԻՇՆԵՐԸ
B10: Ծրագրի դասիչը | C10: Ծրագրի անվանումը
B11: 1146 | C11: Հանրակրթության ծրագիր
B12: Ծրագրի միջոցառումները
B13: Ծրագրի դասիչը՝ | C13: 1146 | D13: Ցուցանիշների փոփոխությունը (ավելացումները նշված են դրական նշանով)
B14: Միջոցառման դասիչը՝ | C14: 12013 | D14: Տարի
B15: Միջոցառման անվանումը՝ | C15: Նախադպրոցական ուսումնական հաստատությունների գործունեության ապահովում
B16: Նկարագրությունը՝ | C16: Օժանդակություն համայնքներին՝ նախադպրոցական ուսումնական հաստատությունների գործարկումն ապահովելու նպատակով
B17: Միջոցառման տեսակը՝ | C17: Ծառայությունների մատուցում
B18: Ծառայությունը մատուցող կազմակերպությունների անվանումը | C18: Մասնագիտացված կազմակերպություն
B19: Արդյունքի չափորոշիչներ
B20: Նախադպրոցական ուսումնական հաստատությունների թիվը, հատ | D20: 1
B21: Նախադպրոցական ուսումնական հաստատություններում սովորողների թիվը, մարդ | D21: 40
B22: Միջոցառման վրա կատարվող ծախսը (հազար դրամ) | D22: ='Havelvats 2 '!G26 -> 1996
A24: Աղյուսակ 9․1.50
C25: ՀՀ Արմավիրի մարզպետարան
B26: ՄԱՍ 2. ՊԵՏԱԿԱՆ ՄԱՐՄՆԻ ԳԾՈՎ ԱՐԴՅՈՒՆՔԱՅԻՆ (ԿԱՏԱՐՈՂԱԿԱՆ) ՑՈՒՑԱՆԻՇՆԵՐԸ
B27: Ծրագրի դասիչը | C27: Ծրագրի անվանումը
B28: 1146 | C28: Հանրակրթության ծրագիր
B29: Ծրագրի միջոցառումները
B30: Ծրագրի դասիչը՝ | C30: 1146 | D30: Ցուցանիշների փոփոխությունը (ավելացումները նշված են դրական նշանով)
B31: Միջոցառման դասիչը՝ | C31: 12013 | D31: Տարի
B32: Միջոցառման անվանումը՝ | C32: Նախադպրոցական ուսումնական հաստատությունների գործունեության ապահովում
B33: Նկարագրությունը՝ | C33: Օժանդակություն համայնքներին՝ նախադպրոցական ուսումնական հաստատությունների գործարկումն ապահովելու նպատակով
B34: Միջոցառման տեսակը՝ | C34: Ծառայությունների մատուցում
B35: Ծառայությունը մատուցող կազմակերպությունների անվանումը | C35: Մասնագիտացված կազմակերպություն
B36: Արդյունքի չափորոշիչներ
B37: Նախադպրոցական ուսումնական հաստատությունների թիվը, հատ | D37: 1
B38: Նախադպրոցական ուսումնական հաստատություններում սովորողների թիվը, մարդ | D38: 25
B39: Միջոցառման վրա կատարվող ծախսը (հազար դրամ) | D39: ='Havelvats 2 '!G33 -> 1840
A41: Աղյուսակ 9․1.52
C42: ՀՀ Lոռու մարզպետարան
B43: ՄԱՍ 2. ՊԵՏԱԿԱՆ ՄԱՐՄՆԻ ԳԾՈՎ ԱՐԴՅՈՒՆՔԱՅԻՆ (ԿԱՏԱՐՈՂԱԿԱՆ) ՑՈՒՑԱՆԻՇՆԵՐԸ
B44: Ծրագրի դասիչը | C44: Ծրագրի անվանումը
...

Sheet Havelvats 5
G1: Հավելված N 5
G2: ՀՀ կառավարության 2021 թվականի
G3: ______________ ի ___Ն որոշման
A6: ՀԱՅԱՍՏԱՆԻ ՀԱՆՐԱՊԵՏՈՒԹՅԱՆ 2021 ԹՎԱԿԱՆԻ ՊԵՏԱԿԱՆ ԲՅՈՒՋԵՈՎ ՆԱԽԱՏԵՍՎԱԾ՝ ՀԱՅԱՍՏԱՆԻ ՀԱՆՐԱՊԵՏՈՒԹՅԱՆ ԿԱՌԱՎԱՐՈՒԹՅԱՆ ՊԱՀՈՒՍՏԱՅԻՆ ՖՈՆԴԻՑ ՀԱՏԿԱՑՈՒՄՆԵՐ ԿԱՏԱՐԵԼՈՒ ՎԵՐԱԲԵՐՅԱԼ
G8: հազ. դրամներով
A9: Գործառական դասիչը | D9: Ծրագրային դասիչը | F9: Բյուջետային հատկացումների գլխավոր կարգադրիչների, ծրագրերի, միջոցառումների և միջոցառումները կատարող պետական մարմինների անվանումները | G9: Ցուցանիշների փոփոխությունը (ավելացումները նշված են դրական նշանով, իսկ նվազեցումները՝ փակագծերում)
A10: Բաժին | B10: Խումբ | C10: Դաս | D10: Ծրագիր | E10: Միջոցառում | G10: Տարի
F11: ԸՆԴԱՄԵՆԸ | G11: =+G13+G32 -> 0
F12: այդ թվում
F13: ՀՀ կառավարություն | G13: =+G14 -> -13565.8
A14: 11 | F14: ՀԻՄՆԱԿԱՆ ԲԱԺԻՆՆԵՐԻՆ ՉԴԱՍՎՈՂ ՊԱՀՈՒՍՏԱՅԻՆ ՖՈՆԴԵՐ | G14: =+G16 -> -13565.8
F15: այդ թվում`
B16: 01 | F16: ՀՀ կառավարության և համայնքների պահուստային ֆոնդ | G16: =+G18 -> -13565.8
F17: այդ թվում`
C18: 01 | F18: ՀՀ կառավարության պահուստային ֆոնդ | G18: =+G20 -> -13565.8
F19: այդ թվում`
F20: ՀՀ կառավարություն | G20: =+G22 -> -13565.8
F21: այդ թվում`
D22: 1139 | E22: ՀՀ կառավարության պահուստային ֆոնդ | F22: ՀՀ կառավարության պահուստային ֆոնդ | G22: =+G24 -> -13565.8
F23: այդ թվում`
E24: 11001 | F24: ՀՀ կառավարության պահուստային ֆոնդ | G24: =+G26 -> -13565.8
F25: այդ թվում` ըստ կատարողների
F26: ՀՀ կառավարություն | G26: =+G28 -> -13565.8
F27: այդ թվում` բյուջետային ծախսերի տնտեսագիտական դասակարգման հոդվածներ
F28: ԸՆԴԱՄԵՆԸ ԾԱԽՍԵՐ | G28: =+G29 -> -13565.8
F29: ԸՆԹԱՑԻԿ ԾԱԽՍԵՐ | G29: =+G30 -> -13565.8
F30: ԱՅԼ ԾԱԽՍԵՐ | G30: =+G31 -> -13565.8
F31: Պահուստային միջոցներ | G31: ='Havelvats 1'!D27 -> -13565.8
F32: ՀՀ կրթության, գիտության, մշակույթի և սպորտի նախարարություն | G32: =+G33 -> 13565.8
A33: 09 | F33: ԿՐԹՈՒԹՅՈՒՆ | G33: =+G35 -> 13565.8
F34: այդ թվում`
B35: 01 | F35: Նախադպրոցական և տարրական ընդհանուր կրթություն | G35: =+G37 -> 13565.8
F36: այդ թվում`
C37: 01 | F37: Նախադպրոցական կրթություն | G37: =+G39 -> 13565.8
F38: այդ թվում`
F39: ՀՀ կրթության, գիտության, մշակույթի և սպորտի նախարարություն | G39: =+G41 -> 13565.8
F40: այդ թվում`
D41: 1146 | E41: Հանրակրթության ծրագիր | G41: =+G43 -> 13565.8
E42: 12013 | F42: այդ թվում`
F43: Նախադպրոցական ուսումնական հաստատությունների գործունեության ապահովում | G43: =G45+G52+G59+G66 -> 13565.8
...
