Workbook
Name AgencyCode: #REF!
Name AgencyCode: #REF!
Name AgencyCode: #REF!
Name AgencyCode: #REF!
Name AgencyName: #REF!
Name AgencyName: #REF!
Name AgencyName: #REF!
Name AgencyName: #REF!
Name davit: #REF!
Name davit: #REF!
Name davit: #REF!
Name Functional1: #REF!
Name Functional1: #REF!
Name Functional1: #REF!
Name Functional1: #REF!
Name ggg: #REF!
Name ggg: #REF!
Name ggg: #REF!
Name PANature: #REF!
Name PANature: #REF!
Name PANature: #REF!
Name PANature: #REF!
Name PAType: #REF!
Name PAType: #REF!
Name PAType: #REF!
Name PAType: #REF!
Name Performance2: #REF!
Name Performance2: #REF!
Name Performance2: #REF!
Name Performance2: #REF!
Name PerformanceType: #REF!
Name PerformanceType: #REF!
Name PerformanceType: #REF!
Name PerformanceType: #REF!
Name Հավելված: #REF!
Name Հավելված: #REF!
Name Հավելված: #REF!
Name Մաս: #REF!
Name Մաս: #REF!
Name Մաս: #REF!
Name շախմատիստ: #REF!
Name շախմատիստ: #REF!
Name շախմատիստ: #REF!

Sheet Havelvats 1
D1: Հավելված N 1
D2: ՀՀ կառավարության 2021 թվականի
D3: ______________ ի ___Ն որոշման
A5: «ՀԱՅԱUՏԱՆԻ ՀԱՆՐԱՊԵՏՈՒԹՅԱՆ 2021 ԹՎԱԿԱՆԻ ՊԵՏԱԿԱՆ ԲՅՈՒՋԵԻ ՄԱUԻՆ» ՀԱՅԱUՏԱՆԻ ՀԱՆՐԱՊԵՏՈՒԹՅԱՆ OՐԵՆՔԻ N 1 ՀԱՎԵԼՎԱԾԻ N 2 ԱՂՅՈՒՍԱԿՈՒՄ ԿԱՏԱՐՎՈՂ ՎԵՐԱԲԱՇԽՈՒՄԸ ԵՎ ՀԱՅԱՍՏԱՆԻ ՀԱՆՐԱՊԵՏՈՒԹՅԱՆ ԿԱՌԱՎԱՐՈՒԹՅԱՆ 2020 ԹՎԱԿԱՆԻ ԴԵԿՏԵՄԲԵՐԻ 30-Ի N 2215-Ն ՈՐՈՇՄԱՆ N 5 ՀԱՎԵԼՎԱԾԻ N 1 ԱՂՅՈՒՍԱԿՈՒՄ ԿԱՏԱՐՎՈՂ ՓՈՓՈԽՈՒԹՅՈՒՆՆԵՐԸ ԵՎ ԼՐԱՑՈՒՄՆԵՐԸ
D8: հազ. դրամներով
A9: Ծրագրային դասիչը | C9: Բյուջետային հատկացումների գլխավոր կարգադրիչների, ծրագրերի և միջոցառումների անվանումները | D9: Ցուցանիշների փոփոխությունը (ավելացումները նշված են դրական նշանով, իսկ նվազեցումները՝ փակագծերում)
A10: Ծրագիր | B10: Միջոցառում | D10: Տարի
C11: ԸՆԴԱՄԵՆԸ | D11: =+D13+D27 -> 0
C12: այդ թվում
C13: ՀՀ ԿՐԹՈՒԹՅԱՆ, ԳԻՏՈՒԹՅԱՆ, ՄՇԱԿՈՒՅԹԻ ԵՎ ՍՊՈՐՏԻ ՆԱԽԱՐԱՐՈՒԹՅՈՒՆ | D13: =+D15 -> 13565.8
A14: 1046 | C14: Ծրագրի անվանումը`
C15: Հանրակրթության ծրագիր | D15: =+D22 -> 13565.8
C16: Ծրագրի նպատակը`
C17: Ապահովել անվճար և որակյալ հանրակրթություն
C18: Վերջնական արդյունքի նկարագրությունը`
C19: Մտավոր, հոգևոր, ֆիզիկական և սոցիալական ունակությունների համակողմանի ու ներդաշնակ զարգացմամբ, հայրենասիրության, պետականության և մարդասիրության ոգով դաստիրակված, պատշաճ վարքով և վարվելակերպով անձի ձևավորում
C20: Ծրագրի միջոցառումներ
B21: 12013 | C21: Միջոցառման անվանումը`
C22: Նախադպրոցական ուսումնական հաստատությունների գործունեության ապահովում | D22: 13565.8
C23: Միջոցառման նկարագրությունը`
C24: Օժանդակություն համայնքներին՝ նախադպրոցական ուսումնական հաստատությունների գործարկումն ապահովելու նպատակով
C25: Միջոցառման տեսակը
C26: Ծառայությունների մատուցում
C27: ՀՀ ԿԱՌԱՎԱՐՈՒԹՅՈՒՆ | D27: =+D29 -> -13565.8
A28: 1139 | C28: Ծրագրի անվանումը`
C29: ՀՀ կառավարության պահուստային ֆոնդ | D29: =+D35 -> -13565.8
C30: Ծրագրի նպատակը`
C31: Պետական բյուջեում չկանխատեսված, ինչպես նաև բյուջետային երաշխիքների ապահովման ծախսերի ֆինանսավորման ապահովում
C32: Վերջնական արդյունքի նկարագրությունը`
C33: Պահուստային ֆոնդի կառավարման արդյունավետության և թափանցիկության ապահովում
B34: 11001 | C34: Միջոցառման անվանումը`
C35: ՀՀ կառավարության պահուստային ֆոնդ | D35: -13565.8
C36: Միջոցառման նկարագրությունը`
C37: ՀՀ պետական բյուջեում նախատեսված ելքերի լրացուցիչ ֆինանսավորման՝ պետական բյուջեում չկանխատեսված ելքերի, ինչպես նաև բյուջետային երաշխիքների ապահովման ելքերի ֆինանսավորման ապահովում
C38: Միջոցառման տեսակը
C39: Ծառայությունների մատուցում

Sheet Havelvats 2 
G1: Հավելված N 2
G2: ՀՀ կառավարության 2021 թվականի
G3: ______________ ի ___Ն որոշման
A5: ՀԱՅԱՍՏԱՆԻ ՀԱՆՐԱՊԵՏՈՒԹՅԱՆ ԿԱՌԱՎԱՐՈՒԹՅԱՆ 2020 ԹՎԱԿԱՆԻ ԴԵԿՏԵՄԲԵՐԻ 30-Ի N2215-Ն ՈՐՈՇՄԱՆ N 3 ԵՎ N 4 ՀԱՎԵԼՎԱԾՆԵՐՈՒՄ ԿԱՏԱՐՎՈՂ ՓՈՓՈԽՈՒԹՅՈՒՆՆԵՐԸ ԵՎ ԼՐԱՑՈՒՄՆԵՐԸ
A9: Գործառական դասիչը | D9: Ծրագրային դասիչը | F9: Բյուջետային հատկացումների գլխավոր կարգադրիչների, ծրագրերի, միջոցառումների և միջոցառումները կատարող պետական մարմինների անվանումները | G9: Ցուցանիշների փոփոխությունը (ավելացումները նշված են դրական նշանով, իսկ նվազեցումները՝ փակագծերում)
A10: Բաժին | B10: Խումբ | C10: Դաս | D10: Ծրագիր | E10: Միջոցառում | G10: Տարի
F11: ԸՆԴԱՄԵՆԸ | G11: =+G13+G54 -> 0
F12: այդ թվում
F13: ՀՀ ԿՐԹՈՒԹՅԱՆ, ԳԻՏՈՒԹՅԱՆ, ՄՇԱԿՈՒՅԹԻ ԵՎ ՍՊՈՐՏԻ ՆԱԽԱՐԱՐՈՒԹՅՈՒՆ | G13: =+G14 -> 13565.8
A14: 09 | F14: ԿՐԹՈՒԹՅՈՒՆ | G14: =+G16 -> 13565.8
F15: այդ թվում`
B16: 01 | F16: Նախադպրոցական և տարրական ընդհանուր կրթություն | G16: =+G18 -> 13565.8
F17: այդ թվում`
C18: 01 | F18: Նախադպրոցական կրթություն | G18: =+G20 -> 13565.8
F19: այդ թվում`
F20: ՀՀ կրթության, գիտության, մշակույթի և սպորտի նախարարություն | G20: =+G22 -> 13565.8
F21: այդ թվում`
D22: 1146 | E22: Հանրակրթության ծրագիր | G22: =+G24 -> 13565.8
F23: այդ թվում`
E24: 12013 | F24: Նախադպրոցական ուսումնական հաստատությունների գործունեության ապահովում | G24: =G26+G33+G40+G47 -> 13565.8
F25: այդ թվում` ըստ կատարողների
F26: ՀՀ Արարատի մարզպետարան | G26: =G28 -> 1996
F27: այդ թվում՝ բյուջետային ծախսերի տնտեսագիտական դասակարգման հոդվածներ
F28: ԸՆԴԱՄԵՆԸ ԾԱԽՍԵՐ | G28: =G29 -> 1996
F29: ԸՆԹԱՑԻԿ ԾԱԽՍԵՐ | G29: =+G30 -> 1996
F30: ԴՐԱՄԱՇՆՈՐՀՆԵՐ | G30: =+G31 -> 1996
F31: Ընթացիկ դրամաշնորհներ պետական հատվածի այլ մակարդակներին | G31: =+G32 -> 1996
F32: - Ընթացիկ սուբվենցիաներ համայնքներին | G32: =1996 -> 1996
F33: ՀՀ Արմավիրի մարզպետարան | G33: =G35 -> 1840
F34: այդ թվում՝ բյուջետային ծախսերի տնտեսագիտական դասակարգման հոդվածներ
F35: ԸՆԴԱՄԵՆԸ ԾԱԽՍԵՐ | G35: =G36 -> 1840
F36: ԸՆԹԱՑԻԿ ԾԱԽՍԵՐ | G36: =+G37 -> 1840
F37: ԴՐԱՄԱՇՆՈՐՀՆԵՐ | G37: =+G38 -> 1840
F38: Ընթացիկ դրամաշնորհներ պետական հատվածի այլ մակարդակներին | G38: =+G39 -> 1840
F39: - Ընթացիկ սուբվենցիաներ համայնքներին | G39: 1840
F40: ՀՀ Լոռու մարզպետարան | G40: =G42 -> 2517.2
F41: այդ թվում՝ բյուջետային ծախսերի տնտեսագիտական դասակարգման հոդվածներ
F42: ԸՆԴԱՄԵՆԸ ԾԱԽՍԵՐ | G42: =G43 -> 2517.2
F43: ԸՆԹԱՑԻԿ ԾԱԽՍԵՐ | G43: =+G44 -> 2517.2
F44: ԴՐԱՄԱՇՆՈՐՀՆԵՐ | G44: =+G45 -> 2517.2
F45: Ընթացիկ դրամաշնորհներ պետական հատվածի այլ մակարդակներին | G45: =+G46 -> 2517.2
F46: - Ընթացիկ սուբվենցիաներ համայնքներին | G46: 2517.2
F47: ՀՀ Կոտայքի մարզպետարան | G47: =G49 -> 7212.6
F48: այդ թվում՝ բյուջետային ծախսերի տնտեսագիտական դասակարգման հոդվածներ
F49: ԸՆԴԱՄԵՆԸ ԾԱԽՍԵՐ | G49: =G50 -> 7212.6
F50: ԸՆԹԱՑԻԿ ԾԱԽՍԵՐ | G50: =+G51 -> 7212.6
F51: ԴՐԱՄԱՇՆՈՐՀՆԵՐ | G51: =+G52 -> 7212.6
F52: Ընթացիկ դրամաշնորհներ պետական հատվածի այլ մակարդակներին | G52: =+G53 -> 7212.6
F53: - Ընթացիկ սուբվենցիաներ համայնքներին | G53: 7212.6
F54: ՀՀ ԿԱՌԱՎԱՐՈՒԹՅՈՒՆ | G54: =+G55 -> -13565.8
A55: 11 | F55: ՀԻՄՆԱԿԱՆ ԲԱԺԻՆՆԵՐԻՆ ՉԴԱՍՎՈՂ ՊԱՀՈՒՍՏԱՅԻՆ ՖՈՆԴԵՐ | G55: =+G57 -> -13565.8
F56: այդ թվում`
B57: 01 | F57: ՀՀ կառավարության և համայնքների պահուստային ֆոնդ | G57: =+G59 -> -13565.8
F58: այդ թվում`
C59: 01 | F59: ՀՀ կառավարության պահուստային ֆոնդ | G59: =G61 -> -13565.8
F60: այդ թվում`
F61: ՀՀ կառավարություն | G61: =+G63 -> -13565.8
F62: այդ թվում`
D63: 1139 | E63: ՀՀ կառավարության պահուստային ֆոնդ | F63: ՀՀ կառավարության պահուստային ֆոնդ | G63: =+G72 -> -13565.8
F64: այդ թվում`
E65: 11001 | F65: ՀՀ կառավարության պահուստային ֆոնդ | G65: =+G67 -> -13565.8
F66: այդ թվում` ըստ կատարողների
F67: ՀՀ կառավարություն | G67: =+G69 -> -13565.8
F68: այդ թվում` բյուջետային ծախսերի տնտեսագիտական դասակարգման հոդվածներ
F69: ԸՆԴԱՄԵՆԸ ԾԱԽՍԵՐ | G69: =+G70 -> -13565.8
F70: ԸՆԹԱՑԻԿ ԾԱԽՍԵՐ | G70: =+G71 -> -13565.8
F71: ԱՅԼ ԾԱԽՍԵՐ | G71: =+G72 -> -13565.8
F72: Պահուստային միջոցներ | G72: ='Havelvats 1'!D35 -> -13565.8

Sheet Havelvats 3
D1: Հավելված N 3
D2: ՀՀ կառավարության 2021 թվականի
D3: ______________ ի ___Ն որոշման
B5: ՀԱՅԱՍՏԱՆԻ ՀԱՆՐԱՊԵՏՈՒԹՅԱՆ ԿԱՌԱՎԱՐՈՒԹՅԱՆ 2020 ԹՎԱԿԱՆԻ ԴԵԿՏԵՄԲԵՐԻ 30-Ի N 2215-Ն ՈՐՈՇՄԱՆ N 9 ՀԱՎԵԼՎԱԾԻ N 9.14 ԵՎ 9․47 ԱՂՅՈՒՍԱԿՆԵՐՈՒՄ ԿԱՏԱՐՎՈՂ ՓՈՓՈԽՈՒԹՅՈՒՆՆԵՐԸ ԵՎ ԼՐԱՑՈՒՄՆԵՐԸ
A7: Աղյուսակ 9․14
C8: ՀՀ կրթության, գիտության, մշակույթի և սպորտի նախարարություն
B9: ՄԱՍ 2. ՊԵՏԱԿԱՆ ՄԱՐՄՆԻ ԳԾՈՎ ԱՐԴՅՈՒՆՔԱՅԻՆ (ԿԱՏԱՐՈՂԱԿԱՆ) ՑՈՒՑԱՆԻՇՆԵՐԸ
B10: Ծրագրի դասիչը | C10: Ծրագրի անվանումը
B11: 1146 | C11: Հանրակրթության ծրագիր
B12: Ծրագրի միջոցառումները
B13: Ծրագրի դասիչը՝ | C13: 1146 | D13: Ցուցանիշների փոփոխությունը (ավելացումները նշված են դրական նշանով)
B14: Միջոցառման դասիչը՝ | C14: 12013 | D14: Տարի
B15: Միջոցառման անվանումը՝ | C15: Նախադպրոցական ուսումնական հաստատությունների գործունեության ապահովում
B16: Նկարագրությունը՝ | C16: Օժանդակություն համայնքներին՝ նախադպրոցական ուսումնական հաստատությունների գործարկումն ապահովելու նպատակով
B17: Միջոցառման տեսակը՝ | C17: Ծառայությունների մատուցում
B18: Ծառայությունը մատուցող կազմակերպությունների անվանումը | C18: Մասնագիտացված կազմակերպություն
B19: Արդյունքի չափորոշիչներ
B20: Նախադպրոցական ուսումնական հաստատությունների թիվը, հատ | D20: 6
B21: Նախադպրոցական ուսումնական հաստատություններում սովորողների թիվը, մարդ | D21: 226
B22: Միջոցառման վրա կատարվող ծախսը (հազար դրամ) | D22: ='Havelvats 1'!D22 -> 13565.8
A24: Աղյուսակ 9․47
C25: ՀՀ կառավարություն
B26: ՄԱՍ 2. ՊԵՏԱԿԱՆ ՄԱՐՄՆԻ ԳԾՈՎ ԱՐԴՅՈՒՆՔԱՅԻՆ (ԿԱՏԱՐՈՂԱԿԱՆ) ՑՈՒՑԱՆԻՇՆԵՐԸ
B29: Ծրագրի դասիչը | C29: Ծրագրի անվանումը
B30: 1139 | C30: ՀՀ կառավարության պահուստային ֆոնդ
B31: Ծրագրի միջոցառումները
B32: Ծրագրի դասիչը՝ | C32: 1139 | D32: Ցուցանիշների փոփոխությունը (նվազեցումները նշված են փակագծերում)
B33: Միջոցառման դասիչը՝ | C33: 11001 | D33: Տարի
B34: Միջոցառման անվանումը՝ | C34: ՀՀ կառավարության պահուստային ֆոնդ
B35: Նկարագրությունը՝ | C35: ՀՀ պետական բյուջեում նախատեսված ելքերի լրացուցիչ ֆինանսավորման՝ պետական բյուջեում չկանխատեսված ելքերի, ինչպես նաև բյուջետային երաշխիքների ապահովման ելքերի ֆինանսավորման ապահովում
B36: Միջոցառման տեսակը՝ | C36: Ծառայությունների մատուցում
B37: Միջոցառումն իրականացնողի անվանումը | C37: ՀՀ կառավարություն
C38: Արդյունքի չափորոշիչներ
B39: Միջոցառման վրա կատարվող ծախսը (հազար դրամ) | D39: =+'Havelvats 1'!D35 -> -13565.8

Sheet Havelvats 4
D1: Հավելված N 4
D2: ՀՀ կառավարության 2021 թվականի
D3: ______________ ի ___Ն որոշման
B5: ՀԱՅԱՍՏԱՆԻ ՀԱՆՐԱՊԵՏՈՒԹՅԱՆ ԿԱՌԱՎԱՐՈՒԹՅԱՆ 2020 ԹՎԱԿԱՆԻ ԴԵԿՏԵՄԲԵՐԻ 30-Ի N 2215-Ն ՈՐՈՇՄԱՆ N 9.1 ՀԱՎԵԼՎԱԾԻ N 9.1.49, 9.1.50, 9.1.52, 9.1.53 ԵՎ 9․1.58 ԱՂՅՈՒՍԱԿՆԵՐՈՒՄ ԿԱՏԱՐՎՈՂ ՓՈՓՈԽՈՒԹՅՈՒՆՆԵՐԸ ԵՎ ԼՐԱՑՈՒՄՆԵՐԸ
A7: Աղյուսակ 9․1.49
C8: ՀՀ Արարատի մարզպետարան
B9: ՄԱՍ 2. ՊԵՏԱԿԱՆ ՄԱՐՄՆԻ ԳԾՈՎ ԱՐԴՅՈՒՆՔԱՅԻՆ (ԿԱՏԱՐՈՂԱԿԱՆ) ՑՈՒՑԱՆԻՇՆԵՐԸ
B10: Ծրագրի դասիչը | C10: Ծրագրի անվանումը
B11: 1146 | C11: Հանրակրթության ծրագիր
B12: Ծրագրի միջոցառումները
B13: Ծրագրի դասիչը՝ | C13: 1146 | D13: Ցուցանիշների փոփոխությունը (ավելացումները նշված են դրական նշանով)
B14: Միջոցառման դասիչը՝ | C14: 12013 | D14: Տարի
B15: Միջոցառման անվանումը՝ | C15: Նախադպրոցական ուսումնական հաստատությունների գործունեության ապահովում
B16: Նկարագրությունը՝ | C16: Օժանդակություն համայնքներին՝ նախադպրոցական ուսումնական հաստատությունների գործարկումն ապահովելու նպատակով
B17: Միջոցառման տեսակը՝ | C17: Ծառայությունների մատուցում
B18: Ծառայությունը մատուցող կազմակերպությունների անվանումը | C18: Մասնագիտացված կազմակերպություն
B19: Արդյունքի չափորոշիչներ
B20: Նախադպրոցական ուսումնական հաստատությունների թիվը, հատ | D20: 1
B21: Նախադպրոցական ուսումնական հաստատություններում սովորողների թիվը, մարդ | D21: 40
B22: Միջոցառման վրա կատարվող ծախսը (հազար դրամ) | D22: ='Havelvats 2 '!G26 -> 1996
A24: Աղյուսակ 9․1.50
C25: ՀՀ Արմավիրի մարզպետարան
B26: ՄԱՍ 2. ՊԵՏԱԿԱՆ ՄԱՐՄՆԻ ԳԾՈՎ ԱՐԴՅՈՒՆՔԱՅԻՆ (ԿԱՏԱՐՈՂԱԿԱՆ) ՑՈՒՑԱՆԻՇՆԵՐԸ
B27: Ծրագրի դասիչը | C27: Ծրագրի անվանումը
B28: 1146 | C28: Հանրակրթության ծրագիր
B29: Ծրագրի միջոցառումները
B30: Ծրագրի դասիչը՝ | C30: 1146 | D30: Ցուցանիշների փոփոխությունը (ավելացումները նշված են դրական նշանով)
B31: Միջոցառման դասիչը՝ | C31: 12013 | D31: Տարի
B32: Միջոցառման անվանումը՝ | C32: Նախադպրոցական ուսումնական հաստատությունների գործունեության ապահովում
B33: Նկարագրությունը՝ | C33: Օժանդակություն համայնքներին՝ նախադպրոցական ուսումնական հաստատությունների գործարկումն ապահովելու նպատակով
B34: Միջոցառման տեսակը՝ | C34: Ծառայությունների մատուցում
B35: Ծառայությունը մատուցող կազմակերպությունների անվանումը | C35: Մասնագիտացված կազմակերպություն
B36: Արդյունքի չափորոշիչներ
B37: Նախադպրոցական ուսումնական հաստատությունների թիվը, հատ | D37: 1
B38: Նախադպրոցական ուսումնական հաստատություններում սովորողների թիվը, մարդ | D38: 25
B39: Միջոցառման վրա կատարվող ծախսը (հազար դրամ) | D39: ='Havelvats 2 '!G33 -> 1840
A41: Աղյուսակ 9․1.52
C42: ՀՀ Lոռու մարզպետարան
B43: ՄԱՍ 2. ՊԵՏԱԿԱՆ ՄԱՐՄՆԻ ԳԾՈՎ ԱՐԴՅՈՒՆՔԱՅԻՆ (ԿԱՏԱՐՈՂԱԿԱՆ) ՑՈՒՑԱՆԻՇՆԵՐԸ
B44: Ծրագրի դասիչը | C44: Ծրագրի անվանումը
B45: 1146 | C45: Հանրակրթության ծրագիր
B46: Ծրագրի միջոցառումները
B47: Ծրագրի դասիչը՝ | C47: 1146 | D47: Ցուցանիշների փոփոխությունը (ավելացումները նշված են դրական նշանով)
B48: Միջոցառման դասիչը՝ | C48: 12013 | D48: Տարի
B49: Միջոցառման անվանումը՝ | C49: Նախադպրոցական ուսումնական հաստատությունների գործունեության ապահովում
B50: Նկարագրությունը՝ | C50: Օժանդակություն համայնքներին՝ նախադպրոցական ուսումնական հաստատությունների գործարկումն ապահովելու նպատակով
B51: Միջոցառման տեսակը՝ | C51: Ծառայությունների մատուցում
B52: Ծառայությունը մատուցող կազմակերպությունների անվանումը | C52: Մասնագիտացված կազմակերպություն
B53: Արդյունքի չափորոշիչներ
B54: Նախադպրոցական ուսումնական հաստատությունների թիվը, հատ | D54: 2
B55: Նախադպրոցական ուսումնական հաստատություններում սովորողների թիվը, մարդ | D55: 41
B56: Միջոցառման վրա կատարվող ծախսը (հազար դրամ) | D56: ='Havelvats 2 '!G40 -> 2517.2
A58: Աղյուսակ 9․1.53
C59: ՀՀ Կոտայքի մարզպետարան
B60: ՄԱՍ 2. ՊԵՏԱԿԱՆ ՄԱՐՄՆԻ ԳԾՈՎ ԱՐԴՅՈՒՆՔԱՅԻՆ (ԿԱՏԱՐՈՂԱԿԱՆ) ՑՈՒՑԱՆԻՇՆԵՐԸ
B61: Ծրագրի դասիչը | C61: Ծրագրի անվանումը
B62: 1146 | C62: Հանրակրթության ծրագիր
B63: Ծրագրի միջոցառումները
B64: Ծրագրի դասիչը՝ | C64: 1146 | D64: Ցուցանիշների փոփոխությունը (ավելացումները նշված են դրական նշանով)
B65: Միջոցառման դասիչը՝ | C65: 12013 | D65: Տարի
B66: Միջոցառման անվանումը՝ | C66: Նախադպրոցական ուսումնական հաստատությունների գործունեության ապահովում
B67: Նկարագրությունը՝ | C67: Օժանդակություն համայնքներին՝ նախադպրոցական ուսումնական հաստատությունների գործարկումն ապահովելու նպատակով
B68: Միջոցառման տեսակը՝ | C68: Ծառայությունների մատուցում
B69: Ծառայությունը մատուցող կազմակերպությունների անվանումը | C69: Մասնագիտացված կազմակերպություն
B70: Արդյունքի չափորոշիչներ
B71: Նախադպրոցական ուսումնական հաստատությունների թիվը, հատ | D71: 2
B72: Նախադպրոցական ուսումնական հաստատություններում սովորողների թիվը, մարդ | D72: 120
B73: Միջոցառման վրա կատարվող ծախսը (հազար դրամ) | D73: ='Havelvats 2 '!G47 -> 7212.6
A75: Աղյուսակ 9․1.58
C76: ՀՀ կառավարություն
B77: ՄԱՍ 2. ՊԵՏԱԿԱՆ ՄԱՐՄՆԻ ԳԾՈՎ ԱՐԴՅՈՒՆՔԱՅԻՆ (ԿԱՏԱՐՈՂԱԿԱՆ) ՑՈՒՑԱՆԻՇՆԵՐԸ
B80: Ծրագրի դասիչը | C80: Ծրագրի անվանումը
B81: 1139 | C81: ՀՀ կառավարության պահուստային ֆոնդ
B82: Ծրագրի միջոցառումները
B83: Ծրագրի դասիչը՝ | C83: 1139 | D83: Ցուցանիշների փոփոխությունը (նվազեցումները նշված են փակագծերում)
B84: Միջոցառման դասիչը՝ | C84: 11001 | D84: Տարի
B85: Միջոցառման անվանումը՝ | C85: ՀՀ կառավարության պահուստային ֆոնդ
B86: Նկարագրությունը՝ | C86: ՀՀ պետական բյուջեում նախատեսված ելքերի լրացուցիչ ֆինանսավորման՝ պետական բյուջեում չկանխատեսված ելքերի, ինչպես նաև բյուջետային երաշխիքների ապահովման ելքերի ֆինանսավորման ապահովում
B87: Միջոցառման տեսակը՝ | C87: Ծառայությունների մատուցում
B88: Միջոցառումն իրականացնողի անվանումը | C88: ՀՀ կառավարություն
C89: Արդյունքի չափորոշիչներ
B90: Միջոցառման վրա կատարվող ծախսը (հազար դրամ) | D90: =+'Havelvats 1'!D35 -> -13565.8

Sheet Havelvats 5
G1: Հավելված N 5
G2: ՀՀ կառավարության 2021 թվականի
G3: ______________ ի ___Ն որոշման
A6: ՀԱՅԱՍՏԱՆԻ ՀԱՆՐԱՊԵՏՈՒԹՅԱՆ 2021 ԹՎԱԿԱՆԻ ՊԵՏԱԿԱՆ ԲՅՈՒՋԵՈՎ ՆԱԽԱՏԵՍՎԱԾ՝ ՀԱՅԱՍՏԱՆԻ ՀԱՆՐԱՊԵՏՈՒԹՅԱՆ ԿԱՌԱՎԱՐՈՒԹՅԱՆ ՊԱՀՈՒՍՏԱՅԻՆ ՖՈՆԴԻՑ ՀԱՏԿԱՑՈՒՄՆԵՐ ԿԱՏԱՐԵԼՈՒ ՎԵՐԱԲԵՐՅԱԼ
G8: հազ. դրամներով
A9: Գործառական դասիչը | D9: Ծրագրային դասիչը | F9: Բյուջետային հատկացումների գլխավոր կարգադրիչների, ծրագրերի, միջոցառումների և միջոցառումները կատարող պետական մարմինների անվանումները | G9: Ցուցանիշների փոփոխությունը (ավելացումները նշված են դրական նշանով, իսկ նվազեցումները՝ փակագծերում)
A10: Բաժին | B10: Խումբ | C10: Դաս | D10: Ծրագիր | E10: Միջոցառում | G10: Տարի
F11: ԸՆԴԱՄԵՆԸ | G11: =+G13+G32 -> 0
F12: այդ թվում
F13: ՀՀ կառավարություն | G13: =+G14 -> -13565.8
A14: 11 | F14: ՀԻՄՆԱԿԱՆ ԲԱԺԻՆՆԵՐԻՆ ՉԴԱՍՎՈՂ ՊԱՀՈՒՍՏԱՅԻՆ ՖՈՆԴԵՐ | G14: =+G16 -> -13565.8
F15: այդ թվում`
B16: 01 | F16: ՀՀ կառավարության և համայնքների պահուստային ֆոնդ | G16: =+G18 -> -13565.8
F17: այդ թվում`
C18: 01 | F18: ՀՀ կառավարության պահուստային ֆոնդ | G18: =+G20 -> -13565.8
F19: այդ թվում`
F20: ՀՀ կառավարություն | G20: =+G22 -> -13565.8
F21: այդ թվում`
D22: 1139 | E22: ՀՀ կառավարության պահուստային ֆոնդ | F22: ՀՀ կառավարության պահուստային ֆոնդ | G22: =+G24 -> -13565.8
F23: այդ թվում`
E24: 11001 | F24: ՀՀ կառավարության պահուստային ֆոնդ | G24: =+G26 -> -13565.8
F25: այդ թվում` ըստ կատարողների
F26: ՀՀ կառավարություն | G26: =+G28 -> -13565.8
F27: այդ թվում` բյուջետային ծախսերի տնտեսագիտական դասակարգման հոդվածներ
F28: ԸՆԴԱՄԵՆԸ ԾԱԽՍԵՐ | G28: =+G29 -> -13565.8
F29: ԸՆԹԱՑԻԿ ԾԱԽՍԵՐ | G29: =+G30 -> -13565.8
F30: ԱՅԼ ԾԱԽՍԵՐ | G30: =+G31 -> -13565.8
F31: Պահուստային միջոցներ | G31: ='Havelvats 1'!D27 -> -13565.8
F32: ՀՀ կրթության, գիտության, մշակույթի և սպորտի նախարարություն | G32: =+G33 -> 13565.8
A33: 09 | F33: ԿՐԹՈՒԹՅՈՒՆ | G33: =+G35 -> 13565.8
F34: այդ թվում`
B35: 01 | F35: Նախադպրոցական և տարրական ընդհանուր կրթություն | G35: =+G37 -> 13565.8
F36: այդ թվում`
C37: 01 | F37: Նախադպրոցական կրթություն | G37: =+G39 -> 13565.8
F38: այդ թվում`
F39: ՀՀ կրթության, գիտության, մշակույթի և սպորտի նախարարություն | G39: =+G41 -> 13565.8
F40: այդ թվում`
D41: 1146 | E41: Հանրակրթության ծրագիր | G41: =+G43 -> 13565.8
E42: 12013 | F42: այդ թվում`
F43: Նախադպրոցական ուսումնական հաստատությունների գործունեության ապահովում | G43: =G45+G52+G59+G66 -> 13565.8
F44: այդ թվում` ըստ կատարողների
F45: ՀՀ Արարատի մարզպետարան | G45: =G47 -> 1996
F46: այդ թվում՝ բյուջետային ծախսերի տնտեսագիտական դասակարգման հոդվածներ
F47: ԸՆԴԱՄԵՆԸ ԾԱԽՍԵՐ | G47: =G48 -> 1996
F48: ԸՆԹԱՑԻԿ ԾԱԽՍԵՐ | G48: =+G49 -> 1996
F49: ԴՐԱՄԱՇՆՈՐՀՆԵՐ | G49: =+G50 -> 1996
F50: Ընթացիկ դրամաշնորհներ պետական հատվածի այլ մակարդակներին | G50: =+G51 -> 1996
F51: - Ընթացիկ սուբվենցիաներ համայնքներին | G51: ='Havelvats 2 '!G32 -> 1996
F52: ՀՀ Արմավիրի մարզպետարան | G52: =G54 -> 1840
F53: այդ թվում՝ բյուջետային ծախսերի տնտեսագիտական դասակարգման հոդվածներ
F54: ԸՆԴԱՄԵՆԸ ԾԱԽՍԵՐ | G54: =G55 -> 1840
F55: ԸՆԹԱՑԻԿ ԾԱԽՍԵՐ | G55: =+G56 -> 1840
F56: ԴՐԱՄԱՇՆՈՐՀՆԵՐ | G56: =+G57 -> 1840
F57: Ընթացիկ դրամաշնորհներ պետական հատվածի այլ մակարդակներին | G57: =+G58 -> 1840
F58: - Ընթացիկ սուբվենցիաներ համայնքներին | G58: ='Havelvats 2 '!G39 -> 1840
F59: ՀՀ Լոռու մարզպետարան | G59: =G61 -> 2517.2
F60: այդ թվում՝ բյուջետային ծախսերի տնտեսագիտական դասակարգման հոդվածներ
F61: ԸՆԴԱՄԵՆԸ ԾԱԽՍԵՐ | G61: =G62 -> 2517.2
F62: ԸՆԹԱՑԻԿ ԾԱԽՍԵՐ | G62: =+G63 -> 2517.2
F63: ԴՐԱՄԱՇՆՈՐՀՆԵՐ | G63: =+G64 -> 2517.2
F64: Ընթացիկ դրամաշնորհներ պետական հատվածի այլ մակարդակներին | G64: =+G65 -> 2517.2
F65: - Ընթացիկ սուբվենցիաներ համայնքներին | G65: ='Havelvats 2 '!G46 -> 2517.2
F66: ՀՀ Կոտայքի մարզպետարան | G66: =G68 -> 7212.6
F67: այդ թվում՝ բյուջետային ծախսերի տնտեսագիտական դասակարգման հոդվածներ
F68: ԸՆԴԱՄԵՆԸ ԾԱԽՍԵՐ | G68: =G69 -> 7212.6
F69: ԸՆԹԱՑԻԿ ԾԱԽՍԵՐ | G69: =+G70 -> 7212.6
F70: ԴՐԱՄԱՇՆՈՐՀՆԵՐ | G70: =+G71 -> 7212.6
F71: Ընթացիկ դրամաշնորհներ պետական հատվածի այլ մակարդակներին | G71: =+G72 -> 7212.6
F72: - Ընթացիկ սուբվենցիաներ համայնքներին | G72: ='Havelvats 2 '!G53 -> 7212.6
