Workbook
Name _tab10: #REF!
Name _tab10: #REF!
Name _tab10: #REF!
Name _tab10: #REF!
Name _tab11: #REF!
Name _tab11: #REF!
Name _tab11: #REF!
Name _tab11: #REF!
Name _tab12: #REF!
Name _tab12: #REF!
Name _tab12: #REF!
Name _tab12: #REF!
Name _tab13: #REF!
Name _tab13: #REF!
Name _tab13: #REF!
Name _tab13: #REF!
Name _tab14: #REF!
Name _tab14: #REF!
Name _tab14: #REF!
Name _tab14: #REF!
Name _tab15: #REF!
Name _tab15: #REF!
Name _tab15: #REF!
Name _tab15: #REF!
Name _tab16: #REF!
Name _tab16: #REF!
Name _tab16: #REF!
Name _tab16: #REF!
Name _tab17: #REF!
Name _tab17: #REF!
Name _tab17: #REF!
Name _tab17: #REF!
Name _tab18: #REF!
Name _tab18: #REF!
Name _tab18: #REF!
Name _tab18: #REF!
Name _tab19: #REF!
Name _tab19: #REF!
Name _tab19: #REF!
Name _tab19: #REF!
Name _tab20: #REF!
Name _tab20: #REF!
Name _tab20: #REF!
Name _tab20: #REF!
Name _tab21: #REF!
Name _tab21: #REF!
Name _tab21: #REF!
Name _tab21: #REF!
Name _tab22: #REF!
Name _tab22: #REF!
Name _tab22: #REF!
Name _tab22: #REF!
Name _tab23: #REF!
Name _tab23: #REF!
Name _tab23: #REF!
Name _tab23: #REF!
Name _tab24: #REF!
Name _tab24: #REF!
Name _tab24: #REF!
Name _tab24: #REF!

Sheet 1
E1: Հավելված N 1
E2: ՀՀ կառավարության 2021 թվականի
E3: ___________ ___-ի N _______ -Ն որոշման
A7: «ՀԱՅԱՍՏԱՆԻ ՀԱՆՐԱՊԵՏՈՒԹՅԱՆ 2021 ԹՎԱԿԱՆԻ ՊԵՏԱԿԱՆ ԲՅՈՒՋԵԻ ՄԱՍԻՆ» ՀԱՅԱՍՏԱՆԻ ՀԱՆՐԱՊԵՏՈՒԹՅԱՆ ՕՐԵՆՔԻ N 1 ՀԱՎԵԼՎԱԾԻ N 2 ԱՂՅՈՒՍԱԿՈՒՄ ԿԱՏԱՐՎՈՂ ՎԵՐԱԲԱՇԽՈՒՄ ԵՎ ՀԱՅԱՍՏԱՆԻ ՀԱՆՐԱՊԵՏՈՒԹՅԱՆ ԿԱՌԱՎԱՐՈՒԹՅԱՆ 2020 ԹՎԱԿԱՆԻ ԴԵԿՏԵՄԲԵՐԻ 30-Ի N 2215-Ն ՈՐՈՇՄԱՆ N 5 ՀԱՎԵԼՎԱԾԻ N 1 ԱՂՅՈՒՍԱԿՈՒՄ ԿԱՏԱՐՎՈՂ ՓՈՓՈԽՈՒԹՅՈՒՆՆԵՐԸ
E8: (հազ.դրամ)
A9: Ծրագրային դասիչը | C9: Բյուջետային հատկացումների գլխավոր կարգադրիչների, ծրագրերի և միջոցառումների անվանումները | D9: Ցուցանիշների փոփոխությունը (ավելացումները նշված են դրական նշանով, իսկ նվազեցումները՝ փակագծերում)
D10: Ինն ամիս | E10: Տարի
A11: Ծրագիր | B11: Միջոցառում
C12: Ընդամենը | D12: =D13+D27 -> 0 | E12: =E13+E27 -> 0
C13: ՀՀ արտաքին գործերի նախարարություն | D13: =+D15 -> 1094.2 | E13: =+E15 -> 5471.2
A14: 1061 | C14: Ծրագրի անվանումը`
C15: Արտաքին գործերի ոլորտում Կառավարության քաղաքականության մշակում և իրականացում | D15: =+D21 -> 1094.2 | E15: =+E21+F21 -> 5471.2
C16: Ծրագրի նպատակը`
C17: Միջազգային իրավունքի հիման վրա բոլոր պետությունների հետ բարիդրացիական, փոխշահավետ հարաբերությունների հաստատում և զարգացում, միջազգային հարաբերություններում ՀՀ շահերի և իրավունքների ներկայացում
C18: Վերջնական արդյունքի նկարագրությունը`
C19: ՀՀ ինքնիշխանության պաշտպանություն, արտաքին անվտանգության բաղադրիչի ամրապնդում, ԼՂ հիմնախնդրի կարգավորում, ՀՀ միջազգ. հեղինակության բարձրացում, զարգացման համար արտաքին բարենպաստ պայմանների ապահովում, արտերկրում ՀՀ քաղաքացիների շահերի պաշտպանություն
C20: Ծրագրի միջոցառումներ
B21: 11001 | C21: Միջոցառման անվանումը` | D21: =+'2'!G24 -> 1094.2 | E21: =+'2'!H24 -> 5471.2
C22: Կառավարության արտաքին քաղաքականության մշակում և իրագործման ապահովում
C23: Միջոցառման նկարագրությունը`
C24: ՀՀ Կառավարության ծրագրի հիման վրա արտաքին գործերի բնագավառում քաղաքականության մշակում և իրականացում, դիվանագիտական ծառայության կազմակերպում և ղեկավարում, հյուպատոսական ծառայությունների մատուցում
C25: Միջոցառման տեսակը
C26: Ծառայությունների մատուցում
C27: ՀՀ պաշտպանության նախարարություն | D27: =+D29 -> -1094.2 | E27: =+E29 -> -5471.2
C28: Ծրագրի անվանումը՝
A29: 1169 | C29: ՀՀ պաշտպանության ապահովում | D29: =D35 -> -1094.2 | E29: =E35 -> -5471.2
C30: Ծրագրի նպատակը՝
C31: ՀՀ ԶՈւ ռազմավարական ծավալումն ապահովող մարտական պատրաստականության պահպանում՝ արտաքին թշնամուց ՀՀ պետական սահմանների պաշտպանության ապահովում
C32: Վերջնական արդյունքի նկարագրությունը՝
C33: ՀՀ ԶՈւ ռազմավարական ծավալումն ապահովող մարտական պատրաստականության պահպանում
A34: Ծրագրի միջոցառումներ
B35: 11001 | C35: Միջոցառման անվանումը՝ | D35: =+'2'!G42 -> -1094.2 | E35: =+'2'!H42 -> -5471.2
C36: Ռազմական կարիքների բավարարում
C37: Միջոցառման նկարագրությունը՝
C38: Ընթացիկ գործունեության ապահովման գործողություններ
C39: Միջոցառման տեսակը
C40: Ծառայությունների մատուցում

Sheet 2
H1: Հավելված N 2
F2: ՀՀ կառավարության 2021 թվականի
F3: ___________ ___-ի N _______ -Ն որոշման
A7: ՀԱՅԱՍՏԱՆԻ ՀԱՆՐԱՊԵՏՈՒԹՅԱՆ ԿԱՌԱՎԱՐՈՒԹՅԱՆ 2020 ԹՎԱԿԱՆԻ ԴԵԿՏԵՄԲԵՐԻ 30-Ի N 2215-Ն ՈՐՈՇՄԱՆ N 3 և 4 ՀԱՎԵԼՎԱԾՆԵՐՈՒՄ ԿԱՏԱՐՎՈՂ ՓՈՓՈԽՈՒԹՅՈՒՆՆԵՐԸ
H8: (հազ.դրամ)
A10: Գործառական դասիչը | D10: Ծրագրային դասիչը | F10: Բյուջետային ծախսերի գործառական դասակարգման բաժինների, խմբերի և դասերի, բյուջետային ծրագրերի միջոցառումների, բյուջետային հատկացումների գլխավոր կարգադրիչների անվանումները | G10: Ցուցանիշների փոփոխությունը (ավելացումները նշված են դրական նշանով, իսկ նվազեցումները՝ փակագծերում)
G11: Ինն ամիս | H11: Տարի
A12: Բաժին | B12: Խումբ | C12: Դաս | D12: Ծրագիր | E12: Միջոցառում
F13: ԸՆԴԱՄԵՆԸ ԾԱԽՍԵՐ այդ թվում՝ | G13: =G34+G14 -> 0 | H13: =H34+H14 -> 0
A14: 01 | F14: ԸՆԴՀԱՆՈՒՐ ԲՆՈՒՅԹԻ ՀԱՆՐԱՅԻՆ ԾԱՌԱՅՈՒԹՅՈՒՆՆԵՐ | G14: =+G16 -> 1094.2 | H14: =+H16 -> 5471.2
F15: այդ թվում`
B16: 01 | F16: Օրենսդիր և գործադիր մարմիններ, պետական կառավարում, ֆինանսական և հարկաբյուջետային հարաբերություններ, արտաքին հարաբերություններ | G16: =+G18 -> 1094.2 | H16: =+H18 -> 5471.2
F17: այդ թվում`
C18: 03 | F18: Արտաքին հարաբերություններ | G18: =+G20 -> 1094.2 | H18: =+H20 -> 5471.2
F19: այդ թվում`
F20: ՀՀ արտաքին գործերի նախարարություն | G20: =+G22 -> 1094.2 | H20: =+H22 -> 5471.2
F21: այդ թվում՝
D22: 1061 | F22: Կառավարության արտաքին քաղաքականության մշակում և իրագործման ապահովում | G22: =+G24 -> 1094.2 | H22: =+H24 -> 5471.2
F23: այդ թվում`
E24: 11001 | F24: Կառավարության արտաքին քաղաքականության մշակում և իրագործման ապահովում | G24: =+G28 -> 1094.2 | H24: =+H28 -> 5471.2
F25: այդ թվում` ըստ կատարողների
F26: ՀՀ արտաքին գործերի նախարարություն | G26: =+G28 -> 1094.2 | H26: =+H28 -> 5471.2
F27: այդ թվում` բյուջետային ծախսերի տնտեսագիտական դասակարգման հոդվածներ
F28: ԸՆԴԱՄԵՆԸ ԾԱԽՍԵՐ | G28: =+G29 -> 1094.2 | H28: =+H29 -> 5471.2
F29: ԸՆԹԱՑԻԿ ԾԱԽՍԵՐ | G29: =+G30 -> 1094.2 | H29: =+H30 -> 5471.2
F30: ԱՇԽԱՏԱՆՔԻ ՎԱՐՁԱՏՐՈՒԹՅՈՒՆ | G30: =+G31 -> 1094.2 | H30: =+H31 -> 5471.2
F31: Դրամով վճարվող աշխատավարձեր և հավելավճարներ | G31: =+G32+G33 -> 1094.2 | H31: =+H32+H33 -> 5471.2
F32: - Աշխատողների աշխատավարձեր և հավելավճարներ | G32: 841.7 | H32: 4208.6
F33: - Պարգևատրումներ, դրամական խրախուսումներ և հատուկ վճարներ | G33: 252.5 | H33: 1262.6
A34: 02 | F34: ՊԱՇՏՊԱՆՈՒԹՅՈՒՆ | G34: =+G36 -> -1094.2 | H34: =+H36 -> -5471.2
F35: այդ թվում`
B36: 01 | F36: Ռազմական պաշտպանություն | G36: =+G38 -> -1094.2 | H36: =+H38 -> -5471.2
F37: այդ թվում`
C38: 01 | F38: Ռազմական պաշտպանություն | G38: =+G40 -> -1094.2 | H38: =+H40 -> -5471.2
F39: այդ թվում`
F40: ՀՀ պաշտպանության նախարարություն | G40: =+G41 -> -1094.2 | H40: =+H41 -> -5471.2
D41: 1169 | F41: ՀՀ պաշտպանության ապահովում | G41: =+G42 -> -1094.2 | H41: =+H42 -> -5471.2
E42: 11001 | F42: Ռազմական կարիքների բավարարում | G42: =+G44 -> -1094.2 | H42: =+H44 -> -5471.2
F43: այդ թվում` ըստ կատարողների
F44: ՀՀ պաշտպանության նախարարություն | G44: =+G46 -> -1094.2 | H44: =+H46 -> -5471.2
...

Sheet 3
D1: Հավելված N 3
B2: ՀՀ կառավարության 2021 թվականի
B3: ______________ ի ___Ն որոշման
A6: ՀԱՅԱՍՏԱՆԻ ՀԱՆՐԱՊԵՏՈՒԹՅԱՆ ԿԱՌԱՎԱՐՈՒԹՅԱՆ 2020 ԹՎԱԿԱՆԻ ԴԵԿՏԵՄԲԵՐԻ 30-Ի N 2215-Ն ՈՐՈՇՄԱՆ N 9 ՀԱՎԵԼՎԱԾԻ N 9.15 ԵՎ N 9.1 ՀԱՎԵԼՎԱԾԻ N 9.1.15 ԱՂՅՈՒՍԱԿՆԵՐՈՒՄ ԿԱՏԱՐՎՈՂ ՓՈՓՈԽՈՒԹՅՈՒՆՆԵՐ
A7: ՀՀ պաշտպանության նախարարություն
A9: Ծրագրի դասիչը | B9: Ծրագրի անվանումը
A10: 1169 | B10: ՀՀ պաշտպանության ապահովում
A12: Ծրագրի միջոցառումները
A14: Ծրագրի դասիչը` | B14: 1169 | C14: Ցուցանիշների փոփոխությունը (նվազեցումները նշված են փակագծերում)
A15: Միջոցառման դասիչը` | B15: 11001 | C15: Ինն ամիս | D15: Տարի
A16: Միջոցառման անվանումը` | B16: Ռազմական կարիքների բավարարում
A17: Նկարագրությունը` | B17: Ընթացիկ գործունեության ապահովման գործողություններ
A18: Միջոցառման տեսակը` | B18: Ծառայությունների մատուցում
A19: Ծառայությունը մատուցող կազմակերպության(ների) անվանումը(ներ)ը` | B19: ՀՀ պաշտպանության նախարարություն
A20: Արդյունքի չափորոշիչներ
A21: չի սահմանվում
A22: Միջոցառման վրա կատարվող ծախսը (հազար դրամ) | C22: =+'2'!G42 -> -1094.2 | D22: =+'2'!H42 -> -5471.2

Sheet 4
D1: Հավելված N 4
B2: ՀՀ կառավարության 2021 թվականի
B3: ______________ ի ___Ն որոշման
A6: ՀԱՅԱՍՏԱՆԻ ՀԱՆՐԱՊԵՏՈՒԹՅԱՆ ԿԱՌԱՎԱՐՈՒԹՅԱՆ 2020 ԹՎԱԿԱՆԻ ԴԵԿՏԵՄԲԵՐԻ 30-Ի N 2215-Ն ՈՐՈՇՄԱՆ N 9 ՀԱՎԵԼՎԱԾԻ N 9.12 ԵՎ N 9.1 ՀԱՎԵԼՎԱԾԻ N 9.1.12 ԱՂՅՈՒՍԱԿՆԵՐՈՒՄ ԿԱՏԱՐՎՈՂ ՓՈՓՈԽՈՒԹՅՈՒՆՆԵՐ
A7: ՀՀ արտաքին գործերի նախարարություն
A9: Ծրագրի դասիչը | B9: Ծրագրի անվանումը
A10: 1061 | B10: Կառավարության արտաքին քաղաքականության մշակում և իրագործման ապահովում
A12: Ծրագրի միջոցառումները
A15: Ծրագրի դասիչը` | B15: 1061 | C15: Ցուցանիշների փոփոխությունը (ավելացումները նշված են դրական նշանով)
A16: Միջոցառման դասիչը` | B16: 11001 | C16: Ինն ամիս | D16: Տարի
A17: Միջոցառման անվանումը` | B17: Կառավարության արտաքին քաղաքականության մշակում և իրագործման ապահովում
A18: Նկարագրությունը` | B18: ՀՀ Կառավարության ծրագրի հիման վրա արտաքին գործերի բնագավառում քաղաքականության մշակում և իրականացում, դիվանագիտական ծառայության կազմակերպում և ղեկավարում, հյուպատոսական ծառայությունների մատուցում
A19: Միջոցառման տեսակը` | B19: Ծառայությունների մատուցում
A20: Միջոցառումն իրականացնողի անվանումը | B20: ՀՀ արտաքին գործերի նախարարություն
A21: Արդյունքի չափորոշիչներ
A22: Միջոցառման վրա կատարվող ծախսը (հազար դրամ) | C22: =+'2'!G24 -> 1094.2 | D22: =+'2'!H24 -> 5471.2

Sheet Sheet1
A1: 4239 | B1: 20939.6
A2: 4252 | B2: 4001.2
A3: 4261 | B3: 24221.5
A4: 4264 | B4: 658398.2
A5: 4267 | B5: 51113.2
A6: 4269 | B6: 58135.2
A7: 5121 | B7: 34800
A8: 5122 | B8: 30780.6
A9: 5129 | B9: 165718.2
A10: 5132 | B10: 33.2
