Workbook

Sheet Hav2h5.1
F1: Հավելված N 1
F2: ՀՀ կառավարության 2021 թվականի
F3: -----------------ի N -----------Ն որոշման
B5: ՀԱՅԱՍՏԱՆԻ ՀԱՆՐԱՊԵՏՈՒԹՅԱՆ 2021 ԹՎԱԿԱՆԻ ՊԵՏԱԿԱՆ ԲՅՈՒՋԵԻ ՄԱՍԻՆ» ՀԱՅԱՍՏԱՆԻ ՀԱՆՐԱՊԵՏՈՒԹՅԱՆ ՕՐԵՆՔԻ N 1 ՀԱՎԵԼՎԱԾԻ N 2 ԱՂՅՈՒՍԱԿՈՒՄ ԿԱՏԱՐՎՈՂ ՎԵՐԱԲԱՇԽՈՒՄՆ ԵՎ ՀԱՅԱՍՏԱՆԻ ՀԱՆՐԱՊԵՏՈՒԹՅԱՆ ԿԱՌԱՎԱՐՈՒԹՅԱՆ 2020 ԹՎԱԿԱՆԻ ԴԵԿՏԵՄԲԵՐԻ 30-Ի N 2215-Ն ՈՐՈՇՄԱՆ N 5 ՀԱՎԵԼՎԱԾԻ N 1 ԱՂՅՈՒՍԱԿՈՒՄ ԿԱՏԱՐՎՈՂ ՓՈՓՈԽՈՒԹՅՈՒՆՆԵՐԸ
E6: հազ. դրամ
B7: Ծրագրային դասիչը | D7: Բյուջետային հատկացումների գլխավոր կարգադրիչների, ծրագրերի և միջոցառումների անվանումները | E7: Ցուցանիշների փոփոխությունները ավելացումները նշված են դրական նշանով, իսկ նվազեցումները՝ փակագծերում
B8: Ծրագիր | C8: Միջոցառում | E8: Ինն ամիս | F8: Տարի
D9: ԸՆԴԱՄԵՆԸ | E9: =SUM(E10,E175) -> 0 | F9: =SUM(F10,F175) -> 0
D10: ՀՀ աշխատանքի և սոցիալական հարցերի նախարարություն | E10: =SUM(E12,E43,E62,E87,E112,E143) -> 0 | F10: =SUM(F12,F43,F62,F87,F112,F143) -> 0
B11: 1005 | D11: Ծրագրի անվանումը`
D12: Պարգևավճարներ և պատվովճարներ | E12: =SUM(E13:E42) -> -50 | F12: =SUM(F13:F42) -> 6202
D13: Ծրագրի նպատակը`
D14: Պետական հոգածության դրսևորում, առանձին կատեգորիայի քաղաքացիներին և նրանց ընտանիքներին սոցիալական երաշխիքների տրամադրում
D15: Վերջնական արդյունքի նկարագրությունը`
D16: Առանձին կատեգորիայի քաղաքացիներին և նրանց ընտանիքի անդամների սոցիալական պաշտպանվածության մակարդակի բարձրացում
B17: Ծրագրի միջոցառումներ
C18: 11001 | D18: Միջոցառման անվանումը`
D19: Զոհված՛ հետմահու «Հայաստանի ազգային հերոս» ՀՀ բարձրագույն կոչում ստացած կամ «Մարտական խաչ» շքանշանով պարգևատրված անձի ընտանիքին պարգևավճարի տրամադրման ապահովում | E19: =+'Hav1hav3-4'!G213 -> 0 | F19: =+'Hav1hav3-4'!H213 -> 31
D20: Միջոցառման նկարագրությունը`
D21: Զոհված՛ հետմահու «Հայաստանի ազգային հերոս» ՀՀ բարձրագույն կոչում ստացած կամ «Մարտական խաչ» շքանշանով պարգևատրված անձի ընտանիքին պարգևավճարի վճարման ծառայությունների ձեռքբերում
D22: Միջոցառման տեսակը
D23: Ծառայությունների մատուցում
C24: 12001 | D24: Միջոցառման անվանումը`
D25: Զինծառայողներին, ՀՄՊ մասնակիցներին, այլ պետություններում մարտական գործողությունների մասնակիցներին, զոհված (մահացած) զինծառայողի ընտանիքի անդամներին, ընտանիքներին տրվող պարգևավճարներ | E25: =+'Hav1hav3-4'!G188 -> 0 | F25: =+'Hav1hav3-4'!H188 -> 0
D26: Միջոցառման նկարագրությունը`
D27: Զինծառայողներին, ՀՄՊ մասնակիցներին, այլ պետություններում մարտական գործողությունների մասնակիցներին, զոհված (մահացած) զինծառայողի ընտանիքի անդամներին, ընտանիքներին, պարգևավճարների տրամադրում
D28: Միջոցառման տեսակը
D29: Տրանսֆերտների տրամադրում
C30: 12002 | D30: Միջոցառման անվանումը`
D31: Վետերանների պատվովճարներ | E31: =SUM('Hav1hav3-4'!G197) -> -1050 | F31: =SUM('Hav1hav3-4'!H197) -> -1050
D32: Միջոցառման նկարագրությունը`
D33: ՀՄՊ վետերաններին պատվովճարի տրամադրում
D34: Միջոցառման տեսակը
D35: Տրանսֆերտների տրամադրում
C36: 12003 | D36: Միջոցառման անվանումը`
D37: Զոհված՛ հետմահու «Հայաստանի ազգային հերոս» ՀՀ բարձրագույն կոչում ստացած կամ «Մարտական խաչ» շքանշանով պարգևատրված անձի ընտանիքին տրվող պարգևավճար | E37: =SUM('Hav1hav3-4'!G106) -> 1000 | F37: =SUM('Hav1hav3-4'!H106) -> 7221
D38: Միջոցառման նկարագրությունը`
D39: Զոհված՛ հետմահու «Հայաստանի ազգային հերոս» ՀՀ բարձրագույն կոչում ստացած կամ «Մարտական խաչ» շքանշանով պարգևատրված անձի ընտանիքին
D40: Միջոցառման տեսակը
D41: Տրանսֆերտների տրամադրում
...

Sheet Hav1hav3-4
H1: Հավելված N 2
H2: ՀՀ կառավարության 2021 թվականի
H3: -----------------ի N -----------Ն որոշման
A4: ՀԱՅԱՍՏԱՆԻ ՀԱՆՐԱՊԵՏՈՒԹՅԱՆ ԿԱՌԱՎԱՐՈՒԹՅԱՆ 2020 ԹՎԱԿԱՆԻ ԴԵԿՏԵՄԲԵՐԻ 30-Ի N 2215-Ն ՈՐՈՇՄԱՆ N 3 և N 4 ՀԱՎԵԼՎԱԾՆԵՐՈՒՄ ԿԱՏԱՐՎՈՂ ՓՈՓՈԽՈՒԹՅՈՒՆՆԵՐԸ
A6: Գործառական դասիչը | D6: Ծրագրային դասիչը | F6: Բյուջետային ծախսերի գործառական դասակարգման բաժինների, խմբերի և դասերի, բյուջետային ծրագրերի միջոցառումների, բյուջետային հատկացումների գլխավոր կարգադրիչների անվանումները | G6: Ցուցանիշների փոփոխությունները (ավելացումները նշված են դրական, իսկ նվազեցումները՝ փակագծերում)
A7: Բաժինը | B7: Խումբը | C7: Դասը | D7: Ծրագիր | E7: Միջոցառում | G7: Ինն ամիս | H7: Տարի
F8: ԸՆԴԱՄԵՆԸ ԾԱԽՍԵՐ | G8: =SUM(G10,G28,G258) -> 0 | H8: =SUM(H10,H28,H258) -> 0
F9: այդ թվում`
A10: 03 | F10: ՀԱՍԱՐԱԿԱԿԱՆ ԿԱՐԳ, ԱՆՎՏԱՆԳՈՒԹՅՈՒՆ ԵՎ ԴԱՏԱԿԱՆ ԳՈՐԾՈՒՆԵՈՒԹՅՈՒՆ | G10: =SUM(G12) -> -7300 | H10: =SUM(H12) -> -9143
F11: այդ թվում`
B12: 01 | F12: Հասարակական կարգ և անվտանգություն | G12: =SUM(G17) -> -7300 | H12: =SUM(H17) -> -9143
F13: այդ թվում`
C14: 01 | F14: Ոստիկանություն | G14: =G17 -> -7300 | H14: =H17 -> -9143
F15: այդ թվում`
F16: ՀՀ աշխատանքի և սոցիալական հարցերի նախարարություն | G16: =+G17 -> -7300 | H16: =+H17 -> -9143
D17: 1205 | F17: Սոցիալական ապահովություն | G17: =SUM(G27) -> -7300 | H17: =SUM(H27) -> -9143
F18: այդ թվում`
E19: 12007 | F19: ՀՀ ՊՆ, ՀՀ ԿԱ ԱԱԾ կրտսեր, միջին, ավագ և ՀՀ ԿԱ ՀՀ ոստիկանության միջին, ավագ, գլխավոր սպայական անձնակազմին սոցիալական աջակցություն | G19: =+G21 -> -7300 | H19: =+H21 -> -9143
F20: այդ թվում` ըստ կատարողների
F21: ՀՀ աշխատանքի և սոցիալական հարցերի նախարարության միասնական սոցիալական ծառայություն | G21: =+G23 -> -7300 | H21: =+H23 -> -9143
F22: այդ թվում` բյուջետային ծախսերի տնտեսագիտական դասակարգման հոդվածներ
F23: ԸՆԴԱՄԵՆԸ ԾԱԽՍԵՐ | G23: =+G24 -> -7300 | H23: =+H24 -> -9143
F24: ԸՆԹԱՑԻԿ ԾԱԽՍԵՐ | G24: =+G25 -> -7300 | H24: =+H25 -> -9143
F25: ՍՈՑԻԱԼԱԿԱՆ ՆՊԱՍՏՆԵՐ ԵՎ ԿԵՆՍԱԹՈՇԱԿՆԵՐ | G25: =+G26 -> -7300 | H25: =+H26 -> -9143
F26: Սոցիալական օգնության դրամական արտահայտությամբ նպաստներ (բյուջեից) | G26: =+G27 -> -7300 | H26: =+H27 -> -9143
F27: - Այլ ընթացիկ դրամաշնորհներ | G27: -7300 | H27: -9143
A28: 10 | F28: ՍՈՑԻԱԼԱԿԱՆ ՊԱՇՏՊԱՆՈՒԹՅՈՒՆ | G28: =SUM(G30,G46,G91,G107,G173,G198) -> 7300 | H28: =SUM(H30,H46,H91,H107,H173,H198) -> 9143
F29: այդ թվում`
B30: 01 | F30: Վատառողջություն և անաշխատունակություն | G30: =SUM(G35,G65) -> -2460 | H30: =SUM(H35,H65) -> -4070
F31: այդ թվում`
C32: 01 | F32: Վատառողջություն | G32: =G35 -> -2460 | H32: =H35 -> -4070
F33: այդ թվում`
F34: ՀՀ աշխատանքի և սոցիալական հարցերի նախարարություն | G34: =+G35 -> -2460 | H34: =+H35 -> -4070
D35: 1082 | F35: Սոցիալական աջակցություն անաշխատունակության դեպքում | G35: =SUM(G45) -> -2460 | H35: =SUM(H45) -> -4070
F36: այդ թվում`
E37: 12003 | F37: Աշխատողների աշխատանքային պարտականությունների կատարման հետ կապված խեղման, մասնագիտական հիվանդության և առողջության այլ վնասման հետևանքով պատճառված վնասի փոխհատուցում | G37: =+G39 -> -2460 | H37: =+H39 -> -4070
F38: այդ թվում` ըստ կատարողների
F39: ՀՀ աշխատանքի և սոցիալական հարցերի նախարարության միասնական սոցիալական ծառայություն | G39: =+G41 -> -2460 | H39: =+H41 -> -4070
F40: այդ թվում` բյուջետային ծախսերի տնտեսագիտական դասակարգման հոդվածներ
F41: ԸՆԴԱՄԵՆԸ ԾԱԽՍԵՐ | G41: =+G42 -> -2460 | H41: =+H42 -> -4070
...

Sheet Hav3h9.16
E1: Հավելված N 3
E2: ՀՀ կառավարության 2021 թվականի
E3: -----------------ի N -----------Ն որոշման
B4: ՀԱՅԱՍՏԱՆԻ ՀԱՆՐԱՊԵՏՈՒԹՅԱՆ ԿԱՌԱՎԱՐՈՒԹՅԱՆ 2020 ԹՎԱԿԱՆԻ ԴԵԿՏԵՄԲԵՐԻ 30-Ի N 2215-Ն ՈՐՈՇՄԱՆ N 9 ՀԱՎԵԼՎԱԾԻ N 9.1.20 ԱՂՅՈՒՍԱԿՈՒՄ ԿԱՏԱՐՎՈՂ ՓՈՓՈԽՈՒԹՅՈՒՆՆԵՐԸ
B5: ՀԱՅԱՍՏԱՆԻ ՀԱՆՐԱՊԵՏՈՒԹՅԱՆ ԿԱՌԱՎԱՐՈՒԹՅԱՆ 2020 ԹՎԱԿԱՆԻ ԴԵԿՏԵՄԲԵՐԻ 30-Ի N 2215-Ն ՈՐՈՇՄԱՆ N 9 ՀԱՎԵԼՎԱԾԻ N 9.16, 9.47 ԱՂՅՈՒՍԱԿՈՒՄ ԿԱՏԱՐՎՈՂ ՓՈՓՈԽՈՒԹՅՈՒՆՆԵՐԸ
B7: Հայաստանի Հանրապետության աշխատանքի և սոցիալական հարցերի նախարարություն
B8: ՄԱՍ 1. ՊԵՏԱԿԱՆ ՄԱՐՄՆԻ ԳԾՈՎ ԱՐԴՅՈՒՆՔԱՅԻՆ (ԿԱՏԱՐՈՂԱԿԱՆ) ՑՈՒՑԱՆԻՇՆԵՐԸ
B10: Ծրագրի դասիչը | C10: Ծրագրի անվանումը
B11: 1005 | C11: Պարգևավճարներ և պատվովճարներ
D12: Ցուցանիշների փոփոխությունները ավելացումները նշված են դրական նշանով, իսկ նվազեցումները՝ փակագծերում
B13: Ծրագրի միջոցառումները | D13: Ինն ամիս | E13: Տարի
B14: Ծրագրի դասիչը` | C14: 1005
B15: Միջոցառման դասիչը` | C15: 11001
B16: Միջոցառման անվանումը` | C16: Զոհված՛ հետմահու «Հայաստանի ազգային հերոս» ՀՀ բարձրագույն կոչում ստացած կամ «Մարտական խաչ» շքանշանով պարգևատրված անձի ընտանիքին պարգևավճարի տրամադրման ապահովում
B17: Նկարագրությունը` | C17: Զոհված՛ հետմահու «Հայաստանի ազգային հերոս» ՀՀ բարձրագույն կոչում ստացած կամ «Մարտական խաչ» շքանշանով պարգևատրված անձի ընտանիքին պարգևավճարի վճարման ծառայությունների ձեռքբերում
B18: Միջոցառման տեսակը` | C18: Ծառայությունների մատուցում
B19: Միջոցառումն իրականացնողի անվանումը? | C19: «Գնումների մասին» ՀՀ օրենքի համաձայն ընտրված կազմակերպություն
B20: Արդյունքի չափորոշիչներ
B21: Պարգևավճարներ ստացողների թիվ, ընտանիք | D21: 0
B22: Միջոցառման վրա կատարվող ծախսը (հազար դրամ) | D22: =SUM(Hav2h5.1!E19) -> 0 | E22: =SUM(Hav2h5.1!F19) -> 31
B24: Ծրագրի դասիչը` | C24: 1005
B25: Միջոցառման դասիչը` | C25: 12001
B26: Միջոցառման անվանումը` | C26: Զինծառայողներին, ՀՄՊ մասնակիցներին, այլ պետություններում մարտական գործողությունների մասնակիցներին, զոհված (մահացած) զինծառայողի ընտանիքի անդամներին, ընտանիքներին տրվող պարգևավճարներ
B27: Նկարագրությունը` | C27: Զինծառայողներին, ՀՄՊ մասնակիցներին, այլ պետություններում մարտական գործողությունների մասնակիցներին, զոհված (մահացած) զինծառայողի ընտանիքի անդամներին, ընտանիքներին, պարգևավճարների տրամադրում
B28: Միջոցառման տեսակը` | C28: Տրանսֆերտների տրամադրում
B29: Շահառուների ընտրության չափանիշները | C29: ՀՄՊ մասնակիցներ, ՀՄՊ և այլ պետություններում մարտական գործողությունների ընթացքում զոհված զինծառայողների ընտանիքներ
B30: Արդյունքի չափորոշիչներ
B31: Պարգևավճարներ ստացողների թիվ, ընտանիք | D31: =D33/F32/12*1000 -> 0 | E31: =E33/F32/12*1000 -> 0
B32: Պարգևավճարների վճարման ամսական հաճախականություն, անգամ | F32: 25040
B33: Միջոցառման վրա կատարվող ծախսը (հազար դրամ) | D33: =SUM(Hav2h5.1!E25) -> 0 | E33: =SUM(Hav2h5.1!F25) -> 0
B35: Ծրագրի դասիչը` | C35: 1005
B36: Միջոցառման դասիչը` | C36: 12002
B37: Միջոցառման անվանումը` | C37: Վետերանների պատվովճարներ
B38: Նկարագրությունը` | C38: ՀՄՊ վետերաններին պատվովճարի տրամադրում
B39: Միջոցառման տեսակը` | C39: Տրանսֆերտների տրամադրում
B40: Շահառուների ընտրության չափանիշները | C40: ՀՄ պատերազմի վետերաններին պատվովճարների տրամադրում 02.12.1998թ. ՀՕ-267-Ն օրենքի 4-րդ հոդվածով
B41: Արդյունքի չափորոշիչներ
B42: Պատվովճար ստացող վետերանների թիվ,մարդ | D42: =SUM(D44/F42/12)*1000 -> -0.875 | E42: =SUM(E44/F42/12)*1000 -> -0.875 | F42: 100000
B43: Պատվովճարների վճարման ամսական հաճախականությունը, անգամ
B44: Միջոցառման վրա կատարվող ծախսը (հազար դրամ) | D44: =SUM(Hav2h5.1!E31) -> -1050 | E44: =SUM(Hav2h5.1!F31) -> -1050
...

Sheet Hav4h9.1.20
E1: Հավելված N 4
E2: ՀՀ կառավարության 2021 թվականի
E3: -----------------ի N -----------Ն որոշման
B4: ՀԱՅԱՍՏԱՆԻ ՀԱՆՐԱՊԵՏՈՒԹՅԱՆ ԿԱՌԱՎԱՐՈՒԹՅԱՆ 2020 ԹՎԱԿԱՆԻ ԴԵԿՏԵՄԲԵՐԻ 30-Ի N 2215-Ն ՈՐՈՇՄԱՆ N 9 ՀԱՎԵԼՎԱԾԻ N 9.1.20 ԱՂՅՈՒՍԱԿՈՒՄ ԿԱՏԱՐՎՈՂ ՓՈՓՈԽՈՒԹՅՈՒՆՆԵՐԸ
B5: ՀԱՅԱՍՏԱՆԻ ՀԱՆՐԱՊԵՏՈՒԹՅԱՆ ԿԱՌԱՎԱՐՈՒԹՅԱՆ 2020 ԹՎԱԿԱՆԻ ԴԵԿՏԵՄԲԵՐԻ 30-Ի N 2215-Ն ՈՐՈՇՄԱՆ N 9.1 ՀԱՎԵԼՎԱԾԻ N 9.1.20, 9.1.58 ԱՂՅՈՒՍԱԿՈՒՄ ԿԱՏԱՐՎՈՂ ՓՈՓՈԽՈՒԹՅՈՒՆՆԵՐԸ
B7: Հայաստանի Հանրապետության աշխատանքի և սոցիալական հարցերի նախարարության միասնական սոցիալական ծառայություն
B9: Ծրագրի դասիչը | C9: Ծրագրի անվանումը
B10: 1005 | C10: Պարգևավճարներ և պատվովճարներ
D11: Ցուցանիշների փոփոխությունները ավելացումները նշված են դրական նշանով, իսկ նվազեցումները՝ փակագծերում
B12: Ծրագրի միջոցառումները | D12: Ինն ամիս | E12: Տարի
B13: Ծրագրի դասիչը` | C13: 1005
B14: Միջոցառման դասիչը` | C14: 11001
B15: Միջոցառման անվանումը` | C15: Զոհված՛ հետմահու «Հայաստանի ազգային հերոս» ՀՀ բարձրագույն կոչում ստացած կամ «Մարտական խաչ» շքանշանով պարգևատրված անձի ընտանիքին պարգևավճարի տրամադրման ապահովում
B16: Նկարագրությունը` | C16: Զոհված՛ հետմահու «Հայաստանի ազգային հերոս» ՀՀ բարձրագույն կոչում ստացած կամ «Մարտական խաչ» շքանշանով պարգևատրված անձի ընտանիքին պարգևավճարի վճարման ծառայությունների ձեռքբերում
B17: Միջոցառման տեսակը` | C17: Ծառայությունների մատուցում
B18: Միջոցառումն իրականացնողի անվանումը? | C18: «Գնումների մասին» ՀՀ օրենքի համաձայն ընտրված կազմակերպություն
B19: Արդյունքի չափորոշիչներ
B20: Պարգևավճարներ ստացողների թիվ, ընտանիք | D20: 0
B21: Միջոցառման վրա կատարվող ծախսը (հազար դրամ) | D21: =SUM(Hav3h9.16!D22) -> 0 | E21: =SUM(Hav3h9.16!E22) -> 31
B23: Ծրագրի դասիչը` | C23: 1005
B24: Միջոցառման դասիչը` | C24: 12001
B25: Միջոցառման անվանումը` | C25: Զինծառայողներին, ՀՄՊ մասնակիցներին, այլ պետություններում մարտական գործողությունների մասնակիցներին, զոհված (մահացած) զինծառայողի ընտանիքի անդամներին, ընտանիքներին տրվող պարգևավճարներ
B26: Նկարագրությունը` | C26: Զինծառայողներին, ՀՄՊ մասնակիցներին, այլ պետություններում մարտական գործողությունների մասնակիցներին, զոհված (մահացած) զինծառայողի ընտանիքի անդամներին, ընտանիքներին, պարգևավճարների տրամադրում
B27: Միջոցառման տեսակը` | C27: Տրանսֆերտների տրամադրում
B28: Շահառուների ընտրության չափանիշները | C28: ՀՄՊ մասնակիցներ, ՀՄՊ և այլ պետություններում մարտական գործողությունների ընթացքում զոհված զինծառայողների ընտանիքներ
B29: Արդյունքի չափորոշիչներ
B30: Պարգևավճարներ ստացողների թիվ, ընտանիք | D30: =Hav3h9.16!D31 -> 0 | E30: =Hav3h9.16!E31 -> 0
B31: Պարգևավճարների վճարման ամսական հաճախականություն, անգամ
B32: Միջոցառման վրա կատարվող ծախսը (հազար դրամ) | D32: =SUM(Hav3h9.16!D33) -> 0 | E32: =SUM(Hav3h9.16!E33) -> 0 | F32: 25040
B34: Ծրագրի դասիչը` | C34: 1005
B35: Միջոցառման դասիչը` | C35: 12002
B36: Միջոցառման անվանումը` | C36: Վետերանների պատվովճարներ
B37: Նկարագրությունը` | C37: ՀՄՊ վետերաններին պատվովճարի տրամադրում
B38: Միջոցառման տեսակը` | C38: Տրանսֆերտների տրամադրում
B39: Շահառուների ընտրության չափանիշները | C39: ՀՄ պատերազմի վետերաններին պատվովճարների տրամադրում 02.12.1998թ. ՀՕ-267-Ն օրենքի 4-րդ հոդվածով
B40: Արդյունքի չափորոշիչներ
B41: Պատվովճար ստացող վետերանների թիվ,մարդ | D41: =Hav3h9.16!D42 -> -0.875 | E41: =Hav3h9.16!E42 -> -0.875
B42: Պատվովճարների վճարման ամսական հաճախականությունը, անգամ | F42: 100000
B43: Միջոցառման վրա կատարվող ծախսը (հազար դրամ) | D43: =SUM(Hav3h9.16!D44) -> -1050 | E43: =SUM(Hav3h9.16!E44) -> -1050
B45: Ծրագրի դասիչը` | C45: 1005
...

Sheet Hav5hh10
G1: Հավելված N 5
G2: ՀՀ կառավարության 2020 թվականի
G3: -----------------ի N -----------Ն որոշման
A6: ՀԱՅԱՍՏԱՆԻ ՀԱՆՐԱՊԵՏՈՒԹՅԱՆ ԿԱՌԱՎԱՐՈՒԹՅԱՆ 2020 ԹՎԱԿԱՆԻ ԴԵԿՏԵՄԲԵՐԻ 30-Ի N 2215-Ն ՈՐՈՇՄԱՆ N 10 ՀԱՎԵԼՎԱԾՈՒՄ ԿԱՏԱՐՎՈՂ ՓՈՓՈԽՈՒԹՅՈՒՆՆԵՐԸ ԵՎ ԼՐԱՑՈՒՄՆԵՐԸ
A9: ՀՀ աշխատանքի և սոցիալական հարցերի նախարարության միասնական սոցիալական ծառայություն
A11: Գնման առարկայի | C11: Գնման ձևը (ընթացակարգը) | D11: Չափման միավորը | E11: Միավորի գինը (դրամ) | F11: Ցուցանիշների փոփոխությունը (նվազեցումները նշված են փակագծերում, իսկ ավելացումները` դրական նշանով)
A12: միջանցիկ կոդը` ըստ CPV դասակարգման | B12: անվանումը | F12: քանակը | G12: գումարը (հազ. դրամ)
A13: Բաժին N 10 | B13: Խումբ N 09 | C13: Դաս N 02 | D13: Սոցիալական պաշտպանությանը տրամադրվող օժանդակ ծառայություններ (այլ դասերին չպատկանող) | G13: =SUM(G14,G17,G20,G23) -> 42042
A14: 1102 11002 | B14: Կենսաթոշակների և այլ դրամական վճարների իրականացման ապահովում | G14: =SUM(G15) -> 33546
A15: ՄԱՍ III. ԾԱՌԱՅՈՒԹՅՈՒՆՆԵՐ | G15: =SUM(G16) -> 33546
A16: 79571100-1 | B16: փոստային առաքման ծառայություններ | C16: ՄԱ | D16: դրամ | G16: =SUM('Hav1hav3-4'!H257) -> 33546
A17: 1068 11001 | B17: Մինչև 2 տարեկան երեխայի խնամքի նպաստի տրամադրման ապահովում | G17: =SUM(G18) -> 10965
A18: ՄԱՍ III. ԾԱՌԱՅՈՒԹՅՈՒՆՆԵՐ | G18: =SUM(G19) -> 10965
A19: 79571100-1 | B19: փոստային առաքման ծառայություններ | C19: ՄԱ | D19: դրամ | G19: =SUM('Hav1hav3-4'!H235) -> 10965
A20: 1005 11001 | B20: Զոհված՝ հետմահու «Հայաստանի ազգային հերոս» ՀՀ բարձրագույն կոչում ստացած կամ «Մարտական խաչ» շքանշանով պարգևատրված անձի ընտանիքին պարգևավճարի տրամադրման ապահովում | G20: =SUM(G21) -> 31
A21: ՄԱՍ III. ԾԱՌԱՅՈՒԹՅՈՒՆՆԵՐ | G21: =SUM(G22) -> 31
A22: 79571100-1 | B22: փոստային առաքման ծառայություններ | C22: ՄԱ | D22: դրամ | G22: =SUM('Hav1hav3-4'!H213) -> 31
A23: 1011 11001 | B23: Ընտանիքի կենսամակարդակի բարձրացմանն ուղղված նպաստների իրականացման ապահովում | G23: -2500
A24: ՄԱՍ III. ԾԱՌԱՅՈՒԹՅՈՒՆՆԵՐ | G24: =SUM(G25) -> -2500
A25: 79571100-1 | B25: փոստային առաքման ծառայություններ | C25: ՄԱ | D25: դրամ | G25: =SUM('Hav1hav3-4'!H224) -> -2500
