Workbook

Sheet Hav2h5.1
F1: Հավելված N 1
F2: ՀՀ կառավարության 2021 թվականի
F3: -----------------ի N -----------Ն որոշման
B5: ՀԱՅԱՍՏԱՆԻ ՀԱՆՐԱՊԵՏՈՒԹՅԱՆ 2021 ԹՎԱԿԱՆԻ ՊԵՏԱԿԱՆ ԲՅՈՒՋԵԻ ՄԱՍԻՆ» ՀԱՅԱՍՏԱՆԻ ՀԱՆՐԱՊԵՏՈՒԹՅԱՆ ՕՐԵՆՔԻ N 1 ՀԱՎԵԼՎԱԾԻ N 2 ԱՂՅՈՒՍԱԿՈՒՄ ԿԱՏԱՐՎՈՂ ՎԵՐԱԲԱՇԽՈՒՄՆ ԵՎ ՀԱՅԱՍՏԱՆԻ ՀԱՆՐԱՊԵՏՈՒԹՅԱՆ ԿԱՌԱՎԱՐՈՒԹՅԱՆ 2020 ԹՎԱԿԱՆԻ ԴԵԿՏԵՄԲԵՐԻ 30-Ի N 2215-Ն ՈՐՈՇՄԱՆ N 5 ՀԱՎԵԼՎԱԾԻ N 1 ԱՂՅՈՒՍԱԿՈՒՄ ԿԱՏԱՐՎՈՂ ՓՈՓՈԽՈՒԹՅՈՒՆՆԵՐԸ
E6: հազ. դրամ
B7: Ծրագրային դասիչը | D7: Բյուջետային հատկացումների գլխավոր կարգադրիչների, ծրագրերի և միջոցառումների անվանումները | E7: Ցուցանիշների փոփոխությունները ավելացումները նշված են դրական նշանով, իսկ նվազեցումները՝ փակագծերում
B8: Ծրագիր | C8: Միջոցառում | E8: Ինն ամիս | F8: Տարի
D9: ԸՆԴԱՄԵՆԸ | E9: =SUM(E10,E175) -> 0 | F9: =SUM(F10,F175) -> 0
D10: ՀՀ աշխատանքի և սոցիալական հարցերի նախարարություն | E10: =SUM(E12,E43,E62,E87,E112,E143) -> 0 | F10: =SUM(F12,F43,F62,F87,F112,F143) -> 0
B11: 1005 | D11: Ծրագրի անվանումը`
D12: Պարգևավճարներ և պատվովճարներ | E12: =SUM(E13:E42) -> -50 | F12: =SUM(F13:F42) -> 6202
D13: Ծրագրի նպատակը`
D14: Պետական հոգածության դրսևորում, առանձին կատեգորիայի քաղաքացիներին և նրանց ընտանիքներին սոցիալական երաշխիքների տրամադրում
D15: Վերջնական արդյունքի նկարագրությունը`
D16: Առանձին կատեգորիայի քաղաքացիներին և նրանց ընտանիքի անդամների սոցիալական պաշտպանվածության մակարդակի բարձրացում
B17: Ծրագրի միջոցառումներ
C18: 11001 | D18: Միջոցառման անվանումը`
D19: Զոհված՛ հետմահու «Հայաստանի ազգային հերոս» ՀՀ բարձրագույն կոչում ստացած կամ «Մարտական խաչ» շքանշանով պարգևատրված անձի ընտանիքին պարգևավճարի տրամադրման ապահովում | E19: =+'Hav1hav3-4'!G213 -> 0 | F19: =+'Hav1hav3-4'!H213 -> 31
D20: Միջոցառման նկարագրությունը`
D21: Զոհված՛ հետմահու «Հայաստանի ազգային հերոս» ՀՀ բարձրագույն կոչում ստացած կամ «Մարտական խաչ» շքանշանով պարգևատրված անձի ընտանիքին պարգևավճարի վճարման ծառայությունների ձեռքբերում
D22: Միջոցառման տեսակը
D23: Ծառայությունների մատուցում
C24: 12001 | D24: Միջոցառման անվանումը`
D25: Զինծառայողներին, ՀՄՊ մասնակիցներին, այլ պետություններում մարտական գործողությունների մասնակիցներին, զոհված (մահացած) զինծառայողի ընտանիքի անդամներին, ընտանիքներին տրվող պարգևավճարներ | E25: =+'Hav1hav3-4'!G188 -> 0 | F25: =+'Hav1hav3-4'!H188 -> 0
D26: Միջոցառման նկարագրությունը`
D27: Զինծառայողներին, ՀՄՊ մասնակիցներին, այլ պետություններում մարտական գործողությունների մասնակիցներին, զոհված (մահացած) զինծառայողի ընտանիքի անդամներին, ընտանիքներին, պարգևավճարների տրամադրում
D28: Միջոցառման տեսակը
D29: Տրանսֆերտների տրամադրում
C30: 12002 | D30: Միջոցառման անվանումը`
D31: Վետերանների պատվովճարներ | E31: =SUM('Hav1hav3-4'!G197) -> -1050 | F31: =SUM('Hav1hav3-4'!H197) -> -1050
D32: Միջոցառման նկարագրությունը`
D33: ՀՄՊ վետերաններին պատվովճարի տրամադրում
D34: Միջոցառման տեսակը
D35: Տրանսֆերտների տրամադրում
C36: 12003 | D36: Միջոցառման անվանումը`
D37: Զոհված՛ հետմահու «Հայաստանի ազգային հերոս» ՀՀ բարձրագույն կոչում ստացած կամ «Մարտական խաչ» շքանշանով պարգևատրված անձի ընտանիքին տրվող պարգևավճար | E37: =SUM('Hav1hav3-4'!G106) -> 1000 | F37: =SUM('Hav1hav3-4'!H106) -> 7221
D38: Միջոցառման նկարագրությունը`
D39: Զոհված՛ հետմահու «Հայաստանի ազգային հերոս» ՀՀ բարձրագույն կոչում ստացած կամ «Մարտական խաչ» շքանշանով պարգևատրված անձի ընտանիքին
D40: Միջոցառման տեսակը
D41: Տրանսֆերտների տրամադրում
B42: 1011 | D42: Ծրագրի անվանումը`
D43: Անապահով սոցիալական խմբերին աջակցություն | E43: =SUM(E45:E60) -> -1509000 | F43: =SUM(F45:F60) -> -2500
D44: Ծրագրի նպատակը`
D45: Օժանդակել անապահով ընտանիքների կենսամակարդակի բարձրացմանը
D46: Վերջնական արդյունքի նկարագրությունը`
D47: Աղքատության մեղմում և ծայրահեղ աղքատության կրճատում
B48: Ծրագրի միջոցառումներ
D49: Միջոցառման անվանումը`
C50: 11001 | D50: Ընտանիքի կենսամակարդակի բարձրացմանն ուղղված նպաստների իրականացման ապահովում | E50: =SUM('Hav1hav3-4'!G224) -> -2500 | F50: =SUM('Hav1hav3-4'!H224) -> -2500
D51: Միջոցառման նկարագրությունը`
D52: Ընտանիքների անապահովության գնահատման համակարգում հաշվառված, անապահով ճանաչված ընտանիքներին նպաստի, սոցիալական նպաստի և հրատապ օգնության տրամադրում
D53: Միջոցառման տեսակը
D54: Ծառայությունների մատուցում
D55: Միջոցառման անվանումը`
C56: 12001 | D56: Ընտանիքի կենսամակարդակի բարձրացմանն ուղղված նպաստներ | E56: =SUM('Hav1hav3-4'!G121) -> -1506500 | F56: =SUM('Hav1hav3-4'!H121) -> 0
D57: Միջոցառման նկարագրությունը`
D58: Ընտանիքների անապահովության գնահատման համակարգում հաշվառված, անապահով ճանաչված ընտանիքներին նպաստի, սոցիալական նպաստի և հրատապ օգնության տրամադրում
D59: Միջոցառման տեսակը
D60: Տրանսֆերտների տրամադրում
B61: 1068 | D61: Ծրագրի անվանումը`
D62: Ժողովրդագրական վիճակի բարելավում | E62: =SUM(E64:E85) -> 563710 | F62: =SUM(F64:F85) -> 10965
D63: Ծրագրի նպատակը`
D64: Խթանել ժողովրդագրական վիճակի բարելավումը
D65: Վերջնական արդյունքի նկարագրությունը`
D66: Ժողովրդագրական վիճակի բարելավում և բազմազավակության աճ
B67: Ծրագրի միջոցառումներ
C68: 11001 | D68: Միջոցառման անվանումը`
D69: Մինչև 2 տարեկան երեխայի խնամքի նպաստի տրամադրման ապահովում | E69: =SUM('Hav1hav3-4'!G234) -> 3710 | F69: =SUM('Hav1hav3-4'!H234) -> 10965
D70: Միջոցառման նկարագրությունը`
D71: Մինչև 2 տարեկան երեխայի խնամքի նպաստի վճարման ծառայությունների ձեռքբերում
D72: Միջոցառման տեսակը
D73: Ծառայությունների մատուցում
D74: Միջոցառման անվանումը`
C75: 12001 | D75: Մինչև 2 տարեկան երեխայի խնամքի նպաստի տրամադրում | E75: =SUM('Hav1hav3-4'!G132) -> 360000 | F75: =SUM('Hav1hav3-4'!H132) -> 0
D76: Միջոցառման նկարագրությունը`
D77: Մինչև 2 տարեկան երեխայի խնամքի նպաստի արձակուրդում գտնվող վսրձու աշխատողին նպաստի տրամադրում
D78: Միջոցառման տեսակը
D79: Տրանսֆերտների տրամադրում
D80: Միջոցառման անվանումը`
C81: 12002 | D81: Երեխայի ծննդյան միանվագ նպաստ | E81: =SUM('Hav1hav3-4'!G141) -> 200000 | F81: =SUM('Hav1hav3-4'!H141) -> 0
D82: Միջոցառման նկարագրությունը`
D83: Երեխայի ծննդյան կապակցությամբ միանվագ նպաստի տրամադրում
D84: Միջոցառման տեսակը
D85: Տրանսֆերտների տրամադրում
D86: Ծրագրի անվանումը`
B87: 1082 | D87: Սոցիալական աջակցություն անաշխատունակության դեպքում | E87: =SUM(E89:E110) -> -75460 | F87: =SUM(F89:F110) -> -147570
D88: Ծրագրի նպատակը`
D89: Կորցրած եկամուտների մասնակի փոխհատուցում
D90: Վերջնական արդյունքի նկարագրությունը`
D91: Անաշխատունակության հետևանքով եկամտի կորստի մասնակի փոխհատուցման ապահովում
B92: Ծրագրի միջոցառումներ
D93: Միջոցառման անվանումը`
C94: 12001 | D94: Ժամանակավոր անաշխատունակության դեպքում նպաստ | E94: =SUM('Hav1hav3-4'!G246) -> 233000 | F94: =SUM('Hav1hav3-4'!H246) -> 0
D95: Միջոցառման նկարագրությունը`
D96: ժամանակավոր անաշխատունակության դեպքում (հիվանդության, ընտանիքի հիվանդ անդամի խնամքի և օրենքով սահմանված այլ պատճ. առաջացած) վարձու աշխատողներին, նոտարներին և անհատ ձեռնարկատերերին ժամանակավոր անաշխատունակության նպաստի վճարում
D97: Միջոցառման տեսակը
D98: Տրանսֆերտների տրամադրում
D99: Միջոցառման անվանումը`
C100: 12002 | D100: Մայրության նպաստ | E100: =SUM('Hav1hav3-4'!G152) -> -306000 | F100: =SUM('Hav1hav3-4'!H152) -> -143500
D101: Միջոցառման նկարագրությունը`
...

Sheet Hav1hav3-4
H1: Հավելված N 2
H2: ՀՀ կառավարության 2021 թվականի
H3: -----------------ի N -----------Ն որոշման
A4: ՀԱՅԱՍՏԱՆԻ ՀԱՆՐԱՊԵՏՈՒԹՅԱՆ ԿԱՌԱՎԱՐՈՒԹՅԱՆ 2020 ԹՎԱԿԱՆԻ ԴԵԿՏԵՄԲԵՐԻ 30-Ի N 2215-Ն ՈՐՈՇՄԱՆ N 3 և N 4 ՀԱՎԵԼՎԱԾՆԵՐՈՒՄ ԿԱՏԱՐՎՈՂ ՓՈՓՈԽՈՒԹՅՈՒՆՆԵՐԸ
A6: Գործառական դասիչը | D6: Ծրագրային դասիչը | F6: Բյուջետային ծախսերի գործառական դասակարգման բաժինների, խմբերի և դասերի, բյուջետային ծրագրերի միջոցառումների, բյուջետային հատկացումների գլխավոր կարգադրիչների անվանումները | G6: Ցուցանիշների փոփոխությունները (ավելացումները նշված են դրական, իսկ նվազեցումները՝ փակագծերում)
A7: Բաժինը | B7: Խումբը | C7: Դասը | D7: Ծրագիր | E7: Միջոցառում | G7: Ինն ամիս | H7: Տարի
F8: ԸՆԴԱՄԵՆԸ ԾԱԽՍԵՐ | G8: =SUM(G10,G28,G258) -> 0 | H8: =SUM(H10,H28,H258) -> 0
F9: այդ թվում`
A10: 03 | F10: ՀԱՍԱՐԱԿԱԿԱՆ ԿԱՐԳ, ԱՆՎՏԱՆԳՈՒԹՅՈՒՆ ԵՎ ԴԱՏԱԿԱՆ ԳՈՐԾՈՒՆԵՈՒԹՅՈՒՆ | G10: =SUM(G12) -> -7300 | H10: =SUM(H12) -> -9143
F11: այդ թվում`
B12: 01 | F12: Հասարակական կարգ և անվտանգություն | G12: =SUM(G17) -> -7300 | H12: =SUM(H17) -> -9143
F13: այդ թվում`
C14: 01 | F14: Ոստիկանություն | G14: =G17 -> -7300 | H14: =H17 -> -9143
F15: այդ թվում`
F16: ՀՀ աշխատանքի և սոցիալական հարցերի նախարարություն | G16: =+G17 -> -7300 | H16: =+H17 -> -9143
D17: 1205 | F17: Սոցիալական ապահովություն | G17: =SUM(G27) -> -7300 | H17: =SUM(H27) -> -9143
F18: այդ թվում`
E19: 12007 | F19: ՀՀ ՊՆ, ՀՀ ԿԱ ԱԱԾ կրտսեր, միջին, ավագ և ՀՀ ԿԱ ՀՀ ոստիկանության միջին, ավագ, գլխավոր սպայական անձնակազմին սոցիալական աջակցություն | G19: =+G21 -> -7300 | H19: =+H21 -> -9143
F20: այդ թվում` ըստ կատարողների
F21: ՀՀ աշխատանքի և սոցիալական հարցերի նախարարության միասնական սոցիալական ծառայություն | G21: =+G23 -> -7300 | H21: =+H23 -> -9143
F22: այդ թվում` բյուջետային ծախսերի տնտեսագիտական դասակարգման հոդվածներ
F23: ԸՆԴԱՄԵՆԸ ԾԱԽՍԵՐ | G23: =+G24 -> -7300 | H23: =+H24 -> -9143
F24: ԸՆԹԱՑԻԿ ԾԱԽՍԵՐ | G24: =+G25 -> -7300 | H24: =+H25 -> -9143
F25: ՍՈՑԻԱԼԱԿԱՆ ՆՊԱՍՏՆԵՐ ԵՎ ԿԵՆՍԱԹՈՇԱԿՆԵՐ | G25: =+G26 -> -7300 | H25: =+H26 -> -9143
F26: Սոցիալական օգնության դրամական արտահայտությամբ նպաստներ (բյուջեից) | G26: =+G27 -> -7300 | H26: =+H27 -> -9143
F27: - Այլ ընթացիկ դրամաշնորհներ | G27: -7300 | H27: -9143
A28: 10 | F28: ՍՈՑԻԱԼԱԿԱՆ ՊԱՇՏՊԱՆՈՒԹՅՈՒՆ | G28: =SUM(G30,G46,G91,G107,G173,G198) -> 7300 | H28: =SUM(H30,H46,H91,H107,H173,H198) -> 9143
F29: այդ թվում`
B30: 01 | F30: Վատառողջություն և անաշխատունակություն | G30: =SUM(G35,G65) -> -2460 | H30: =SUM(H35,H65) -> -4070
F31: այդ թվում`
C32: 01 | F32: Վատառողջություն | G32: =G35 -> -2460 | H32: =H35 -> -4070
F33: այդ թվում`
F34: ՀՀ աշխատանքի և սոցիալական հարցերի նախարարություն | G34: =+G35 -> -2460 | H34: =+H35 -> -4070
D35: 1082 | F35: Սոցիալական աջակցություն անաշխատունակության դեպքում | G35: =SUM(G45) -> -2460 | H35: =SUM(H45) -> -4070
F36: այդ թվում`
E37: 12003 | F37: Աշխատողների աշխատանքային պարտականությունների կատարման հետ կապված խեղման, մասնագիտական հիվանդության և առողջության այլ վնասման հետևանքով պատճառված վնասի փոխհատուցում | G37: =+G39 -> -2460 | H37: =+H39 -> -4070
F38: այդ թվում` ըստ կատարողների
F39: ՀՀ աշխատանքի և սոցիալական հարցերի նախարարության միասնական սոցիալական ծառայություն | G39: =+G41 -> -2460 | H39: =+H41 -> -4070
F40: այդ թվում` բյուջետային ծախսերի տնտեսագիտական դասակարգման հոդվածներ
F41: ԸՆԴԱՄԵՆԸ ԾԱԽՍԵՐ | G41: =+G42 -> -2460 | H41: =+H42 -> -4070
F42: ԸՆԹԱՑԻԿ ԾԱԽՍԵՐ | G42: =+G43 -> -2460 | H42: =+H43 -> -4070
F43: ՍՈՑԻԱԼԱԿԱՆ ՆՊԱՍՏՆԵՐ ԵՎ ԿԵՆՍԱԹՈՇԱԿՆԵՐ | G43: =+G44 -> -2460 | H43: =+H44 -> -4070
F44: Սոցիալական օգնության դրամական արտահայտությամբ նպաստներ (բյուջեից) | G44: =+G45 -> -2460 | H44: =+H45 -> -4070
F45: - Այլ նպաստներ բյուջեից | G45: -2460 | H45: -4070
B46: 02 | F46: Ծերություն | G46: =SUM(G51,G80) -> 863000 | H46: =SUM(H51,H80) -> -15000
F47: այդ թվում`
C48: 01 | F48: Ծերություն | G48: =SUM(G51,G80) -> 863000 | H48: =SUM(H51,H80) -> -15000
F49: այդ թվում`
F50: ՀՀ աշխատանքի և սոցիալական հարցերի նախարարություն | G50: =+G51 -> 863000 | H50: =+H51 -> -15000
D51: 1102 | F51: Կենսաթոշակային ապահովություն | G51: =G53+G62+G71 -> 863000 | H51: =H53+H62+H71 -> -15000
F52: այդ թվում`
E53: 12001 | F53: Սպայական անձնակազմի և նրանց ընտանիքների անդամների կենսաթոշակներ | G53: =+G55 -> 0 | H53: =+H55 -> 0
F54: այդ թվում` ըստ կատարողների
F55: ՀՀ աշխատանքի և սոցիալական հարցերի նախարարության միասնական սոցիալական ծառայություն | G55: =+G57 -> 0 | H55: =+H57 -> 0
F56: այդ թվում` բյուջետային ծախսերի տնտեսագիտական դասակարգման հոդվածներ
F57: ԸՆԴԱՄԵՆԸ ԾԱԽՍԵՐ | G57: =+G58 -> 0 | H57: =+H58 -> 0
F58: ԸՆԹԱՑԻԿ ԾԱԽՍԵՐ | G58: =+G59 -> 0 | H58: =+H59 -> 0
F59: ՍՈՑԻԱԼԱԿԱՆ ՆՊԱՍՏՆԵՐ ԵՎ ԿԵՆՍԱԹՈՇԱԿՆԵՐ | G59: =+G60 -> 0 | H59: =+H60 -> 0
F60: Կենսաթոշակներ | G60: =+G61 -> 0 | H60: =+H61 -> 0
F61: - Կենսաթոշակներ | H61: 0
E62: 12003 | F62: Աշխատանքային կենսաթոշակներ | G62: =+G64 -> 878000 | H62: =+H64 -> 0
F63: այդ թվում` ըստ կատարողների
F64: ՀՀ աշխատանքի և սոցիալական հարցերի նախարարության միասնական սոցիալական ծառայություն | G64: =+G66 -> 878000 | H64: =+H66 -> 0
F65: այդ թվում` բյուջետային ծախսերի տնտեսագիտական դասակարգման հոդվածներ
F66: ԸՆԴԱՄԵՆԸ ԾԱԽՍԵՐ | G66: =+G67 -> 878000 | H66: =+H67 -> 0
F67: ԸՆԹԱՑԻԿ ԾԱԽՍԵՐ | G67: =+G68 -> 878000 | H67: =+H68 -> 0
F68: ՍՈՑԻԱԼԱԿԱՆ ՆՊԱՍՏՆԵՐ ԵՎ ԿԵՆՍԱԹՈՇԱԿՆԵՐ | G68: =+G69 -> 878000 | H68: =+H69 -> 0
F69: Կենսաթոշակներ | G69: =+G70 -> 878000 | H69: =+H70 -> 0
F70: - Կենսաթոշակներ | G70: 878000 | H70: 0
E71: 12004 | F71: ՀՀ օրենքով նշանակված կենսաթոշակներ | G71: =+G73 -> -15000 | H71: =+H73 -> -15000
F72: այդ թվում` ըստ կատարողների
F73: ՀՀ աշխատանքի և սոցիալական հարցերի նախարարության միասնական սոցիալական ծառայություն | G73: =+G75 -> -15000 | H73: =+H75 -> -15000
F74: այդ թվում` բյուջետային ծախսերի տնտեսագիտական դասակարգման հոդվածներ
F75: ԸՆԴԱՄԵՆԸ ԾԱԽՍԵՐ | G75: =+G76 -> -15000 | H75: =+H76 -> -15000
F76: ԸՆԹԱՑԻԿ ԾԱԽՍԵՐ | G76: =+G77 -> -15000 | H76: =+H77 -> -15000
F77: ՍՈՑԻԱԼԱԿԱՆ ՆՊԱՍՏՆԵՐ ԵՎ ԿԵՆՍԱԹՈՇԱԿՆԵՐ | G77: =+G78 -> -15000 | H77: =+H78 -> -15000
F78: Կենսաթոշակներ | G78: =+G79 -> -15000 | H78: =+H79 -> -15000
F79: - Կենսաթոշակներ | G79: -15000 | H79: -15000
D80: 1205 | F80: Սոցիալական ապահովություն | G80: =+G82 -> 0 | H80: =+H82 -> 0
F81: այդ թվում`
E82: 12001 | F82: Ծերության՝ հաշմանդամության՝ կերակրողին կորցնելու դեպքում նպաստներ | G82: =+G84 -> 0 | H82: =+H84 -> 0
F83: այդ թվում` ըստ կատարողների
F84: ՀՀ աշխատանքի և սոցիալական հարցերի նախարարության միասնական սոցիալական ծառայություն | G84: =+G86 -> 0 | H84: =+H86 -> 0
F85: այդ թվում` բյուջետային ծախսերի տնտեսագիտական դասակարգման հոդվածներ
F86: ԸՆԴԱՄԵՆԸ ԾԱԽՍԵՐ | G86: =+G87 -> 0 | H86: =+H87 -> 0
F87: ԸՆԹԱՑԻԿ ԾԱԽՍԵՐ | G87: =+G88 -> 0 | H87: =+H88 -> 0
F88: ՍՈՑԻԱԼԱԿԱՆ ՆՊԱՍՏՆԵՐ ԵՎ ԿԵՆՍԱԹՈՇԱԿՆԵՐ | G88: =+G89 -> 0 | H88: =+H89 -> 0
F89: Սոցիալական օգնության դրամական արտահայտությամբ նպաստներ (բյուջեից) | G89: =+G90 -> 0 | H89: =+H90 -> 0
F90: - Այլ նպաստներ բյուջեից | G90: 0 | H90: 0
B91: 03 | F91: Հարազատին կորցրած անձինք | G91: =+G93 -> 1000 | H91: =+H93 -> 7221
F92: այդ թվում`
C93: 01 | F93: Հարազատին կորցրած անձինք | G93: =+G96 -> 1000 | H93: =+H98 -> 7221
F94: այդ թվում`
F95: ՀՀ աշխատանքի և սոցիալական հարցերի նախարարություն | G95: =+G96 -> 1000 | H95: =+H96 -> 7221
D96: 1005 | F96: Պարգևավճարներ և պատվովճարներ | G96: =+G98 -> 1000 | H96: =+H98 -> 7221
F97: այդ թվում`
E98: 12003 | F98: Զոհված՛ հետմահու «Հայաստանի ազգային հերոս» ՀՀ բարձրագույն կոչում ստացած կամ «Մարտական խաչ» շքանշանով պարգևատրված անձի ընտանիքին տրվող պարգևավճար | G98: =+G100 -> 1000 | H98: =+H100 -> 7221
F99: այդ թվում` ըստ կատարողների
F100: ՀՀ աշխատանքի և սոցիալական հարցերի նախարարության միասնական սոցիալական ծառայություն | G100: =+G102 -> 1000 | H100: =+H102 -> 7221
F101: այդ թվում` բյուջետային ծախսերի տնտեսագիտական դասակարգման հոդվածներ
...

Sheet Hav3h9.16
E1: Հավելված N 3
E2: ՀՀ կառավարության 2021 թվականի
E3: -----------------ի N -----------Ն որոշման
B4: ՀԱՅԱՍՏԱՆԻ ՀԱՆՐԱՊԵՏՈՒԹՅԱՆ ԿԱՌԱՎԱՐՈՒԹՅԱՆ 2020 ԹՎԱԿԱՆԻ ԴԵԿՏԵՄԲԵՐԻ 30-Ի N 2215-Ն ՈՐՈՇՄԱՆ N 9 ՀԱՎԵԼՎԱԾԻ N 9.1.20 ԱՂՅՈՒՍԱԿՈՒՄ ԿԱՏԱՐՎՈՂ ՓՈՓՈԽՈՒԹՅՈՒՆՆԵՐԸ
B5: ՀԱՅԱՍՏԱՆԻ ՀԱՆՐԱՊԵՏՈՒԹՅԱՆ ԿԱՌԱՎԱՐՈՒԹՅԱՆ 2020 ԹՎԱԿԱՆԻ ԴԵԿՏԵՄԲԵՐԻ 30-Ի N 2215-Ն ՈՐՈՇՄԱՆ N 9 ՀԱՎԵԼՎԱԾԻ N 9.16, 9.47 ԱՂՅՈՒՍԱԿՈՒՄ ԿԱՏԱՐՎՈՂ ՓՈՓՈԽՈՒԹՅՈՒՆՆԵՐԸ
B7: Հայաստանի Հանրապետության աշխատանքի և սոցիալական հարցերի նախարարություն
B8: ՄԱՍ 1. ՊԵՏԱԿԱՆ ՄԱՐՄՆԻ ԳԾՈՎ ԱՐԴՅՈՒՆՔԱՅԻՆ (ԿԱՏԱՐՈՂԱԿԱՆ) ՑՈՒՑԱՆԻՇՆԵՐԸ
B10: Ծրագրի դասիչը | C10: Ծրագրի անվանումը
B11: 1005 | C11: Պարգևավճարներ և պատվովճարներ
D12: Ցուցանիշների փոփոխությունները ավելացումները նշված են դրական նշանով, իսկ նվազեցումները՝ փակագծերում
B13: Ծրագրի միջոցառումները | D13: Ինն ամիս | E13: Տարի
B14: Ծրագրի դասիչը` | C14: 1005
B15: Միջոցառման դասիչը` | C15: 11001
B16: Միջոցառման անվանումը` | C16: Զոհված՛ հետմահու «Հայաստանի ազգային հերոս» ՀՀ բարձրագույն կոչում ստացած կամ «Մարտական խաչ» շքանշանով պարգևատրված անձի ընտանիքին պարգևավճարի տրամադրման ապահովում
B17: Նկարագրությունը` | C17: Զոհված՛ հետմահու «Հայաստանի ազգային հերոս» ՀՀ բարձրագույն կոչում ստացած կամ «Մարտական խաչ» շքանշանով պարգևատրված անձի ընտանիքին պարգևավճարի վճարման ծառայությունների ձեռքբերում
B18: Միջոցառման տեսակը` | C18: Ծառայությունների մատուցում
B19: Միջոցառումն իրականացնողի անվանումը? | C19: «Գնումների մասին» ՀՀ օրենքի համաձայն ընտրված կազմակերպություն
B20: Արդյունքի չափորոշիչներ
B21: Պարգևավճարներ ստացողների թիվ, ընտանիք | D21: 0
B22: Միջոցառման վրա կատարվող ծախսը (հազար դրամ) | D22: =SUM(Hav2h5.1!E19) -> 0 | E22: =SUM(Hav2h5.1!F19) -> 31
B24: Ծրագրի դասիչը` | C24: 1005
B25: Միջոցառման դասիչը` | C25: 12001
B26: Միջոցառման անվանումը` | C26: Զինծառայողներին, ՀՄՊ մասնակիցներին, այլ պետություններում մարտական գործողությունների մասնակիցներին, զոհված (մահացած) զինծառայողի ընտանիքի անդամներին, ընտանիքներին տրվող պարգևավճարներ
B27: Նկարագրությունը` | C27: Զինծառայողներին, ՀՄՊ մասնակիցներին, այլ պետություններում մարտական գործողությունների մասնակիցներին, զոհված (մահացած) զինծառայողի ընտանիքի անդամներին, ընտանիքներին, պարգևավճարների տրամադրում
B28: Միջոցառման տեսակը` | C28: Տրանսֆերտների տրամադրում
B29: Շահառուների ընտրության չափանիշները | C29: ՀՄՊ մասնակիցներ, ՀՄՊ և այլ պետություններում մարտական գործողությունների ընթացքում զոհված զինծառայողների ընտանիքներ
B30: Արդյունքի չափորոշիչներ
B31: Պարգևավճարներ ստացողների թիվ, ընտանիք | D31: =D33/F32/12*1000 -> 0 | E31: =E33/F32/12*1000 -> 0
B32: Պարգևավճարների վճարման ամսական հաճախականություն, անգամ | F32: 25040
B33: Միջոցառման վրա կատարվող ծախսը (հազար դրամ) | D33: =SUM(Hav2h5.1!E25) -> 0 | E33: =SUM(Hav2h5.1!F25) -> 0
B35: Ծրագրի դասիչը` | C35: 1005
B36: Միջոցառման դասիչը` | C36: 12002
B37: Միջոցառման անվանումը` | C37: Վետերանների պատվովճարներ
B38: Նկարագրությունը` | C38: ՀՄՊ վետերաններին պատվովճարի տրամադրում
B39: Միջոցառման տեսակը` | C39: Տրանսֆերտների տրամադրում
B40: Շահառուների ընտրության չափանիշները | C40: ՀՄ պատերազմի վետերաններին պատվովճարների տրամադրում 02.12.1998թ. ՀՕ-267-Ն օրենքի 4-րդ հոդվածով
B41: Արդյունքի չափորոշիչներ
B42: Պատվովճար ստացող վետերանների թիվ,մարդ | D42: =SUM(D44/F42/12)*1000 -> -0.875 | E42: =SUM(E44/F42/12)*1000 -> -0.875 | F42: 100000
B43: Պատվովճարների վճարման ամսական հաճախականությունը, անգամ
B44: Միջոցառման վրա կատարվող ծախսը (հազար դրամ) | D44: =SUM(Hav2h5.1!E31) -> -1050 | E44: =SUM(Hav2h5.1!F31) -> -1050
B46: Ծրագրի դասիչը` | C46: 1005
B47: Միջոցառման դասիչը` | C47: 12003
B48: Միջոցառման անվանումը` | C48: Զոհված՛ հետմահու «Հայաստանի ազգային հերոս» ՀՀ բարձրագույն կոչում ստացած կամ «Մարտական խաչ» շքանշանով պարգևատրված անձի ընտանիքին տրվող պարգևավճար
B49: Նկարագրությունը` | C49: Զոհված՛ հետմահու «Հայաստանի ազգային հերոս» ՀՀ բարձրագույն կոչում ստացած կամ «Մարտական խաչ» շքանշանով պարգևատրված անձի ընտանիքին
B50: Միջոցառման տեսակը` | C50: Տրանսֆերտների տրամադրում
B51: Շահառուների ընտրության չափանիշները | C51: Զոհված? հետմահու "Հայաստանի ազգային հերոս" ՀՀ բարձրագույն կոչում ստացած կամ "Մարտական խաչ" շքանշանով պարգևատրված անձի ընտանիքի անդամներ
B52: Արդյունքի չափորոշիչներ
B53: Պարգևավճարներ ստացողների թիվ, ընտանիք | D53: =D55/F54/12*1000 -> 0.60871682 | E53: =E55/F54/12*1000 -> 4.3955442
B54: Պատվովճարների վճարման ամսական հաճախականությունը, անգամ | F54: 136900
B55: Միջոցառման վրա կատարվող ծախսը (հազար դրամ) | D55: =SUM(Hav2h5.1!E37) -> 1000 | E55: =SUM(Hav2h5.1!F37) -> 7221
B57: Ծրագրի դասիչը | C57: Ծրագրի անվանումը
B58: 1011 | C58: Անապահով սոցիալական խմբերին աջակցություն
B59: Ծրագրի միջոցառումները | D59: Ցուցանիշների փոփոխությունները ավելացումները նշված են դրական նշանով, իսկ նվազեցումները՝ փակագծերում
D60: Ինն ամիս | E60: Տարի
B61: Ծրագրի դասիչը` | C61: 1011
B62: Միջոցառման դասիչը` | C62: 11001
B63: Միջոցառման անվանումը` | C63: Ընտանիքի կենսամակարդակի բարձրացմանն ուղղված նպաստների իրականացման ապահովում
B64: Նկարագրությունը` | C64: Ընտանիքների անապահովության գնահատման համակարգում հաշվառված, ընդգրկված անապահով ճանաչված ընտանիքներին նպաստի, սոցիալական նպաստի և հրատապ օգնության վճարման ծառայությունների ձեռքբերում
B65: Միջոցառման տեսակը` | C65: Ծառայությունների մատուցում
B66: Միջոցառումն իրականացնողի անվանումը? | C66: «Գնումների մասին» ՀՀ օրենքի համաձայն ընտրված կազմակերպություն
B67: Արդյունքի չափորոշիչներ
B68: Ընտանիքի կենսամակարդակի բարձրացմանն ուղղված նպաստներ ստացող ընտանիքների թիվ, հատ, այդ թվում
B69: ընտանեկան նպաստ ստացող ընտանիքների թիվ, ընտանիք
B70: սոցիալական նպաստ ստացող ընտանիքների թիվ, ընտանիք
B71: Միջոցառման վրա կատարվող ծախսը (հազար դրամ) | D71: =SUM(Hav2h5.1!E50) -> -2500 | E71: =SUM(Hav2h5.1!F50) -> -2500
B72: Միջոցառման դասիչը` | C72: 12001
B73: Միջոցառման անվանումը` | C73: Ընտանիքի կենսամակարդակի բարձրացմանն ուղղված նպաստներ
B74: Նկարագրությունը` | C74: Ընտանիքների անապահովության գնահատման համակարգում հաշվառված, անապահով ճանաչված ընտանիքներին նպաստի, սոցիալական նպաստի և հրատապ օգնության տրամադրում
B75: Միջոցառման տեսակը` | C75: Տրանսֆերտների տրամադրում
B76: Շահառուների ընտրության չափանիշները | C76: Ընտանիքների անապահովության գնահատման համակարգում հաշվառված ընտանիք?ընտանիքի անապահովության միավորի հիման վրա
B77: Արդյունքի չափորոշիչներ
B78: Ընտանիքի կենսամակարդակի բարձրացմանն ուղղված նպաստներ ստացող ընտանիքների թիվ, հատ, այդ թվում | D78: =SUM(D79:D80) -> -1751 | E78: =SUM(E79:E80) -> 0
B79: ընտանեկան նպաստ ստացող ընտանիքների թիվ, ընտանիք | D79: -1241
B80: սոցիալական նպաստ ստացող ընտանիքների թիվ, ընտանիք | D80: -510
B81: Միջոցառման վրա կատարվող ծախսը (հազար դրամ) | D81: =SUM(Hav2h5.1!E56) -> -1506500 | E81: =SUM(Hav2h5.1!F56) -> 0
B83: Ծրագրի դասիչը | C83: Ծրագրի անվանումը
B84: 1068 | C84: Ժողովրդագրական վիճակի բարելավում
B85: Ծրագրի միջոցառումները | D85: Ցուցանիշների փոփոխությունները ավելացումները նշված են դրական նշանով, իսկ նվազեցումները՝ փակագծերում
D86: Ինն ամիս | E86: Տարի
B87: Ծրագրի դասիչը` | C87: 1068
B88: Միջոցառման դասիչը` | C88: 11001
B89: Միջոցառման անվանումը` | C89: Մինչև 2 տարեկան երեխայի խնամքի նպաստի տրամադրման ապահովում
B90: Նկարագրությունը` | C90: Մինչև 2 տարեկան երեխայի խնամքի նպաստի վճարման ծառայությունների ձեռքբերում
B91: Միջոցառման տեսակը` | C91: Ծառայությունների մատուցում
B92: Միջոցառումն իրականացնողի անվանումը? | C92: «Գնումների մասին» ՀՀ օրենքի համաձայն ընտրված կազմակերպություն
B93: Արդյունքի չափորոշիչներ
B94: Մինչև 2 տարեկան երեխայի խնամքի նպաստ ստացող քաղաքացիների թիվ, մարդ, որից | D94: 1132 | E94: =SUM(E104) -> 0
B95: գյուղական բնակավայրերում մինչև 2 տարեկան երեխայի խնամքի նպաստ ստացող քաղաքացիների թիվ, մարդ | D95: =SUM(D105) -> 0 | E95: =SUM(E105) -> 0
B96: Միջոցառման վրա կատարվող ծախսը (հազար դրամ) | D96: =SUM(Hav2h5.1!E69) -> 3710 | E96: =SUM(Hav2h5.1!F69) -> 10965
B97: Ծրագրի դասիչը` | C97: 1068
B98: Միջոցառման դասիչը` | C98: 12001
B99: Միջոցառման անվանումը` | C99: Մինչև 2 տարեկան երեխայի խնամքի նպաստի տրամադրում
B100: Նկարագրությունը` | C100: Մինչև 2 տարեկան երեխայի խնամքի նպաստի արձակուրդում գտնվող վսրձու աշխատողին նպաստի տրամադրում
B101: Միջոցառման տեսակը` | C101: Տրանսֆերտների տրամադրում
B102: Շահառուների ընտրության չափանիշները
B103: Արդյունքի չափորոշիչներ
B104: Մինչև 2 տարեկան երեխայի խնամքի նպաստ ստացող քաղաքացիների թիվ, մարդ, որից | D104: =SUM(D94) -> 1132 | E104: =E106/F104/12*1000 -> 0 | F104: 26500
B105: գյուղական բնակավայրերում մինչև 2 տարեկան երեխայի խնամքի նպաստ ստացող քաղաքացիների թիվ, մարդ | D105: 0
B106: Միջոցառման վրա կատարվող ծախսը (հազար դրամ) | D106: =SUM(Hav2h5.1!E75) -> 360000 | E106: =SUM(Hav2h5.1!F75) -> 0 | H106: =+E106/12 -> 0 | I106: =+H106/26.5 -> 0
B107: Ծրագրի դասիչը` | C107: 1068 | H107: =+D106/12 -> 30000 | I107: =+H107/26.5 -> 1132.0755
...

Sheet Hav4h9.1.20
E1: Հավելված N 4
E2: ՀՀ կառավարության 2021 թվականի
E3: -----------------ի N -----------Ն որոշման
B4: ՀԱՅԱՍՏԱՆԻ ՀԱՆՐԱՊԵՏՈՒԹՅԱՆ ԿԱՌԱՎԱՐՈՒԹՅԱՆ 2020 ԹՎԱԿԱՆԻ ԴԵԿՏԵՄԲԵՐԻ 30-Ի N 2215-Ն ՈՐՈՇՄԱՆ N 9 ՀԱՎԵԼՎԱԾԻ N 9.1.20 ԱՂՅՈՒՍԱԿՈՒՄ ԿԱՏԱՐՎՈՂ ՓՈՓՈԽՈՒԹՅՈՒՆՆԵՐԸ
B5: ՀԱՅԱՍՏԱՆԻ ՀԱՆՐԱՊԵՏՈՒԹՅԱՆ ԿԱՌԱՎԱՐՈՒԹՅԱՆ 2020 ԹՎԱԿԱՆԻ ԴԵԿՏԵՄԲԵՐԻ 30-Ի N 2215-Ն ՈՐՈՇՄԱՆ N 9.1 ՀԱՎԵԼՎԱԾԻ N 9.1.20, 9.1.58 ԱՂՅՈՒՍԱԿՈՒՄ ԿԱՏԱՐՎՈՂ ՓՈՓՈԽՈՒԹՅՈՒՆՆԵՐԸ
B7: Հայաստանի Հանրապետության աշխատանքի և սոցիալական հարցերի նախարարության միասնական սոցիալական ծառայություն
B9: Ծրագրի դասիչը | C9: Ծրագրի անվանումը
B10: 1005 | C10: Պարգևավճարներ և պատվովճարներ
D11: Ցուցանիշների փոփոխությունները ավելացումները նշված են դրական նշանով, իսկ նվազեցումները՝ փակագծերում
B12: Ծրագրի միջոցառումները | D12: Ինն ամիս | E12: Տարի
B13: Ծրագրի դասիչը` | C13: 1005
B14: Միջոցառման դասիչը` | C14: 11001
B15: Միջոցառման անվանումը` | C15: Զոհված՛ հետմահու «Հայաստանի ազգային հերոս» ՀՀ բարձրագույն կոչում ստացած կամ «Մարտական խաչ» շքանշանով պարգևատրված անձի ընտանիքին պարգևավճարի տրամադրման ապահովում
B16: Նկարագրությունը` | C16: Զոհված՛ հետմահու «Հայաստանի ազգային հերոս» ՀՀ բարձրագույն կոչում ստացած կամ «Մարտական խաչ» շքանշանով պարգևատրված անձի ընտանիքին պարգևավճարի վճարման ծառայությունների ձեռքբերում
B17: Միջոցառման տեսակը` | C17: Ծառայությունների մատուցում
B18: Միջոցառումն իրականացնողի անվանումը? | C18: «Գնումների մասին» ՀՀ օրենքի համաձայն ընտրված կազմակերպություն
B19: Արդյունքի չափորոշիչներ
B20: Պարգևավճարներ ստացողների թիվ, ընտանիք | D20: 0
B21: Միջոցառման վրա կատարվող ծախսը (հազար դրամ) | D21: =SUM(Hav3h9.16!D22) -> 0 | E21: =SUM(Hav3h9.16!E22) -> 31
B23: Ծրագրի դասիչը` | C23: 1005
B24: Միջոցառման դասիչը` | C24: 12001
B25: Միջոցառման անվանումը` | C25: Զինծառայողներին, ՀՄՊ մասնակիցներին, այլ պետություններում մարտական գործողությունների մասնակիցներին, զոհված (մահացած) զինծառայողի ընտանիքի անդամներին, ընտանիքներին տրվող պարգևավճարներ
B26: Նկարագրությունը` | C26: Զինծառայողներին, ՀՄՊ մասնակիցներին, այլ պետություններում մարտական գործողությունների մասնակիցներին, զոհված (մահացած) զինծառայողի ընտանիքի անդամներին, ընտանիքներին, պարգևավճարների տրամադրում
B27: Միջոցառման տեսակը` | C27: Տրանսֆերտների տրամադրում
B28: Շահառուների ընտրության չափանիշները | C28: ՀՄՊ մասնակիցներ, ՀՄՊ և այլ պետություններում մարտական գործողությունների ընթացքում զոհված զինծառայողների ընտանիքներ
B29: Արդյունքի չափորոշիչներ
B30: Պարգևավճարներ ստացողների թիվ, ընտանիք | D30: =Hav3h9.16!D31 -> 0 | E30: =Hav3h9.16!E31 -> 0
B31: Պարգևավճարների վճարման ամսական հաճախականություն, անգամ
B32: Միջոցառման վրա կատարվող ծախսը (հազար դրամ) | D32: =SUM(Hav3h9.16!D33) -> 0 | E32: =SUM(Hav3h9.16!E33) -> 0 | F32: 25040
B34: Ծրագրի դասիչը` | C34: 1005
B35: Միջոցառման դասիչը` | C35: 12002
B36: Միջոցառման անվանումը` | C36: Վետերանների պատվովճարներ
B37: Նկարագրությունը` | C37: ՀՄՊ վետերաններին պատվովճարի տրամադրում
B38: Միջոցառման տեսակը` | C38: Տրանսֆերտների տրամադրում
B39: Շահառուների ընտրության չափանիշները | C39: ՀՄ պատերազմի վետերաններին պատվովճարների տրամադրում 02.12.1998թ. ՀՕ-267-Ն օրենքի 4-րդ հոդվածով
B40: Արդյունքի չափորոշիչներ
B41: Պատվովճար ստացող վետերանների թիվ,մարդ | D41: =Hav3h9.16!D42 -> -0.875 | E41: =Hav3h9.16!E42 -> -0.875
B42: Պատվովճարների վճարման ամսական հաճախականությունը, անգամ | F42: 100000
B43: Միջոցառման վրա կատարվող ծախսը (հազար դրամ) | D43: =SUM(Hav3h9.16!D44) -> -1050 | E43: =SUM(Hav3h9.16!E44) -> -1050
B45: Ծրագրի դասիչը` | C45: 1005
B46: Միջոցառման դասիչը` | C46: 12003
B47: Միջոցառման անվանումը` | C47: Զոհված՛ հետմահու «Հայաստանի ազգային հերոս» ՀՀ բարձրագույն կոչում ստացած կամ «Մարտական խաչ» շքանշանով պարգևատրված անձի ընտանիքին տրվող պարգևավճար
B48: Նկարագրությունը` | C48: Զոհված՛ հետմահու «Հայաստանի ազգային հերոս» ՀՀ բարձրագույն կոչում ստացած կամ «Մարտական խաչ» շքանշանով պարգևատրված անձի ընտանիքին
B49: Միջոցառման տեսակը` | C49: Տրանսֆերտների տրամադրում
B50: Շահառուների ընտրության չափանիշները | C50: Զոհված? հետմահու "Հայաստանի ազգային հերոս" ՀՀ բարձրագույն կոչում ստացած կամ "Մարտական խաչ" շքանշանով պարգևատրված անձի ընտանիքի անդամներ
B51: Արդյունքի չափորոշիչներ
B52: Պարգևավճարներ ստացողների թիվ, ընտանիք | D52: =Hav3h9.16!D53 -> 0.60871682 | E52: =Hav3h9.16!E53 -> 4.3955442
B53: Պատվովճարների վճարման ամսական հաճախականությունը, անգամ
B54: Միջոցառման վրա կատարվող ծախսը (հազար դրամ) | D54: =SUM(Hav3h9.16!D55) -> 1000 | E54: =SUM(Hav3h9.16!E55) -> 7221 | F54: 136900
B56: Ծրագրի դասիչը | C56: Ծրագրի անվանումը
B57: 1011 | C57: Անապահով սոցիալական խմբերին աջակցություն
B58: Ծրագրի միջոցառումները | D58: Ցուցանիշների փոփոխությունները ավելացումները նշված են դրական նշանով, իսկ նվազեցումները՝ փակագծերում
D59: Ինն ամիս | E59: Տարի
B60: Ծրագրի դասիչը` | C60: 1011
B61: Միջոցառման դասիչը` | C61: 11001
B62: Միջոցառման անվանումը` | C62: Ընտանիքի կենսամակարդակի բարձրացմանն ուղղված նպաստների իրականացման ապահովում
B63: Նկարագրությունը` | C63: Ընտանիքների անապահովության գնահատման համակարգում հաշվառված, ընդգրկված անապահով ճանաչված ընտանիքներին նպաստի, սոցիալական նպաստի և հրատապ օգնության վճարման ծառայությունների ձեռքբերում
B64: Միջոցառման տեսակը` | C64: Ծառայությունների մատուցում
B65: Միջոցառումն իրականացնողի անվանումը? | C65: «Գնումների մասին» ՀՀ օրենքի համաձայն ընտրված կազմակերպություն
B66: Արդյունքի չափորոշիչներ
B67: Ընտանիքի կենսամակարդակի բարձրացմանն ուղղված նպաստներ ստացող ընտանիքների թիվ, հատ, այդ թվում
B68: ընտանեկան նպաստ ստացող ընտանիքների թիվ, ընտանիք
B69: սոցիալական նպաստ ստացող ընտանիքների թիվ, ընտանիք
B70: Միջոցառման վրա կատարվող ծախսը (հազար դրամ) | D70: =SUM(Hav3h9.16!D71) -> -2500 | E70: =SUM(Hav3h9.16!E71) -> -2500
B71: Միջոցառման դասիչը` | C71: 12001
B72: Միջոցառման անվանումը` | C72: Ընտանիքի կենսամակարդակի բարձրացմանն ուղղված նպաստներ
B73: Նկարագրությունը` | C73: Ընտանիքների անապահովության գնահատման համակարգում հաշվառված, անապահով ճանաչված ընտանիքներին նպաստի, սոցիալական նպաստի և հրատապ օգնության տրամադրում
B74: Միջոցառման տեսակը` | C74: Տրանսֆերտների տրամադրում
B75: Շահառուների ընտրության չափանիշները | C75: Ընտանիքների անապահովության գնահատման համակարգում հաշվառված ընտանիք?ընտանիքի անապահովության միավորի հիման վրա
B76: Արդյունքի չափորոշիչներ
B77: Ընտանիքի կենսամակարդակի բարձրացմանն ուղղված նպաստներ ստացող ընտանիքների թիվ, հատ, այդ թվում | D77: =+Hav3h9.16!D78 -> -1751 | E77: =+Hav3h9.16!E78 -> 0
B78: ընտանեկան նպաստ ստացող ընտանիքների թիվ, ընտանիք | D78: =+Hav3h9.16!D79 -> -1241 | E78: =+Hav3h9.16!E79 -> 0
B79: սոցիալական նպաստ ստացող ընտանիքների թիվ, ընտանիք | D79: =+Hav3h9.16!D80 -> -510 | E79: =+Hav3h9.16!E80 -> 0
B80: Միջոցառման վրա կատարվող ծախսը (հազար դրամ) | D80: =SUM(Hav3h9.16!D81) -> -1506500 | E80: =SUM(Hav3h9.16!E81) -> 0
B82: Ծրագրի դասիչը | C82: Ծրագրի անվանումը
B83: 1068 | C83: Ժողովրդագրական վիճակի բարելավում
B84: Ծրագրի միջոցառումները | D84: Ցուցանիշների փոփոխությունները ավելացումները նշված են դրական նշանով, իսկ նվազեցումները՝ փակագծերում
D85: Ինն ամիս | E85: Տարի
B86: Ծրագրի դասիչը` | C86: 1068
B87: Միջոցառման դասիչը` | C87: 11001
B88: Միջոցառման անվանումը` | C88: Մինչև 2 տարեկան երեխայի խնամքի նպաստի տրամադրման ապահովում
B89: Նկարագրությունը` | C89: Մինչև 2 տարեկան երեխայի խնամքի նպաստի վճարման ծառայությունների ձեռքբերում
B90: Միջոցառման տեսակը` | C90: Ծառայությունների մատուցում
B91: Միջոցառումն իրականացնողի անվանումը? | C91: «Գնումների մասին» ՀՀ օրենքի համաձայն ընտրված կազմակերպություն
B92: Արդյունքի չափորոշիչներ
B93: Մինչև 2 տարեկան երեխայի խնամքի նպաստ ստացող քաղաքացիների թիվ, մարդ, որից | D93: =Hav3h9.16!D94 -> 1132 | E93: =Hav3h9.16!E94 -> 0
B94: գյուղական բնակավայրերում մինչև 2 տարեկան երեխայի խնամքի նպաստ ստացող քաղաքացիների թիվ, մարդ | D94: =Hav3h9.16!D95 -> 0 | E94: =Hav3h9.16!E95 -> 0
B95: Միջոցառման վրա կատարվող ծախսը (հազար դրամ) | D95: =SUM(Hav3h9.16!D96) -> 3710 | E95: =SUM(Hav3h9.16!E96) -> 10965
B96: Ծրագրի դասիչը` | C96: 1068
B97: Միջոցառման դասիչը` | C97: 12001
B98: Միջոցառման անվանումը` | C98: Մինչև 2 տարեկան երեխայի խնամքի նպաստի տրամադրում
B99: Նկարագրությունը` | C99: Մինչև 2 տարեկան երեխայի խնամքի նպաստի արձակուրդում գտնվող վսրձու աշխատողին նպաստի տրամադրում
B100: Միջոցառման տեսակը` | C100: Տրանսֆերտների տրամադրում
B101: Շահառուների ընտրության չափանիշները
B102: Արդյունքի չափորոշիչներ | I102: 1509 | J102: =+I102*26500 -> 39988500
B103: Մինչև 2 տարեկան երեխայի խնամքի նպաստ ստացող քաղաքացիների թիվ, մարդ, որից | D103: =Hav3h9.16!D104 -> 1132 | E103: =Hav3h9.16!E104 -> 0 | H103: =+E103*26500*12 -> 0 | I103: =+D103*26500*9 -> 269982000
B104: գյուղական բնակավայրերում մինչև 2 տարեկան երեխայի խնամքի նպաստ ստացող քաղաքացիների թիվ, մարդ | D104: =Hav3h9.16!D105 -> 0 | E104: =Hav3h9.16!E105 -> 0 | F104: 26500
B105: Միջոցառման վրա կատարվող ծախսը (հազար դրամ) | D105: =SUM(Hav3h9.16!D106) -> 360000 | E105: =SUM(Hav3h9.16!E106) -> 0 | G105: =SUM(E104*F104*12)/10000 -> 0
B106: Ծրագրի դասիչը` | C106: 1068
B107: Միջոցառման դասիչը` | C107: 12002
...

Sheet Hav5hh10
G1: Հավելված N 5
G2: ՀՀ կառավարության 2020 թվականի
G3: -----------------ի N -----------Ն որոշման
A6: ՀԱՅԱՍՏԱՆԻ ՀԱՆՐԱՊԵՏՈՒԹՅԱՆ ԿԱՌԱՎԱՐՈՒԹՅԱՆ 2020 ԹՎԱԿԱՆԻ ԴԵԿՏԵՄԲԵՐԻ 30-Ի N 2215-Ն ՈՐՈՇՄԱՆ N 10 ՀԱՎԵԼՎԱԾՈՒՄ ԿԱՏԱՐՎՈՂ ՓՈՓՈԽՈՒԹՅՈՒՆՆԵՐԸ ԵՎ ԼՐԱՑՈՒՄՆԵՐԸ
A9: ՀՀ աշխատանքի և սոցիալական հարցերի նախարարության միասնական սոցիալական ծառայություն
A11: Գնման առարկայի | C11: Գնման ձևը (ընթացակարգը) | D11: Չափման միավորը | E11: Միավորի գինը (դրամ) | F11: Ցուցանիշների փոփոխությունը (նվազեցումները նշված են փակագծերում, իսկ ավելացումները` դրական նշանով)
A12: միջանցիկ կոդը` ըստ CPV դասակարգման | B12: անվանումը | F12: քանակը | G12: գումարը (հազ. դրամ)
A13: Բաժին N 10 | B13: Խումբ N 09 | C13: Դաս N 02 | D13: Սոցիալական պաշտպանությանը տրամադրվող օժանդակ ծառայություններ (այլ դասերին չպատկանող) | G13: =SUM(G14,G17,G20,G23) -> 42042
A14: 1102 11002 | B14: Կենսաթոշակների և այլ դրամական վճարների իրականացման ապահովում | G14: =SUM(G15) -> 33546
A15: ՄԱՍ III. ԾԱՌԱՅՈՒԹՅՈՒՆՆԵՐ | G15: =SUM(G16) -> 33546
A16: 79571100-1 | B16: փոստային առաքման ծառայություններ | C16: ՄԱ | D16: դրամ | G16: =SUM('Hav1hav3-4'!H257) -> 33546
A17: 1068 11001 | B17: Մինչև 2 տարեկան երեխայի խնամքի նպաստի տրամադրման ապահովում | G17: =SUM(G18) -> 10965
A18: ՄԱՍ III. ԾԱՌԱՅՈՒԹՅՈՒՆՆԵՐ | G18: =SUM(G19) -> 10965
A19: 79571100-1 | B19: փոստային առաքման ծառայություններ | C19: ՄԱ | D19: դրամ | G19: =SUM('Hav1hav3-4'!H235) -> 10965
A20: 1005 11001 | B20: Զոհված՝ հետմահու «Հայաստանի ազգային հերոս» ՀՀ բարձրագույն կոչում ստացած կամ «Մարտական խաչ» շքանշանով պարգևատրված անձի ընտանիքին պարգևավճարի տրամադրման ապահովում | G20: =SUM(G21) -> 31
A21: ՄԱՍ III. ԾԱՌԱՅՈՒԹՅՈՒՆՆԵՐ | G21: =SUM(G22) -> 31
A22: 79571100-1 | B22: փոստային առաքման ծառայություններ | C22: ՄԱ | D22: դրամ | G22: =SUM('Hav1hav3-4'!H213) -> 31
A23: 1011 11001 | B23: Ընտանիքի կենսամակարդակի բարձրացմանն ուղղված նպաստների իրականացման ապահովում | G23: -2500
A24: ՄԱՍ III. ԾԱՌԱՅՈՒԹՅՈՒՆՆԵՐ | G24: =SUM(G25) -> -2500
A25: 79571100-1 | B25: փոստային առաքման ծառայություններ | C25: ՄԱ | D25: դրամ | G25: =SUM('Hav1hav3-4'!H224) -> -2500
