Workbook

Sheet 1
E1: Հավելված 1
E2: ՀՀ կառավարության 2021 թվականի
E3: ------------ N ---------- որոշման
A4: «ՀԱՅԱUՏԱՆԻ ՀԱՆՐԱՊԵՏՈՒԹՅԱՆ 2021 ԹՎԱԿԱՆԻ ՊԵՏԱԿԱՆ ԲՅՈՒՋԵԻ ՄԱUԻՆ» OՐԵՆՔԻ N 1 ՀԱՎԵԼՎԱԾԻ N 2 ԱՂՅՈՒՍԱԿՈՒՄ ԿԱՏԱՐՎՈՂ ՎԵՐԱԲԱՇԽՈՒՄԸ ԵՎ ՀԱՅԱՍՏԱՆԻ ՀԱՆՐԱՊԵՏՈՒԹՅԱՆ ԿԱՌԱՎԱՐՈՒԹՅԱՆ 2020 ԹՎԱԿԱՆԻ ԴԵԿՏԵՄԲԵՐԻ 30-Ի ԹԻՎ 2215-Ն ՈՐՈՇՄԱՆ N 5 ՀԱՎԵԼՎԱԾԻ N 1 ԱՂՅՈՒՍԱԿՈՒՄ ԿԱՏԱՐՎՈՂ ԼՐԱՑՈՒՄՆԵՐԸ ԵՎ ՓՈՓՈԽՈՒԹՅՈՒՆՆԵՐԸ
D5: հազ. դրամ
A6: Ծրագրային դասիչը | C6: Բյուջետային հատկացումների գլխավոր կարգադրիչների, ծրագրերի և միջոցառումների անվանումները | D6: Ցուցանիշների փոփոխությունը (ավելացումները նշված են դրական նշանով, իսկ նվազեցումները` փակագծերում)
D7: Ինն ամիս | E7: Տարի
A8: Ծրագիր | B8: Միջոցառում
C10: ԸՆԴԱՄԵՆԸ | D10: =D12 -> 0 | E10: =E12 -> 0
C11: այդ թվում՝
C12: ՀՀ ԿՐԹՈՒԹՅԱՆ, ԳԻՏՈՒԹՅԱՆ, ՄՇԱԿՈՒՅԹԻ ԵՎ ՍՊՈՐՏԻ ՆԱԽԱՐԱՐՈՒԹՅՈՒՆ | D12: =D14+D34 -> 0 | E12: =E14+E34 -> 0
C13: այդ թվում՝
A14: 1146 | C14: Ծրագրի անվանումը` | D14: ='2'!G14 -> 0 | E14: =D14 -> 0
C15: Հանրակրթության ծրագիր
C16: Ծրագրի նպատակը`
C17: Ապահովել անվճար և որակյալ հանրակրթություն
C18: Վերջնական արդյունքի նկարագրությունը`
C19: Մտավոր, հոգևոր, ֆիզիկական և սոցիալական ունակությունների համակողմանի ու ներդաշնակ զարգացմամբ, հայրենասիրության, պետականության և մարդասիրության ոգով դաստիրակված, պատշաճ վարքով և վարվելակերպով անձի ձևավորում
A20: Ծրագրի միջոցառումներ
B21: 31001 | C21: Միջոցառման անվանումը` | D21: ='2'!G16 -> -11000 | E21: =D21 -> -11000
C22: «Ուսուցչի օրվա» առթիվ հանրակրթական ուսումնական հաստատությունների մանկավարժներին պարգևատրում
C23: Միջոցառման նկարագրությունը`
C24: Համակարգիչների ձեռքբերում
C25: Միջոցառման տեսակը
C26: Պետական մարմինների կողմից օգտագործվող ոչ ֆինանսական ակտիվների հետ գործառնություններ
B27: 12012 | C27: Միջոցառման անվանումը` | D27: ='2'!G32 -> 11000 | E27: ='2'!H32 -> 11000
C28: «Ուսուցչի օրվա» առթիվ հանրակրթական ուսումնական հաստատությունների լավագույն մանկավարժների պարգևատրում
C29: Միջոցառման նկարագրությունը`
C30: «Տարվա լավագույնները» մրցույթում հաղթող ճանաչված մանկավարժներին պարգևատրում
C31: Միջոցառման տեսակը
C32: Տրանսֆերտների տրամադրում
C33: ՀՀ կառավարության պահուստային ֆոնդ | D33: =D34 -> 0 | E33: =E34 -> 0
C34: ՀՀ կառավարություն | D34: =D41+D47 -> 0 | E34: =E41+E47 -> 0
A35: 1139 | C35: Ծրագրի անվանումը`
C36: ՀՀ կառավարության պահուստային ֆոնդ
C37: Ծրագրի նպատակը`
C38: Պետական բյուջեում չկանխատեսված՝ ինչպես նաև բյուջետային երաշխիքների ապահովման ծախսերի ֆինանսավորման ապահովում
C39: Վերջնական արդյունքի նկարագրությունը`
C40: Պահուստային ֆոնդի կառավարման արդյունավետություն և թափանցիկություն
B41: 11001 | C41: Միջոցառման անվանումը` | D41: ='2'!G41 -> 11000 | E41: =D41 -> 11000
...

Sheet 2
H1: Հավելված 2
H2: ՀՀ կառավարության 2021 թվականի
H3: ------------ N ---------- որոշման
A5: ՀԱՅԱՍՏԱՆԻ ՀԱՆՐԱՊԵՏՈՒԹՅԱՆ ԿԱՌԱՎԱՐՈՒԹՅԱՆ 2020 ԹՎԱԿԱՆԻ ԴԵԿՏԵՄԲԵՐԻ 30-Ի N 2215-Ն ՈՐՈՇՄԱՆ NN 3 ԵՎ 4 ՀԱՎԵԼՎԱԾՆԵՐՈՒՄ ԿԱՏԱՐՎՈՂ ԼՐԱՑՈՒՄՆԵՐԸ ԵՎ ՓՈՓՈԽՈՒԹՅՈՒՆՆԵՐԸ
G6: հազ. դրամ
A7: Գործառական դասիչը | D7: Ծրագրային դասիչը | F7: Բյուջետային հատկացումների գլխավոր կարգադրիչների, ծրագրերի, միջոցառումների և միջոցառումները կատարող պետական մարմինների անվանումները | G7: Ցուցանիշների փոփոխությունը (ավելացումները նշված են դրական նշանով, իսկ նվազեցումները` փակագծերում)
A8: Բաժին | B8: Խումբ | C8: Դաս | D8: Ծրագիր | E8: Միջոցառում | G8: Ինն ամիս | H8: Տարի
F9: ԸՆԴԱՄԵՆԸ | G9: =G10 -> 0 | H9: =H10 -> 0
A10: 09 | F10: ԿՐԹՈՒԹՅՈՒՆ, այդ թվում՝ | G10: =G11 -> 0 | H10: =H11 -> 0
B11: 06 | C11: 01 | F11: Կրթությանը տրամադրվող օժանդակ ծառայություններ, այդ թվում՝ | G11: =G12 -> 0 | H11: =H12 -> 0
F12: Կրթությանը տրամադրվող օժանդակ ծառայություններ, այդ թվում՝ | G12: =G13 -> 0 | H12: =H13 -> 0
F13: ՀՀ կրթության, գիտության, մշակույթի և սպորտի նախարարություն | G13: =G14+G34 -> 0 | H13: =H14+H34 -> 0
D14: 1146 | F14: Հանրակրթության ծրագիր | G14: =G16+G25 -> 0 | H14: =H16+H25 -> 0
F15: այդ թվում`
E16: 31001 | F16: «Ուսուցչի օրվա» առթիվ հանրակրթական ուսումնական հաստատությունների մանկավարժներին պարգևատրում | G16: =G18 -> -11000 | H16: =G16 -> -11000
F17: այդ թվում` ըստ կատարողների
F18: ՀՀ կրթության , գիտության, մշակույթի և սպորտի նախարարություն | G18: =G20 -> -11000 | H18: =H20 -> -11000
F19: այդ թվում` բյուջետային ծախսերի տնտեսագիտական դասակարգման հոդվածներ
F20: ԸՆԴԱՄԵՆԸ ԾԱԽՍԵՐ | G20: =G21 -> -11000 | H20: =H21 -> -11000
F21: ՈՉ ՖԻՆԱՆՍԱԿԱՆ ԱԿՏԻՎՆԵՐԻ ԳԾՈՎ ԾԱԽՍԵՐ | G21: =G22 -> -11000 | H21: =H22 -> -11000
F22: ՀԻՄՆԱԿԱՆ ՄԻՋՈՑՆԵՐ | G22: =G23 -> -11000 | H22: =H23 -> -11000
F23: ՄԵՔԵՆԱՆԵՐ ԵՎ ՍԱՐՔԱՎՈՐՈՒՄՆԵՐ | G23: =G24 -> -11000 | H23: =H24 -> -11000
F24: - Վարչական սարքավորումներ | G24: -11000 | H24: =G24 -> -11000
E25: 12012 | F25: «Ուսուցչի օրվա» առթիվ հանրակրթական ուսումնական հաստատությունների լավագույն մանկավարժների պարգևատրում | G25: =G27 -> 11000 | H25: =H27 -> 11000
F26: այդ թվում` ըստ կատարողների
F27: ՀՀ կրթության , գիտության, մշակույթի և սպորտի նախարարություն | G27: =G29 -> 11000 | H27: =H29 -> 11000
F28: այդ թվում` բյուջետային ծախսերի տնտեսագիտական դասակարգման հոդվածներ
F29: ԸՆԴԱՄԵՆԸ ԾԱԽՍԵՐ | G29: =G30 -> 11000 | H29: =H30 -> 11000
F30: ԸՆԹԱՑԻԿ ԾԱԽՍԵՐ | G30: =G31 -> 11000 | H30: =H31 -> 11000
F31: ՍՈՑԻԱԼԱԿԱՆ ՆՊԱՍՏՆԵՐ ԵՎ ԿԵՆՍԱԹՈՇԱԿՆԵՐ | G31: =G32 -> 11000 | H31: =H32 -> 11000
F32: Սոցիալական օգնության դրամական արտահայտությամբ նպաստներ (բյուջեից) | G32: 11000 | H32: =G32 -> 11000
F33: - Կրթական, մշակութային և սպորտային նպաստներ բյուջեից | G33: 11000 | H33: 11000
A34: 11 | F34: ՀԻՄՆԱԿԱՆ ԲԱԺԻՆՆԵՐԻՆ ՉԴԱՍՎՈՂ ՊԱՀՈՒՍՏԱՅԻՆ ՖՈՆԴԵՐ | G34: =G36 -> 0 | H34: =H36 -> 0
F35: այդ թվում`
B36: 01 | F36: ՀՀ կառավարության և համայնքների պահուստային ֆոնդ | G36: =G38 -> 0 | H36: =H38 -> 0
F37: այդ թվում`
C38: 01 | F38: ՀՀ կառավարության պահուստային ֆոնդ | G38: =G40 -> 0 | H38: =H40 -> 0
F39: այդ թվում`
F40: ՀՀ կառավարություն | G40: =G41+G49 -> 0 | H40: =H41+H49 -> 0
D41: 1139 | E41: 11001 | F41: ՀՀ կառավարության պահուստային ֆոնդ | G41: =G43 -> 11000 | H41: =H43 -> 11000
...

Sheet 3-1
D1: Հավելված 3
D2: Աղյուսակ 1
D3: ՀՀ կառավարության 2021 թվականի
D4: ------------ N ---------- որոշման
A5: ՀԱՅԱՍՏԱՆԻ ՀԱՆՐԱՊԵՏՈՒԹՅԱՆ ԿԱՌԱՎԱՐՈՒԹՅԱՆ 2020 ԹՎԱԿԱՆԻ ԴԵԿՏԵՄԲԵՐԻ 30-Ի N 2215 -Ն ՈՐՈՇՄԱՆ N 9 ՀԱՎԵԼՎԱԾԻ NN 9.14 ԵՎ 9.47 ԱՂՅՈՒՍԱԿՆԵՐՈՒՄ ԿԱՏԱՐՎՈՂ ԼՐԱՑՈՒՄՆԵՐԸ ԵՎ ՓՈՓՈԽՈՒԹՅՈՒՆՆԵՐԸ
A6: ՀՀ կրթության, գիտության, մշակույթի և սպորտի նախարարություն
A7: ՄԱՍ 2․ՊԵՏԱԿԱՆ ՄԱՐՄՆԻ ԳԾՈՎ ԱՐԴՅՈՒՆՔԱՅԻՆ (ԿԱՏԱՐՈՂԱԿԱՆ) ՑՈՒՑԱՆԻՇՆԵՐԸ
A9: Ծրագրի դասիչը | B9: Ծրագրի անվանումը
A10: 1146 | B10: Հանրակրթության ծրագիր
A11: Ծրագրի միջոցառումները
A12: Ծրագրի դասիչը` | B12: 1146 | C12: Ցուցանիշների փոփոխությունը (նվազեցումները նշված են փակագծերում)
A13: Միջոցառման դասիչը` | B13: 31001 | C13: Ինն ամիս | D13: Տարի
A14: Միջոցառման անվանումը` | B14: «Ուսուցչի օրվա» առթիվ հանրակրթական ուսումնական հաստատությունների մանկավարժներին պարգևատրում
A15: Նկարագրությունը` | B15: Համակարգիչների ձեռքբերում
A16: Միջոցառման տեսակը` | B16: Պետական մարմինների կողմից օգտագործվող ոչ ֆինանսական ակտիվների հետ գործառնություններ
A17: Ծառայությունը մատուցող կազմակերպության(ների) անվանում(ներ)ը՛ | B17: «Գնումների մասին» ՀՀ օրենքի համաձայն ընտրված կազմակերպություն
A18: Արդյունքի չափորոշիչներ
A19: Միջոցառման վրա կատարվող ծախսը (հազար դրամ) | C19: ='2'!G24 -> -11000 | D19: ='2'!H24 -> -11000
A20: Ծրագրի միջոցառումները
A21: Ծրագրի դասիչը` | B21: 1146 | C21: Ցուցանիշների փոփոխությունը (ավելացումները նշված են դրական նշանով)
A22: Միջոցառման դասիչը` | B22: 12012 | C22: Ինն ամիս | D22: Տարի
A23: Միջոցառման անվանումը` | B23: «Ուսուցչի օրվա» առթիվ հանրակրթական ուսումնական հաստատությունների լավագույն մանկավարժների պարգևատրում
A24: Նկարագրությունը` | B24: «Տարվա լավագույնները» մրցույթում հաղթող ճանաչված մանկավարժներին պարգևատրում
A25: Միջոցառման տեսակը` | B25: Տրանսֆերտների տրամադրում
A26: Շահառուների ընտրության չափորոշիչները` | B26: Տարվա լավագույն ուսուցիչները
A27: Արդյունքի չափորոշիչներ
A28: Շահառուների թիվը | C28: 22 | D28: 22
A29: Միջոցառման վրա կատարվող ծախսը (հազար դրամ) | C29: ='2'!G32 -> 11000 | D29: ='2'!H32 -> 11000
A30: ՀՀ կառավարություն
A31: Ծրագրի դասիչը | B31: Ծրագրի անվանումը
A32: 1139 | B32: ՀՀ կառավարության պահուստային ֆոնդ
A33: Ծրագրի միջոցառումները
A34: Ծրագրի դասիչը՝ | B34: 1139 | C34: Ցուցանիշների փոփոխությունը (ավելացումները նշված են դրական նշանով)
A35: Միջոցառման դասիչը՝ | B35: 11001 | C35: Ինն ամիս | D35: Տարի
A36: Միջոցառման անվանումը՝ | B36: ՀՀ կառավարության պահուստային ֆոնդ
A37: Նկարագրությունը՝ | B37: ՀՀ պետական բյուջեում նախատեսված ելքերի լրացուցիչ ֆինանսավորման՝ պետական բյուջեում չկանխատեսված ելքերի, ինչպես նաև բյուջետային երաշխիքների ապահովման ելքերի ֆինանսավորման ապահովում
A38: Միջոցառման տեսակը՝ | B38: Ծառայությունների մատուցում
A39: Միջոցառումն իրականացնողի անվանումը | B39: ՀՀ կառավարություն
B40: Արդյունքի չափորոշիչներ
A41: Միջոցառման վրա կատարվող ծախսը (հազար դրամ) | C41: ='2'!G48 -> 11000 | D41: ='2'!H48 -> 11000
...

Sheet 3-2
D1: Հավելված 3
D2: Աղյուսակ 2
C3: ՀՀ կառավարության 2021 թվականի
D4: ------------ N ---------- որոշման
A5: ՀԱՅԱՍՏԱՆԻ ՀԱՆՐԱՊԵՏՈՒԹՅԱՆ ԿԱՌԱՎԱՐՈՒԹՅԱՆ 2020 ԹՎԱԿԱՆԻ ԴԵԿՏԵՄԲԵՐԻ 30-Ի N 2215-Ն ՈՐՈՇՄԱՆ NN 9.1 ՀԱՎԵԼՎԱԾԻ 9.1.14 ԵՎ 9.1.58 ԱՂՅՈՒՍԱԿՆԵՐՈՒՄ ԿԱՏԱՐՎՈՂ ԼՐԱՑՈՒՄՆԵՐԸ ԵՎ ՓՈՓՈԽՈՒԹՅՈՒՆՆԵՐԸ
A6: ՀՀ կրթության, գիտության, մշակույթի և սպորտի նախարարություն
A7: ՄԱՍ 1․ ՊԵՏԱԿԱՆ ՄԱՐՄՆԻ ԳԾՈՎ ԱՐԴՅՈՒՆՔԱՅԻՆ (ԿԱՏԱՐՈՂԱԿԱՆ) ՑՈՒՑԱՆԻՇՆԵՐԸ
A9: Ծրագրի դասիչը | B9: Ծրագրի անվանումը
A10: 1146 | B10: Հանրակրթության ծրագիր
A11: Ծրագրի միջոցառումները
A12: Ծրագրի դասիչը` | B12: 1146 | C12: Ցուցանիշների փոփոխությունը (նվազեցումները նշված են փակագծերում)
A13: Միջոցառման դասիչը` | B13: 31001 | C13: Ինն ամիս | D13: Տարի
A14: Միջոցառման անվանումը` | B14: «Ուսուցչի օրվա» առթիվ հանրակրթական ուսումնական հաստատությունների մանկավարժներին պարգևատրում
A15: Նկարագրությունը` | B15: Համակարգիչների ձեռքբերում
A16: Միջոցառման տեսակը` | B16: Պետական մարմինների կողմից օգտագործվող ոչ ֆինանսական ակտիվների հետ գործառնություններ
A17: Ծառայությունը մատուցող կազմակերպության(ների) անվանում(ներ)ը՛ | B17: «Գնումների մասին» ՀՀ օրենքի համաձայն ընտրված կազմակերպություն
A18: Արդյունքի չափորոշիչներ
A19: Միջոցառման վրա կատարվող ծախսը (հազար դրամ) | C19: ='2'!G24 -> -11000 | D19: =C19 -> -11000
A21: Ծրագրի միջոցառումները
A22: Ծրագրի դասիչը` | B22: 1146 | C22: Ցուցանիշների փոփոխությունը (ավելացումները նշված են դրական նշանով)
A23: Միջոցառման դասիչը` | B23: 12012 | C23: Ինն ամիս | D23: Տարի
A24: Միջոցառման անվանումը` | B24: «Ուսուցչի օրվա» առթիվ հանրակրթական ուսումնական հաստատությունների լավագույն մանկավարժների պարգևատրում
A25: Նկարագրությունը` | B25: «Տարվա լավագույնները» մրցույթում հաղթող ճանաչված մանկավարժներին պարգևատրում
A26: Միջոցառման տեսակը` | B26: Տրանսֆերտների տրամադրում
A27: Շահառուների ընտրության չափորոշիչները` | B27: Տարվա լավագույն ուսուցիչները
A28: Արդյունքի չափորոշիչներ
A29: Շահառուների թիվը | C29: 22 | D29: 22
A30: Միջոցառման վրա կատարվող ծախսը (հազար դրամ) | C30: ='3-1'!C29 -> 11000 | D30: ='3-1'!D29 -> 11000
A31: ՀՀ կառավարություն
A32: Ծրագրի դասիչը | B32: Ծրագրի անվանումը
A33: 1139 | B33: ՀՀ կառավարության պահուստային ֆոնդ
A34: Ծրագրի միջոցառումները
A35: Ծրագրի դասիչը՝ | B35: 1139 | C35: Ցուցանիշների փոփոխությունը (ավելացումները նշված են դրական նշանով)
A36: Միջոցառման դասիչը՝ | B36: 11001 | C36: Ինն ամիս | D36: Տարի
A37: Միջոցառման անվանումը՝ | B37: ՀՀ կառավարության պահուստային ֆոնդ
A38: Նկարագրությունը՝ | B38: ՀՀ պետական բյուջեում նախատեսված ելքերի լրացուցիչ ֆինանսավորման՝ պետական բյուջեում չկանխատեսված ելքերի, ինչպես նաև բյուջետային երաշխիքների ապահովման ելքերի ֆինանսավորման ապահովում
A39: Միջոցառման տեսակը՝ | B39: Ծառայությունների մատուցում
A40: Միջոցառումն իրականացնողի անվանումը | B40: ՀՀ կառավարություն
B41: Արդյունքի չափորոշիչներ
A42: Միջոցառման վրա կատարվող ծախսը (հազար դրամ) | C42: ='2'!G48 -> 11000 | D42: =C42 -> 11000
...

Sheet 4
D1: Հավելված 4
D2: ՀՀ կառավարության 2021 թվականի
C3: ------------ N ------------ որոշման
A4: ՀԱՅԱՍՏԱՆԻ ՀԱՆՐԱՊԵՏՈՒԹՅԱՆ ԿԱՌԱՎԱՐՈՒԹՅԱՆ 2020 ԹՎԱԿԱՆԻ ԴԵԿՏԵՄԲԵՐԻ 30-Ի N 2215-Ն ՈՐՈՇՄԱՆ N 10 ՀԱՎԵԼՎԱԾՈՒՄ ԿԱՏԱՐՎՈՂ ՓՈՓՈԽՈՒԹՅՈՒՆՆԵՐԸ
A6: Գնման առարկայի | G6: Ցուցանիշների փոփոխությունները (նվազեցումները նշված են փակագծերում)
A7: Կոդը | B7: Անվանումը | D7: Գնման ձևը | E7: Չափման միավորը | F7: Միավորի գինը | G7: Քանակը | H7: Գումարը (հազար դրամով)
A8: ՀՀ կրթության, գիտության, մշակույթի և սպորտի նախարարություն | H8: =SUM(H9) -> -10999.982
A9: Բաժին N 09 | B9: Խումբ N 06 | C9: Դաս 01 | D9: Կրթությանը տրամադրվող օժանդակ ծառայություններ | H9: =H10 -> -10999.982
A10: 1146 Հանրակրթության ծրագիր | H10: =H11 -> -10999.982
A11: 31001 «Ուսուցչի օրվա» առթիվ հանրակրթական ուսումնական հաստատությունների մանկավարժներին պարգևատրում | H11: =H12 -> -10999.982
B12: ՄԱՍ I. ԱՊՐԱՆՔՆԵՐ | H12: =SUM(H13:H13) -> -10999.982
A13: 30211200/3 | B13: դյուրակիր համակարգիչներ | E13: ԳՀ | F13: 289473.2 | G13: -38 | H13: =F13*G13/1000 -> -10999.982
