Workbook
Name AgencyCode: #REF!
Name AgencyName: #REF!
Name davit: #REF!
Name Functional1: #REF!
Name ggg: #REF!
Name PANature: #REF!
Name PAType: #REF!
Name Performance2: #REF!
Name PerformanceType: #REF!
Name Հավելված: #REF!
Name Մաս: #REF!
Name շախմատիստ: #REF!

Sheet 1
B2: Հավելված N 1
B3: ՀՀ կառավարության 2021 թվականի
B4: ------------------------ -ի N ---------- որոշման
A7: «ՀԱՅԱՍՏԱՆԻ ՀԱՆՐԱՊԵՏՈՒԹՅԱՆ 2021 ԹՎԱԿԱՆԻ ՊԵՏԱԿԱՆ ԲՅՈՒՋԵԻ ՄԱՍԻՆ» ՀԱՅԱՍՏԱՆԻ ՀԱՆՐԱՊԵՏՈՒԹՅԱՆ ՕՐԵՆՔԻ 2-ՐԴ ՀՈԴՎԱԾԻ ԱՂՅՈՒՍԱԿՈՒՄ ԿԱՏԱՐՎՈՂ ՓՈՓՈԽՈՒԹՅՈՒՆՆԵՐԸ
B9: հազ. դրամ
B10: Ցուցանիշների փոփոխությունը (ավելացումները նշված են դրական նշանով)
A11: Եկամուտների գծով | B11: 4100000
A12: Ծախսերի գծով | B12: =B11 -> 4100000
A13: Դեֆիցիտը (պակասուրդը) | B13: =+B12-B11 -> 0

Sheet 2
A1: Հավելված N 2
A2: ՀՀ կառավարության 2021 թվականի
A3: --------------------- -ի N ---------- որոշման
A6: «ՀԱՅԱՍՏԱՆԻ ՀԱՆՐԱՊԵՏՈՒԹՅԱՆ 2021 ԹՎԱԿԱՆԻ ՊԵՏԱԿԱՆ ԲՅՈՒՋԵԻ ՄԱՍԻՆ» ՀԱՅԱՍՏԱՆԻ ՀԱՆՐԱՊԵՏՈՒԹՅԱՆ ՕՐԵՆՔԻ 6-ՐԴ ՀՈԴՎԱԾԻ ԱՂՅՈՒՍԱԿՈՒՄ ԵՎ ՀԱՅԱՍՏԱՆԻ ՀԱՆՐԱՊԵՏՈՒԹՅԱՆ ԿԱՌԱՎԱՐՈՒԹՅԱՆ 2020 ԹՎԱԿԱՆԻ ԴԵԿՏԵՄԲԵՐԻ 30-Ի N 2215-Ն ՈՐՈՇՄԱՆ N 2 ՀԱՎԵԼՎԱԾՈՒՄ ԿԱՏԱՐՎՈՂ ՓՈՓՈԽՈՒԹՅՈՒՆՆԵՐԸ
B8: հազ. դրամ
A9: Պետական բյուջեի եկամուտները | B9: Ցուցանիշների փոփոխությունը (ավելացումները նշված են դրական նշանով)
B10: Ինն ամիս | C10: Տարի
A11: Ընդամենը | B11: =+B13 -> 4100000 | C11: =+C13 -> 4100000
A12: այդ թվում
A13: Հարկային եկամուտներ և պետական տուրքեր | B13: ='1'!B12 -> 4100000 | C13: =B13 -> 4100000

Sheet 3
C1: Հավելված N 3
A2: ՀՀ կառավարության 2021 թվականի
A3: -ի N -Ն որոշման
A5: «ՀԱՅԱՍՏԱՆԻ ՀԱՆՐԱՊԵՏՈՒԹՅԱՆ 2021 ԹՎԱԿԱՆԻ ՊԵՏԱԿԱՆ ԲՅՈՒՋԵԻ ՄԱՍԻՆ» ՕՐԵՆՔԻ N 1 ՀԱՎԵԼՎԱԾԻ N 2 ԱՂՅՈՒՍԱԿՈՒՄ ԿԱՏԱՐՎՈՂ ՎԵՐԱԲԱՇԽՈՒՄԸ ԵՎ ՀԱՅԱՍՏԱՆԻ ՀԱՆՐԱՊԵՏՈՒԹՅԱՆ ԿԱՌԱՎԱՐՈՒԹՅԱՆ 2020 ԹՎԱԿԱՆԻ ԴԵԿՏԵՄԲԵՐԻ 30-Ի N 2215-Ն ՈՐՈՇՄԱՆ N 5 ՀԱՎԵԼՎԱԾԻ N 1 ԱՂՅՈՒՍԱԿՈՒՄ ԿԱՏԱՐՎՈՂ ՓՈՓՈԽՈՒԹՅՈՒՆՆԵՐԸ
E6: հազար դրամ
A7: Ծրագրային դասիչը | C7: Բյուջետային գլխավոր կարգադրիչների, ծրագրերի և միջոցառումների անվանումները | D7: Ցուցանիշների փոփոխությունը (ավելացումները նշված են դրական նշանով, նվազեցումները՝ փակագծերում)
A8: Ծրագիր | B8: Միջոցառում | D8: Ինն ամիս | E8: Տարի
C10: ԸՆԴԱՄԵՆԸ | D10: =D11+D57 -> 4100000 | E10: =E11+E57 -> 4100000
C11: ՀՀ տարածքային կառավարման և ենթակառուցվածքների նախարարություն | D11: =D12+D31+D44 -> 2556656.8 | E11: =E12+E31+E44 -> 1684853
A12: 1004 | C12: Ծրագրի անվանումը` | D12: =D19+D25 -> 2735749.3 | E12: =E19+E25 -> 2406313
C13: Ոռոգման համակարգի առողջացում
C14: Ծրագրի նպատակը`
C15: Ոռոգման ծառայությունների հասանելիության և մատչելիության ապահովում
C16: Վերջնական արդյունքի նկարագրությունը`
C17: Ոռոգման ջրի մատակարարման արդյունավետության և հասանելիության բարելավում՝ կորուստների կրճատում
A18: Ծրագրի միջոցառումներ
B19: 12001 | C19: Միջոցառման անվանումը` | D19: ='4'!G21 -> 2735749.3 | E19: ='4'!H21 -> 2735749.3
C20: Աջակցություն ոռոգման համակարգի առողջացմանը
C21: Միջոցառման նկարագրությունը`
C22: Աջակցություն ոռոգման համակարգի ընկերությունների ֆինանսական կենսունակության բարելավման նպատակով իրականացվող միջոցառումներին
C23: Միջոցառման տեսակը
C24: Տրանսֆերտների տրամադրում
B25: 12002 | C25: Միջոցառման անվանումը` | D25: ='4'!G30 -> 0 | E25: ='4'!H30 -> -329436.3
C26: Գերմանիայի զարգացման բանկի աջակցությամբ իրականացվող Ախուրյան գետի ջրային ռեսուրսների ինտեգրված կառավարման փուլ 1 ծրագրով Ջրաձոր գյուղի վերաբնակեցման համար ենթակառուցվածքների և բնակելի տների կառուցում
C27: Միջոցառման նկարագրությունը`
C28: Գերմանիայի զարգացման բանկի աջակցությամբ իրականացվող Ախուրյան գետի ջրային ռեսուրսների ինտեգրված կառավարման փուլ 1 ծրագիր
C29: Միջոցառման տեսակը
C30: Տրանսֆերտների տրամադրում
A31: 1070 | C31: Ծրագրի անվանումը` | D31: =D38 -> -127102.5 | E31: =E38 -> -669470
C32: Աջակցություն փախստականների ինտեգրմանը
C33: Ծրագրի նպատակը`
C34: Փախստականների ինտեգրում հասարակություն
C35: Վերջնական արդյունքի նկարագրությունը`
C36: Փախստականներին մատուցվող ծառայությունների ընդգրկման և ծառայությունների շրջանակի ընդլայնում
A37: Ծրագրի միջոցառումներ
B38: 12003 | C38: Միջոցառման անվանումը` | D38: ='4'!G68 -> -127102.5 | E38: ='4'!H68 -> -669470
C39: 1988-1992 թվականներին Ադրբեջանից բռնագաղթված և Հայաստանի Հանրապետությունում ապաստանած փախստական ընտանիքների բնակարանային ապահովում
C40: Միջոցառման նկարագրությունը`
C41: 1988-1992 թվականներին Ադրբեջանից բռնագաղթված և Հայաստանի Հանրապետությունում ապաստանած բնակության վայր չունեցող փախստական ընտանիքներին բնակարանային ապահովման աջակցություն
C42: Միջոցառման տեսակը
C43: Տրանսֆերտների տրամադրում
A44: 1072 | C44: Ծրագրի անվանումը` | D44: =D51 -> -51990 | E44: =E51 -> -51990
C45: Ջրամատակարարաման և ջրահեռացման բարելավում
C46: Ծրագրի նպատակը`
C47: Ջրամատակարարման ծառայությունների հասանելիության և մատչելիության ապահովում
C48: Վերջնական արդյունքի նկարագրությունը`
C49: Խմելու ջրի մատակարարման և ջրահեռացման համակարգի բարելավում, կորուստների կրճատում
A50: Ծրագրի միջոցառումներ
B51: 31004 | C51: Միջոցառման անվանումը` | D51: ='4'!G49 -> -51990 | E51: ='4'!H49 -> -51990
C52: Եվրոպական միության հարևանության ներդրումային ծրագրի աջակցությամբ իրականացվող Երևանի ջրամատակարարման բարելավման դրամաշնորհային ծրագրի շրջանակներում Ջրամատակարարման և ջրահեռացման ենթակառուցվածքների հիմնանորոգում
C53: Միջոցառման նկարագրությունը`
C54: Երևանի ջրամատակարարման ցանցի բարելավման աշխատանքներ
C55: Միջոցառման տեսակը
C56: Պետական մարմինների կողմից օգտագործվող ոչ ֆինանսական ակտիվների հետ գործառնություններ
C57: ՀՀ կառավարություն | D57: =D58 -> 1543343.2 | E57: =E58 -> 2415147
A58: 1139 | C58: Ծրագրի անվանումը` | D58: =D65+D71 -> 1543343.2 | E58: =E65+E71 -> 2415147
C59: ՀՀ կառավարության պահուստային ֆոնդ
C60: Ծրագրի նպատակը`
C61: Պետական բյուջեում չկանխատեսված՝ ինչպես նաեւ բյուջետային երաշխիքների ապահովման ծախսերի ֆինանսավորման ապահովում
C62: Վերջնական արդյունքի նկարագրությունը`
C63: Պահուստային ֆոնդի կառավարման արդյունավետության և թափանցիկության ապահովում
A64: Ծրագրի միջոցառումներ
B65: 11001 | C65: Միջոցառման անվանումը` | D65: ='4'!G87 -> -2556656.8 | E65: ='4'!H87 -> -1684853
C66: ՀՀ կառավարության պահուստային ֆոնդ
C67: Միջոցառման նկարագրությունը`
C68: ՀՀ պետական բյուջեում նախատեսված ելքերի լրացուցիչ ֆինանսավորման՝ պետական բյուջեում չկանխատեսված ելքերի՝ ինչպես նաև բյուջետային երաշխիքների ապահովման ելքերի ֆինանսավորման ապահովում
C69: Միջոցառման տեսակը
C70: Ծառայությունների մատուցում
B71: 11001 | C71: Միջոցառման անվանումը` | D71: ='4'!G102 -> 4100000 | E71: ='4'!H102 -> 4100000
C72: ՀՀ կառավարության պահուստային ֆոնդ
C73: Միջոցառման նկարագրությունը`
C74: ՀՀ պետական բյուջեում նախատեսված ելքերի լրացուցիչ ֆինանսավորման՝ պետական բյուջեում չկանխատեսված ելքերի՝ ինչպես նաև բյուջետային երաշխիքների ապահովման ելքերի ֆինանսավորման ապահովում
C75: Միջոցառման տեսակը
C76: Ծառայությունների մատուցում

Sheet 4
H1: Հավելված N 4
A2: ՀՀ կառավարության 2021 թվականի
A3: -ի N -Ն որոշման
A4: ՀԱՅԱՍՏԱՆԻ ՀԱՆՐԱՊԵՏՈՒԹՅԱՆ ԿԱՌԱՎԱՐՈՒԹՅԱՆ 2020 ԹՎԱԿԱՆԻ ԴԵԿՏԵՄԲԵՐԻ 30-Ի N 2215-Ն ՈՐՈՇՄԱՆ N 3 և N 4 ՀԱՎԵԼՎԱԾՆԵՐՈՒՄ ԿԱՏԱՐՎՈՂ ՓՈՓՈԽՈՒԹՅՈՒՆՆԵՐԸ
H5: հազար դրամ
A6: Գործառական դասիչը | D6: Ծրագրային դասիչը | F6: Բյուջետային ծախսերի գործառական դասակարգման բաժինների, խմբերի և դասերի, բյուջետային ծրագրերի միջոցառումների, բյուջետային հատկացումների գլխավոր կարգադրիչների անվանումները | G6: Ցուցանիշների փոփոխությունը (ավելացումները նշված են դրական նշանով, նվազեցումները՝ փակագծերում)
G7: ինն ամիս | H7: Տարի
A8: Բաժին | B8: Խումբ | C8: Դաս | D8: Ծրագիր | E8: Միջոցա ռում
F9: ԸՆԴԱՄԵՆԸ ԾԱԽՍԵՐ | G9: =G11+G39+G58+G77 -> 4100000 | H9: =H11+H39+H58+H77 -> 4100000
F10: այդ թվում`
A11: 04 | F11: ՏՆՏԵՍԱԿԱՆ ՀԱՐԱԲԵՐՈՒԹՅՈՒՆՆԵՐ | G11: =G13 -> 2735749.3 | H11: =H13 -> 2406313
F12: այդ թվում`
B13: 02 | F13: Գյուղատնտեսություն, անտառային տնտեսություն, ձկնորսություն և որսորդություն | G13: =G15 -> 2735749.3 | H13: =H15 -> 2406313
F14: այդ թվում`
C15: 04 | F15: Ոռոգում | G15: =G17 -> 2735749.3 | H15: =H19 -> 2406313
F16: այդ թվում`
F17: ՀՀ տարածքային կառավարման և ենթակառուցվածքների նախարարություն | G17: =G19 -> 2735749.3 | H17: =H19 -> 2406313
F18: այդ թվում`
D19: 1004 | F19: Ոռոգման համակարգի առողջացում | G19: =G21+G30 -> 2735749.3 | H19: =H21+H30 -> 2406313
F20: այդ թվում`
E21: 12001 | F21: Աջակցություն ոռոգման համակարգի առողջացմանը | G21: =G23 -> 2735749.3 | H21: =H23 -> 2735749.3
F22: այդ թվում` ըստ կատարողների
F23: ՀՀ տարածքային կառավարման և ենթակառուցվածքների նախարարության ջրային կոմիտե | G23: =G29 -> 2735749.3 | H23: =H29 -> 2735749.3
F24: այդ թվում` բյուջետային ծախսերի տնտեսագիտական դասակարգման հոդվածներ
F25: ԸՆԴԱՄԵՆԸ ԾԱԽՍԵՐ | G25: =G26 -> 2735749.3 | H25: =H26 -> 2735749.3
F26: ԸՆԹԱՑԻԿ ԾԱԽՍԵՐ | G26: =G27 -> 2735749.3 | H26: =H27 -> 2735749.3
F27: ՍՈՒԲՍԻԴԻԱՆԵՐ | G27: =G28 -> 2735749.3 | H27: =H28 -> 2735749.3
F28: Սուբսիդիաներ ոչ պետական կազմակերպություններին | G28: =G29 -> 2735749.3 | H28: =H29 -> 2735749.3
F29: - Սուբսիդիաներ ոչ պետական ոչ ֆինանսական կազմակերպություններին | G29: 2735749.3 | H29: 2735749.3
E30: 12002 | F30: Գերմանիայի զարգացման բանկի աջակցությամբ իրականացվող Ախուրյան գետի ջրային ռեսուրսների ինտեգրված կառավարման փուլ 1 ծրագրով Ջրաձոր գյուղի վերաբնակեցման համար ենթակառուցվածքների և բնակելի տների կառուցում | G30: =G32 -> 0 | H30: =H32 -> -329436.3
F31: այդ թվում` ըստ կատարողների
F32: ՀՀ տարածքային կառավարման և ենթակառուցվածքների նախարարության ջրային կոմիտե | G32: =G38 -> 0 | H32: =H38 -> -329436.3
F33: այդ թվում` բյուջետային ծախսերի տնտեսագիտական դասակարգման հոդվածներ
F34: ԸՆԴԱՄԵՆԸ ԾԱԽՍԵՐ | G34: =G35 -> 0 | H34: =H35 -> -329436.3
F35: ՈՉ ՖԻՆԱՆՍԱԿԱՆ ԱԿՏԻՎՆԵՐԻ ԳԾՈՎ ԾԱԽՍԵՐ | G35: =G36 -> 0 | H35: =H36 -> -329436.3
F36: ՀԻՄՆԱԿԱՆ ՄԻՋՈՑՆԵՐ | G36: =G37 -> 0 | H36: =H37 -> -329436.3
F37: ՇԵՆՔԵՐ ԵՎ ՇԻՆՈՒԹՅՈՒՆՆԵՐ | G37: =G38 -> 0 | H37: =H38 -> -329436.3
F38: - Շենքերի և շինությունների շինարարություն | G38: 0 | H38: -329436.3
A39: 06 | F39: ԲՆԱԿԱՐԱՆԱՅԻՆ ՇԻՆԱՐԱՐՈՒԹՅՈՒՆ ԵՎ ԿՈՄՈՒՆԱԼ ԾԱՌԱՅՈՒԹՅՈՒՆՆԵՐ | G39: =G41 -> -51990 | H39: =H41 -> -51990
F40: այդ թվում`
B41: 03 | F41: Ջրամատակարարում | G41: =G43 -> -51990 | H41: =H43 -> -51990
F42: այդ թվում`
C43: 01 | F43: Ջրամատակարարում | G43: =G45 -> -51990 | H43: =H45 -> -51990
F44: այդ թվում`
F45: ՀՀ տարածքային կառավարման և ենթակառուցվածքների նախարարություն | G45: =G47 -> -51990 | H45: =H47 -> -51990
F46: այդ թվում`
D47: 1072 | F47: Ջրամատակարարման և ջրահեռացման բարելավում | G47: =G49 -> -51990 | H47: =H49 -> -51990
F48: այդ թվում`
E49: 31004 | F49: Եվրոպական միության հարևանության ներդրումային ծրագրի աջակցությամբ իրականացվող Երևանի ջրամատակարարման բարելավման դրամաշնորհային ծրագրի շրջանակներում Ջրամատակարարման և ջրահեռացման ենթակառուցվածքների հիմնանորոգում | G49: =G51 -> -51990 | H49: =H51 -> -51990
F50: այդ թվում` ըստ կատարողների
F51: ՀՀ տարածքային կառավարման և ենթակառուցվածքների նախարարության ջրային կոմիտե | G51: =G57 -> -51990 | H51: =H57 -> -51990
F52: այդ թվում` բյուջետային ծախսերի տնտեսագիտական դասակարգման հոդվածներ
F53: ԸՆԴԱՄԵՆԸ ԾԱԽՍԵՐ | G53: =G54 -> -51990 | H53: =H54 -> -51990
F54: ՈՉ ՖԻՆԱՆՍԱԿԱՆ ԱԿՏԻՎՆԵՐԻ ԳԾՈՎ ԾԱԽՍԵՐ | G54: =G55 -> -51990 | H54: =H55 -> -51990
F55: ՀԻՄՆԱԿԱՆ ՄԻՋՈՑՆԵՐ | G55: =G56 -> -51990 | H55: =H56 -> -51990
F56: ՇԵՆՔԵՐ ԵՎ ՇԻՆՈՒԹՅՈՒՆՆԵՐ | G56: =G57 -> -51990 | H56: =H57 -> -51990
F57: - Շենքերի և շինությունների կապիտալ վերանորոգում | G57: -51990 | H57: -51990
A58: 10 | F58: ՍՈՑԻԱԼԱԿԱՆ ՊԱՇՏՊԱՆՈՒԹՅՈՒՆ | G58: =G60 -> -127102.5 | H58: =H60 -> -669470
F59: այդ թվում`
B60: 06 | F60: Բնակարանային ապահովում | G60: =G62 -> -127102.5 | H60: =H62 -> -669470
F61: այդ թվում`
C62: 01 | F62: Բնակարանային ապահովում | G62: =G64 -> -127102.5 | H62: =H64 -> -669470
F63: այդ թվում`
F64: ՀՀ տարածքային կառավարման և ենթակառուցվածքների նախարարություն | G64: =G66 -> -127102.5 | H64: =H66 -> -669470
F65: այդ թվում`
D66: 1070 | F66: Աջակցություն փախստականների ինտեգրմանը | G66: =G68 -> -127102.5 | H66: =H68 -> -669470
F67: այդ թվում`
E68: 12003 | F68: 1988-1992 թվականներին Ադրբեջանից բռնագաղթված և Հայաստանի Հանրապետությունում ապաստանած փախստական ընտանիքների բնակարանային ապահովում | G68: =G70 -> -127102.5 | H68: =H70 -> -669470
F69: այդ թվում` ըստ կատարողների
F70: ՀՀ տարածքային կառավարման և ենթակառուցվածքների նախարարության միգրացիոն ծառայություն | G70: =G76 -> -127102.5 | H70: =H76 -> -669470
F71: այդ թվում` բյուջետային ծախսերի տնտեսագիտական դասակարգման հոդվածներ
F72: ԸՆԴԱՄԵՆԸ ԾԱԽՍԵՐ | G72: =G73 -> -127102.5 | H72: =H73 -> -669470
F73: ԸՆԹԱՑԻԿ ԾԱԽՍԵՐ | G73: =G74 -> -127102.5 | H73: =H74 -> -669470
F74: ԴՐԱՄԱՇՆՈՐՀՆԵՐ | G74: =G75 -> -127102.5 | H74: =H75 -> -669470
F75: Կապիտալ դրամաշնորհներ պետական հատվածի այլ մակարդակներին | G75: =G76 -> -127102.5 | H75: =H76 -> -669470
F76: - Այլ կապիտալ դրամաշնորհներ | G76: -127102.5 | H76: -669470
A77: 11 | F77: ՀԻՄՆԱԿԱՆ ԲԱԺԻՆՆԵՐԻՆ ՉԴԱՍՎՈՂ ՊԱՀՈՒՍՏԱՅԻՆ ՖՈՆԴԵՐ | G77: =G79 -> 1543343.2 | H77: =H79 -> 2415147
F78: այդ թվում`
B79: 01 | F79: ՀՀ կառավարության և համայնքների պահուստային ֆոնդ | G79: =G81 -> 1543343.2 | H79: =H81 -> 2415147
F80: այդ թվում`
C81: 01 | F81: ՀՀ կառավարության պահուստային ֆոնդ | G81: =G83 -> 1543343.2 | H81: =H83 -> 2415147
F82: այդ թվում`
F83: ՀՀ կառավարություն | G83: =G85 -> 1543343.2 | H83: =H85 -> 2415147
F84: այդ թվում`
D85: 1139 | F85: ՀՀ կառավարության պահուստային ֆոնդ | G85: =G87+G95 -> 1543343.2 | H85: =H87+H95 -> 2415147
F86: այդ թվում`
E87: 11001 | F87: ՀՀ կառավարության պահուստային ֆոնդ | G87: =G89 -> -2556656.8 | H87: =H89 -> -1684853
F88: այդ թվում` ըստ կատարողների
F89: ՀՀ կառավարություն | G89: =G91 -> -2556656.8 | H89: =H91 -> -1684853
F90: այդ թվում` բյուջետային ծախսերի տնտեսագիտական դասակարգման հոդվածներ
F91: ԸՆԴԱՄԵՆԸ ԾԱԽՍԵՐ | G91: =G92 -> -2556656.8 | H91: =H92 -> -1684853
F92: ԸՆԹԱՑԻԿ ԾԱԽՍԵՐ | G92: =G93 -> -2556656.8 | H92: =H93 -> -1684853
F93: ԱՅԼ ԾԱԽՍԵՐ | G93: =G94 -> -2556656.8 | H93: =H94 -> -1684853
F94: Պահուստային միջոցներ | G94: -2556656.8 | H94: -1684853
E95: 11001 | F95: ՀՀ կառավարության պահուստային ֆոնդ | G95: =G97 -> 4100000 | H95: =H97 -> 4100000
F96: այդ թվում` ըստ կատարողների
F97: ՀՀ կառավարություն | G97: =G99 -> 4100000 | H97: =H99 -> 4100000
F98: այդ թվում` բյուջետային ծախսերի տնտեսագիտական դասակարգման հոդվածներ
F99: ԸՆԴԱՄԵՆԸ ԾԱԽՍԵՐ | G99: =G100 -> 4100000 | H99: =H100 -> 4100000
F100: ԸՆԹԱՑԻԿ ԾԱԽՍԵՐ | G100: =G101 -> 4100000 | H100: =H101 -> 4100000
...

Sheet 5
I1: Հավելված N 5
I2: ՀՀ կառավարության 2021 թվականի
I3: ______________ ի ___Ն որոշման
A5: «ՀԱՅԱՍՏԱՆԻ ՀԱՆՐԱՊԵՏՈՒԹՅԱՆ 2021 ԹՎԱԿԱՆԻ ՊԵՏԱԿԱՆ ԲՅՈՒՋԵԻ ՄԱՍԻՆ» ՀԱՅԱՍՏԱՆԻ ՀԱՆՐԱՊԵՏՈՒԹՅԱՆ ՕՐԵՆՔԻ N 1 ՀԱՎԵԼՎԱԾԻ N 4 ԱՂՅՈՒՍԱԿՈՒՄ ԵՎ ՀԱՅԱՍՏԱՆԻ ՀԱՆՐԱՊԵՏՈՒԹՅԱՆ ԿԱՌԱՎԱՐՈՒԹՅԱՆ 2020 ԹՎԱԿԱՆԻ ԴԵԿՏԵՄԲԵՐԻ 30-Ի N 2215-Ն ՈՐՈՇՄԱՆ N 5 ՀԱՎԵԼՎԱԾԻ N 3 ԱՂՅՈՒՍԱԿՈՒՄ ԿԱՏԱՐՎՈՂ ՓՈՓՈԽՈՒԹՅՈՒՆՆԵՐԸ
I7: հազար դրամ
A8: Ծրագրային դասիչը | C8: Բյուջետային հատկացումների գլխավոր կարգադրիչների, ծրագրերի, միջոցառումների և միջոցառումները կատարող պետական մարմինների անվանումները | D8: Ցուցանիշների փոփոխությունը (նվազեցումները նշված են փակագծերում)
D10: Ինն ամիս | G10: Տարի
A11: ծրագիրը | B11: միջոցառումը | D11: ընդամենը | E11: այդ թվում՝ | G11: ընդամենը | H11: այդ թվում՝
E12: վարկային միջոցներ | F12: համաֆինան_x000D_ սավորում | H12: վարկային միջոցներ | I12: համաֆինան_x000D_ սավորում
C13: ԸՆԴԱՄԵՆԸ, այդ թվում` | D13: =E13+F13 -> 0 | E13: =E14+E15 -> 0 | F13: =F14+F15 -> 0 | G13: =H13+I13 -> -329436.3 | H13: =H14+H15 -> 0 | I13: =I14+I15 -> -329436.3
C14: - ԸՆԹԱՑԻԿ ԾԱԽՍԵՐ | D14: =+E14+F14 -> 0 | E14: 0 | F14: 0 | G14: =+H14+I14 -> 0 | H14: 0 | I14: 0
C15: - ՈՉ ՖԻՆԱՆՍԱԿԱՆ ԱԿՏԻՎՆԵՐԻ ԳԾՈՎ ԾԱԽՍԵՐ | D15: =E15+F15 -> 0 | E15: =+E23 -> 0 | F15: =+F23 -> 0 | G15: =H15+I15 -> -329436.3 | H15: =+H23 -> 0 | I15: =+I23 -> -329436.3
C16: ՀՀ ՏԱՐԱԾՔԱՅԻՆ ԿԱՌԱՎԱՐՄԱՆ ԵՎ ԵՆԹԱԿԱՌՈՒՑՎԱԾՔՆԵՐԻ ՆԱԽԱՐԱՐՈՒԹՅՈՒՆ այդ թվում՝ | D16: =+D17 -> 0 | E16: =+E17 -> 0 | F16: =+F17 -> 0 | G16: =+G17 -> -329436.3 | H16: =+H17 -> 0 | I16: =+I17 -> -329436.3
A17: 1004 | C17: Ոռոգման համակարգի առողջացում | D17: =+E17+F17 -> 0 | E17: =+E19 -> 0 | F17: =+F19 -> 0 | G17: =+H17+I17 -> -329436.3 | H17: =+H19 -> 0 | I17: =+I19 -> -329436.3
C18: այդ թվում՝
B19: 12002 | C19: Գերմանիայի զարգացման վարկերի բանկի աջակցությամբ իրականացվող Ախուրյան գետի ջրային ռեսուրսների ինտեգրացված կառավարման փուլի 1 ծրագրով Ջրաձոր գյուղի վերաբնակեցման համար ենթակառուցվածքնների և բնակելի տների կառուցում | D19: =+E19+F19 -> 0 | E19: =+E23 -> 0 | F19: =+F23 -> 0 | G19: =+H19+I19 -> -329436.3 | H19: =+H23 -> 0 | I19: =+I23 -> -329436.3
C20: այդ թվում` ըստ կատարողների
C21: ՀՀ տարածքային կառավարման և ենթակառուցվածքների նախարարության ջրային կոմիտե | D21: =E21+F21 -> 0 | E21: =E19 -> 0 | F21: =F19 -> 0 | G21: =H21+I21 -> -329436.3 | H21: =H19 -> 0 | I21: =I19 -> -329436.3
C22: այդ թվում` բյուջետային ծախսերի տնտեսագիտական դասակարգման հոդվածներ
C23: ՈՉ ՖԻՆԱՆՍԱԿԱՆ ԱԿՏԻՎՆԵՐԻ ԳԾՈՎ ԾԱԽՍԵՐ | D23: =E23+F23 -> 0 | E23: =+E24 -> 0 | F23: =+F24 -> 0 | G23: =H23+I23 -> -329436.3 | H23: =+H24 -> 0 | I23: =+I24 -> -329436.3
C24: Շենքերի և շինությունների շինարարություն | D24: =E24+F24 -> 0 | E24: 0 | F24: 0 | G24: =H24+I24 -> -329436.3 | H24: =+E24 -> 0 | I24: ='4'!H38 -> -329436.3

Sheet 6
I1: Հավելված N 6
I2: ՀՀ կառավարության 2021 թվականի
I3: ______________ ի ___Ն որոշման
A5: «ՀԱՅԱՍՏԱՆԻ ՀԱՆՐԱՊԵՏՈՒԹՅԱՆ 2021 ԹՎԱԿԱՆԻ ՊԵՏԱԿԱՆ ԲՅՈՒՋԵԻ ՄԱՍԻՆ» ՀԱՅԱՍՏԱՆԻ ՀԱՆՐԱՊԵՏՈՒԹՅԱՆ ՕՐԵՆՔԻ N 1 ՀԱՎԵԼՎԱԾԻ N 5 ԱՂՅՈՒՍԱԿՈՒՄ ԵՎ ՀԱՅԱՍՏԱՆԻ ՀԱՆՐԱՊԵՏՈՒԹՅԱՆ ԿԱՌԱՎԱՐՈՒԹՅԱՆ 2020 ԹՎԱԿԱՆԻ ԴԵԿՏԵՄԲԵՐԻ 30-Ի N 2215-Ն ՈՐՈՇՄԱՆ N 5 ՀԱՎԵԼՎԱԾԻ N 4 ԱՂՅՈՒՍԱԿՈՒՄ ԿԱՏԱՐՎՈՂ ՓՈՓՈԽՈՒԹՅՈՒՆՆԵՐԸ
I7: հազար դրամ
A8: Ծրագրային դասիչը | C8: Բյուջետային հատկացումների գլխավոր կարգադրիչների, ծրագրերի, միջոցառումների և միջոցառումները կատարող պետական մարմինների անվանումները | D8: Ցուցանիշների փոփոխությունը (նվազեցումները նշված են փակագծերում)
D10: Ինն ամիս | G10: Տարի
A11: ծրագիրը | B11: միջոցառումը | D11: ընդամենը | E11: այդ թվում՝ | G11: ընդամենը | H11: այդ թվում՝
E12: Դրամաշնոր_x000D_ հային միջոցներ | F12: համաֆինան_x000D_ սավորում | H12: Դրամաշնոր_x000D_ հային միջոցներ | I12: համաֆինան_x000D_ սավորում
C13: ԸՆԴԱՄԵՆԸ, այդ թվում` | D13: =E13+F13 -> -51990 | E13: =E14+E15 -> 0 | F13: =F14+F15 -> -51990 | G13: =H13+I13 -> -51990 | H13: =H14+H15 -> 0 | I13: =I14+I15 -> -51990
C14: - ԸՆԹԱՑԻԿ ԾԱԽՍԵՐ | D14: =+E14+F14 -> 0 | E14: 0 | F14: 0 | G14: =+H14+I14 -> 0 | H14: 0 | I14: 0
C15: - ՈՉ ՖԻՆԱՆՍԱԿԱՆ ԱԿՏԻՎՆԵՐԻ ԳԾՈՎ ԾԱԽՍԵՐ | D15: =E15+F15 -> -51990 | E15: =+E23 -> 0 | F15: =+F23 -> -51990 | G15: =H15+I15 -> -51990 | H15: =+H23 -> 0 | I15: =+I23 -> -51990
C16: ՀՀ ՏԱՐԱԾՔԱՅԻՆ ԿԱՌԱՎԱՐՄԱՆ ԵՎ ԵՆԹԱԿԱՌՈՒՑՎԱԾՔՆԵՐԻ ՆԱԽԱՐԱՐՈՒԹՅՈՒՆ այդ թվում՝ | D16: =+D17 -> -51990 | E16: =+E17 -> 0 | F16: =+F17 -> -51990 | G16: =+G17 -> -51990 | H16: =+H17 -> 0 | I16: =+I17 -> -51990
A17: 1072 | C17: Ջրամատակարարման և ջրահեռացման բարելավում | D17: =+E17+F17 -> -51990 | E17: =+E19 -> 0 | F17: =+F19 -> -51990 | G17: =+H17+I17 -> -51990 | H17: =+H19 -> 0 | I17: =+I19 -> -51990
C18: այդ թվում՝
B19: 31004 | C19: Եվրոպական միության հարևանության ներդրումային ծրագրի աջակցությամբ իրականացվող_x000D_ Երևանի ջրամատակարարման բարելավման դրամաշնորհային ծրագրի շրջանակներում Ջրամատակարարման և ջրահեռացման ենթակառուցվածքների հիմնանորոգում | D19: =+E19+F19 -> -51990 | E19: =+E21 -> 0 | F19: =+F21 -> -51990 | G19: =+H19+I19 -> -51990 | H19: =+H21 -> 0 | I19: =+I21 -> -51990
C20: այդ թվում` ըստ կատարողների
C21: ՀՀ տարածքային կառավարման և ենթակառուցվածքների նախարարության ջրային կոմիտե | D21: =E21+F21 -> -51990 | E21: =+E23 -> 0 | F21: =+F23 -> -51990 | G21: =H21+I21 -> -51990 | H21: =+H23 -> 0 | I21: =+I23 -> -51990
C22: այդ թվում` բյուջետային ծախսերի տնտեսագիտական դասակարգման հոդվածներ
C23: ՈՉ ՖԻՆԱՆՍԱԿԱՆ ԱԿՏԻՎՆԵՐԻ ԳԾՈՎ ԾԱԽՍԵՐ | D23: =E23+F23 -> -51990 | E23: =+SUM(E24:E24) -> 0 | F23: =+SUM(F24:F24) -> -51990 | G23: =H23+I23 -> -51990 | H23: =+SUM(H24:H24) -> 0 | I23: =+SUM(I24:I24) -> -51990
C24: - Շենքերի և շինությունների կապիտալ վերանորոգում | D24: =E24+F24 -> -51990 | E24: 0 | F24: ='4'!G57 -> -51990 | G24: =H24+I24 -> -51990 | H24: =+E24 -> 0 | I24: =+F24 -> -51990

Sheet 7
G1: Հավելված N 7
A2: ՀՀ կառավարության 2021 թվականի
A3: -ի N -Ն որոշման
A5: ՀԱՅԱՍՏԱՆԻ ՀԱՆՐԱՊԵՏՈՒԹՅԱՆ ԿԱՌԱՎԱՐՈՒԹՅԱՆ 2020 ԹՎԱԿԱՆԻ ԴԵԿՏԵՄԲԵՐԻ 30-Ի N 2215-Ն ՈՐՈՇՄԱՆ N 5 ՀԱՎԵԼՎԱԾԻ N 8 ԱՂՅՈՒՍԱԿՈՒՄ ԿԱՏԱՐՎՈՂ ՓՈՓՈԽՈՒԹՅՈՒՆՆԵՐԸ
F6: հազար դրամ
A7: Ծրագրային դասիչը | C7: Բյուջետային հատկացումների գլխավոր կարգադրիչների, ծրագրերի, միջոցառումների, ծախսային ուղղությունների և միջոցները ստացող իրավաբանական անձ հանդիսացող սուբյեկտների անվանումները | F7: Միջոցառումները կատարող պետական մարմինների և տնտեսվարող սուբյեկտների անվանումները | G7: Ցուցանիշների փոփոխությունը (ավելացումները նշված են դրական նշանով)
G8: Տարի
A9: Ծրագիր | B9: Միջոցառում
C10: ԸՆԴԱՄԵՆԸ | G10: =G11 -> 2735749.3
A11: ՀՀ տարածքային կառավարման և ենթակառուցվածքների նախարարություն | G11: =G12 -> 2735749.3
A12: 1004 | C12: Ոռոգման համակարգի առողջացում | G12: =+G13 -> 2735749.3
B13: 12001 | C13: Աջակցություն ոռոգման համակարգի առողջացմանը | F13: ՀՀ տարածքային կառավարման և ենթակառուցվածքների նախարարության ջրային կոմիտե | G13: =G15 -> 2735749.3
C14: այդ թվում՝ ըստ տնտեսվարող սուբյեկտների
F15: «Երևան» ՋՕԸ, «Արտաշատ» ՋՕԸ, «Արարատ» ՋՕԸ, «Արմավիր» ՋՕԸ, «Շենիկ» ՋՕԸ, «Արագածոտն» ՋՕԸ, «Թալին» ՋՕԸ, «Կոտայք» ՋՕԸ, «Գեղարքունիք» ՋՕԸ, «Շիրակ» ՋՕԸ, «Տավուշ» ՋՕԸ, «Լոռի» ՋՕԸ, «Եղեգնաձոր» ՋՕԸ, «Սյունիք» ՋՕԸ, «Էջմիածին» ՋՕԸ | G15: ='4'!H21 -> 2735749.3

Sheet 8
A1: Հավելված N 8 | D1: Հավելված N 8
A2: ՀՀ կառավարության 2021 թվականի | D2: ՀՀ կառավարության 2021 թվականի
A3: ______________ ի ___Ն որոշման | D3: ______________ ի ___Ն որոշման
A5: ՀԱՅԱՍՏԱՆԻ ՀԱՆՐԱՊԵՏՈՒԹՅԱՆ ԿԱՌԱՎԱՐՈՒԹՅԱՆ 2020 ԹՎԱԿԱՆԻ ԴԵԿՏԵՄԲԵՐԻ 30-Ի N 2215-Ն ՈՐՈՇՄԱՆ N 6 ՀԱՎԵԼՎԱԾՈՒՄ ԿԱՏԱՐՎՈՂ ՓՈՓՈԽՈՒԹՅՈՒՆՆԵՐԸ
B7: Եկամտատեսակը | C7: Գանձման համար պատասխանատու պետական կառավարման մարմին(ներ)ը | D7: Ցուցանիշների փոփոխությունը (ավելացումները նշված են դրական նշանով)
D8: 2021 թվական
D9: Ինն ամիս | E9: Տարի
A10: Պետական տուրք, ընդամենը | D10: =D12 -> 4100000 | E10: =D10 -> 4100000
B11: այդ թվում` | E11: =D11 -> 0
A12: 9 | B12: Լիցենզավորման ենթակա գործունեություն իրականացնելու նպատակով լիցենզիաներ, արտոնագրեր (թույլտվություններ) տալու համար | D12: =D14 -> 4100000 | E12: =D12 -> 4100000
B13: այդ թվում` | E13: =D13 -> 0
A14: 9.2 | B14: Այլ լիցենզիաների համար | C14: ՀՀ էկոնոմիկայի նախարարություն | D14: 4100000 | E14: =D14 -> 4100000

Sheet 9-1
D1: Հավելված N 9
D2: ՀՀ կառավարության 2021 թվականի
D3: -ի N -Ն որոշման
A5: Աղյուսակ N 1
A6: ՀԱՅԱՍՏԱՆԻ ՀԱՆՐԱՊԵՏՈՒԹՅԱՆ ԿԱՌԱՎԱՐՈՒԹՅԱՆ 2020 ԹՎԱԿԱՆԻ ԴԵԿՏԵՄԲԵՐԻ 30-Ի N2215-Ն ՈՐՈՇՄԱՆ N 9 ՀԱՎԵԼՎԱԾԻ N 9.8 ԵՎ N 9.47 ԱՂՅՈՒՍԱԿՆԵՐՈՒՄ ԿԱՏԱՐՎՈՂ ՓՈՓՈԽՈՒԹՅՈՒՆՆԵՐԸ
D7: Աղյուսակ 9.8
A8: ՀՀտարածքային կառավարման և ենթակառուցվաքների նախարարություն
A9: ՄԱՍ 2. ՊԵՏԱԿԱՆ ՄԱՐՄՆԻ ԳԾՈՎ ԱՐԴՅՈՒՆՔԱՅԻՆ (ԿԱՏԱՐՈՂԱԿԱՆ) ՑՈՒՑԱՆԻՇՆԵՐԸ
A11: Ծրագրի դասիչը | B11: Ծրագրի անվանումը
A12: 1004 | B12: Ոռոգման համակարգի առողջացում
A14: Ծրագրի դասիչը` | B14: 1004 | C14: Ցուցանիշների փոփոխությունը (ավելացումները նշված են դրական նշանով)
A15: Միջոցառման դասիչը` | B15: 12001 | C15: Ինն ամիս | D15: Տարի
A16: Միջոցառման անվանումը` | B16: Աջակցություն ոռոգման համակարգի առողջացմանը
A17: Նկարագրությունը` | B17: Աջակցությունոռոգման համակարգի ընկերությունների ֆինանսական կենսունակության բարելավման նպատակով իրականացվող միջոցառումներին
A18: Միջոցառման տեսակը` | B18: ='[1]1'!C30 -> Տրանսֆերտների տրամադրում
A19: Շահառուների ընտրության չափորոշիչները՛ | B19: Ոռոգման համակարգի ընկերություններ
A20: Արդյունքի չափորոշիչներ
A21: Ջրամատակարարման ծավալ մլն խմ
A22: Ոռոգվող հողատարածքներում մատակարարվող միջին ջրի ծավալ, խմ/հա
A23: Միջոցառման վրա կատարվող ծախսը (հազար դրամ) | C23: 2735749.3 | D23: 2735749.3
A25: Ծրագրի դասիչը` | B25: 1004 | C25: Ցուցանիշների փոփոխությունը (նվազեցումները նշված են փակագծերում)
A26: Միջոցառման դասիչը` | B26: 12002 | C26: Ինն ամիս | D26: Տարի
A27: Միջոցառման անվանումը` | B27: Գերմանիայի զարգացման բանկի աջակցությամբ իրականացվող Ախուրյան գետի ջրային ռեսուրսների ինտեգրված կառավարման փուլ 1 ծրագրով Ջրաձոր գյուղի վերաբնակեցման համար ենթակառուցվածքների և բնակելի տների կառուցում
A28: Նկարագրությունը` | B28: Գերմանիայի զարգացման բանկի աջակցությամբ իրականացվող Ախուրյան գետի ջրային ռեսուրսների ինտեգրված կառավարման փուլ 1 ծրագիր
A29: Միջոցառման տեսակը` | B29: Տրանսֆերտների տրամադրում
A30: Ակտիվն օգտագործող կազմակերպությունների անվանում | B30: Մասնագիտացված միավոր
A31: Արդյունքի չափորոշիչներ
A32: Ջրամատակարարման ծավալ մլն խմ
A33: Ոռոգվող հողատարածքներում մատակարարվող միջին ջրի ծավալ, խմ/հա
A34: Միջոցառման վրա կատարվող ծախսը (հազար դրամ) | C34: 0 | D34: -329436.3
A36: Ծրագրի դասիչը | B36: Ծրագրի անվանումը
A37: 1070 | B37: Աջակցություն փախստականների ինտեգրմանը
A39: Ծրագրի դասիչը` | B39: 1070 | C39: Ցուցանիշների փոփոխությունը (նվազեցումները նշված են փակագծերում)
A40: Միջոցառման դասիչը` | B40: 12003 | C40: Ինն ամիս | D40: Տարի
A41: Միջոցառման անվանումը` | B41: 1988-1992 թվականներին Ադրբեջանից բռնագաղթված և Հայաստանի Հանրապետությունում ապաստանած փախստական ընտանիքների բնակարանային ապահովում
A42: Նկարագրությունը` | B42: 1988-1992 թվականներին Ադրբեջանից բռնագաղթված և Հայաստանի Հանրապետությունում ապաստանած բնակության վայր չունեցող փախստական ընտանիքներին բնակարանային ապահովման աջակցություն
A43: Միջոցառման տեսակը` | B43: Տրանսֆերտների տրամադրում
A44: Շահառուների ընտրության չափանիշներ | B44: Ադրբեջանից բռնագաղթված, Հայաստանի Հանրապետությունում քաղաքացիություն ստացած բնակության վայր չունեցող ընտանիքներ
A45: Արդյունքի չափորոշիչներ
A46: Ջրամատակարարման ծավալ մլն խմ
A47: Ոռոգվող հողատարածքներում մատակարարվող միջին ջրի ծավալ, խմ/հա
A48: Միջոցառման վրա կատարվող ծախսը (հազար դրամ) | C48: -127102.5 | D48: -669470
A50: Ծրագրի դասիչը | B50: Ծրագրի անվանումը
A51: 1072 | B51: Ջրամատակարարման և ջրահեռացման բարելավում
A53: Ծրագրի դասիչը` | B53: 1072 | C53: Ցուցանիշների փոփոխությունը (նվազեցումները նշված են փակագծերում)
A54: Միջոցառման դասիչը` | B54: 31004 | C54: Ինն ամիս | D54: Տարի
A55: Միջոցառման անվանումը` | B55: Եվրոպական միության հարևանության ներդրումային ծրագրի աջակցությամբ իրականացվող Երևանի ջրամատակարարման բարելավման դրամաշնորհային ծրագրի շրջանակներում Ջրամատակարարման և ջրահեռացման ենթակառուցվածքների հիմնանորոգում
A56: Նկարագրությունը` | B56: Երևանի ջրամատակարարման ցանցի բարելավման աշխատանքներ
A57: Միջոցառման տեսակը` | B57: Պետական մարմինների կողմից օգտագործվող ոչ ֆինանսական ակտիվների հետ գործառնություններ
A58: Ակտիվն օգտագործող կազմակերպության(ների) անվանում(ները)՛ | B58: Մասնագիտացված միավոր
A59: Արդյունքի չափորոշիչներ
A60: Ջրամատակարարման ծավալ մլն խմ
A61: Ոռոգվող հողատարածքներում մատակարարվող միջին ջրի ծավալ, խմ/հա
A62: Միջոցառման վրա կատարվող ծախսը (հազար դրամ) | C62: -51990 | D62: -51990
D64: Աղյուսակ 9.47
A65: ՀՀ կառավարություն
A66: ՄԱՍ 2. ՊԵՏԱԿԱՆ ՄԱՐՄՆԻ ԳԾՈՎ ԱՐԴՅՈՒՆՔԱՅԻՆ (ԿԱՏԱՐՈՂԱԿԱՆ) ՑՈՒՑԱՆԻՇՆԵՐԸ
A68: Ծրագրի դասիչը | B68: Ծրագրի անվանումը
A69: 1139 | B69: ՀՀ կառավարության պահուստային ֆոնդ
A71: Ծրագրի միջոցառումները
A73: Ծրագրի դասիչը` | B73: 1139 | C73: Ցուցանիշների փոփոխությունը (նվազեցումները նշված են փակագծերում)
A74: Միջոցառման դասիչը` | B74: 11001 | C74: Ինն ամիս | D74: Տարի
A75: Միջոցառման անվանումը` | B75: ՀՀ կառավարության պահուստային ֆոնդ
A76: Նկարագրությունը` | B76: ՀՀ պետական բյուջեում նախատեսված ելքերի լրացուցիչ ֆինանսավորման՝ պետական բյուջեում չկանխատեսված ելքերի՝ ինչպես նաև բյուջետային երաշխիքների ապահովման ելքերի ֆինանսավորման ապահովում
A77: Միջոցառման տեսակը` | B77: Ծառայությունների մատուցում
A78: Միջոցառումն իրականացնողի անվանումը | B78: ՀՀ կառավարություն
A79: Արդյունքի չափորոշիչներ
A80: Միջոցառման վրա կատարվող ծախսը (հազար դրամ) | C80: -2556656.8 | D80: -1684853
A82: Ծրագրի դասիչը` | B82: 1139 | C82: Ցուցանիշների փոփոխությունը (ավելացումները նշված են դրական նշանով)
A83: Միջոցառման դասիչը` | B83: 11001 | C83: Ինն ամիս | D83: Տարի
A84: Միջոցառման անվանումը` | B84: ՀՀ կառավարության պահուստային ֆոնդ
A85: Նկարագրությունը` | B85: ՀՀ պետական բյուջեում նախատեսված ելքերի լրացուցիչ ֆինանսավորման՝ պետական բյուջեում չկանխատեսված ելքերի՝ ինչպես նաև բյուջետային երաշխիքների ապահովման ելքերի ֆինանսավորման ապահովում
A86: Միջոցառման տեսակը` | B86: Ծառայությունների մատուցում
A87: Միջոցառումն իրականացնողի անվանումը | B87: ՀՀ կառավարություն
A88: Արդյունքի չափորոշիչներ
A89: Միջոցառման վրա կատարվող ծախսը (հազար դրամ) | C89: 4100000 | D89: 4100000

Sheet 9-2
A1: Աղյուսակ N 2
A2: ՀԱՅԱՍՏԱՆԻ ՀԱՆՐԱՊԵՏՈՒԹՅԱՆ ԿԱՌԱՎԱՐՈՒԹՅԱՆ 2020 ԹՎԱԿԱՆԻ ԴԵԿՏԵՄԲԵՐԻ 30-Ի N 2215-Ն ՈՐՈՇՄԱՆ N 9.1 ՀԱՎԵԼՎԱԾԻ N 9.1.26, 9.1.35 ԵՎ N 9.1.58 ԱՂՅՈՒՍԱԿՆԵՐՈՒՄ ԿԱՏԱՐՎՈՂ ՓՈՓՈԽՈՒԹՅՈՒՆՆԵՐԸ
D5: Աղյուսակ 9.1.26
A6: ՀՀ տարածքային կառավարման և ենթակառուցվածքների նախարարության ջրային կոմիտե
A7: ՄԱՍ 1. ՊԵՏԱԿԱՆ ՄԱՐՄՆԻ ԳԾՈՎ ԱՐԴՅՈՒՆՔԱՅԻՆ (ԿԱՏԱՐՈՂԱԿԱՆ) ՑՈՒՑԱՆԻՇՆԵՐԸ
A8: Ծրագրի դասիչը | B8: Ծրագրի անվանումը
A9: 1004 | B9: Ոռոգման համակարգի առողջացում
A10: Ծրագրի դասիչը` | B10: 1004 | C10: Ցուցանիշների փոփոխությունը (ավելացումները նշված են դրական նշանով)
A11: Միջոցառման դասիչը` | B11: 12001 | C11: Ինն ամիս | D11: Տարի
A12: Միջոցառման անվանումը` | B12: ='[1]1'!C24 -> Ծառայությունների մատուցում
A13: Նկարագրությունը` | B13: ='[1]1'!C26 -> Աջակցություն ոռոգման համակարգի առողջացմանը
A14: Միջոցառման տեսակը` | B14: ='[1]1'!C28 -> Աջակցություն ոռոգման համակարգի ընկերությունների ֆինանսական կենսունակության բարելավման նպատակով իրականացվող միջոցառումներին
A15: Շահառուների ընտրության չափորոշիչները | B15: Ոռոգման համակարգի ընկերություններ
A16: Արդյունքի չափորոշիչներ
A17: Ջրամատակարարման ծավալ մլն խմ
A18: Ոռոգվող հողատարածքներում մատակարարվող միջին ջրի ծավալ, խմ/հա
A19: Միջոցառման վրա կատարվող ծախսը (հազար դրամ) | C19: 2735749.3 | D19: 2735749.3
A21: Ծրագրի դասիչը` | B21: 1004 | C21: Ցուցանիշների փոփոխությունը (նվազեցումները նշված են փակագծերում)
A22: Միջոցառման դասիչը` | B22: 12002 | C22: Ինն ամիս | D22: Տարի
A23: Միջոցառման անվանումը` | B23: Գերմանիայի զարգացման բանկի աջակցությամբ իրականացվող Ախուրյան գետի ջրային ռեսուրսների ինտեգրված կառավարման փուլ 1 ծրագրով Ջրաձոր գյուղի վերաբնակեցման համար ենթակառուցվածքների և բնակելի տների կառուցում
A24: Նկարագրությունը` | B24: Գերմանիայի զարգացման բանկի աջակցությամբ իրականացվող Ախուրյան գետի ջրային ռեսուրսների ինտեգրված կառավարման փուլ 1 ծրագիր
A25: Միջոցառման տեսակը` | B25: Տրանսֆերտների տրամադրում
A26: Ակտիվն օգտագործող կազմակերպությունների անվանում | B26: Մասնագիտացված միավոր
A27: Արդյունքի չափորոշիչներ
A28: Ջրամատակարարման ծավալ մլն խմ
A29: Ոռոգվող հողատարածքներում մատակարարվող միջին ջրի ծավալ, խմ/հա
A30: Միջոցառման վրա կատարվող ծախսը (հազար դրամ) | C30: 0 | D30: -329436.3
A32: Ծրագրի դասիչը | B32: Ծրագրի անվանումը
A33: 1072 | B33: Ջրամատակարարման և ջրահեռացման բարելավում
A34: Ծրագրի դասիչը` | B34: 1072 | C34: Ցուցանիշների փոփոխությունը (նվազեցումները նշված են փակագծերում)
A35: Միջոցառման դասիչը` | B35: 31004 | C35: Ինն ամիս | D35: Տարի
A36: Միջոցառման անվանումը` | B36: Եվրոպական միության հարևանության ներդրումային ծրագրի աջակցությամբ իրականացվող Երևանի ջրամատակարարման բարելավման դրամաշնորհային ծրագրի շրջանակներում Ջրամատակարարման և ջրահեռացման ենթակառուցվածքների հիմնանորոգում
A37: Նկարագրությունը` | B37: Երևանի ջրամատակարարման ցանցի բարելավման աշխատանքներ
A38: Միջոցառման տեսակը` | B38: Պետական մարմինների կողմից օգտագործվող ոչ ֆինանսական ակտիվների հետ գործառնություններ
A39: Ակտիվն օգտագործող կազմակերպության(ների) անվանում(ները)՛ | B39: Մասնագիտացված միավոր
A40: Արդյունքի չափորոշիչներ
A41: Ջրամատակարարման ծավալ մլն խմ
A42: Ոռոգվող հողատարածքներում մատակարարվող միջին ջրի ծավալ, խմ/հա
A43: Միջոցառման վրա կատարվող ծախսը (հազար դրամ) | C43: -51990 | D43: -51990
D45: Աղյուսակ 9.1.35
A46: ՀՀ տարածքային կառավարման և ենթակառուցվածքների նախարարության միգրացիոն ծառայություն
A47: Ծրագրի դասիչը | B47: Ծրագրի անվանումը
A48: 1070 | B48: Աջակցություն փախստականների ինտեգրմանը
A50: Ծրագրի դասիչը` | B50: 1070 | C50: Ցուցանիշների փոփոխությունը (նվազեցումները նշված են փակագծերում)
A51: Միջոցառման դասիչը` | B51: 12003 | C51: Ինն ամիս | D51: Տարի
A52: Միջոցառման անվանումը` | B52: 1988-1992 թվականներին Ադրբեջանից բռնագաղթված և Հայաստանի Հանրապետությունում ապաստանած փախստական ընտանիքների բնակարանային ապահովում
A53: Նկարագրությունը` | B53: 1988-1992 թվականներին Ադրբեջանից բռնագաղթված և Հայաստանի Հանրապետությունում ապաստանած բնակության վայր չունեցող փախստական ընտանիքներին բնակարանային ապահովման աջակցություն
A54: Միջոցառման տեսակը` | B54: Տրանսֆերտների տրամադրում
A55: Շահառուների ընտրության չափանիշներ | B55: Ադրբեջանից բռնագաղթված, Հայաստանի Հանրապետությունում քաղաքացիություն ստացած բնակության վայր չունեցող ընտանիքներ
A56: Արդյունքի չափորոշիչներ
A57: Ջրամատակարարման ծավալ մլն խմ
A58: Ոռոգվող հողատարածքներում մատակարարվող միջին ջրի ծավալ, խմ/հա
A59: Միջոցառման վրա կատարվող ծախսը (հազար դրամ) | C59: -127102.5 | D59: -669470
A62: ՀՀ կառավարություն | D62: Աղյուսակ 9.1.58
A64: ՄԱՍ 2. ՊԵՏԱԿԱՆ ՄԱՐՄՆԻ ԳԾՈՎ ԱՐԴՅՈՒՆՔԱՅԻՆ (ԿԱՏԱՐՈՂԱԿԱՆ) ՑՈՒՑԱՆԻՇՆԵՐԸ
A66: Ծրագրի դասիչը | B66: Ծրագրի անվանումը
A67: 1139 | B67: ՀՀ կառավարության պահուստային ֆոնդ
A69: Ծրագրի միջոցառումները
A71: Ծրագրի դասիչը` | B71: 1139 | C71: Ցուցանիշների փոփոխությունը (նվազեցումները նշված են փակագծերում)
A72: Միջոցառման դասիչը` | B72: 11001 | C72: Ինն ամիս | D72: Տարի
A73: Միջոցառման անվանումը` | B73: ՀՀ կառավարության պահուստային ֆոնդ
A74: Նկարագրությունը` | B74: ՀՀ պետական բյուջեում նախատեսված ելքերի լրացուցիչ ֆինանսավորման՝ պետական բյուջեում չկանխատեսված ելքերի՝ ինչպես նաև բյուջետային երաշխիքների ապահովման ելքերի ֆինանսավորման ապահովում
A75: Միջոցառման տեսակը` | B75: Ծառայությունների մատուցում
A76: Միջոցառումն իրականացնողի անվանումը | B76: ՀՀ կառավարություն
A77: Արդյունքի չափորոշիչներ
A78: Միջոցառման վրա կատարվող ծախսը (հազար դրամ) | C78: ='9-1'!C80 -> -2556656.8 | D78: ='9-1'!D80 -> -1684853
A80: Ծրագրի դասիչը` | B80: 1139 | C80: Ցուցանիշների փոփոխությունը (ավելացումները նշված են դրական նշանով)
A81: Միջոցառման դասիչը` | B81: 11001 | C81: Ինն ամիս | D81: Տարի
A82: Միջոցառման անվանումը` | B82: ՀՀ կառավարության պահուստային ֆոնդ
A83: Նկարագրությունը` | B83: ՀՀ պետական բյուջեում նախատեսված ելքերի լրացուցիչ ֆինանսավորման՝ պետական բյուջեում չկանխատեսված ելքերի՝ ինչպես նաև բյուջետային երաշխիքների ապահովման ելքերի ֆինանսավորման ապահովում
A84: Միջոցառման տեսակը` | B84: Ծառայությունների մատուցում
A85: Միջոցառումն իրականացնողի անվանումը | B85: ՀՀ կառավարություն
A86: Արդյունքի չափորոշիչներ
A87: Միջոցառման վրա կատարվող ծախսը (հազար դրամ) | C87: 4100000 | D87: 4100000

Sheet 10
C1: Հավելված N 10
C2: ՀՀ կառավարության 2021 թվականի
C3: ______________N______-Ն որոշման
A6: Ց Ա Ն Կ
A7: ՋՐՕԳՏԱԳՈՐԾՈՂՆԵՐԻ ԸՆԿԵՐՈՒԹՅՈՒՆՆԵՐԻ ԿՐԵԴԻՏՈՐԱԿԱՆ ՊԱՐՏԱՎՈՐՈՒԹՅՈՒՆՆՐԸ ՄԱՐԵԼՈՒ ՎԵՐԱԲԵՐՅԱԼ
C9: հազար դրամ
A10: 1 | B10: «Երևան» ՋՕԸ | C10: 29152.7
A11: 2 | B11: «Արտաշատ» ՋՕԸ | C11: 402201.3
A12: 3 | B12: «Արարատ» ՋՕԸ | C12: 281769.4
A13: 4 | B13: «Արմավիր» ՋՕԸ | C13: 310914.85
A14: 5 | B14: «Էջմիածին» ՋՕԸ | C14: 600480.6
A15: 6 | B15: «Շենիկ» ՋՕԸ | C15: 96440.9
A16: 7 | B16: «Արագածոտն» ՋՕԸ | C16: 56544.2
A17: 8 | B17: «Թալին» ՋՕԸ | C17: 183975.2
A18: 9 | B18: «Կոտայք» ՋՕԸ | C18: 121609.5
A19: 10 | B19: «Գեղարքունիք» ՋՕԸ | C19: 258779.3
A20: 11 | B20: «Շիրակ» ՋՕԸ | C20: 78513.4
A21: 12 | B21: «Տավուշ» ՋՕԸ | C21: 148022.6
... A24: 15 | B24: «Սյունիք» ՋՕԸ | C24: 86878.124
B25: ԸՆԴԱՄԵՆԸ | C25: =SUM(C10:C24) -> 2735749.3
