Workbook
Name AgencyCode: #REF!
Name AgencyCode: #REF!
Name AgencyCode: #REF!
Name AgencyCode: #REF!
Name AgencyCode: #REF!
Name AgencyName: #REF!
Name AgencyName: #REF!
Name AgencyName: #REF!
Name AgencyName: #REF!
Name AgencyName: #REF!
Name davit: #REF!
Name davit: #REF!
Name davit: #REF!
Name davit: #REF!
Name Functional1: #REF!
Name Functional1: #REF!
Name Functional1: #REF!
Name Functional1: #REF!
Name Functional1: #REF!
Name ggg: #REF!
Name ggg: #REF!
Name ggg: #REF!
Name ggg: #REF!
Name ggg: #REF!
Name hav: #REF!
Name hav: #REF!
Name PANature: #REF!
Name PANature: #REF!
Name PANature: #REF!
Name PANature: #REF!
Name PANature: #REF!
Name PAType: #REF!
Name PAType: #REF!
Name PAType: #REF!
Name PAType: #REF!
Name PAType: #REF!
Name Performance2: #REF!
Name Performance2: #REF!
Name Performance2: #REF!
Name Performance2: #REF!
Name Performance2: #REF!
Name PerformanceType: #REF!
Name PerformanceType: #REF!
Name PerformanceType: #REF!
Name PerformanceType: #REF!
Name PerformanceType: #REF!
Name Հավելված: #REF!
Name Հավելված: #REF!
Name Հավելված: #REF!
Name Հավելված: #REF!
Name Մաս: #REF!
Name Մաս: #REF!
Name Մաս: #REF!
Name Մաս: #REF!
Name շախմատիստ: #REF!
Name շախմատիստ: #REF!
Name շախմատիստ: #REF!
Name շախմատիստ: #REF!
Name շախմատիստ: #REF!
Name վֆյգյգ: #REF!

Sheet havelvac 1
E1: Հավելված 1
C2: ՀՀ կառավարության 2021 թվականի
C3: ______________ ի ___Ն որոշման
A5: «ՀԱՅԱUՏԱՆԻ ՀԱՆՐԱՊԵՏՈՒԹՅԱՆ 2021 ԹՎԱԿԱՆԻ ՊԵՏԱԿԱՆ ԲՅՈՒՋԵԻ ՄԱUԻՆ» ՀԱՅԱUՏԱՆԻ ՀԱՆՐԱՊԵՏՈՒԹՅԱՆ OՐԵՆՔԻ N 1 ՀԱՎԵԼՎԱԾԻ N 2 ԱՂՅՈՒՍԱԿՈՒՄ ԿԱՏԱՐՎՈՂ ՎԵՐԱԲԱՇԽՈՒՄԸ ԵՎ ՀԱՅԱՍՏԱՆԻ ՀԱՆՐԱՊԵՏՈՒԹՅԱՆ ԿԱՌԱՎԱՐՈՒԹՅԱՆ 2020 ԹՎԱԿԱՆԻ ԴԵԿՏԵՄԲԵՐԻ 30-Ի ԹԻՎ 2215-Ն ՈՐՈՇՄԱՆ N 5 ՀԱՎԵԼՎԱԾԻ N 1 ԱՂՅՈՒՍԱԿՈՒՄ ԿԱՏԱՐՎՈՂ ԼՐԱՑՈՒՄՆԵՐԸ ԵՎ ՓՈՓՈԽՈՒԹՅՈՒՆՆԵՐԸ
E7: /հազար դրամ/
A8: Ծրագրային դասիչը | C8: Բյուջետային հատկացումների գլխավոր կարգադրիչների, ծրագրերի և միջոցառումների անվանումները | D8: Ցուցանիշների փոփոխությունը (ավելացումները նշված են դրական նշանով, իսկ նվազեցումները` փակագծերում)
A9: Ծրագիր | B9: Միջոցառում | D9: Ինն ամիս | E9: Տարի
B10: ԸՆԴԱՄԵՆԸ | D10: =D11+D25 -> 0 | E10: =E11+E25 -> 0
C11: ՀՀ կառավարություն | D11: =+D18 -> -64301 | E11: =+E18 -> -64301
A12: 1139 | C12: Ծրագրի անվանումը`
C13: ՀՀ կառավարության պահուստային ֆոնդ
C14: Ծրագրի նպատակը`
C15: Պետական բյուջեում չկանխատեսված՝ ինչպես նաև բյուջետային երաշխիքների ապահովման ծախսերի ֆինանսավորման ապահովում
C16: Վերջնական արդյունքի նկարագրությունը`
C17: Պահուստային ֆոնդի կառավարման արդյունավետություն և թափանցիկություն
B18: 11001 | C18: Միջոցառման անվանումը` | D18: =+E18 -> -64301 | E18: =+'[1]havelvac 1'!H26 -> -64301
C19: ՀՀ կառավարության պահուստային ֆոնդ
C20: Միջոցառման նկարագրությունը`
C21: ՀՀ պետական բյուջեում նախատեսված ելքերի լրացուցիչ ֆինանսավորման՝ պետական բյուջեում չկանխատեսված ելքերի՝ ինչպես նաև բյուջետային երաշխիքների ապահովման ելքերի ֆինանսավորման ապահովում
C22: Միջոցառման տեսակը
C23: Ծառայությունների մատուցում
C24: ՀՀ տարածքային կառավարման և ենթակառուցվածքների նախարարություն
A25: 1157 | C25: Ծրագրի անվանումը՝ | D25: =+D32 -> 64301 | E25: =+E32 -> 64301
C26: Քաղաքային զարգացում
C27: Ծրագրի նպատակը՝
C28: Քաղաքային ենթակառուցվածքների զարգացում
C29: Վերջնական արդյունքի նկարագրությունը՝
C30: Քաղաքային ենթակառուցվածքների արդիականացում և բարելավում
A31: Ծրագրի միջոցառումներ
B32: 31001 | C32: Միջոցառման անվանումը՝ | D32: =+E32 -> 64301 | E32: =+'[1]havelvac 1'!H42 -> 64301
C33: Երևանի Բուսաբանական այգու տարածքում անտառպուրակի կառուցապատման նախագծային աշխատանքների իրականացում
C34: Միջոցառման նկարագրությունը՝
C35: =C33 -> Երևանի Բուսաբանական այգու տարածքում անտառպուրակի կառուցապատման նախագծային աշխատանքների իրականացում
C36: Միջոցառման տեսակը՝
C37: Պետական մարմինների կողմից օգտագործվող ոչ ֆինանսական ակտիվների հետ գործառնություններ
A40: ՀԱՅԱՍՏԱՆԻ ՀԱՆՐԱՊԵՏՈՒԹՅԱՆ
A41: ՎԱՐՉԱՊԵՏԻ ԱՇԽԱՏԱԿԱԶՄԻ
C42: ՂԵԿԱՎԱՐ՝ Ա.ՀԱՐՈՒԹՅՈՒՆՅԱՆ

Sheet havelvac 2 
H1: Հավելված 2
F2: ՀՀ կառավարության 2021 թվականի
F3: ______________ ի ___Ն որոշման
A6: ՀԱՅԱՍՏԱՆԻ ՀԱՆՐԱՊԵՏՈՒԹՅԱՆ ԿԱՌԱՎԱՐՈՒԹՅԱՆ 2020 ԹՎԱԿԱՆԻ ԴԵԿՏԵՄԲԵՐԻ 30-Ի N 2215-Ն ՈՐՈՇՄԱՆ NN 3 ԵՎ 4 ՀԱՎԵԼՎԱԾՈՒՄ ԿԱՏԱՐՎՈՂ ԼՐԱՑՈՒՄՆԵՐԸ ԵՎ ՓՈՓՈԽՈՒԹՅՈՒՆՆԵՐԸ
H8: /հազար դրամ/
A9: Գործառական դասիչը | D9: Ծրագրային դասիչը | F9: Բյուջետային ծախսերի գործառական դասակարգման բաժինների, խմբերի և դասերի, բյուջետային ծրագրերի, միջոցառումների բյուջետային հատկացումնեյի գլխավոր կարկադրիչների անվանումները | G9: Ցուցանիշների փոփոխությունը (ավելացումները նշված են դրական նշանով, իսկ նվազեցումները` փակագծերում)
A10: Բաժին | B10: Խումբ | C10: Դաս | D10: Ծրագիր | E10: Միջոցառում | G10: Ինն ամիս | H10: Տարի
F11: ԸՆԴԱՄԵՆԸ | G11: =+G12+G27 -> 0 | H11: =+H12+H27 -> 0
A12: 11 | F12: ՀԻՄՆԱԿԱՆ ԲԱԺԻՆՆԵՐԻՆ ՉԴԱՍՎՈՂ ՊԱՀՈՒՍՏԱՅԻՆ ՖՈՆԴԵՐ | G12: =+G14 -> -64301 | H12: =+H14 -> -64301
F13: այդ թվում`
B14: 01 | F14: ՀՀ կառավարության և համայնքների պահուստային ֆոնդ | G14: =G16 -> -64301 | H14: =H16 -> -64301
F15: այդ թվում`
C16: 01 | F16: ՀՀ կառավարության պահուստային ֆոնդ | G16: =G18 -> -64301 | H16: =H18 -> -64301
F17: այդ թվում`
F18: ՀՀ կառավարություն | G18: =G19 -> -64301 | H18: =H19 -> -64301
D19: 1139 | E19: 11001 | F19: ՀՀ կառավարության պահուստային ֆոնդ | G19: =G21 -> -64301 | H19: =H21 -> -64301
F20: այդ թվում` ըստ կատարողների
F21: ՀՀ կառավարություն | G21: =G23 -> -64301 | H21: =H23 -> -64301
F22: այդ թվում` բյուջետային ծախսերի տնտեսագիտական դասակարգման հոդվածներ
F23: ԸՆԴԱՄԵՆԸ ԾԱԽՍԵՐ | G23: =G24 -> -64301 | H23: =H24 -> -64301
F24: ԸՆԹԱՑԻԿ ԾԱԽՍԵՐ | G24: =G25 -> -64301 | H24: =H25 -> -64301
F25: ԱՅԼ ԾԱԽՍԵՐ | G25: =G26 -> -64301 | H25: =H26 -> -64301
F26: Պահուստային միջոցներ | G26: =+H26 -> -64301 | H26: -64301
A27: 08 | F27: ՀԱՆԳԻՍՏ, ՄՇԱԿՈՒՅԹ ԵՎ ԿՐՈՆ | G27: =+G29 -> 64301 | H27: =+H29 -> 64301
F28: այդ թվում`
B29: 02 | F29: Մշակութային ծառայություններ | G29: =+G31 -> 64301 | H29: =+H31 -> 64301
F30: այդ թվում՝
C31: 04 | F31: Այլ մշակութային կազմակերպություններ | G31: =G34 -> 64301 | H31: =H34 -> 64301
F32: ='[3]havelvac 1'!C24 -> ՀՀ տարածքային կառավարման և ենթակառուցվածքների նախարարություն
F33: այդ թվում`
D34: 1157 | E34: 31001 | F34: Երևանի Բուսաբանական այգու տարածքում անտառպուրակի կառուցապատման նախագծային աշխատանքների իրականացում | G34: =+G36 -> 64301 | H34: =+H36 -> 64301
F35: այդ թվում` ըստ կատարողների
F36: ՀՀ տարածքային կառավարման և ենթակառուցվածքների նախարարություն | G36: =+G38 -> 64301 | H36: =+H38 -> 64301
F37: այդ թվում` բյուջետային ծախսերի տնտեսագիտական դասակարգման հոդվածներ
F38: ԸՆԴԱՄԵՆԸ ԾԱԽՍԵՐ | G38: =+G39 -> 64301 | H38: =+H39 -> 64301
F39: ՈՉ ՖԻՆԱՆՍԱԿԱՆ ԱԿՏԻՎՆԵՐԻ ԳԾՈՎ ԾԱԽՍԵՐ | G39: =+G40 -> 64301 | H39: =+H40 -> 64301
F40: ՀԻՄՆԱԿԱՆ ՄԻՋՈՑՆԵՐ | G40: =+H40 -> 64301 | H40: =+H42 -> 64301
F41: ԱՅԼ ՀԻՄՆԱԿԱՆ ՄԻՋՈՑՆԵՐ | G41: =+G42 -> 64301 | H41: =+H42 -> 64301
F42: - Նախագծահետազոտական ծախսեր | G42: =+H42 -> 64301 | H42: 64301
B43: ՀԱՅԱՍՏԱՆԻ ՀԱՆՐԱՊԵՏՈՒԹՅԱՆ ՎԱՐՉԱՊԵՏԻ ԱՇԽԱՏԱԿԱԶՄԻ ՂԵԿԱՎԱՐ՝ | G43: Ա.ՀԱՐՈՒԹՅՈՒՆՅԱՆ

Sheet havelvac 3
A1: Հավելված N3
A2: ՀՀ կառավարության 2021 թվականի
A3: ______________ ի ___Ն որոշման
A5: ՀԱՅԱՍՏԱՆԻ ՀԱՆՐԱՊԵՏՈՒԹՅԱՆ ԿԱՌԱՎԱՐՈՒԹՅԱՆ 2020 ԹՎԱԿԱՆԻ ԴԵԿՏԵՄԲԵՐԻ 30-Ի N 2215-Ն ՈՐՈՇՄԱՆ N 5 ՀԱՎԵԼՎԱԾԻ N 2 ԱՂՅՈՒՍԱԿՈՒՄ ԿԱՏԱՐՎՈՂ ՓՈՓՈԽՈՒԹՅՈՒՆՆԵՐԸ ԵՎ ԼՐԱՑՈՒՄՆԵՐԸ
D6: հազար դրամ
A7: Ծրագրային դասիչ | C7: Բյուջետային գլխավոր կարգադրիչների, ծրագրերի, միջոցառումների և ուղղությունների անվանումները | D7: Ցուցանիշների փոփոխությունը (ավելացումները նշված են դրական նշանով)
A8: Ծրագիր | B8: Միջոցառում | D8: Ինն ամիս | E8: Տարի
C9: ԸՆԴԱՄԵՆԸ | D9: =D11 -> 64301 | E9: =E11 -> 64301
C10: այդ թվում՝
C11: ՀՀ ՏԱՐԱԾՔԱՅԻՆ ԿԱՌԱՎԱՐՄԱՆ ԵՎ ԵՆԹԱԿԱՌՈՒՑՎԱԾՔՆԵՐԻ ՆԱԽԱՐԱՐՈՒԹՅՈՒՆ | D11: =+D13 -> 64301 | E11: =+E13 -> 64301
C12: այդ թվում`
A13: ='havelvac 1'!A25 -> 1157 | B13: ='havelvac 1'!B32 -> 31001 | C13: ='havelvac 1'!C33 -> Երևանի Բուսաբանական այգու տարածքում անտառպուրակի կառուցապատման նախագծային աշխատանքների իրականացում | D13: =D15 -> 64301 | E13: =E15 -> 64301
C14: այդ թվում` ըստ կատարողների
C15: ՀՀ տարածքային կառավարման և ենթակառուցվածքների նախարարություն | D15: =D17 -> 64301 | E15: =E17 -> 64301
C16: այդ թվում՝ ըստ ուղղությունների
B17: 1 | C17: =C13 -> Երևանի Բուսաբանական այգու տարածքում անտառպուրակի կառուցապատման նախագծային աշխատանքների իրականացում | D17: ='havelvac 2 '!G42 -> 64301 | E17: =D17 -> 64301

Sheet havelvac 4 
H1: Հավելված N 4
H2: ՀՀ կառավարության 2021 թվականի
H3: ______________ ի ___Ն որոշման
A4: «ՀԱՅԱՍՏԱՆԻ ՀԱՆՐԱՊԵՏՈՒԹՅԱՆ 2021 ԹՎԱԿԱՆԻ ՊԵՏԱԿԱՆ ԲՅՈՒՋԵԻ ՄԱՍԻՆ» ՕՐԵՆՔԻ N 1 ՀԱՎԵԼՎԱԾԻ N 3 ԱՂՅՈՒՍԱԿՈՒՄ ԿԱՏԱՐՎՈՂ ՓՈՓՈԽՈՒԹՅՈՒՆՆԵՐԸ ԵՎ ԼՐԱՑՈՒՄՆԵՐԸ
G5: հազար դրամ
A6: Ծրագրային դասիչ | C6: Բյուջետային գլխավոր կարգադրիչների, ծրագրերի, միջոցառումների և ուղղությունների անվանումները | D6: Ցուցանիշների փոփոխությունը (ավելացումները նշված են դրական նշանով)
D7: Ընդամենը, | E7: այդ թվում՝
A8: Ծրագիր | B8: Միջոցառում | E8: Կառուցման աշխատանքներ | F8: Վերակառուցման, վերանորոգման և վերականգնման աշխատանքներ | G8: Նախագծահե- տազոտական, գեոդեզիա- քարտեզագրա- կան աշխա- տանքներ | H8: Ոչ ֆինանսական այլ ակտիվների ձեռքբերում
C9: ԸՆԴԱՄԵՆԸ | D9: =+E9+F9+G9+H9 -> 64301 | E9: =E11 -> 0 | F9: =F11 -> 0 | G9: =G11 -> 64301 | H9: =H11 -> 0
C10: այդ թվում՝
C11: ՀՀ ՏԱՐԱԾՔԱՅԻՆ ԿԱՌԱՎԱՐՄԱՆ ԵՎ ԵՆԹԱԿԱՌՈՒՑՎԱԾՔՆԵՐԻ ՆԱԽԱՐԱՐՈՒԹՅՈՒՆ | D11: =D13 -> 64301 | E11: =E13 -> 0 | F11: =F13 -> 0 | G11: =G13 -> 64301 | H11: =H13 -> 0
C12: այդ թվում`
A13: ='havelvac 1'!A25 -> 1157 | B13: 31001 | C13: ='havelvac 1'!C33 -> Երևանի Բուսաբանական այգու տարածքում անտառպուրակի կառուցապատման նախագծային աշխատանքների իրականացում | D13: =D15 -> 64301 | E13: =E15 -> 0 | F13: =F15 -> 0 | G13: =G15 -> 64301 | H13: =H15 -> 0
C14: այդ թվում`
B15: 1 | C15: =C13 -> Երևանի Բուսաբանական այգու տարածքում անտառպուրակի կառուցապատման նախագծային աշխատանքների իրականացում | D15: =+E15+F15+G15+H15 -> 64301 | G15: 64301

Sheet havelvac 5
E2: Հավելված 5
E3: ՀՀ կառավարության 2021 թվականի
E4: ______________ ի ___Ն որոշման
A6: ՀԱՅԱՍՏԱՆԻ ՀԱՆՐԱՊԵՏՈՒԹՅԱՆ ԿԱՌԱՎԱՐՈՒԹՅԱՆ 2020 ԹՎԱԿԱՆԻ ԴԵԿՏԵՄԲԵՐԻ 30-Ի ԹԻՎ 2215-Ն ՈՐՈՇՄԱՆ N 9 ՀԱՎԵԼՎԱԾԻ NN 9.8 ԵՎ 9.47 ԱՂՅՈՒՍԱԿՆԵՐՈՒՄ ԿԱՏԱՐՎՈՂ ՓՈՓՈԽՈՒԹՅՈՒՆՆԵՐԸ ԵՎ ԼՐԱՑՈՒՄՆԵՐԸ
A7: ='havelvac 1'!C24 -> ՀՀ տարածքային կառավարման և ենթակառուցվածքների նախարարություն
A9: ՄԱՍ 2. ՊԵՏԱԿԱՆ ՄԱՐՄՆԻ ԳԾՈՎ ԱՐԴՅՈՒՆՔԱՅԻՆ (ԿԱՏԱՐՈՂԱԿԱՆ) ՑՈՒՑԱՆԻՇՆԵՐԸ
B11: Ծրագրի դասիչը | C11: Ծրագրի անվանումը
B12: ='havelvac 1'!A25 -> 1157 | C12: ='havelvac 1'!C26 -> Քաղաքային զարգացում | D12: Ցուցանիշների փոփոխությունը (ավելացումները նշված են դրական նշանով)
B14: Ծրագրի դասիչը՝ | C14: 1157 | D14: Ինն ամիս | E14: Տարի
B15: Միջոցառման դասիչը՝ | C15: 31001
B16: Միջոցառման անվանումը՝ | C16: ='havelvac 1'!C33 -> Երևանի Բուսաբանական այգու տարածքում անտառպուրակի կառուցապատման նախագծային աշխատանքների իրականացում
B17: Նկարագրությունը՝ | C17: =C16 -> Երևանի Բուսաբանական այգու տարածքում անտառպուրակի կառուցապատման նախագծային աշխատանքների իրականացում
B18: Միջոցառման տեսակը՝ | C18: ='havelvac 1'!C37 -> Պետական մարմինների կողմից օգտագործվող ոչ ֆինանսական ակտիվների հետ գործառնություններ
B19: Միջոցառումն իրականացնողի անվանումը՛ | C19: Մասնագիտացված միավոր
B20: Արդյունքի չափորոշիչներ
B21: Պայմանագրերի թիվ, հատ | D21: 2 | E21: 2
B22: Միջոցառման վրա կատարվող ծախսը (հազար դրամ) | D22: ='havelvac 2 '!G42 -> 64301 | E22: =D22 -> 64301
A24: ՀՀ կառավարություն
A25: ՄԱՍ 2. ՊԵՏԱԿԱՆ ՄԱՐՄՆԻ ԳԾՈՎ ԱՐԴՅՈՒՆՔԱՅԻՆ (ԿԱՏԱՐՈՂԱԿԱՆ) ՑՈՒՑԱՆԻՇՆԵՐԸ
B28: Ծրագրի դասիչը | C28: Ծրագրի անվանումը
B29: 1139 | C29: ՀՀ կառավարության պահուստային ֆոնդ | D29: Ցուցանիշների փոփոխությունը (նվազեցումները նշված են փակագծերում)
B30: Ծրագրի միջոցառումները
B31: Ծրագրի դասիչը՝ | C31: 1139 | D31: Ինն ամիս | E31: Տարի
B32: Միջոցառման դասիչը՝ | C32: 11001
B33: Միջոցառման անվանումը՝ | C33: ՀՀ կառավարության պահուստային ֆոնդ
B34: Նկարագրությունը՝ | C34: ՀՀ պետական բյուջեում նախատեսված ելքերի լրացուցիչ ֆինանսավորման՝ պետական բյուջեում չկանխատեսված ելքերի, ինչպես նաև բյուջետային երաշխիքների ապահովման ելքերի ֆինանսավորման ապահովում
B35: Միջոցառման տեսակը՝ | C35: Ծառայությունների մատուցում
B36: Միջոցառումն իրականացնողի անվանումը | C36: ՀՀ կառավարություն
C37: Արդյունքի չափորոշիչներ
B38: Միջոցառման վրա կատարվող ծախսը (հազար դրամ) | D38: -64301 | E38: -64301
A41: ՀԱՅԱՍՏԱՆԻ ՀԱՆՐԱՊԵՏՈՒԹՅԱՆ
A42: ՎԱՐՉԱՊԵՏԻ ԱՇԽԱՏԱԿԱԶՄԻ
B43: ՂԵԿԱՎԱՐ՝ Ա.ՀԱՐՈՒԹՅՈՒՆՅԱՆ

Sheet havelvac 6
E2: Հավելված 6
E3: ՀՀ կառավարության 2021 թվականի
E4: ______________ ի ___Ն որոշման
A7: ՀԱՅԱՍՏԱՆԻ ՀԱՆՐԱՊԵՏՈՒԹՅԱՆ ԿԱՌԱՎԱՐՈՒԹՅԱՆ 2020 ԹՎԱԿԱՆԻ ԴԵԿՏԵՄԲԵՐԻ 30-Ի ԹԻՎ 2215-Ն ՈՐՈՇՄԱՆ N 9.1 ՀԱՎԵԼՎԱԾԻ NN 9.1.8 ԵՎ 9.1.58 ԱՂՅՈՒՍԱԿՆԵՐՈՒՄ ԿԱՏԱՐՎՈՂ ՓՈՓՈԽՈՒԹՅՈՒՆՆԵՐԸ ԵՎ ԼՐԱՑՈՒՄՆԵՐԸ
A8: ='havelvac 1'!C24 -> ՀՀ տարածքային կառավարման և ենթակառուցվածքների նախարարություն
A10: ՄԱՍ 1. ՊԵՏԱԿԱՆ ՄԱՐՄՆԻ ԳԾՈՎ ԱՐԴՅՈՒՆՔԱՅԻՆ (ԿԱՏԱՐՈՂԱԿԱՆ) ՑՈՒՑԱՆԻՇՆԵՐԸ
B12: Ծրագրի դասիչը | C12: Ծրագրի անվանումը
B13: 1157 | C13: ='havelvac 1'!C26 -> Քաղաքային զարգացում | D13: Ցուցանիշների փոփոխությունը (ավելացումները նշված են դրական նշանով)
B15: Ծրագրի դասիչը՝ | C15: 1157 | D15: Ինն ամիս | E15: Տարի
B16: Միջոցառման դասիչը՝ | C16: 31001
B17: Միջոցառման անվանումը՝ | C17: ='havelvac 5'!C16 -> Երևանի Բուսաբանական այգու տարածքում անտառպուրակի կառուցապատման նախագծային աշխատանքների իրականացում
B18: Նկարագրությունը՝ | C18: =C17 -> Երևանի Բուսաբանական այգու տարածքում անտառպուրակի կառուցապատման նախագծային աշխատանքների իրականացում
B19: Միջոցառման տեսակը՝ | C19: ='havelvac 1'!C37 -> Պետական մարմինների կողմից օգտագործվող ոչ ֆինանսական ակտիվների հետ գործառնություններ
B20: ='havelvac 5'!B19 -> Միջոցառումն իրականացնողի անվանումը՛ | C20: ='havelvac 5'!C19 -> Մասնագիտացված միավոր
B21: Արդյունքի չափորոշիչներ
B22: ='havelvac 5'!B21:C21 -> Պայմանագրերի թիվ, հատ | D22: 2 | E22: 2
B23: Միջոցառման վրա կատարվող ծախսը (հազար դրամ) | D23: =+'[2]havelvac 4'!D22 -> 64301 | E23: ='havelvac 5'!E22 -> 64301
A25: ՀՀ կառավարություն
A26: ՄԱՍ 1. ՊԵՏԱԿԱՆ ՄԱՐՄՆԻ ԳԾՈՎ ԱՐԴՅՈՒՆՔԱՅԻՆ (ԿԱՏԱՐՈՂԱԿԱՆ) ՑՈՒՑԱՆԻՇՆԵՐԸ
B28: Ծրագրի դասիչը | C28: Ծրագրի անվանումը
B29: 1139 | C29: ՀՀ կառավարության պահուստային ֆոնդ | D29: Ցուցանիշների փոփոխությունը (նվազեցումները նշված են փակագծերում)
B30: Ծրագրի միջոցառումները
B31: Ծրագրի դասիչը՝ | C31: 1139 | D31: Ինն ամիս | E31: Տարի
B32: Միջոցառման դասիչը՝ | C32: 11001
B33: Միջոցառման անվանումը՝ | C33: ՀՀ կառավարության պահուստային ֆոնդ
B34: Նկարագրությունը՝ | C34: ՀՀ պետական բյուջեում նախատեսված ելքերի լրացուցիչ ֆինանսավորման՝ պետական բյուջեում չկանխատեսված ելքերի, ինչպես նաև բյուջետային երաշխիքների ապահովման ելքերի ֆինանսավորման ապահովում
B35: Միջոցառման տեսակը՝ | C35: Ծառայությունների մատուցում
B36: Միջոցառումն իրականացնողի անվանումը | C36: ՀՀ կառավարություն
C37: Արդյունքի չափորոշիչներ
B38: Միջոցառման վրա կատարվող ծախսը (հազար դրամ) | D38: =+E38 -> -64301 | E38: ='havelvac 5'!E38 -> -64301
A42: ՀԱՅԱՍՏԱՆԻ ՀԱՆՐԱՊԵՏՈՒԹՅԱՆ
A43: ՎԱՐՉԱՊԵՏԻ ԱՇԽԱՏԱԿԱԶՄԻ
B44: ՂԵԿԱՎԱՐ՝ Ա.ՀԱՐՈՒԹՅՈՒՆՅԱՆ

Sheet havelva 7
A1: Հավելված N 7
A2: ՀՀ կառավարության 2021 թվականի
A3: ______________ ի ___Ն որոշման
A5: ՀԱՅԱՍՏԱՆԻ ՀԱՆՐԱՊԵՏՈՒԹՅԱՆ ԿԱՌԱՎԱՐՈՒԹՅԱՆ 2020 ԹՎԱԿԱՆԻ ԴԵԿՏԵՄԲԵՐԻ 30-Ի N 2215-Ն ՈՐՈՇՄԱՆ N 10 ՀԱՎԵԼՎԱԾՈՒՄ ԿԱՏԱՐՎՈՂ ԼՐԱՑՈՒՄՆԵՐԸ
A6: Կոդը | B6: Անվանումը | C6: Գնման ձևը | D6: Չափման միավորը | E6: Միավորի գինը | F6: Ցուցանիշների փոփոխությունը (ավելացումները նշված են դրական նշանով)
F7: Քանակը | G7: Գումարը (հազար դրամով)
A8: ՀՀ տարածքային կառավարման և ենթակառուցվածքների նախարարություն | G8: =+G11 -> 64301
A9: Բաժին N 01 | B9: Խումբ N 04 | C9: Դաս N 01 | D9: ='havelvac 1'!C26 -> Քաղաքային զարգացում | G9: =+G10 -> 64301
A10: 1157 31001 | B10: ='havelvac 1'!C33 -> Երևանի Բուսաբանական այգու տարածքում անտառպուրակի կառուցապատման նախագծային աշխատանքների իրականացում | G10: =G11 -> 64301
A11: ՄԱՍ III. ԾԱՌԱՅՈՒԹՅՈՒՆՆԵՐ | G11: =SUM(G12:G13) -> 64301
A12: 71241200 | B12: Նախագծերի պատրաստում, ծախսերի գնահատում | C12: ՀՄԱ | D12: դրամ | E12: 63486000 | F12: 1 | G12: =+F12*E12/1000 -> 63486
A13: 50531140 | B13: Փորձաքննության ծառայություններ | C13: ՀՄԱ | D13: դրամ | E13: 815000 | F13: 1 | G13: =+F13*E13/1000 -> 815
