Workbook

Sheet Հավելված 1
D1: Հավելված N 1
A2: «ՀԱՅԱՍՏԱՆԻ ՀԱՆՐԱՊԵՏՈՒԹՅԱՆ 2021 ԹՎԱԿԱՆԻ ՊԵՏԱԿԱՆ ԲՅՈՒՋԵԻ ՄԱՍԻՆ» ՀԱՅԱՍՏԱՆԻ ՀԱՆՐԱՊԵՏՈՒԹՅԱՆ ՕՐԵՆՔԻ N 1 ՀԱՎԵԼՎԱԾԻ N 2 ԱՂՅՈՒՍԱԿՈՒՄ ԿԱՏԱՐՎՈՂ ՎԵՐԱԲԱՇԽՈՒՄԸ ԵՎ ՀԱՅԱՍՏԱՆԻ ՀԱՆՐԱՊԵՏՈՒԹՅԱՆ ԿԱՌԱՎԱՐՈՒԹՅԱՆ 2020 ԹՎԱԿԱՆԻ ԴԵԿՏԵՄԲԵՐԻ 30-Ի N 2215-Ն ՈՐՈՇՄԱՆ N 5 ՀԱՎԵԼՎԱԾԻ N 1 ԱՂՅՈՒՍԱԿՈՒՄ ԿԱՏԱՐՎՈՂ ՓՈՓՈԽՈՒԹՅՈՒՆՆԵՐԸ
D3: հազ. դրամ
A4: Ծրագրային դասիչը | C4: Բյուջետային հատկացումների գլխավոր կարգադրիչների, ծրագրերի և միջոցառումների անվանումները | D4: Ցուցանիշների փոփոխությունը (ավելացումները նշված են դրական նշանով, իսկ նվազեցումները՝ փակագծերում)
A5: Ծրագիր | B5: Միջոցառում | D5: Տարի
C6: ԸՆԴԱՄԵՆԸ | D6: =D7 -> 0
C7: ՀՀ պետական եկամուտների կոմիտե | D7: =D8 -> 0
A8: 1023 | C8: Ծրագրի անվանումը՝ | D8: =D15+D21+D27+D33 -> 0
C9: Հարկային և մաքսային ծառայություններ
C10: Ծրագրի նպատակը՝
C11: Հարկային և մաքսային միասնական պետական քաղաքականության իրականացում, հարկային և մաքսային օրենսդրության ամբողջական և համահավասար կիրառում
C12: Վերջնական արդյունքի նկարագրությունը՝
C13: Արդյունավետ հարկային և մաքսային հսկողության իրականացում, պետական բյուջեի եկամուտների ապահովում
A14: Ծրագրի միջոցառումներ
B15: 11001 | C15: Միջոցառման անվանումը՝ | D15: ='Հավելված 3'!G17 -> -140222.7
C16: Հարկային և մաքսային ծառայություններ
C17: Միջոցառման նկարագրությունը՝
C18: Հարկային և մաքսային քաղաքականության մշակման, պլանավորման, մոնիթորինգի, ծրագրերի համակարգման, գանձման, վերահսկողության և աջակցության ծառայություններ
C19: Միջոցառման տեսակը՝
C20: Ծառայության մատուցում
B21: 31001 | C21: Միջոցառման անվանումը` | D21: ='Հավելված 3'!G28 -> -155000
C22: ՀՀ պետական եկամուտների կոմիտեի տեխնիկական հագեցվածության բարելավում
C23: Միջոցառման նկարագրությունը`
C24: ՀՀ պետական եկամուտների կոմիտեի տեխնիկական հագեցվածության բարելավում
C25: Միջոցառման տեսակը
C26: Պետական մարմինների կողմից օգտագործվող ոչ ֆինանսական ակտիվների հետ գործառնություններ
B27: 31003 | C27: Միջոցառման անվանումը` | D27: ='Հավելված 3'!G37 -> 24095
C28: ՀՀ պետական եկամուտների կոմիտեի շենքային ապահովվածության բարելավում_x000D_
C29: Միջոցառման նկարագրությունը`
C30: ՀՀ պետական եկամուտների կոմիտեի նոր շենքերի և շինությունների շինարարություն, նախագծային աշխատանքների ձեռքբերում
C31: Միջոցառման տեսակը
C32: Պետական մարմինների կողմից օգտագործվող ոչ ֆինանսական ակտիվների հետ գործառնություններ
B33: 31004 | C33: Միջոցառման անվանումը` | D33: ='Հավելված 3'!G46 -> 271127.7
C34: ՀՀ պետական եկամուտների կոմիտեի շենքային պայմանների բարելավում
C35: Միջոցառման նկարագրությունը`
C36: ՀՀ պետական եկամուտների կոմիտեի շենքերի և շինությունների կապիտալ վերանորոգում, նախագծային աշխատանքների ձեռքբերում
C37: Միջոցառման տեսակը
C38: Պետական մարմինների կողմից օգտագործվող ոչ ֆինանսական ակտիվների հետ գործառնություններ

Sheet Հավելված 2
H1: Հավելված N 2
A2: «ՀԱՅԱՍՏԱՆԻ ՀԱՆՐԱՊԵՏՈՒԹՅԱՆ 2021 ԹՎԱԿԱՆԻ ՊԵՏԱԿԱՆ ԲՅՈՒՋԵԻ ՄԱՍԻՆ» ՀԱՅԱՍՏԱՆԻ ՀԱՆՐԱՊԵՏՈՒԹՅԱՆ ՕՐԵՆՔԻ N 1 ՀԱՎԵԼՎԱԾԻ N 3 ԱՂՅՈՒՍԱԿՈՒՄ ԿԱՏԱՐՎՈՂ ՓՈՓՈԽՈՒԹՅՈՒՆՆԵՐԸ ԵՎ ԼՐԱՑՈՒՄՆԵՐԸ
H3: հազ. դրամ
A4: Ծրագրային դասիչ | C4: Բյուջետային գլխավոր կարգադրիչների, ծրագրերի, միջոցառումների և ուղղությունների անվանումները | D4: Ցուցանիշների փոփոխությունը (ավելացումները նշված են դրական նշանով, իսկ նվազեցումները՝ փակագծերում)
D5: Ընդամենը | E5: այդ թվում՝
E6: Կառուցման աշխատանքներ | F6: Վերակառուցման, վերանորոգման և վերականգնման աշխատանքներ | G6: Նախագծահետազոտական, գեոդեզա-քարտեզագրական աշխատանքներ | H6: Ոչ ֆինանսական այլ ակտիվների ձեռքբերում
A7: Ծրագիր | B7: Միջոցառում
C8: ԸՆԴԱՄԵՆԸ | D8: =D10 -> 140222.7 | E8: =E10 -> 0 | F8: =F10 -> 290835.7 | G8: =G10 -> 4387 | H8: =H10 -> -155000
C9: այդ թվում՝
C10: ՀՀ ՊԵՏԱԿԱՆ ԵԿԱՄՈՒՏՆԵՐԻ ԿՈՄԻՏԵ | D10: =D12+D13+D15 -> 140222.7 | E10: =E12+E13+E15 -> 0 | F10: =F12+F13+F15 -> 290835.7 | G10: =G12+G13+G15 -> 4387 | H10: =H12+H13+H15 -> -155000
C11: այդ թվում`
A12: 1023 | B12: 31001 | C12: ՀՀ պետական եկամուտների կոմիտեի տեխնիկական հագեցվածության բարելավում | D12: =E12+F12+G12+H12 -> -155000 | H12: ='Հավելված 3'!G36 -> -155000
A13: 1023 | B13: 31003 | C13: ՀՀ պետական եկամուտների կոմիտեի շենքային ապահովվածության բարելավում | D13: =D14 -> 24095 | E13: =E14 -> 0 | F13: =F14 -> 24095 | G13: =G14 -> 0 | H13: =H14 -> 0
C14: Երևան քաղաքի Կոմիտասի պողոտա 35 հասցեում գտնվող վարչական շենքի կիսանկուղային հարկի տարածքում ճաշարանի վերակառուցման աշխատանքներ | D14: =E14+F14+G14+H14 -> 24095 | F14: ='Հավելված 4'!D17 -> 24095
A15: 1023 | B15: 31004 | C15: ՀՀ պետական եկամուտների կոմիտեի շենքային պայմանների բարելավում | D15: =SUM(D16:D24) -> 271127.7 | E15: =SUM(E16:E24) -> 0 | F15: =SUM(F16:F24) -> 266740.7 | G15: =SUM(G16:G24) -> 4387 | H15: =SUM(H16:H24) -> 0
C16: ՀՀ ՊԵԿ-ի Հարավային մաքսատուն-վարչության տարածքում վերանորոգման աշխատանքներ | D16: =SUM(E16:H16) -> 118748 | F16: ='Հավելված 4'!D22 -> 118748
C17: Երևան քաղաքի Դեղատան 3 հասցեում գտնվող վարչական շենքի վերանորոգման աշխատանքներ | D17: =SUM(E17:H17) -> 32035 | F17: ='Հավելված 4'!D23 -> 32035
C18: ք. Երևան, Արարատյան 90 հասցեում գտնվող շինության վերանորոգման աշխատանքներ | D18: =SUM(E18:H18) -> 62091 | F18: ='Հավելված 4'!D24 -> 62091
C19: Արևմտյան մաքսատուն-վարչության Երևան քաղաքի Երևան 42 հասցեում գտնվող վարչական շենքի տարածքի վերանորոգման աշխատանքներ | D19: =SUM(E19:H19) -> 53866.7 | F19: ='Հավելված 4'!D25 -> 53866.7
C20: Երևան քաղաքի Սասունցի Դավթի 87ա հասցեում գտնվող վարչական շենքի վերանորոգման նախագծանախահաշվային փաստաթղթերի կազմման աշխատանքներ | D20: =SUM(E20:H20) -> 1200 | G20: ='Հավելված 4'!D26 -> 1200
C21: Աբովյան քաղաքի Բարեկամության հրապարակ թիվ 1 հասցեում գտնվող վարչական շենքի վերանորոգման նախագծանախահաշվային փաստաթղթերի կազմման աշխատանքներ | D21: =SUM(E21:H21) -> 920 | G21: ='Հավելված 4'!D27 -> 920
C22: Արևելյան մաքսատուն-վարչության Գոգավան-Պրիվոլնոյեի մաքսային կետ-բաժնի տարածքում 100 տոննա կշռողականությամբ ավտոմոբիլային կշեռքի կառուցման նախագծանախահաշվային փաստաթղթերի կազմման աշխատանքներ | D22: =SUM(E22:H22) -> 765 | G22: ='Հավելված 4'!D28 -> 765
C23: Արևելյան մաքսատուն-վարչության Բագրատաշենի մաքսային կետ-բաժնի տարածքում 100 տոննա կշռողականությամբ ավտոմոբիլային կշեռքի և ծածկարանի կառուցման նախագծանախահաշվային փաստաթղթերի կազմման աշխատանքներ | D23: =SUM(E23:H23) -> 952 | G23: ='Հավելված 4'!D29 -> 952
C24: Արևելյան մաքսատուն-վարչության ք. Վանաձոր, Մոսկովյան թիվ 44 հասցեում գտնվող վարչական շենքի ներտարածքային կենցաղային կոյուղագծի և ջրահեռացման ցանցի, զննման հարթակի տանիքի վերակառուցման նախագծանախահաշվային փաստաթղթերի կազմման աշխատանքներ | D24: =SUM(E24:H24) -> 550 | G24: ='Հավելված 4'!D30 -> 550

Sheet Հավելված 3
G1: Հավելված N 3
A2: ՀԱՅԱՍՏԱՆԻ ՀԱՆՐԱՊԵՏՈՒԹՅԱՆ ԿԱՌԱՎԱՐՈՒԹՅԱՆ 2020 ԹՎԱԿԱՆԻ ԴԵԿՏԵՄԲԵՐԻ 30-Ի N 2215-Ն ՈՐՈՇՄԱՆ NN 3 ԵՎ 4 ՀԱՎԵԼՎԱԾՆԵՐԻ ԱՂՅՈՒՍԱԿՆԵՐՈՒՄ ԿԱՏԱՐՎՈՂ ՓՈՓՈԽՈՒԹՅՈՒՆՆԵՐԸ
G3: հազ. դրամ
A4: Գործառնական դասիչը | D4: Ծրագրային դասիչը | F4: Բյուջետային ծախսերի գործառնական դասակարգման բաժինների, խմբերի և դասերի, բյուջետային ծրագրերի միջոցառումների, բյուջետային հատկացումների գլխավոր կարգադրիչների անվանումները | G4: Ցուցանիշների փոփոխությունը (ավելացումները նշված են դրական նշանով, իսկ նվազեցումները՝ փակագծերում)
A5: բաժին | B5: խումբ | C5: դաս | D5: ծրագիր | E5: միջոցառում | G5: Տարի
F6: ԸՆԴԱՄԵՆԸ ԾԱԽՍԵՐ | G6: =G8 -> 0
F7: այդ թվում՝
A8: 01 | F8: ԸՆԴՀԱՆՈՒՐ ԲՆՈՒՅԹԻ ՀԱՆՐԱՅԻՆ ԾԱՌԱՅՈՒԹՅՈՒՆՆԵՐ | G8: =G10 -> 0
F9: այդ թվում՝
B10: 01 | F10: Օրենսդիր և գործադիր մարմիններ, պետական կառավարում, ֆինանսական և հարկաբյուջետային հարաբերություններ, արտաքին հարաբերություններ | G10: =G12 -> 0
F11: այդ թվում՝
C12: 02 | F12: Ֆինանսական և հարկաբյուջետային հարաբերություններ | G12: =G14 -> 0
F13: այդ թվում՝
F14: ՀՀ պետական եկամուտների կոմիտե | G14: =G15 -> 0
D15: 1023 | F15: Հարկային և մաքսային ծառայություններ | G15: =G17+G28+G37+G46 -> 0
F16: այդ թվում՝
E17: 11001 | F17: Հարկային և մաքսային ծառայություններ | G17: =G19 -> -140222.7
F18: այդ թվում՝ ըստ կատարողների
F19: ՀՀ պետական եկամուտների կոմիտե | G19: =G21 -> -140222.7
F20: այդ թվում՝ բյուջետային ծախսերի տնտեսագիտական դասակարգման հոդվածներ
F21: ԸՆԴԱՄԵՆԸ ԾԱԽՍԵՐ | G21: =G22 -> -140222.7
F22: ԸՆԹԱՑԻԿ ԾԱԽՍԵՐ | G22: =G23 -> -140222.7
F23: ԾԱՌԱՅՈՒԹՅՈՒՆՆԵՐԻ ԵՎ ԱՊՐԱՆՔՆԵՐԻ ՁԵՌՔԲԵՐՈՒՄ | G23: =G24+G26 -> -140222.7
F24: Շարունակական ծախսեր | G24: =G25 -> -13000
F25: - Կապի ծառայություններ | G25: =+'Հավելված 6'!G19 -> -13000
F26: Պայմանագրային այլ ծառայությունների ձեռքբերում | G26: =G27 -> -127222.7
F27: - Ընդհանուր բնույթի այլ ծառայություններ | G27: ='Հավելված 6'!G11+'Հավելված 6'!G12+'Հավելված 6'!G13+'Հավելված 6'!G14+'Հավելված 6'!G15+'Հավելված 6'!G16+'Հավելված 6'!G17+'Հավելված 6'!G18 -> -127222.7
E28: 31001 | F28: ՀՀ պետական եկամուտների կոմիտեի տեխնիկական հագեցվածության բարելավում | G28: =G30 -> -155000
F29: այդ թվում` ըստ կատարողների
F30: ՀՀ պետական եկամուտների կոմիտե | G30: =G32 -> -155000
F31: այդ թվում՝ բյուջետային ծախսերի տնտեսագիտական դասակարգման հոդվածներ
F32: ԸՆԴԱՄԵՆԸ ԾԱԽՍԵՐ | G32: =G33 -> -155000
F33: ՈՉ ՖԻՆԱՆՍԱԿԱՆ ԱԿՏԻՎՆԵՐԻ ԳԾՈՎ ԾԱԽՍԵՐ | G33: =G34 -> -155000
F34: ՀԻՄՆԱԿԱՆ ՄԻՋՈՑՆԵՐ | G34: =G35 -> -155000
F35: ՄԵՔԵՆԱՆԵՐ ԵՎ ՍԱՐՔԱՎՈՐՈՒՄՆԵՐ | G35: =G36 -> -155000
F36: - Այլ մեքենաներ և սարքավորումներ | G36: -155000
E37: 31003 | F37: ՀՀ պետական եկամուտների կոմիտեի շենքային ապահովվածության բարելավում | G37: =G39 -> 24095
F38: այդ թվում` ըստ կատարողների
F39: ՀՀ պետական եկամուտների կոմիտե | G39: =G41 -> 24095
F40: այդ թվում` բյուջետային ծախսերի տնտեսագիտական դասակարգման հոդվածներ
...

Sheet Հավելված 4
D1: Հավելված N 4
A2: ՀԱՅԱՍՏԱՆԻ ՀԱՆՐԱՊԵՏՈՒԹՅԱՆ ԿԱՌԱՎԱՐՈՒԹՅԱՆ 2020 ԹՎԱԿԱՆԻ ԴԵԿՏԵՄԲԵՐԻ 30-Ի N 2215-Ն ՈՐՈՇՄԱՆ N 5 ՀԱՎԵԼՎԱԾԻ N 2 ԱՂՅՈՒՍԱԿՈՒՄ ԿԱՏԱՐՎՈՂ ՓՈՓՈԽՈՒԹՅՈՒՆՆԵՐԸ ԵՎ ԼՐԱՑՈՒՄՆԵՐԸ
D3: հազ. դրամ
A4: Ծրագրային դասիչը | C4: Բյուջետային գլխավոր կարգադրիչների, ծրագրերի, միջոցառումների, միջոցառումները կատարող պետական մարմինների և ուղղությունների անվանումները | D4: Ցուցանիշների փոփոխությունը (ավելացումները նշված են դրական նշանով, իսկ նվազեցումները՝ փակագծերում)
A5: Ծրագիրը | B5: Միջոցառումը | D5: Տարի
C6: ԸՆԴԱՄԵՆԸ | D6: =D8 -> 140222.7
C7: այդ թվում՝
C8: ՀՀ ՊԵՏԱԿԱՆ ԵԿԱՄՈՒՏՆԵՐԻ ԿՈՄԻՏԵ | D8: =D10+D13+D18 -> 140222.7
C9: այդ թվում`
A10: 1023 | B10: 31001 | C10: ՀՀ պետական եկամուտների կոմիտեի տեխնիկական հագեցվածության բարելավում | D10: =D12 -> -155000
C11: այդ թվում` ըստ կատարողների
C12: ՀՀ պետական եկամուտների կոմիտե | D12: ='Հավելված 3'!G28 -> -155000
A13: 1023 | B13: 31003 | C13: ՀՀ պետական եկամուտների կոմիտեի շենքային ապահովվածության բարելավում | D13: =D15 -> 24095
C14: այդ թվում` ըստ կատարողների
C15: ՀՀ պետական եկամուտների կոմիտե | D15: =D17 -> 24095
C16: այդ թվում` ըստ ուղղությունների
C17: Երևան քաղաքի Կոմիտասի պողոտա 35 հասցեում գտնվող վարչական շենքի կիսանկուղային հարկի տարածքում ճաշարանի վերակառուցման աշխատանքներ | D17: 24095
A18: 1023 | B18: 31004 | C18: ՀՀ պետական եկամուտների կոմիտեի շենքային պայմանների բարելավում | D18: =D20 -> 271127.7
C19: այդ թվում` ըստ կատարողների
C20: ՀՀ պետական եկամուտների կոմիտե | D20: =SUM(D22:D30) -> 271127.7
C21: այդ թվում` ըստ ուղղությունների
C22: ՀՀ ՊԵԿ-ի Հարավային մաքսատուն-վարչության տարածքում վերանորոգման աշխատանքներ | D22: 118748
C23: Երևան քաղաքի Դեղատան 3 հասցեում գտնվող վարչական շենքի վերանորոգման աշխատանքներ | D23: 32035
C24: ք. Երևան, Արարատյան 90 հասցեում գտնվող շինության վերանորոգման աշխատանքներ | D24: 62091
C25: Արևմտյան մաքսատուն-վարչության Երևան քաղաքի Երևան 42 հասցեում գտնվող վարչական շենքի տարածքի վերանորոգման աշխատանքներ | D25: 53866.7
C26: Երևան քաղաքի Սասունցի Դավթի 87ա հասցեում գտնվող վարչական շենքի վերանորոգման նախագծանախահաշվային փաստաթղթերի կազմման աշխատանքներ | D26: 1200
C27: Աբովյան քաղաքի Բարեկամության հրապարակ թիվ 1 հասցեում գտնվող վարչական շենքի վերանորոգման նախագծանախահաշվային փաստաթղթերի կազմման աշխատանքներ | D27: 920
C28: Արևելյան մաքսատուն-վարչության Գոգավան-Պրիվոլնոյեի մաքսային կետ-բաժնի տարածքում 100 տոննա կշռողականությամբ ավտոմոբիլային կշեռքի կառուցման նախագծանախահաշվային փաստաթղթերի կազմման աշխատանքներ | D28: 765
C29: Արևելյան մաքսատուն-վարչության Բագրատաշենի մաքսային կետ-բաժնի տարածքում 100 տոննա կշռողականությամբ ավտոմոբիլային կշեռքի և ծածկարանի կառուցման նախագծանախահաշվային փաստաթղթերի կազմման աշխատանքներ | D29: 952
C30: Արևելյան մաքսատուն-վարչության ք. Վանաձոր, Մոսկովյան թիվ 44 հասցեում գտնվող վարչական շենքի ներտարածքային կենցաղային կոյուղագծի և ջրահեռացման ցանցի, զննման հարթակի տանիքի վերակառուցման նախագծանախահաշվային փաստաթղթերի կազմման աշխատանքներ | D30: 550

Sheet Հավելված 5 աղյուսակներ 1,2
C1: Հավելված N 5
C2: Աղյուսակ N 1
A3: ՀԱՅԱՍՏԱՆԻ ՀԱՆՐԱՊԵՏՈՒԹՅԱՆ ԿԱՌԱՎԱՐՈՒԹՅԱՆ 2020 ԹՎԱԿԱՆԻ ԴԵԿՏԵՄԲԵՐԻ 30-Ի N 2215-Ն ՈՐՈՇՄԱՆ N 9 ՀԱՎԵԼՎԱԾԻ N 9.26 ԱՂՅՈՒՍԱԿՈՒՄ ԿԱՏԱՐՎՈՂ ՓՈՓՈԽՈՒԹՅՈՒՆՆԵՐԸ ԵՎ ԼՐԱՑՈՒՄՆԵՐԸ
A5: ՀՀ պետական եկամուտների կոմիտե
A7: ՄԱՍ 2. ՊԵՏԱԿԱՆ ՄԱՐՄՆԻ ԳԾՈՎ ԱՐԴՅՈՒՆՔԱՅԻՆ (ԿԱՏԱՐՈՂԱԿԱՆ) ՑՈՒՑԱՆԻՇՆԵՐԸ
A9: Ծրագրի դասիչը | B9: Ծրագրի անվանումը
A10: 1023 | B10: Հարկային և մաքսային ծառայություններ
A12: Ծրագրի միջոցառումները
A14: Ծրագրի դասիչը՝ | B14: 1023 | C14: Ցուցանիշների փոփոխությունը (նվազեցումները նշված են փակագծերում)
A15: Միջոցառման դասիչը՝ | B15: 11001 | C15: Տարի
A16: Միջոցառման անվանումը՝ | B16: Հարկային և մաքսային ծառայություններ
A17: Նկարագրությունը՝ | B17: Հարկային և մաքսային քաղաքականության մշակման, պլանավորման, մոնիտորինգի, ծրագրերի համակարգման, գանձման, վերահսկողության և աջակցության ծառայություններ
A18: Միջոցառման տեսակը՝ | B18: Ծառայությունների մատուցում
A19: Ծառայությունը մատուցող կազմակերպության անվանումը | B19: ՀՀ պետական եկամուտների կոմիտե
B20: Արդյունքի չափորոշիչներ
A21: Միջոցառման վրա կատարվող ծախսը (հազար դրամ) | C21: ='Հավելված 3'!G17 -> -140222.7
A23: Ծրագրի դասիչը` | B23: 1023 | C23: Ցուցանիշների փոփոխությունը (նվազեցումները նշված են փակագծերում)
A24: Միջոցառման դասիչը` | B24: 31001 | C24: Տարի
A25: Միջոցառման անվանումը` | B25: ՀՀ պետական եկամուտների կոմիտեի տեխնիկական հագեցվածության բարելավում
A26: Նկարագրությունը` | B26: ՀՀ պետական եկամուտների կոմիտեի տեխնիկական հագեցվածության բարելավում
A27: Միջոցառման տեսակը` | B27: Պետական մարմինների կողմից օգտագործվող ոչ ֆինանսական ակտիվների հետ գործառնություններ
A28: Ակտիվն օգտագործող կազմակերպության անվանումը | B28: ՀՀ պետական եկամուտների կոմիտե
A29: Արդյունքի չափորոշիչներ
A30: Այլ սարքավորումների քանակ, հատ | C30: -4
A31: Միջոցառման վրա կատարվող ծախսը (հազար դրամ) | C31: ='Հավելված 3'!G28 -> -155000
A33: Ծրագրի դասիչը` | B33: 1023 | C33: Ցուցանիշների փոփոխությունը (ավելացումները նշված են դրական նշանով)
A34: Միջոցառման դասիչը` | B34: 31003 | C34: Տարի
A35: Միջոցառման անվանումը` | B35: ՀՀ պետական եկամուտների կոմիտեի շենքային ապահովվածության բարելավում
A36: Նկարագրությունը` | B36: ՀՀ պետական եկամուտների կոմիտեի նոր շենքերի և շինությունների շինարարություն, նախագծային աշխատանքների ձեռքբերում
A37: Միջոցառման տեսակը` | B37: Պետական մարմինների կողմից օգտագործվող ոչ ֆինանսական ակտիվների հետ գործառնություններ
A38: Միջոցառումն իրականացնողի անվանումը | B38: ՀՀ պետական եկամուտների կոմիտե
B39: Արդյունքի չափորոշիչներ
A40: Շինարարական օբյեկտների թիվ, հատ | C40: 1
A41: Բյուջետային տարում կառուցապատման մակերես, ք.մ. | C41: 130
A42: Շինարարական աշխատանքների ավարտվածության աստիճանը, տոկոս | C42: 100
A43: Միջոցառման վրա կատարվող ծախսը (հազար դրամ) | C43: ='Հավելված 3'!G37 -> 24095
A45: Ծրագրի դասիչը` | B45: 1023 | C45: Ցուցանիշների փոփոխությունը (ավելացումները նշված են դրական նշանով)
A46: Միջոցառման դասիչը` | B46: 31004 | C46: Տարի
A47: Միջոցառման անվանումը` | B47: ՀՀ պետական եկամուտների կոմիտեի շենքային պայմանների բարելավում
A48: Նկարագրությունը` | B48: ՀՀ պետական եկամուտների կոմիտեի շենքերի և շինությունների կապիտալ վերանորոգում, նախագծային աշխատանքների ձեռքբերում
...

Sheet Հավելված 6
G1: Հավելված N 6
A2: ՀԱՅԱՍՏԱՆԻ ՀԱՆՐԱՊԵՏՈՒԹՅԱՆ ԿԱՌԱՎԱՐՈՒԹՅԱՆ 2020 ԹՎԱԿԱՆԻ ԴԵԿՏԵՄԲԵՐԻ 30-Ի N 2215-Ն ՈՐՈՇՄԱՆ N 10 ՀԱՎԵԼՎԱԾՈՒՄ ԿԱՏԱՐՎՈՂ ՓՈՓՈԽՈՒԹՅՈՒՆՆԵՐԸ ՈՒ ԼՐԱՑՈՒՄՆԵՐԸ
A4: Գնման առարկայի | F4: Ցուցանիշների փոփոխությունը (ավելացումները նշված են դրական նշանով, իսկ նվազեցումները՝ փակագծերում)
A5: կոդը | B5: անվանումը | C5: գնման ձևը | D5: չափի միավորը | E5: միավորի գինը | F5: քանակը | G5: Գումարը (հազար դրամ)
A7: ՀՀ պետական եկամուտների կոմիտե | G7: =G8 -> -0.05
A8: Բաժին N 01 | B8: Խումբ N 01 | C8: Դաս N 02 | D8: Ֆինանսական և հարկաբյուջետային հարաբերություններ | G8: =G9+G20+G26+G31 -> -0.05
A9: 1023 11001 | B9: Հարկային և մաքսային ծառայություններ | G9: =G10 -> -140222.7
B10: ՄԱՍ III. ԾԱՌԱՅՈՒԹՅՈՒՆՆԵՐ | G10: =SUM(G11:G19) -> -140222.7
A11: 79991160-1 | B11: արխիվացման ծառայություններ | C11: ԳՀ | D11: դրամ | E11: 15000000 | F11: -1 | G11: =E11*F11/1000 -> -15000
A12: 77411200-1 | B12: վարժեցված շների պահպանման ծառայություններ | C12: ԳՀ | D12: դրամ | E12: 13000000 | F12: -1 | G12: =E12*F12/1000 -> -13000
A13: 51711100-2 | B13: հակահրդեհային սարքերի տեղադրման ծառայություններ | C13: ԲՄ | D13: դրամ | G13: =-49222.7 -> -49222.7
A14: 50751100-1 | B14: վերելակների վերանորոգման ― պահպանման ծառայություններ | C14: ԳՀ | D14: դրամ | G14: =-10000 -> -10000
A15: 50531110-1 | B15: կաթսաների վերանորոգման ― պահպանման ծառայություններ | C15: ԳՀ | D15: դրամ | G15: =-10000 -> -10000
A16: 50311120-1 | B16: համակարգչային սարքերի պահպանման ― վերանորոգման ծառայություններ | C16: ԳՀ | D16: դրամ | E16: 10000000 | F16: -1 | G16: =E16*F16/1000 -> -10000
A17: 50311120-2 | B17: համակարգչային սարքերի պահպանման ― վերանորոգման ծառայություններ | C17: ԳՀ | D17: դրամ | E17: 10000000 | F17: -1 | G17: =E17*F17/1000 -> -10000
A18: 45421140-1 | B18: կահույքի պատրաստման աշխատանքներ | C18: ԳՀ | D18: դրամ | E18: 10000000 | F18: -1 | G18: =E18*F18/1000 -> -10000
A19: 72411100-1 | B19: համացանցային ծառայություններ մատուցողներ (isp) | C19: ԳՀ | D19: դրամ | E19: 13000000 | F19: -1 | G19: =E19*F19/1000 -> -13000
A20: 1023 31001 | B20: ՀՀ պետական եկամուտների կոմիտեի տեխնիկական հագեցվածության բարելավում | G20: =G21 -> -155000
B21: ՄԱՍ I. ԱՊՐԱՆՔՆԵՐ | G21: =G22+G23+G24+G25 -> -155000
A22: 31711111-1 | B22: հսկիչ-հաշվիչ վերափաթաթող էլեկտրոնային մեքենա | C22: ԲՄ | D22: հատ | E22: 75000000 | F22: 1 | G22: =-E22*F22/1000 -> -75000
A23: 32411160-2 | B23: ցանցային երթուղագծիչներ | C23: ԳՀ | D23: հատ | E23: 10000000 | F23: 1 | G23: =-E23*F23/1000 -> -10000
A24: 33111100-1 | B24: ռենտգեն սարքեր | C24: ԳՀ | D24: հատ | E24: 62000000 | F24: 1 | G24: =-E24*F24/1000 -> -62000
A25: 35121270-1 | B25: մետաղի դետեկտորներ | C25: ԳՀ | D25: հատ | E25: 8000000 | F25: 1 | G25: =-E25*F25/1000 -> -8000
A26: 1023 31003 | B26: ՀՀ պետական եկամուտների կոմիտեի շենքային ապահովվածության բարելավում | G26: =G27+G29 -> 24095
B27: ՄԱՍ II. ԱՇԽԱՏԱՆՔՆԵՐ | G27: =G28 -> 24000
A28: 45451700-502 | B28: վերակառուցման աշխատանքներ | C28: ԳՀ | D28: դրամ | E28: 24000000 | F28: 1 | G28: =E28*F28/1000 -> 24000
B29: ՄԱՍ III. ԾԱՌԱՅՈՒԹՅՈՒՆՆԵՐ | G29: =G30 -> 95
A30: 98111140-502 | B30: հեղինակային հսկողության ծառայություններ | C30: ՄԱ | D30: դրամ | E30: 95000 | F30: 1 | G30: =E30*F30/1000 -> 95
A31: 1023 31004 | B31: ՀՀ պետական եկամուտների կոմիտեի շենքային պայմանների բարելավում | G31: =G32+G37 -> 271127.65
B32: ՄԱՍ II. ԱՇԽԱՏԱՆՔՆԵՐ | G32: =G33+G34+G35+G36 -> 261695.7
A33: 45611300 | B33: այլ շենքերի, շինությունների հիմնանորոգում | C33: ՀԲՄ | D33: դրամ | E33: 116563000 | F33: 1 | G33: =E33*F33/1000 -> 116563
A34: 45611300-505 | B34: այլ շենքերի, շինությունների հիմնանորոգում | C34: ԲՄ | D34: դրամ | E34: 31509000 | F34: 1 | G34: =E34*F34/1000 -> 31509
A35: 45611300-503 | B35: այլ շենքերի, շինությունների հիմնանորոգում | C35: ԲՄ | D35: դրամ | E35: 61122000 | F35: 1 | G35: =E35*F35/1000 -> 61122
A36: 45611300 | B36: այլ շենքերի, շինությունների հիմնանորոգում | C36: ԳՀ | D36: դրամ | E36: 52501700 | F36: 1 | G36: =E36*F36/1000 -> 52501.7
B37: ՄԱՍ III. ԾԱՌԱՅՈՒԹՅՈՒՆՆԵՐ | G37: =G38+G39+G40+G41+G42+G43+G44+G45+G46+G47+G48+G49+G50 -> 9431.95
A38: 71241200-507 | B38: նախագծերի պատրաստում, ծախսերի գնահատում | C38: ԳՀ | D38: դրամ | E38: 1200000 | F38: 1 | G38: =E38*F38/1000 -> 1200
A39: 71241200-508 | B39: նախագծերի պատրաստում, ծախսերի գնահատում | C39: ԳՀ | D39: դրամ | E39: 920000 | F39: 1 | G39: =E39*F39/1000 -> 920
A40: 71241200-511 | B40: նախագծերի պատրաստում, ծախսերի գնահատում | C40: ԳՀ | D40: դրամ | E40: 765000 | F40: 1 | G40: =E40*F40/1000 -> 765
A41: 71241200-509 | B41: նախագծերի պատրաստում, ծախսերի գնահատում | C41: ԳՀ | D41: դրամ | E41: 550000 | F41: 1 | G41: =E41*F41/1000 -> 550
A42: 71241200-510 | B42: նախագծերի պատրաստում, ծախսերի գնահատում | C42: ԳՀ | D42: դրամ | E42: 952000 | F42: 1 | G42: =E42*F42/1000 -> 952
...
