Workbook

Sheet Հավելված 1
D1: Հավելված 1
D2: ՀՀ կառավարության 2021 թվականի
D3: ___________ ___-ի N _______ -Ն որոշման
A4: «ՀԱՅԱՍՏԱՆԻ ՀԱՆՐԱՊԵՏՈՒԹՅԱՆ 2021 ԹՎԱԿԱՆԻ ՊԵՏԱԿԱՆ ԲՅՈՒՋԵԻ ՄԱՍԻՆ» ՀԱՅԱՍՏԱՆԻ ՀԱՆՐԱՊԵՏՈՒԹՅԱՆ ՕՐԵՆՔԻ N 1 ՀԱՎԵԼՎԱԾԻ N 2 ԱՂՅՈՒՍԱԿՈՒՄ ԿԱՏԱՐՎՈՂ ՎԵՐԱԲԱՇԽՈՒՄԸ ԵՎ ՀԱՅԱՍՏԱՆԻ ՀԱՆՐԱՊԵՏՈՒԹՅԱՆ ԿԱՌԱՎԱՐՈՒԹՅԱՆ 2020 ԹՎԱԿԱՆԻ ԴԵԿՏԵՄԲԵՐԻ 30-Ի N 2215-Ն ՈՐՈՇՄԱՆ N 5 ՀԱՎԵԼՎԱԾԻ N 1 ԱՂՅՈՒՍԱԿՈՒՄ ԿԱՏԱՐՎՈՂ ՓՈՓՈԽՈՒԹՅՈՒՆՆԵՐԸ
D6: հազար դրամներով
A7: Ծրագրային դասիչը | C7: Բյուջետային գլխավոր կարգադրիչների, ծրագրերի և միջոցառումների անվանումները | D7: Ցուցանիշների փոփոխությունը (ավելացումները նշված են դրական նշանով, իսկ նվազեցումները փակագծերում)
A8: Ծրագիր | B8: Միջոցա ռում | D8: Տարի
C10: ԸՆԴԱՄԵՆԸ | D10: =D11+D31 -> 0
C11: ՀՀ ազգային անվտանգության ծառայություն | D11: =+D12 -> 101920
A12: 1138 | C12: Ծրագրի անվանումը` | D12: =D19+D25 -> 101920
C13: Ազգային անվտանգություն
C14: Ծրագրի նպատակը`
C15: Ներքին և արտաքին սպառնալիքներից անձի՝ հասարակության ու պետության անվտանգության ապահովում
C16: Վերջնական արդյունքի նկարագրությունը`
C17: Այլ պետությունների կողմից հետախուզական գործունեության կասեցում՝պետական սահմանի անձեռնամխելիության ապահովում՝ կոռուպցիոն ռիսկերի շեշտակի նվազեցում
A18: Ծրագրի միջոցառումներ | C18: Ծրագրի միջոցառումներ
B19: 31002 | C19: Միջոցառման անվանումը` | D19: 29920
C20: Ազգային անվտանգության համակարգի շենքային ապահովվածության բարելավում
C21: Միջոցառման նկարագրությունը`
C22: Ազգային անվտանգության համակարգի ստորաբաժանումների վարչական շենքերի կառուցում, կապիտալ վերանորոգում, շինարարական և կապիտալ նորոգման օբյեկտների նախագծահետազոտական փաստաթղթերի պատրաստում
C23: Միջոցառման տեսակը
C24: Պետական մարմինների կողմից օգտագործվող ոչ ֆինանսական ակտիվների հետ գործառնություններ
B25: 31003 | C25: Միջոցառման անվանումը` | D25: 72000
C26: Ազգային անվտանգության համակարգի տրանսպորտային սարքավորումների հագեցվածության բարելավում
C27: Միջոցառման նկարագրությունը`
C28: Ազգային անվտանգության համակարգի ստորաբաժանումների համար տրանսպորտային սարքավորումների ձեռքբերում
C29: Միջոցառման տեսակը
C30: Պետական մարմինների կողմից օգտագործվող ոչ ֆինանսական ակտիվների հետ գործառնություններ
C31: ՀՀ կառավարություն | D31: =D32 -> -101920
A32: 1139 | C32: Ծրագրի անվանումը` | D32: =D39 -> -101920
C33: ՀՀ կառավարության պահուստային ֆոնդ
C34: Ծրագրի նպատակը`
C35: Պետական բյուջեում չկանխատեսված, ինչպես նաեւ բյուջետային երաշխիքների ապահովման ծախսերի ֆինանսավորման ապահովում_x000D_
C36: Վերջնական արդյունքի նկարագրությունը`
C37: Պահուստային ֆոնդի կառավարման արդյունավետության և թափանցիկության ապահովում
C38: Ծրագրի միջոցառումներ
B39: 11001 | C39: Միջոցառման անվանումը` | D39: =-D12 -> -101920
C40: ՀՀ կառավարության պահուստային ֆոնդ
C41: Միջոցառման նկարագրությունը`
C42: ՀՀ պետական բյուջեում նախատեսված ելքերի լրացուցիչ ֆինանսավորման՝ պետական բյուջեում չկանխատեսված ելքերի՝ ինչպես նաև բյուջետային երաշխիքների ապահովման ելքերի ֆինանսավորման ապահովում
C43: Միջոցառման տեսակը
C44: Ծառայությունների մատուցում

Sheet Հավելված 2
H1: Հավելված 2
F2: ՀՀ կառավարության 2021 թվականի
F3: ___________ ___-ի N _______ -Ն որոշման
A5: «ՀԱՅԱՍՏԱՆԻ ՀԱՆՐԱՊԵՏՈՒԹՅԱՆ 2021 ԹՎԱԿԱՆԻ ՊԵՏԱԿԱՆ ԲՅՈՒՋԵԻ ՄԱՍԻՆ» ՀԱՅԱՍՏԱՆԻ ՀԱՆՐԱՊԵՏՈՒԹՅԱՆ ՕՐԵՆՔԻ N 1 ՀԱՎԵԼՎԱԾԻ N 3 ԱՂՅՈՒՍԱԿՈՒՄ ԿԱՏԱՐՎՈՂ ՓՈՓՈԽՈՒԹՅՈՒՆՆԵՐԸ
G6: հազար դրամներով
A7: Ծրագրային դասիչ | C7: Բյուջետային գլխավոր կարգադրիչների, ծրագրերի, միջոցառումների և ուղղությունների անվանումները | D7: Ընդամենը | E7: Ցուցանիշների փոփոխությունը (ավելացումները նշված են դրական նշանով)
E8: այդ թվում՝
A9: Ծրագիր | B9: Միջոցառում | E9: Կառուցման աշխատանքներ | F9: Վերակառուցման, վերանորոգման և վերականգնման աշխատանքներ | G9: Նախագծահե- տազոտական, գեոդեզիա- քարտեզագրա- կան աշխա- տանքներ | H9: Ոչ ֆինանսական այլ ակտիվների ձեռքբերում
C10: ԸՆԴԱՄԵՆԸ | D10: =D12 -> 101920 | E10: =E12 -> 0 | F10: =F12 -> 0 | G10: =G12 -> 29920 | H10: =H12 -> 72000
C11: այդ թվում՝
C12: ՀՀ ԱԶԳԱՅԻՆ ԱՆՎՏԱՆԳՈՒԹՅԱՆ ԾԱՌԱՅՈՒԹՅՈՒՆ | D12: =D14+D17 -> 101920 | E12: =E14 -> 0 | F12: =F14 -> 0 | G12: =G14 -> 29920 | H12: =H14+H17 -> 72000
C13: այդ թվում`
A14: 1138 | B14: 31002 | C14: Ազգային անվտանգության համակարգի շենքային ապահովվածության բարելավում | D14: =E14+F14+G14+H14 -> 29920 | E14: =E16 -> 0 | F14: =F16 -> 0 | G14: =G16 -> 29920 | H14: =H16 -> 0
C15: որից՝
C16: 4 Նոր սահմանապահ ուղեկալների և պարետատան կառուցման համար անհրաժեշտ նախագծահետազոտական փաստաթղթերի պատրաստում | D16: =E16+F16+G16+H16 -> 29920 | E16: 0 | F16: 0 | G16: 29920 | H16: 0
A17: 1138 | B17: 31003 | C17: Ազգային անվտանգության համակարգի տրանսպորտային սարքավորումների հագեցվածության բարելավում | D17: =E17+F17+G17+H17 -> 72000 | E17: =E19 -> 0 | F17: =F19 -> 0 | G17: =G19 -> 0 | H17: ='Հավելված 1'!D25 -> 72000

Sheet Հավելված 3
G1: Հավելված 3
G2: ՀՀ կառավարության 2021 թվականի
G3: ___________ ___-ի N _______ -Ն որոշման
A5: ՀԱՅԱՍՏԱՆԻ ՀԱՆՐԱՊԵՏՈՒԹՅԱՆ ԿԱՌԱՎԱՐՈՒԹՅԱՆ 2020 ԹՎԱԿԱՆԻ ԴԵԿՏԵՄԲԵՐԻ 30-Ի N 2215-Ն ՈՐՈՇՄԱՆ NN 3 ԵՎ 4 ՀԱՎԵԼՎԱԾՆԵՐՈՒՄ ԿԱՏԱՐՎՈՂ ՓՈՓՈԽՈՒԹՅՈՒՆՆԵՐԸ
G7: հազ. դրամ
A8: Գործառական դասիչը | D8: Ծրագրային դասիչը | F8: Բյուջետային հատկացումների գլխավոր կարգադրիչների, ծրագրերի, միջոցառումների և միջոցառումները կատարող պետական մարմինների անվանումները | G8: Ցուցանիշների փոփոխությունը (ավելացումները նշված են դրական նշանով, իսկ նվազեցումները փակագծերում)
A9: Բաժին | B9: Խումբ | C9: Դաս | D9: Ծրագիր | E9: Միջոց առում | G9: Տարի
F11: ԸՆԴԱՄԵՆԸ ԾԱԽՍԵՐ | G11: =+G13+G41 -> 0
F12: այդ թվում`
A13: 03 | F13: ՀԱՍԱՐԱԿԱԿԱՆ ԿԱՐԳ, ԱՆՎՏԱՆԳՈՒԹՅՈՒՆ ԵՎ ԴԱՏԱԿԱՆ ԳՈՐԾՈՒՆԵՈՒԹՅՈՒՆ | G13: =+G15 -> 101920
F14: այդ թվում`
B15: 01 | F15: Հասարակական կարգ և անվտանգություն | G15: =+G17 -> 101920
F16: այդ թվում`
C17: 02 | F17: Ազգային անվտանգություն | G17: =+G19 -> 101920
F18: այդ թվում`
D19: 1138 | F19: Ազգային անվտանգություն | G19: =G21 -> 101920
F20: այդ թվում`
F21: ՀՀ ազգային անվտանգության ծառայություն | G21: =G22+G32 -> 101920
E22: 31002 | F22: Ազգային անվտանգության համակարգի շենքային ապահովվածության բարելավում | G22: =G24 -> 29920
F23: այդ թվում` ըստ կատարողների
F24: ՀՀ ազգային անվտանգության ծառայություն | G24: =G26 -> 29920
F25: այդ թվում` բյուջետային ծախսերի տնտեսագիտական դասակարգման հոդվածներ
F26: ԸՆԴԱՄԵՆԸ ԾԱԽՍԵՐ | G26: =G27 -> 29920
F27: ՈՉ ՖԻՆԱՆՍԱԿԱՆ ԱԿՏԻՎՆԵՐԻ ԳԾՈՎ ԾԱԽՍԵՐ | G27: =G28 -> 29920
F28: ՀԻՄՆԱԿԱՆ ՄԻՋՈՑՆԵՐ | G28: =G29 -> 29920
F29: ՇԵՆՔԵՐ ԵՎ ՇԻՆՈՒԹՅՈՒՆՆԵՐ | G29: =G30 -> 29920
F30: ԱՅԼ ՀԻՄՆԱԿԱՆ ՄԻՋՈՑՆԵՐ | G30: =G31 -> 29920
F31: - Նախագծահետազոտական ծախսեր | G31: ='Հավելված 1'!D19 -> 29920
E32: 31003 | F32: Ազգային անվտանգության համակարգի տրանսպորտային սարքավորումների հագեցվածության բարելավում | G32: =G34 -> 72000
F33: այդ թվում` ըստ կատարողների
F34: ՀՀ ազգային անվտանգության ծառայություն | G34: =G36 -> 72000
F35: այդ թվում` բյուջետային ծախսերի տնտեսագիտական դասակարգման հոդվածներ
F36: ԸՆԴԱՄԵՆԸ ԾԱԽՍԵՐ | G36: =G37 -> 72000
F37: ՈՉ ՖԻՆԱՆՍԱԿԱՆ ԱԿՏԻՎՆԵՐԻ ԳԾՈՎ ԾԱԽՍԵՐ | G37: =G38 -> 72000
F38: ՀԻՄՆԱԿԱՆ ՄԻՋՈՑՆԵՐ | G38: =G39 -> 72000
F39: ՄԵՔԵՆԱՆԵՐ ԵՎ ՍԱՐՔԱՎՈՐՈՒՄՆԵՐ | G39: =G40 -> 72000
F40: - Տրանսպորտային սարքավորումներ | G40: ='Հավելված 1'!D25 -> 72000
A41: 11 | F41: ՀԻՄՆԱԿԱՆ ԲԱԺԻՆՆԵՐԻՆ ՉԴԱՍՎՈՂ ՊԱՀՈՒՍՏԱՅԻՆ ՖՈՆԴԵՐ | G41: =+G43 -> -101920
F42: այդ թվում`
B43: 01 | F43: ՀՀ կառավարության և համայնքների պահուստային ֆոնդ | G43: =+G45 -> -101920
F44: այդ թվում`
C45: 01 | F45: ՀՀ կառավարության պահուստային ֆոնդ | G45: =+G47 -> -101920
F46: այդ թվում`
D47: 1139 | F47: ՀՀ կառավարության պահուստային ֆոնդ | G47: =G49 -> -101920
F48: այդ թվում`
F49: ՀՀ կառավարություն | G49: =+G50 -> -101920
E50: 11001 | F50: ՀՀ կառավարության պահուստային ֆոնդ | G50: =+G52 -> -101920
F51: այդ թվում` ըստ կատարողների
F52: ՀՀ կառավարություն | G52: =+G54 -> -101920
F53: այդ թվում` բյուջետային ծախսերի տնտեսագիտական դասակարգման հոդվածներ
F54: ԸՆԴԱՄԵՆԸ ԾԱԽՍԵՐ | G54: =+G55 -> -101920
F55: ԸՆԹԱՑԻԿ ԾԱԽՍԵՐ | G55: =+G56 -> -101920
F56: ԱՅԼ ԾԱԽՍԵՐ | G56: =+G57 -> -101920
F57: Պահուստային միջոցներ | G57: ='Հավելված 1'!D31 -> -101920

Sheet Հավելված 4
D1: Հավելված 4
D2: ՀՀ կառավարության 2021 թվականի
D3: ___________ ___-ի N _______ -Ն որոշման
A5: ՀԱՅԱՍՏԱՆԻ ՀԱՆՐԱՊԵՏՈՒԹՅԱՆ ԿԱՌԱՎԱՐՈՒԹՅԱՆ 2020 ԹՎԱԿԱՆԻ ԴԵԿՏԵՄԲԵՐԻ 30-Ի N 2215-Ն ՈՐՈՇՄԱՆ N 5 ՀԱՎԵԼՎԱԾԻ N 2 ԱՂՅՈՒՍԱԿՈՒՄ ԿԱՏԱՐՎՈՂ ՓՈՓՈԽՈՒԹՅՈՒՆՆԵՐԸ
D6: հազ. դրամ
A7: Ծրագրային դասիչ | C7: Բյուջետային գլխավոր կարգադրիչների, ծրագրերի, միջոցառումների, միջոցառումները կատարող պետական մարմինների և ուղղությունների անվանումները | D7: Ցուցանիշների փոփոխությունը (ավելացումները նշված են դրական նշանով)
D8: Տարի
A9: Ծրագիր | B9: Միջոցառում
C10: ԸՆԴԱՄԵՆԸ | D10: =D11 -> 101920
C11: ՀՀ ԱԶԳԱՅԻՆ ԱՆՎՏԱՆԳՈՒԹՅԱՆ ԾԱՌԱՅՈՒԹՅՈՒՆ | D11: =D15+D18 -> 101920
C12: այդ թվում`
A13: 1138 | B13: 31002 | C13: Ազգային անվտանգության համակարգի շենքային ապահովվածության բարելավում | D13: =D15 -> 29920
C14: այդ թվում` ըստ կատարողների
C15: ՀՀ ազգային անվտանգության ծառայություն | D15: =D17 -> 29920
C16: որից՝
C17: 4 Նոր սահմանապահ ուղեկալների և պարետատան կառուցման համար անհրաժեշտ նախագծահետազոտական փաստաթղթերի պատրաստում | D17: ='Հավելված 1'!D19 -> 29920
A18: 1138 | B18: 31003 | C18: Ազգային անվտանգության համակարգի տրանսպորտային սարքավորումների հագեցվածության բարելավում | D18: =D20 -> 72000
C19: այդ թվում` ըստ կատարողների
C20: ՀՀ ազգային անվտանգության ծառայություն | D20: ='Հավելված 1'!D25 -> 72000

Sheet Հավելված 5
C1: Հավելված 5
C2: ՀՀ կառավարության 2021 թվականի
C3: ___________ ___-ի N _______ -Ն որոշման
A5: ՀԱՅԱՍՏԱՆԻ ՀԱՆՐԱՊԵՏՈՒԹՅԱՆ ԿԱՌԱՎԱՐՈՒԹՅԱՆ 2020 ԹՎԱԿԱՆԻ ԴԵԿՏԵՄԲԵՐԻ 30-Ի N 2215-Ն ՈՐՈՇՄԱՆ N 9 ՀԱՎԵԼՎԱԾԻ NN 9.27 ԵՎ 9.47 ԱՂՅՈՒՍԱԿՆԵՐՈՒՄ ԿԱՏԱՐՎՈՂ ՓՈՓՈԽՈՒԹՅՈՒՆՆԵՐԸ
A7: ՀՀ ազգային անվտանգության ծառայություն
A8: ՄԱՍ 2. ՊԵՏԱԿԱՆ ՄԱՐՄՆԻ ԳԾՈՎ ԱՐԴՅՈՒՆՔԱՅԻՆ (ԿԱՏԱՐՈՂԱԿԱՆ) ՑՈՒՑԱՆԻՇՆԵՐԸ
A10: Ծրագրի դասիչը | B10: Ծրագրի անվանումը
A11: 1138 | B11: Ազգային անվտանգություն
A13: Ծրագրի միջոցառումները
A14: Ծրագրի դասիչը` | B14: 1138 | C14: Ցուցանիշների փոփոխությունը (ավելացումները նշված են դրական նշանով)
A15: Միջոցառման դասիչը` | B15: 31002 | C15: Տարի
A16: Միջոցառման անվանումը` | B16: Ազգային անվտանգության համակարգի շենքային ապահովվածության բարելավում
A17: Նկարագրությունը` | B17: Ազգային անվտանգության համակարգի ստորաբաժանումների վարչական շենքերի կառուցում, կապիտալ վերանորոգում, շինարարական և կապիտալ նորոգման օբյեկտների նախագծահետազոտական փաստաթղթերի պատրաստում
A18: Միջոցառման տեսակը` | B18: Պետական մարմինների կողմից օգտագործվող ոչ ֆինանսական ակտիվների հետ գործառնություններ
A19: Միջոցառումն իրականացնողի անվանումը | B19: ՀՀ ազգային անվտանգության ծառայություն
A20: Արդյունքի չափորոշիչներ
A21: Նախագծահետազոտական փաստաթղթերի թիվ, հատ | C21: 5
A22: Միջոցառման վրա կատարվող ծախսը (հազար դրամ) | C22: ='Հավելված 1'!D19 -> 29920
A24: Ծրագրի դասիչը` | B24: 1138 | C24: Ցուցանիշների փոփոխությունը (ավելացումները նշված են դրական նշանով)
A25: Միջոցառման դասիչը` | B25: 31003 | C25: Տարի
A26: Միջոցառման անվանումը` | B26: Ազգային անվտանգության համակարգի տրանսպորտային սարքավորումների հագեցվածության բարելավում
A27: Նկարագրությունը` | B27: Ազգային անվտանգության համակարգի ստորաբաժանումների համար տրանսպորտային սարքավորումների ձեռքբերում
A28: Միջոցառման տեսակը` | B28: Պետական մարմինների կողմից օգտագործվող ոչ ֆինանսական ակտիվների հետ գործառնություններ
A29: Միջոցառումն իրականացնողի անվանումը | B29: ՀՀ ազգային անվտանգության ծառայություն
A30: Արդյունքի չափորոշիչներ
A31: Տրանսպորտային սարքավորումների քանակ, հատ | C31: 2
A32: Միջոցառման վրա կատարվող ծախսը (հազար դրամ) | C32: ='Հավելված 1'!D25 -> 72000
A34: ՀՀ Կառավարություն
A35: ՄԱՍ 2. ՊԵՏԱԿԱՆ ՄԱՐՄՆԻ ԳԾՈՎ ԱՐԴՅՈՒՆՔԱՅԻՆ (ԿԱՏԱՐՈՂԱԿԱՆ) ՑՈՒՑԱՆԻՇՆԵՐԸ
A37: Ծրագրի դասիչը | B37: Ծրագրի անվանումը
A38: 1139 | B38: ՀՀ կառավարության պահուստային ֆոնդ
A40: Ծրագրի միջոցառումները
A41: Ծրագրի դասիչը` | B41: 1139 | C41: Ցուցանիշների փոփոխությունը (նվազեցումները նշված են փակագծերում)
A42: Միջոցառման դասիչը` | B42: 11001 | C42: Տարի
A43: Միջոցառման անվանումը` | B43: ՀՀ կառավարության պահուստային ֆոնդ
A44: Նկարագրությունը` | B44: ՀՀ պետական բյուջեում նախատեսված ելքերի լրացուցիչ ֆինանսավորման, պետական բյուջեում չկանխատեսված ելքերի, ինչպես նաև բյուջետային երաշխիքների ապահովման ելքերի ֆինանսավորման ապահովում
A45: Միջոցառման տեսակը` | B45: Ծառայությունների մատուցում
A46: Միջոցառումն իրականացնողի անվանումը | B46: ՀՀ կառավարություն
A47: Արդյունքի չափորոշիչներ
A48: Միջոցառման վրա կատարվող ծախսը (հազար դրամ) | C48: ='Հավելված 1'!D39 -> -101920

Sheet Հավելված 6
C1: Հավելված 6
C2: ՀՀ կառավարության 2021 թվականի
C3: ___________ ___-ի N _______ -Ն որոշման
A5: ՀԱՅԱՍՏԱՆԻ ՀԱՆՐԱՊԵՏՈՒԹՅԱՆ ԿԱՌԱՎԱՐՈՒԹՅԱՆ 2020 ԹՎԱԿԱՆԻ ԴԵԿՏԵՄԲԵՐԻ 30-Ի N 2215-Ն ՈՐՈՇՄԱՆ N 9.1 ՀԱՎԵԼՎԱԾԻ NN 9.1.32 ԵՎ 9.1.58 ԱՂՅՈՒՍԱԿՆԵՐՈՒՄ ԿԱՏԱՐՎՈՂ ՓՈՓՈԽՈՒԹՅՈՒՆՆԵՐԸ
A7: ՀՀ ազգային անվտանգության ծառայություն
A8: ՄԱՍ 1. ՊԵՏԱԿԱՆ ՄԱՐՄՆԻ ԳԾՈՎ ԱՐԴՅՈՒՆՔԱՅԻՆ (ԿԱՏԱՐՈՂԱԿԱՆ) ՑՈՒՑԱՆԻՇՆԵՐԸ
A10: Ծրագրի դասիչը | B10: Ծրագրի անվանումը
A11: 1138 | B11: Ազգային անվտանգություն
A13: Ծրագրի միջոցառումները
A14: Ծրագրի դասիչը` | B14: 1138 | C14: Ցուցանիշների փոփոխությունը (ավելացումները նշված են դրական նշանով)
A15: Միջոցառման դասիչը` | B15: 31002 | C15: Տարի
A16: Միջոցառման անվանումը` | B16: Ազգային անվտանգության համակարգի շենքային ապահովվածության բարելավում
A17: Նկարագրությունը` | B17: Ազգային անվտանգության համակարգի ստորաբաժանումների վարչական շենքերի կառուցում, կապիտալ վերանորոգում, շինարարական և կապիտալ նորոգման օբյեկտների նախագծահետազոտական փաստաթղթերի պատրաստում
A18: Միջոցառման տեսակը` | B18: Պետական մարմինների կողմից օգտագործվող ոչ ֆինանսական ակտիվների հետ գործառնություններ
A19: Միջոցառումն իրականացնողի անվանումը | B19: ՀՀ ազգային անվտանգության ծառայություն
A20: Արդյունքի չափորոշիչներ
A21: Նախագծահետազոտական փաստաթղթերի թիվ, հատ | C21: ='Հավելված 5'!C21 -> 5
A22: Միջոցառման վրա կատարվող ծախսը (հազար դրամ) | C22: ='Հավելված 5'!C22 -> 29920
A24: Ծրագրի դասիչը` | B24: 1138 | C24: Ցուցանիշների փոփոխությունը (ավելացումները նշված են դրական նշանով)
A25: Միջոցառման դասիչը` | B25: 31003 | C25: Տարի
A26: Միջոցառման անվանումը` | B26: Ազգային անվտանգության համակարգի տրանսպորտային սարքավորումների հագեցվածության բարելավում
A27: Նկարագրությունը` | B27: Ազգային անվտանգության համակարգի ստորաբաժանումների համար տրանսպորտային սարքավորումների ձեռքբերում
A28: Միջոցառման տեսակը` | B28: Պետական մարմինների կողմից օգտագործվող ոչ ֆինանսական ակտիվների հետ գործառնություններ
A29: Միջոցառումն իրականացնողի անվանումը | B29: ՀՀ ազգային անվտանգության ծառայություն
A30: Արդյունքի չափորոշիչներ
A31: Տրանսպորտային սարքավորումների քանակ, հատ | C31: ='Հավելված 5'!C31 -> 2
A32: Միջոցառման վրա կատարվող ծախսը (հազար դրամ) | C32: ='Հավելված 1'!D25 -> 72000
A34: ՀՀ Կառավարություն
A35: ՄԱՍ 1. ՊԵՏԱԿԱՆ ՄԱՐՄՆԻ ԳԾՈՎ ԱՐԴՅՈՒՆՔԱՅԻՆ (ԿԱՏԱՐՈՂԱԿԱՆ) ՑՈՒՑԱՆԻՇՆԵՐԸ
A37: Ծրագրի դասիչը | B37: Ծրագրի անվանումը
A38: 1139 | B38: ՀՀ կառավարության պահուստային ֆոնդ
A40: Ծրագրի միջոցառումները
A41: Ծրագրի դասիչը` | B41: 1139 | C41: Ցուցանիշների փոփոխությունը (նվազեցումները նշված են փակագծերում)
A42: Միջոցառման դասիչը` | B42: 11001 | C42: Տարի
A43: Միջոցառման անվանումը` | B43: ՀՀ կառավարության պահուստային ֆոնդ
A44: Նկարագրությունը` | B44: ՀՀ պետական բյուջեում նախատեսված ելքերի լրացուցիչ ֆինանսավորման, պետական բյուջեում չկանխատեսված ելքերի, ինչպես նաև բյուջետային երաշխիքների ապահովման ելքերի ֆինանսավորման ապահովում
A45: Միջոցառման տեսակը` | B45: Ծառայությունների մատուցում
A46: Միջոցառումն իրականացնողի անվանումը | B46: ՀՀ կառավարություն
A47: Արդյունքի չափորոշիչներ
A48: Միջոցառման վրա կատարվող ծախսը (հազար դրամ) | C48: ='Հավելված 1'!D39 -> -101920
