Workbook

Sheet 1
C1: Հավելված N 1
A2: ՀՀ կառավարության 2021 թվականի
A3: -ի N -Ն որոշման
A5: «ՀԱՅԱՍՏԱՆԻ ՀԱՆՐԱՊԵՏՈՒԹՅԱՆ 2021 ԹՎԱԿԱՆԻ ՊԵՏԱԿԱՆ ԲՅՈՒՋԵԻ ՄԱՍԻՆ» ՕՐԵՆՔԻ N 1 ՀԱՎԵԼՎԱԾԻ N 2 ԱՂՅՈՒՍԱԿՈՒՄ ԿԱՏԱՐՎՈՂ ՎԵՐԱԲԱՇԽՈՒՄԸ ԵՎ ՀԱՅԱՍՏԱՆԻ ՀԱՆՐԱՊԵՏՈՒԹՅԱՆ ԿԱՌԱՎԱՐՈՒԹՅԱՆ 2020 ԹՎԱԿԱՆԻ ԴԵԿՏԵՄԲԵՐԻ 30-Ի N 2215-Ն ՈՐՈՇՄԱՆ N 5 ՀԱՎԵԼՎԱԾԻ N 1 ԱՂՅՈՒՍԱԿՈՒՄ ԿԱՏԱՐՎՈՂ ՓՈՓՈԽՈՒԹՅՈՒՆՆԵՐԸ
D6: հազ. դրամ
A7: Ծրագրային դասիչը | C7: Բյուջետային գլխավոր կարգադրիչների, ծրագրերի և միջոցառումների անվանումները | D7: Ցուցանիշների փոփոխությունը (ավելացումները նշված են դրական նշանով, իսկ նվազեցումները` փակագծերում)
D9: Տարի
C10: ԸՆԴԱՄԵՆԸ | D10: =D11 -> 0
C11: ՀՀ տարածքային կառավարման և ենթակառուցվածքների նախարարություն | D11: =D11 -> 0
A12: 1004 | C12: Ծրագրի անվանումը` | D12: =D25+D19 -> 0
C13: Ոռոգման համակարգի առողջացում
C14: Ծրագրի նպատակը`
C15: Ոռոգման ծառայությունների հասանելիության և մատչելիության ապահովում
C16: Վերջնական արդյունքի նկարագրությունը`
C17: Ոռոգման ջրի մատակարարման արդյունավետության և հասանելիության բարելավում՝ կորուստների կրճատում
A18: Ծրագրի միջոցառումներ
B19: 31010 | C19: Միջոցառման անվանումը` | D19: -14240
C20: Հեր-Հերի ջրամբարից ինքնահոս ջրատարի կառուցում
C21: Միջոցառման նկարագրությունը`
C22: Հեր-Հերի ջրամբարից ինքնահոս ջրատարի կառուցման համար նախագծերի և աշխատանքների ձեռքբերում
C23: Միջոցառման տեսակը
C24: Պետական մարմինների կողմից օգտագործվող ոչ ֆինանսական ակտիվների հետ գործառնություններ
B25: 31013 | C25: Միջոցառման անվանումը` | D25: 14240
C26: Փոքր և միջին ջրամբարների կառուցման աշխատանքներ
C27: Միջոցառման նկարագրությունը`
C28: Փոքր և միջին ջրամբարների կառուցման նախագծերի և աշխատանքների ձեռքբերում
C29: Միջոցառման տեսակը
C30: Պետական մարմինների կողմից օգտագործվող ոչ ֆինանսական ակտիվների հետ գործառնություններ
C31: ՀՀ կառավարություն | D31: =D32 -> 0
A32: 1139 | C32: Ծրագրի անվանումը` | D32: =D39+D45 -> 0
C33: ՀՀ կառավարության պահուստային ֆոնդ
C34: Ծրագրի նպատակը`
C35: Պետական բյուջեում չկանխատեսված՝ ինչպես նաեւ բյուջետային երաշխիքների ապահովման ծախսերի ֆինանսավորման ապահովում
C36: Վերջնական արդյունքի նկարագրությունը`
C37: Պահուստային ֆոնդի կառավարման արդյունավետության և թափանցիկության ապահովում
A38: Ծրագրի միջոցառումներ
B39: 11001 | C39: Միջոցառման անվանումը` | D39: =-D19 -> 14240
C40: ՀՀ կառավարության պահուստային ֆոնդ
C41: Միջոցառման նկարագրությունը`
C42: ՀՀ պետական բյուջեում նախատեսված ելքերի լրացուցիչ ֆինանսավորման՝ պետական բյուջեում չկանխատեսված ելքերի՝ ինչպես նաև բյուջետային երաշխիքների ապահովման ելքերի ֆինանսավորման ապահովում
C43: Միջոցառման տեսակը
C44: Ծառայությունների մատուցում
B45: 11001 | C45: Միջոցառման անվանումը` | D45: =-D39 -> -14240
C46: ՀՀ կառավարության պահուստային ֆոնդ
C47: Միջոցառման նկարագրությունը`
C48: ՀՀ պետական բյուջեում նախատեսված ելքերի լրացուցիչ ֆինանսավորման՝ պետական բյուջեում չկանխատեսված ելքերի՝ ինչպես նաև բյուջետային երաշխիքների ապահովման ելքերի ֆինանսավորման ապահովում
C49: Միջոցառման տեսակը
C50: Ծառայությունների մատուցում

Sheet 2
A1: Հավելված N 2
A2: ՀՀ կառավարության 2021 թվականի
A3: -ի N -Ն որոշման
A4: «ՀԱՅԱՍՏԱՆԻ ՀԱՆՐԱՊԵՏՈՒԹՅԱՆ 2021 ԹՎԱԿԱՆԻ ՊԵՏԱԿԱՆ ԲՅՈՒՋԵԻ ՄԱՍԻՆ» ՕՐԵՆՔԻ N 1 ՀԱՎԵԼՎԱԾԻ N 3 ԱՂՅՈՒՍԱԿՈՒՄ ԿԱՏԱՐՎՈՂ ՓՈՓՈԽՈՒԹՅՈՒՆՆԵՐԸ ԵՎ ԼՐԱՑՈՒՄՆԵՐԸ
G5: հազ.դրամ
A6: Ծրագրային դասիչ | C6: Բյուջետային գլխավոր կարգադրիչների, ծրագրերի, միջոցառումների և ուղղությունների անվանումները | D6: Ցուցանիշների փոփոխությունը (ավելացումները նշված են դրական նշանով, իսկ նվազեցումները՝ փակագծերում)
D7: Ընդամենը, | E7: այդ թվում՝
A8: Ծրագիր | B8: Միջոցառում | E8: Կառուցման աշխատանքներ | F8: Վերակառուցման, վերանորոգման և վերականգնման աշխատանքներ | G8: Նախագծահե- տազոտական, գեոդեզիա- քարտեզագրա- կան աշխա- տանքներ | H8: Ոչ ֆինանսական այլ ակտիվների ձեռքբերում
C9: ԸՆԴԱՄԵՆԸ | D9: =SUM(E9:H9) -> 0 | E9: =E11 -> -14240 | F9: =F11 -> 0 | G9: =G11 -> 14240 | H9: =H11 -> 0
C10: այդ թվում՝
C11: ՀՀ ՏԱՐԱԾՔԱՅԻՆ ԿԱՌԱՎԱՐՄԱՆ ԵՎ ԵՆԹԱԿԱՌՈՒՑՎԱԾՔՆԵՐԻ ՆԱԽԱՐԱՐՈՒԹՅՈՒՆ | D11: =SUM(E11:H11) -> 0 | E11: =E13+E14 -> -14240 | F11: =F13+F14 -> 0 | G11: =G13+G14 -> 14240 | H11: =H13+H14 -> 0
C12: այդ թվում`
A13: 1004 | B13: 31010 | C13: Հեր-Հերի ջրամբարից ինքնահոս ջրատարի կառուցում | D13: =SUM(E13:H13) -> -14240 | E13: =-G14 -> -14240
A14: 1004 | B14: 31013 | C14: Փոքր և միջին ջրամբարների կառուցման աշխատանքներ | D14: =SUM(E14:H14) -> 14240 | F14: =F17 -> 0 | G14: =G16+G17 -> 14240
C15: այդ թվում`
C16: ՀՀ Գեղարքունիքի մարզի Արգիճիի ջրամբարի կառուցման նախագծանախահաշվային փաստաթղթերի ձեռքբերում | D16: =SUM(E16:H16) -> 7320 | G16: 7320
C17: ՀՀ Գեղարքունիքի մարզի Աստղաձորի ջրամբարի կառուցման նախագծանախահաշվային փաստաթղթերի ձեռքբերում | D17: =SUM(E17:H17) -> 6920 | G17: 6920

Sheet 3
G1: Հավելված N 3
A2: ՀՀ կառավարության 2021 թվականի
A3: -ի N -Ն որոշման
A4: ՀԱՅԱՍՏԱՆԻ ՀԱՆՐԱՊԵՏՈՒԹՅԱՆ ԿԱՌԱՎԱՐՈՒԹՅԱՆ 2020 ԹՎԱԿԱՆԻ ԴԵԿՏԵՄԲԵՐԻ 30-Ի N 2215-Ն ՈՐՈՇՄԱՆ NN 3 և 4 ՀԱՎԵԼՎԱԾՆԵՐՈՒՄ ԿԱՏԱՐՎՈՂ ՓՈՓՈԽՈՒԹՅՈՒՆՆԵՐԸ ԵՎ ԼՐԱՑՈՒՄՆԵՐԸ
G6: հազ.դրամ
A7: Գործառական դասիչը | D7: Ծրագրային դասիչը | F7: Բյուջետային ծախսերի գործառական դասակարգման բաժինների, խմբերի և դասերի, բյուջետային ծրագրերի միջոցառումների, բյուջետային հատկացումների գլխավոր կարգադրիչների անվանումները | G7: Ցուցանիշների փոփոխությունը (ավելացումները նշված են դրական նշանով, իսկ նվազեցումները` փակագծերում)
G8: Տարի
A9: Բաժին | B9: Խումբ | C9: Դաս | D9: Ծրագիր | E9: Միջոցա ռում
F10: ԸՆԴԱՄԵՆԸ ԾԱԽՍԵՐ | G10: =G12 -> 0
F11: այդ թվում`
A12: 04 | F12: ՏՆՏԵՍԱԿԱՆ ՀԱՐԱԲԵՐՈՒԹՅՈՒՆՆԵՐ | G12: =G14 -> 0
F13: այդ թվում`
B14: 02 | F14: Գյուղատնտեսություն, անտառային տնտեսություն, ձկնորսություն և որսորդություն | G14: =G16 -> 0
F15: այդ թվում`
C16: 04 | F16: Ոռոգում | G16: =G18 -> 0
F17: այդ թվում`
F18: ՀՀ տարածքային կառավարման և ենթակառուցվածքների նախարարություն | G18: =G20 -> 0
F19: այդ թվում`
D20: 1004 | F20: Ոռոգման համակարգի առողջացում | G20: =G22+G31 -> 0
F21: այդ թվում`
E22: 31010 | F22: ='1'!C20 -> Հեր-Հերի ջրամբարից ինքնահոս ջրատարի կառուցում | G22: =G26 -> -14240
F23: այդ թվում` ըստ կատարողների
F24: ՀՀ տարածքային կառավարման և ենթակառուցվածքների նախարարության ջրային կոմիտե | G24: =G26 -> -14240
F25: այդ թվում` բյուջետային ծախսերի տնտեսագիտական դասակարգման հոդվածներ
F26: ԸՆԴԱՄԵՆԸ ԾԱԽՍԵՐ | G26: =G27 -> -14240
F27: ՈՉ ՖԻՆԱՆՍԱԿԱՆ ԱԿՏԻՎՆԵՐԻ ԳԾՈՎ ԾԱԽՍԵՐ | G27: =G28 -> -14240
F28: ՀԻՄՆԱԿԱՆ ՄԻՋՈՑՆԵՐ | G28: =G29 -> -14240
F29: ՇԵՆՔԵՐ ԵՎ ՇԻՆՈՒԹՅՈՒՆՆԵՐ | G29: =G30 -> -14240
F30: - Շենքերի և շինությունների շինարարություն | G30: ='1'!D19 -> -14240
E31: 31013 | F31: ='1'!C26 -> Փոքր և միջին ջրամբարների կառուցման աշխատանքներ | G31: =G35 -> 14240
F32: այդ թվում` ըստ կատարողների
F33: ՀՀ տարածքային կառավարման և ենթակառուցվածքների նախարարության ջրային կոմիտե | G33: =G35 -> 14240
F34: այդ թվում` բյուջետային ծախսերի տնտեսագիտական դասակարգման հոդվածներ
F35: ԸՆԴԱՄԵՆԸ ԾԱԽՍԵՐ | G35: =G36 -> 14240
F36: ՈՉ ՖԻՆԱՆՍԱԿԱՆ ԱԿՏԻՎՆԵՐԻ ԳԾՈՎ ԾԱԽՍԵՐ | G36: =G37 -> 14240
F37: ԱՅԼ ՀԻՄՆԱԿԱՆ ՄԻՋՈՑՆԵՐ | G37: =G38 -> 14240
F38: - Նախագծահետազոտական ծախսեր | G38: ='1'!D25 -> 14240
A39: 11 | F39: ՀԻՄՆԱԿԱՆ ԲԱԺԻՆՆԵՐԻՆ ՉԴԱՍՎՈՂ ՊԱՀՈՒՍՏԱՅԻՆ ՖՈՆԴԵՐ | G39: =G41 -> 0
F40: այդ թվում`
B41: 01 | F41: ՀՀ կառավարության և համայնքների պահուստային ֆոնդ | G41: =G43 -> 0
F42: այդ թվում`
C43: 01 | F43: ՀՀ կառավարության պահուստային ֆոնդ | G43: =G45 -> 0
F44: այդ թվում`
F45: ՀՀ կառավարություն | G45: =G47 -> 0
F46: այդ թվում`
D47: 1139 | F47: ՀՀ կառավարության պահուստային ֆոնդ | G47: =G49+G57 -> 0 | H47: =H49+H57 -> 0
F48: այդ թվում`
E49: 11001 | F49: ՀՀ կառավարության պահուստային ֆոնդ | G49: =G51 -> 14240
F50: այդ թվում` ըստ կատարողների
F51: ՀՀ կառավարություն | G51: =G53 -> 14240
F52: այդ թվում` բյուջետային ծախսերի տնտեսագիտական դասակարգման հոդվածներ
F53: ԸՆԴԱՄԵՆԸ ԾԱԽՍԵՐ | G53: =G54 -> 14240
F54: ԸՆԹԱՑԻԿ ԾԱԽՍԵՐ | G54: =G55 -> 14240
F55: ԱՅԼ ԾԱԽՍԵՐ | G55: =G56 -> 14240
F56: Պահուստային միջոցներ | G56: ='1'!D39 -> 14240
E57: 11001 | F57: ՀՀ կառավարության պահուստային ֆոնդ | G57: =G59 -> -14240
F58: այդ թվում` ըստ կատարողների
F59: ՀՀ կառավարություն | G59: =G61 -> -14240
F60: այդ թվում` բյուջետային ծախսերի տնտեսագիտական դասակարգման հոդվածներ
F61: ԸՆԴԱՄԵՆԸ ԾԱԽՍԵՐ | G61: =G62 -> -14240
F62: ԸՆԹԱՑԻԿ ԾԱԽՍԵՐ | G62: =G63 -> -14240
F63: ԱՅԼ ԾԱԽՍԵՐ | G63: =G64 -> -14240
F64: Պահուստային միջոցներ | G64: ='1'!D45 -> -14240

Sheet 4
A1: Հավելված N 4
A2: ՀՀ կառավարության 2021 թվականի
A3: -ի N -Ն որոշման
A4: ՀԱՅԱՍՏԱՆԻ ՀԱՆՐԱՊԵՏՈՒԹՅԱՆ ԿԱՌԱՎԱՐՈՒԹՅԱՆ 2020 ԹՎԱԿԱՆԻ ԴԵԿՏԵՄԲԵՐԻ 30-Ի N 2215-Ն ՈՐՈՇՄԱՆ N 5 ՀԱՎԵԼՎԱԾԻ N 2 ԱՂՅՈՒՍԱԿՈՒՄ ԿԱՏԱՐՎՈՂ ՓՈՓՈԽՈՒԹՅՈՒՆՆԵՐԸ ԵՎ ԼՐԱՑՈՒՄՆԵՐԸ
D5: հազ. դրամ
A6: Ծրագրային դասիչ | C6: Բյուջետային գլխավոր կարգադրիչների, ծրագրերի, միջոցառումների, միջոցառումները կատարող պետական մարմինների և ուղղությունների անվանումները | D6: Ցուցանիշների փոփոխությունը (ավելացումները նշված են դրական նշանով, իսկ նվազեցումները` փակագծերում)
D7: Տարի
A8: Ծրագիր | B8: Միջոցառում
C9: ԸՆԴԱՄԵՆԸ | D9: =D11 -> 0
C10: այդ թվում՝
C11: ՀՀ ՏԱՐԱԾՔԱՅԻՆ ԿԱՌԱՎԱՐՄԱՆ ԵՎ ԵՆԹԱԿԱՌՈՒՑՎԱԾՔՆԵՐԻ ՆԱԽԱՐԱՐՈՒԹՅՈՒՆ | D11: =D13+D16 -> 0
C12: այդ թվում`
A13: 1004 | B13: 31010 | C13: ='2'!C13 -> Հեր-Հերի ջրամբարից ինքնահոս ջրատարի կառուցում | D13: =D15 -> -14240
C14: այդ թվում` ըստ կատարողների
C15: ՀՀ տարածքային կառավարման և ենթակառուցվածքների նախարարության ջրային կոմիտե | D15: -14240
A16: 1004 | B16: 31013 | C16: Փոքր և միջին ջրամբարների կառուցման աշխատանքներ | D16: =D18 -> 14240
C17: այդ թվում` ըստ կատարողների
C18: ՀՀ տարածքային կառավարման և ենթակառուցվածքների նախարարության ջրային կոմիտե | D18: =D20+D21 -> 14240
C19: այդ թվում` ըստ ուղղությունների
C20: ='2'!C16 -> ՀՀ Գեղարքունիքի մարզի Արգիճիի ջրամբարի կառուցման նախագծանախահաշվային փաստաթղթերի ձեռքբերում | D20: ='2'!G16 -> 7320
C21: ='2'!C17 -> ՀՀ Գեղարքունիքի մարզի Աստղաձորի ջրամբարի կառուցման նախագծանախահաշվային փաստաթղթերի ձեռքբերում | D21: ='2'!G17 -> 6920

Sheet 5-1
A1: Հավելված N 5
A2: ՀՀ կառավարության 2021 թվականի
A3: -ի N -Ն որոշման
C4: Աղյուսակ N 1
A6: ՀԱՅԱՍՏԱՆԻ ՀԱՆՐԱՊԵՏՈՒԹՅԱՆ ԿԱՌԱՎԱՐՈՒԹՅԱՆ 2020 ԹՎԱԿԱՆԻ ԴԵԿՏԵՄԲԵՐԻ 30-Ի N 2215-Ն ՈՐՈՇՄԱՆ N 9 ՀԱՎԵԼՎԱԾԻ NN 9.8 ԵՎ 9.47 ԱՂՅՈՒՍԱԿՆԵՐՈՒՄ ԿԱՏԱՐՎՈՂ ՓՈՓՈԽՈՒԹՅՈՒՆՆԵՐԸ ԵՎ ԼՐԱՑՈՒՄՆԵՐԸ
A9: ՀՀ տարածքային կառավարման և ենթակառուցվածքների նախարարություն
A10: ՄԱՍ 2. ՊԵՏԱԿԱՆ ՄԱՐՄՆԻ ԳԾՈՎ ԱՐԴՅՈՒՆՔԱՅԻՆ (ԿԱՏԱՐՈՂԱԿԱՆ) ՑՈՒՑԱՆԻՇՆԵՐԸ
A13: Ծրագրի դասիչը | B13: Ծրագրի անվանումը
A14: 1004 | B14: Ոռոգման համակարգի առողջացում
A16: Ծրագրի միջոցառումները
A18: Ծրագրի դասիչը` | B18: 1004 | C18: Ցուցանիշների փոփոխությունը (նվազեցումները նշված են փակագծերում)
A20: Ծրագրի դասիչը` | B20: 1004
A22: Միջոցառման դասիչը` | B22: 31010 | C22: Տարի
A23: Միջոցառման անվանումը` | B23: ='1'!C20 -> Հեր-Հերի ջրամբարից ինքնահոս ջրատարի կառուցում
A24: Նկարագրությունը` | B24: ='1'!C22 -> Հեր-Հերի ջրամբարից ինքնահոս ջրատարի կառուցման համար նախագծերի և աշխատանքների ձեռքբերում
A25: Միջոցառման տեսակը` | B25: Պետական մարմինների կողմից օգտագործվող ոչ ֆինանսական ակտիվների հետ գործառնություններ
A26: Ակտիվն օգտագործող կազմակերպության(ների) անվանում(ները)՛ | B26: ՀՀ ՏԿԵՆ ջրային կոմիտե
A27: Արդյունքի չափորոշիչներ
A28: Կառուցվող ջրատար, կմ | C28: -0.1
A29: Միջոցառման վրա կատարվող ծախսը (հազար դրամ) | C29: ='4'!D13 -> -14240
A31: Ծրագրի դասիչը` | B31: 1004 | C31: Ցուցանիշների փոփոխությունը (ավելացումները նշված են դրական նշանով)
A33: Միջոցառման դասիչը` | B33: 31013 | C33: Տարի
A34: Միջոցառման անվանումը` | B34: Փոքր և միջին ջրամբարների կառուցման աշխատանքներ
A35: Նկարագրությունը` | B35: Փոքր և միջին ջրամբարների կառուցման նախագծերի և աշխատանքների ձեռքբերում
A36: Միջոցառման տեսակը` | B36: Պետական մարմինների կողմից օգտագործվող ոչ ֆինանսական ակտիվների հետ գործառնություններ
A37: Ակտիվն օգտագործող կազմակերպության(ների) անվանում(ները)՛ | B37: ՀՀ ՏԿԵՆ ջրային կոմիտե
A38: Արդյունքի չափորոշիչներ
A39: Նախագծանախահաշվային փաստաթղթեր, հատ | C39: 2
A40: Նախագծվող Արգիճիի ջրամբարի ծավալը, մլն մ3 | C40: 6.5
A41: Նախագծվող Աստղաձորի ջրամբարի ծավալը, մլն մ3 | C41: 1.25
A42: Արգիճիի ջրամբարի նախագծման աշխատանքների իրականացման ժամկետ, ամիս | C42: 8
A43: Աստղաձորի ջրամբարի նախագծման աշխատանքների իրականացման ժամկետ, ամիս | C43: 8
A44: Միջոցառման վրա կատարվող ծախսը (հազար դրամ) | C44: ='4'!D16 -> 14240
A47: ՀՀ կառավարություն
A48: ՄԱՍ 2. ՊԵՏԱԿԱՆ ՄԱՐՄՆԻ ԳԾՈՎ ԱՐԴՅՈՒՆՔԱՅԻՆ (ԿԱՏԱՐՈՂԱԿԱՆ) ՑՈՒՑԱՆԻՇՆԵՐԸ
A50: Ծրագրի դասիչը | B50: Ծրագրի անվանումը
A51: 1139 | B51: ՀՀ կառավարության պահուստային ֆոնդ
A53: Ծրագրի միջոցառումները
A55: Ծրագրի դասիչը` | B55: 1139 | C55: Ցուցանիշների փոփոխությունը (ավելացումները նշված են դրական նշանով)
A56: Միջոցառման դասիչը` | B56: 11001 | C56: Տարի
A57: Միջոցառման անվանումը` | B57: ՀՀ կառավարության պահուստային ֆոնդ
A58: Նկարագրությունը` | B58: ՀՀ պետական բյուջեում նախատեսված ելքերի լրացուցիչ ֆինանսավորման՝ պետական բյուջեում չկանխատեսված ելքերի՝ ինչպես նաև բյուջետային երաշխիքների ապահովման ելքերի ֆինանսավորման ապահովում
A59: Միջոցառման տեսակը` | B59: Ծառայությունների մատուցում
A60: Միջոցառումն իրականացնողի անվանումը | B60: ՀՀ կառավարություն
A61: Արդյունքի չափորոշիչներ
A62: Միջոցառման վրա կատարվող ծախսը (հազար դրամ) | C62: ='1'!D39 -> 14240
A64: Ծրագրի դասիչը` | B64: 1139 | C64: Ցուցանիշների փոփոխությունը (նվազեցումները նշված են փակագծերում)
A65: Միջոցառման դասիչը` | B65: 11001 | C65: Տարի
A66: Միջոցառման անվանումը` | B66: ՀՀ կառավարության պահուստային ֆոնդ
A67: Նկարագրությունը` | B67: ՀՀ պետական բյուջեում նախատեսված ելքերի լրացուցիչ ֆինանսավորման՝ պետական բյուջեում չկանխատեսված ելքերի՝ ինչպես նաև բյուջետային երաշխիքների ապահովման ելքերի ֆինանսավորման ապահովում
A68: Միջոցառման տեսակը` | B68: Ծառայությունների մատուցում
A69: Միջոցառումն իրականացնողի անվանումը | B69: ՀՀ կառավարություն
A70: Արդյունքի չափորոշիչներ
A71: Միջոցառման վրա կատարվող ծախսը (հազար դրամ) | C71: ='1'!D45 -> -14240

Sheet 5-2
A1: Աղյուսակ N 2
A2: ՀԱՅԱՍՏԱՆԻ ՀԱՆՐԱՊԵՏՈՒԹՅԱՆ ԿԱՌԱՎԱՐՈՒԹՅԱՆ 2020 ԹՎԱԿԱՆԻ ԴԵԿՏԵՄԲԵՐԻ 30-Ի N 2215-Ն ՈՐՈՇՄԱՆ N 9.1 ՀԱՎԵԼՎԱԾԻ N 9.1.26 ԵՎ N 9.1.58 ԱՂՅՈՒՍԱԿՆԵՐՈՒՄ ԿԱՏԱՐՎՈՂ ՓՈՓՈԽՈՒԹՅՈՒՆՆԵՐԸ ԵՎ ԼՐԱՑՈՒՄՆԵՐԸ
A6: ՀՀ տարածքային կառավարման և ենթակառուցվածքների նախարարության ջրային կոմիտե
A7: ՄԱՍ 1. ՊԵՏԱԿԱՆ ՄԱՐՄՆԻ ԳԾՈՎ ԱՐԴՅՈՒՆՔԱՅԻՆ (ԿԱՏԱՐՈՂԱԿԱՆ) ՑՈՒՑԱՆԻՇՆԵՐԸ
A8: Ծրագրի դասիչը | B8: Ծրագրի անվանումը
A9: 1004 | B9: Ոռոգման համակարգի առողջացում
A11: Ծրագրի միջոցառումները
A14: Ծրագրի դասիչը` | B14: 1004 | C14: Ցուցանիշների փոփոխությունը (նվազեցումները` նշված են փակագծերում)
A16: Միջոցառման դասիչը` | B16: 31010 | C16: Տարի
A17: Միջոցառման անվանումը` | B17: ='5-1'!B23 -> Հեր-Հերի ջրամբարից ինքնահոս ջրատարի կառուցում
A18: Նկարագրությունը` | B18: ='5-1'!B24 -> Հեր-Հերի ջրամբարից ինքնահոս ջրատարի կառուցման համար նախագծերի և աշխատանքների ձեռքբերում
A19: Միջոցառման տեսակը` | B19: Պետական մարմինների կողմից օգտագործվող ոչ ֆինանսական ակտիվների հետ գործառնություններ
A20: Ակտիվն օգտագործող կազմակերպության(ների) անվանում(ները)՛ | B20: ՀՀ ՏԿԵՆ ջրային կոմիտե
A21: Արդյունքի չափորոշիչներ
A22: ='5-1'!A28:B28 -> Կառուցվող ջրատար, կմ | C22: ='5-1'!C28 -> -0.1
A23: Միջոցառման վրա կատարվող ծախսը (հազար դրամ) | C23: ='5-1'!C29 -> -14240
A25: Ծրագրի դասիչը` | B25: 1004 | C25: Ցուցանիշների փոփոխությունը (ավելացումները նշված են դրական նշանով)
A27: Միջոցառման դասիչը` | B27: 31013 | C27: Տարի
A28: Միջոցառման անվանումը` | B28: Փոքր և միջին ջրամբարների կառուցում
A29: Նկարագրությունը` | B29: Փոքր և միջին ջրամբարների կառուցման նախագծերի և աշխատանքների ձեռքբերում
A30: Միջոցառման տեսակը` | B30: Պետական մարմինների կողմից օգտագործվող ոչ ֆինանսական ակտիվների հետ գործառնություններ
A31: Ակտիվն օգտագործող կազմակերպության(ների) անվանում(ները)՛ | B31: ՀՀ ՏԿԵՆ ջրային կոմիտե
A32: Արդյունքի չափորոշիչներ
A33: Նախագծանախահաշվային փաստաթղթեր, հատ | C33: 2
A34: Նախագծվող Արգիճիի ջրամբարի ծավալը, մլն մ3 | C34: 6.5
A35: Նախագծվող Աստղաձորի ջրամբարի ծավալը, մլն մ3 | C35: 1.25
A36: Արգիճիի ջրամբարի նախագծման աշխատանքների իրականացման ժամկետ, ամիս | C36: 8
A37: Աստղաձորի ջրամբարի նախագծման աշխատանքների իրականացման ժամկետ, ամիս | C37: 8
A38: Միջոցառման վրա կատարվող ծախսը (հազար դրամ) | C38: ='5-1'!C44 -> 14240
A40: ՀՀ կառավարություն
A42: ՄԱՍ 1. ՊԵՏԱԿԱՆ ՄԱՐՄՆԻ ԳԾՈՎ ԱՐԴՅՈՒՆՔԱՅԻՆ (ԿԱՏԱՐՈՂԱԿԱՆ) ՑՈՒՑԱՆԻՇՆԵՐԸ
A44: Ծրագրի դասիչը | B44: Ծրագրի անվանումը
A45: 1139 | B45: ՀՀ կառավարության պահուստային ֆոնդ
A47: Ծրագրի միջոցառումները
A49: Ծրագրի դասիչը` | B49: 1139 | C49: Ցուցանիշների փոփոխությունը (ավելացումները նշված են դրական նշանով)
A50: Միջոցառման դասիչը` | B50: 11001 | C50: Տարի
A51: Միջոցառման անվանումը` | B51: ՀՀ կառավարության պահուստային ֆոնդ
A52: Նկարագրությունը` | B52: ՀՀ պետական բյուջեում նախատեսված ելքերի լրացուցիչ ֆինանսավորման՝ պետական բյուջեում չկանխատեսված ելքերի՝ ինչպես նաև բյուջետային երաշխիքների ապահովման ելքերի ֆինանսավորման ապահովում
A53: Միջոցառման տեսակը` | B53: Ծառայությունների մատուցում
A54: Միջոցառումն իրականացնողի անվանումը | B54: ՀՀ կառավարություն
A55: Արդյունքի չափորոշիչներ
A56: Միջոցառման վրա կատարվող ծախսը (հազար դրամ) | C56: ='5-1'!C62 -> 14240
A58: Ծրագրի դասիչը` | B58: 1139 | C58: Ցուցանիշների փոփոխությունը (նվազեցումները նշված են փակագծերում)
A59: Միջոցառման դասիչը` | B59: 11001 | C59: Տարի
A60: Միջոցառման անվանումը` | B60: ՀՀ կառավարության պահուստային ֆոնդ
A61: Նկարագրությունը` | B61: ՀՀ պետական բյուջեում նախատեսված ելքերի լրացուցիչ ֆինանսավորման՝ պետական բյուջեում չկանխատեսված ելքերի՝ ինչպես նաև բյուջետային երաշխիքների ապահովման ելքերի ֆինանսավորման ապահովում
A62: Միջոցառման տեսակը` | B62: Ծառայությունների մատուցում
A63: Միջոցառումն իրականացնողի անվանումը | B63: ՀՀ կառավարություն
A64: Արդյունքի չափորոշիչներ
A65: Միջոցառման վրա կատարվող ծախսը (հազար դրամ) | C65: ='5-1'!C71 -> -14240

Sheet 6
A1: Հավելված N 6
A2: ՀՀ կառավարության 2021 թվականի
A3: -ի N -Ն որոշման
A5: ՀԱՅԱՍՏԱՆԻ ՀԱՆՐԱՊԵՏՈՒԹՅԱՆ ԿԱՌԱՎԱՐՈՒԹՅԱՆ 2020 ԹՎԱԿԱՆԻ ԴԵԿՏԵՄԲԵՐԻ 30-Ի N 2215-Ն ՈՐՈՇՄԱՆ N 10 ՀԱՎԵԼՎԱԾՈՒՄ ԿԱՏԱՐՎՈՂ ՓՈՓՈԽՈՒԹՅՈՒՆՆԵՐԸ ԵՎ ԼՐԱՑՈՒՄՆԵՐԸ
A7: Կոդը | B7: Անվանումը | C7: Գնման ձևը | D7: Չափի միավորը | E7: Միավորի գինը | F7: Ցուցանիշների փոփոխությունը (ավելացումները նշված են դրական նշանով, իսկ նվազեցումները՝ փակագծերում)
F8: քանակը | G8: գումարը (հազ. դրամ)
A9: ՀՀ տարածքային կառավարման և ենթակառուցվածքների նախարարության ջրային կոմիտե | G9: =G11+G14 -> 0
A10: Բաժին N 04 | B10: Խումբ N 02 | C10: Դաս N 04 | D10: Ոռոգում | G10: =G11+G14 -> 0
A11: 1004 31010 | B11: Հեր-Հերի ջրամբարից ինքնահոս ջրատարի կառուցում | G11: =G12 -> -14240
B12: ՄԱՍ II ԱՇԽԱՏԱՆՔՆԵՐ | G12: =G13 -> -14240
A13: 45241170/1 | B13: ջրամատակարարման համակարգերի կառուցում | C13: ԲՄ | D13: դրամ | G13: ='1'!D19 -> -14240
A14: 1004 31013 | B14: Փոքր և միջին ջրամբարների կառուցման աշխատանքներ | G14: =G15 -> 14240
B15: ՄԱՍ III ԾԱՌԱՅՈՒԹՅՈՒՆՆԵՐ | G15: =SUM(G16:G17) -> 14240
A16: 71241200/502 | B16: նախագծերի պատրաստում, ծախսերի գնահատում | C16: ԳՀ | D16: դրամ | E16: 11574200 | F16: 1 | G16: 7320
A17: 71241200/503 | B17: նախագծերի պատրաստում, ծախսերի գնահատում | C17: ԳՀ | D17: դրամ | E17: 6944500 | F17: 1 | G17: 6920
