Workbook
Name _tab10: #REF!
Name _tab10: #REF!
Name _tab11: #REF!
Name _tab11: #REF!
Name _tab12: #REF!
Name _tab12: #REF!
Name _tab13: #REF!
Name _tab13: #REF!
Name _tab14: #REF!
Name _tab14: #REF!
Name _tab15: #REF!
Name _tab15: #REF!
Name _tab16: #REF!
Name _tab16: #REF!
Name _tab17: #REF!
Name _tab17: #REF!
Name _tab18: #REF!
Name _tab18: #REF!
Name _tab19: #REF!
Name _tab19: #REF!
Name _tab20: #REF!
Name _tab20: #REF!
Name _tab21: #REF!
Name _tab21: #REF!
Name _tab22: #REF!
Name _tab22: #REF!
Name _tab23: #REF!
Name _tab23: #REF!
Name _tab24: #REF!
Name _tab24: #REF!
Name _tab5: #REF!
Name _tab5: #REF!
Name _tab6: #REF!
Name _tab6: #REF!
Name _tab7: #REF!
Name _tab7: #REF!
Name _tab8: #REF!
Name _tab8: #REF!
Name _tab9: #REF!
Name _tab9: #REF!
Name par_count: #REF!,#REF!,#REF!,#REF!,#REF!,#REF!,#REF!,#REF!,#REF!,#REF!,#REF!,#REF!,#REF!,#REF!,#REF!
Name par_count: #REF!,#REF!,#REF!,#REF!,#REF!,#REF!,#REF!,#REF!,#REF!,#REF!,#REF!,#REF!,#REF!,#REF!,#REF!
Name par_qual: #REF!,#REF!,#REF!,#REF!,#REF!
Name par_qual: #REF!,#REF!,#REF!,#REF!,#REF!
Name par_time: #REF!,#REF!,#REF!,#REF!
Name par_time: #REF!,#REF!,#REF!,#REF!
Name par2.12s: #REF!
Name par2.12s: #REF!
Name par2.4s: #REF!,#REF!,#REF!,#REF!,#REF!,#REF!,#REF!,#REF!,#REF!,#REF!,#REF!,#REF!,#REF!,#REF!,#REF!,#REF!
Name par2.4s: #REF!,#REF!,#REF!,#REF!,#REF!,#REF!,#REF!,#REF!,#REF!,#REF!,#REF!,#REF!,#REF!,#REF!,#REF!,#REF!
Name par2.5s: #REF!,#REF!
Name par2.5s: #REF!,#REF!
Name par2.6s: #REF!,#REF!,#REF!,#REF!
Name par2.6s: #REF!,#REF!,#REF!,#REF!
Name par2.7s: #REF!,#REF!
Name par2.7s: #REF!,#REF!
Name par2.9s: #REF!,#REF!,#REF!,#REF!,#REF!,#REF!,#REF!,#REF!,#REF!,#REF!,#REF!,#REF!,#REF!,#REF!,#REF!,#REF!
Name par2.9s: #REF!,#REF!,#REF!,#REF!,#REF!,#REF!,#REF!,#REF!,#REF!,#REF!,#REF!,#REF!,#REF!,#REF!,#REF!,#REF!
Name par4.10s: #REF!,#REF!
Name par4.10s: #REF!,#REF!

Sheet 1
D1: Հավելված № 1
D2: ՀՀ կառավարության 2021 թվականի
D3: -------------- ի № ---- -Ն որոշման
A5: «ՀԱՅԱՍՏԱՆԻ ՀԱՆՐԱՊԵՏՈՒԹՅԱՆ 2021 ԹՎԱԿԱՆԻ ՊԵՏԱԿԱՆ ԲՅՈՒՋԵԻ ՄԱՍԻՆ» ՕՐԵՆՔԻ N 1 ՀԱՎԵԼՎԱԾԻ N 7 ԱՂՅՈՒՍԱԿՈՒՄ ԵՎ ՀԱՅԱՍՏԱՆԻ ՀԱՆՐԱՊԵՏՈՒԹՅԱՆ ԿԱՌԱՎԱՐՈՒԹՅԱՆ 2020 ԹՎԱԿԱՆԻ ԴԵԿՏԵՄԲԵՐԻ 30-Ի N 2215-Ն ՈՐՈՇՄԱՆ N 5 ՀԱՎԵԼՎԱԾԻ N 6 ԱՂՅՈՒՍԱԿՈՒՄ ԿԱՏԱՐՎՈՂ ՓՈՓՈԽՈՒԹՅՈՒՆԸ ԵՎ ԼՐԱՑՈՒՄՆԵՐԸ
D6: հազար դրամ
A7: Ծրագրային դասիչը | C7: Բյուջետային հատկացումների գլխավոր կարգադրիչների, ծրագրերի, միջոցառումների և միջոցառումները կատարող պետական մարմինների անվանումները | D7: Ցուցանիշների փոփոխությունը (ավելացումները նշված են դրական նշանով, իսկ նվազեցումները` փակագծերում)
A8: Ծրագիր | B8: Միջոցառում | D8: Տարի
C9: ԸՆԴԱՄԵՆԸ | D9: _
C10: այդ թվում
A11: Կապիտալ սուբվենցիաներ համայնքներին | D11: _
A12: այդ թվում`
A13: ՀՀ տարածքային կառավարման և ենթակառուցվածքների նախարարություն | D13: _
A14: այդ թվում`
A15: 1212 | B15: Տարածքային զարգացում | D15: _
C16: այդ թվում`
B17: 12007 | C17: ՀՀ մարզերին սուբվենցիաների տրամադրում՝ ենթակառուցվածքների զարգացման նպատակով | D17: =D15 -> _
C18: այդ թվում` ըստ կատարողների
C19: ՀՀ կառավարություն | D19: =-D20-D24-D29-D33-D39-D47-D54-D58-D62 -> -532121.5
C20: ՀՀ Արագածոտնի մարզպետարան | D20: =D22+D23 -> 27955.9
C21: այդ թվում` ըստ ուղղությունների
C22: Շղարշիկ համայնքի ոռոգման ջրագծի հիմնանորոգման և վերակառուցման աշխատանքներ | D22: 6629
C23: Արագածավան համայնքի Արագածավան և Արտենի բնակավայրերի ներհամայնքային ճանապարհների վերանորոգում | D23: 21326.9
C24: ՀՀ Արարատի մարզպետարան | D24: =D26+D27+D28 -> 34225.1
C25: այդ թվում` ըստ ուղղությունների
C26: Նիզամի համայնքի կենտրոնական փողոցի գերեզմանատանը հարակից հատվածի /110մ/ փողոցի ասֆալտապատում | D26: 3635
C27: Ջրահովիտ համայնքի ներհամայնքային փողոցների մասնակի ասֆալտապատում | D27: 9649.9
C28: Բուրաստան համայնքի ոռոգման ջրագծի կառուցման և գործող ոռոգման ջրագծի վերակառուցման աշխատանքներ | D28: 20940.2
C29: ՀՀ Արմավիրի մարզպետարան | D29: =D31+D32 -> 25479.9
C30: այդ թվում` ըստ ուղղությունների
C31: Արևիկ համայնքի 31-րդ փողոցի ներհամայնքային ոռոգման ցանցի հիմնանորոգում | D31: 4806.2
C32: Արազափ համանքի գլխավոր փողոցի մայթերի կառուցում | D32: 20673.7
C33: ՀՀ Գեղարքունիքի մարզպետարան | D33: =D35+D36+D37+D38 -> 112130.8
C34: այդ թվում` ըստ ուղղությունների
C35: Լիճք համայնքի Ա-7 թաղամասի թիվ 7 փողոցի և Ա-3 թաղամասի թիվ 8, 9 փողոցների ասֆալտապատման աշխատանքներ | D35: 27809.1
C36: Լիճք համայնքի Ա-8 թաղամասի թիվ 1, 4 ,5 ,10, Ա-3 թաղամասի թիվ 8 և 9, Ա-8 թաղ թիվ 10 փողոցների արտաքին լուսավորության ցանցի կառուցում | D36: 9195.6
C37: Լիճք համայնքի արտաքին ջրագծի վերակառուցում | D37: 20326.8
C38: Ծովագյուղ համայնքի ջրամատակարարման համակարգի բարելավման աշխատանքներ | D38: 54799.3
C39: ՀՀ Լոռու մարզպետարան | D39: =D41+D42+D44+D43+D45+D46 -> 102787.7
C40: այդ թվում` ըստ ուղղությունների
C41: Գոգարան համայնքում փողոցային լուսավորության ցանցի կառուցում | D41: 7039.3
...

Sheet 2
G1: Հավելված № 2
G2: ՀՀ կառավարության 2021 թվականի
G3: -------------- ի № ---- -Ն որոշման
A5: ՀԱՅԱՍՏԱՆԻ ՀԱՆՐԱՊԵՏՈՒԹՅԱՆ ԿԱՌԱՎԱՐՈՒԹՅԱՆ 2020 ԹՎԱԿԱՆԻ ԴԵԿՏԵՄԲԵՐԻ 30-Ի № 2215-Ն ՈՐՈՇՄԱՆ №№ 3 և 4 ՀԱՎԵԼՎԱԾՆԵՐՈՒՄ ԿԱՏԱՐՎՈՂ ՓՈՓՈԽՈՒԹՅՈՒՆՆԵՐԸ ԵՎ ԼՐԱՑՈՒՄՆԵՐԸ
G6: հազար դրամ
A7: Գործառական դասիչը | D7: Ծրագրային դասիչը | F7: Բյուջետային հատկացումների գլխավոր կարգադրիչների, ծրագրերի, միջոցառումների և միջոցառումները կատարող պետական մարմինների անվանումները | G7: Ցուցանիշների փոփոխությունները (ավելացումները նշված են դրական նշանով իսկ նվազեցումները` փակագծերում)
A8: բաժին | B8: խումբ | C8: դաս | D8: Ծրագիր | E8: Միջոցառում | G8: տարի
A9: ԸՆԴԱՄԵՆԸ ԾԱԽՍԵՐ | G9: _
A10: 01 | F10: ԸՆԴՀԱՆՈՒՐ ԲՆՈՒՅԹԻ ՀԱՆՐԱՅԻՆ ԾԱՌԱՅՈՒԹՅՈՒՆՆԵՐ | G10: _
F11: այդ թվում՝
B12: 08 | F12: Կառավարության տարբեր մակարդակների միջև իրականացվող ընդհանուր բնույթի տրանսֆերտներ | G12: _
F13: այդ թվում՝
C14: 01 | F14: Կառավարության տարբեր մակարդակների միջև իրականացվող ընդհանուր բնույթի տրանսֆերտներ | G14: _
F15: այդ թվում՝
F16: ՀՀ տարածքային կառավարման և ենթակառուցվածքների նախարարություն | G16: _
F17: այդ թվում՝
D18: 1212 | F18: Տարածքային զարգացում | G18: _
F19: այդ թվում`
E20: 12007 | F20: ՀՀ մարզերին սուբվենցիաների տրամադրում՛ ենթակառուցվածքների զարգացման նպատակով_x000D_ | G20: _
F21: այդ թվում` ըստ կատարողների
F22: ՀՀ կառավարություն | G22: =-G29-G36-G43-G50-G57-G64-G71-G78-G85 -> -532121.5
F23: այդ թվում` բյուջետային ծախսերի տնտեսագիտական դասակարգման հոդվածներ
F24: ԸՆԴԱՄԵՆԸ ԾԱԽՍԵՐ | G24: =G22 -> -532121.5
F25: ԸՆԹԱՑԻԿ ԾԱԽՍԵՐ | G25: =G24 -> -532121.5
F26: ԴՐԱՄԱՇՆՈՐՀՆԵՐ | G26: =G24 -> -532121.5
F27: Կապիտալ դրամաշնորհներ պետական հատվածի այլ մակարդակներին | G27: =G25 -> -532121.5
F28: - Կապիտալ սուբվենցիաներ համայնքներին | G28: =G26 -> -532121.5
F29: ՀՀ Արագածոտնի մարզպետարան | G29: ='1'!D20 -> 27955.9
F30: այդ թվում` բյուջետային ծախսերի տնտեսագիտական դասակարգման հոդվածներ
F31: ԸՆԴԱՄԵՆԸ ԾԱԽՍԵՐ | G31: 27955.9
F32: ԸՆԹԱՑԻԿ ԾԱԽՍԵՐ | G32: 27955.9
F33: ԴՐԱՄԱՇՆՈՐՀՆԵՐ | G33: 27955.9
F34: Կապիտալ դրամաշնորհներ պետական հատվածի այլ մակարդակներին | G34: 27955.9
F35: - Կապիտալ սուբվենցիաներ համայնքներին | G35: 27955.9
F36: ՀՀ Արարատի մարզպետարան | G36: ='1'!D24 -> 34225.1
F37: այդ թվում` բյուջետային ծախսերի տնտեսագիտական դասակարգման հոդվածներ
F38: ԸՆԴԱՄԵՆԸ ԾԱԽՍԵՐ | G38: 34225.1
F39: ԸՆԹԱՑԻԿ ԾԱԽՍԵՐ | G39: 34225.1
F40: ԴՐԱՄԱՇՆՈՐՀՆԵՐ | G40: 34225.1
F41: Կապիտալ դրամաշնորհներ պետական հատվածի այլ մակարդակներին | G41: 34225.1
...

Sheet 3
C1: Հավելված № 3
C2: ՀՀ կառավարության 2021 թվականի
C3: -------------- ի № ---- -Ն որոշման
A5: ՀԱՅԱՍՏԱՆԻ ՀԱՆՐԱՊԵՏՈՒԹՅԱՆ ԿԱՌԱՎԱՐՈՒԹՅԱՆ 2020 ԹՎԱԿԱՆԻ ԴԵԿՏԵՄԲԵՐԻ 30-Ի № 2215-Ն ՈՐՈՇՄԱՆ № 9 ՀԱՎԵԼՎԱԾԻ № 9.8 ԱՂՅՈՒՍԱԿՈՒՄ ԿԱՏԱՐՎՈՂ ԼՐԱՑՈՒՄԸ
A6: ՀՀ տարածքային կառավարման և ենթակառուցվածքների նախարարություն
A9: Ծրագրի դասիչը | B9: Ծրագրի անվանումը
A10: 1212 | B10: Տարածքային զարգացում
A12: Ծրագրի միջոցառումները
A14: Ծրագրի դասիչը` | B14: 1212 | C14: Ցուցանիշների փոփոխությունները (ավելացումները նշված են դրական նշանով)
A15: Միջոցառման դասիչը` | B15: 12007 | C15: Տարի
A16: Միջոցառման անվանումը` | B16: ՀՀ մարզերին սուբվենցիաների տրամադրում` ենթակառուցվածքների զարգացման նպատակով_x000D_
A17: Նկարագրությունը` | B17: ՀՀ մարզերին սուբվենցիաների տրամադրում` ենթակառուցվածքների զարգացման նպատակով
A18: Միջոցառման տեսակը` | B18: Տրանսֆերտների տրամադրում
A19: Միջոցառումն իրականացնողի անվանումը | B19: ՀՀ համայնքներ
A20: Արդյունքի չափորոշիչներ
A21: ՀՀ համայնքների թիվ, հատ | C21: 24
A22: Միջոցառման վրա կատարվող ծախսը (հազար դրամ)

Sheet 4
C1: Հավելված № 4
C2: ՀՀ կառավարության 2021 թվականի
C3: -------------- ի № ---- -Ն որոշման
A5: ՀԱՅԱՍՏԱՆԻ ՀԱՆՐԱՊԵՏՈՒԹՅԱՆ ԿԱՌԱՎԱՐՈՒԹՅԱՆ 2020 ԹՎԱԿԱՆԻ ԴԵԿՏԵՄԲԵՐԻ 30-Ի № 2215-Ն ՈՐՈՇՄԱՆ № 9.1 ՀԱՎԵԼՎԱԾԻ № 9.1.48 ԱՂՅՈՒՍԱԿՈՒՄ ԿԱՏԱՐՎՈՂ ԼՐԱՑՈՒՄԸ
A6: ՀՀ Արագածոտնի մարզպետարան
A8: ՄԱՍ 1. ՊԵՏԱԿԱՆ ՄԱՐՄՆԻ ԳԾՈՎ ԱՐԴՅՈՒՆՔԱՅԻՆ (ԿԱՏԱՐՈՂԱԿԱՆ) ՑՈՒՑԱՆԻՇՆԵՐԸ
A9: Ծրագրի դասիչը | B9: Ծրագրի անվանումը
A10: 1212 | B10: Տարածքային զարգացում
A12: Ծրագրի միջոցառումները
A13: Ծրագրի դասիչը` | B13: 1212 | C13: Ցուցանիշների փոփոխությունները (ավելացումները նշված են դրական նշանով)
A14: Միջոցառման դասիչը` | B14: 12007 | C14: Տարի
A15: Միջոցառման անվանումը` | B15: ՀՀ մարզերին սուբվենցիաների տրամադրում` ենթակառուցվածքների զարգացման նպատակով_x000D_
A16: Նկարագրությունը` | B16: ՀՀ մարզերին սուբվենցիաների տրամադրում` ենթակառուցվածքների զարգացման նպատակով
A17: Միջոցառման տեսակը` | B17: Տրանսֆերտների տրամադրում
A18: Միջոցառումն իրականացնողի անվանումը | B18: ՀՀ համայնքներ
B19: Արդյունքի չափորոշիչներ
A20: ՀՀ համայնքների թիվ, հատ | C20: 2
A21: Միջոցառման վրա կատարվող ծախսը (հազար դրամ) | C21: ='1'!D20 -> 27955.9
A23: ՀԱՅԱՍՏԱՆԻ ՀԱՆՐԱՊԵՏՈՒԹՅԱՆ ԿԱՌԱՎԱՐՈՒԹՅԱՆ 2020 ԹՎԱԿԱՆԻ ԴԵԿՏԵՄԲԵՐԻ 30-Ի № 2215-Ն ՈՐՈՇՄԱՆ № 9.1 ՀԱՎԵԼՎԱԾԻ № 9.1.49 ԱՂՅՈՒՍԱԿՈՒՄ ԿԱՏԱՐՎՈՂ ԼՐԱՑՈՒՄԸ
A24: ՀՀ Արարատի մարզպետարան
A26: ՄԱՍ 1. ՊԵՏԱԿԱՆ ՄԱՐՄՆԻ ԳԾՈՎ ԱՐԴՅՈՒՆՔԱՅԻՆ (ԿԱՏԱՐՈՂԱԿԱՆ) ՑՈՒՑԱՆԻՇՆԵՐԸ
A27: Ծրագրի դասիչը | B27: Ծրագրի անվանումը
A28: 1212 | B28: Տարածքային զարգացում
A30: Ծրագրի միջոցառումները
A31: Ծրագրի դասիչը` | B31: 1212 | C31: Ցուցանիշների փոփոխությունները (ավելացումները նշված են դրական նշանով)
A32: Միջոցառման դասիչը` | B32: 12007 | C32: Տարի
A33: Միջոցառման անվանումը` | B33: ՀՀ մարզերին սուբվենցիաների տրամադրում` ենթակառուցվածքների զարգացման նպատակով_x000D_
A34: Նկարագրությունը` | B34: ՀՀ մարզերին սուբվենցիաների տրամադրում` ենթակառուցվածքների զարգացման նպատակով
A35: Միջոցառման տեսակը` | B35: Տրանսֆերտների տրամադրում
A36: Միջոցառումն իրականացնողի անվանումը | B36: ՀՀ համայնքներ
B37: Արդյունքի չափորոշիչներ
A38: ՀՀ համայնքների թիվ, հատ | C38: 3
A39: Միջոցառման վրա կատարվող ծախսը (հազար դրամ) | C39: ='1'!D24 -> 34225.1
A40: ՀԱՅԱՍՏԱՆԻ ՀԱՆՐԱՊԵՏՈՒԹՅԱՆ ԿԱՌԱՎԱՐՈՒԹՅԱՆ 2020 ԹՎԱԿԱՆԻ ԴԵԿՏԵՄԲԵՐԻ 30-Ի № 2215-Ն ՈՐՈՇՄԱՆ № 9.1 ՀԱՎԵԼՎԱԾԻ № 9.1.50 ԱՂՅՈՒՍԱԿՈՒՄ ԿԱՏԱՐՎՈՂ ԼՐԱՑՈՒՄԸ
A42: ՀՀ Արմավիրի մարզպետարան
A44: Ծրագրի դասիչը | B44: Ծրագրի անվանումը
A45: 1212 | B45: Տարածքային զարգացում
A47: Ծրագրի միջոցառումները
A48: Ծրագրի դասիչը` | B48: 1212 | C48: Ցուցանիշների փոփոխությունները (ավելացումները նշված են դրական նշանով)
A49: Միջոցառման դասիչը` | B49: 12007 | C49: Տարի
...
