Workbook

Sheet 1
A1: Հավելված N 1
D2: ՀՀ կառավարության 2021 թվականի
D3: -ի N -Ն որոշման
A5: «ՀԱՅԱՍՏԱՆԻ ՀԱՆՐԱՊԵՏՈՒԹՅԱՆ 2021 ԹՎԱԿԱՆԻ ՊԵՏԱԿԱՆ ԲՅՈՒՋԵԻ ՄԱՍԻՆ» ՀԱՅԱՍՏԱՆԻ ՀԱՆՐԱՊԵՏՈՒԹՅԱՆ ՕՐԵՆՔԻ N 1 ՀԱՎԵԼՎԱԾԻ N 2 ԱՂՅՈՒՍԱԿՈՒՄ ԿԱՏԱՐՎՈՂ ՎԵՐԱԲԱՇԽՈՒՄԸ ԵՎ ՀԱՅԱՍՏԱՆԻ ՀԱՆՐԱՊԵՏՈՒԹՅԱՆ ԿԱՌԱՎԱՐՈՒԹՅԱՆ 2020 ԹՎԱԿԱՆԻ ԴԵԿՏԵՄԲԵՐԻ 30-Ի N 2215-Ն ՈՐՈՇՄԱՆ N 5 ՀԱՎԵԼՎԱԾԻ N 1 ԱՂՅՈՒՍԱԿՈՒՄ ԿԱՏԱՐՎՈՂ ՓՈՓՈԽՈՒԹՅՈՒՆՆԵՐԸ
D6: հազ.դրամ
A7: Ծրագրային դասիչը | C7: Բյուջետային ծախսերի գործառական դասակարգման բաժինների, խմբերի և դասերի, բյուջետային ծրագրերի միջոցառումների, բյուջետային հատկացումների գլխավոր կարգադրիչների անվանումները | D7: Ցուցանիշների փոփոխությունը (ավելացումները նշված են դրական նշանով, իսկ նվազեցումները` փակագծերում)
A9: Ծրագիր | B9: Միջոցա ռում | D9: Տարի
C10: ԸՆԴԱՄԵՆԸ
C11: ՀՀ ԱՌՈՂՋԱՊԱՀՈՒԹՅԱՆ ՆԱԽԱՐԱՐՈՒԹՅՈՒՆ | D11: =+D25+D19 -> 0
A12: 1053 | C12: Ծրագրի անվանումը` | D12: =+D11 -> 0
C13: Առողջապահության համակարգի արդիականացման և արդյունավետության բարձրացման ծրագիր | D13: =+D12 -> 0
C14: Ծրագրի նպատակը` | D14: =+D13 -> 0
C15: Առողջապահության համակարգի արդիականացում և զարգացում | D15: =+D14 -> 0
C16: Վերջնական արդյունքի նկարագրությունը՝ | D16: =+D15 -> 0
C17: Առողջապահական ենթակառուցվածքների բարելավում՝ կարողությունների զարգացում | D17: =+D16 -> 0
A18: Ծրագրի միջոցառումներ
B19: 11004 | C19: Միջոցառման անվանումը` | D19: 15000
C20: Գլոբալ հիմնադրամի աջակցությամբ իրականացվող «Հայաստանի Հանրապետությունում տուբերկուլյոզի և ՄԻԱՎ/ՁԻԱՀ-ի ծրագրերի հզորացում» դրամաշնորհային ծրագիր
C21: Միջոցառման նկարագրությունը`
C22: Հայաստանի Հանրապետությունուն տուբերկուլյոզի բեռի կրճատում, տուբերկուլյոզի բոլոր ձևերի որոկյալ ախտորոշման և բուժման մատչելիության ապահովում
C23: Միջոցառման տեսակը
C24: Ծառայությունների մատուցում
B25: 32004 | C25: Միջոցառման անվանումը` | D25: -15000
C26: Գլոբալ հիմնադրամի աջակցությամբ իրականացվող «ՀՀ-ում տուբերկուլյոզի և ՄԻԱՎ/ՁԻԱՀ-ի ծրագրերի հզորացում» դրամաշնորհային ծրագրի շրջանակներում ՀՀ պետական առողջապահական համակարգի կարողությունների զարգացում և տեխնիկական հագեցվածության ապահովում
C27: Միջոցառման նկարագրությունը`
C28: ՀՀ առողջապահության նախարարության հիվանդանոցային ծառայությունների բարելավման համար բժշկական սարքավորումների ձեռք բերում
C29: Միջոցառման տեսակը
C30: Այլ պետական կազմակերպությունների կողմից օգտագործվող ոչ ֆինանսական ակտիվների հետ գործառնություններ

Sheet 2
G1: Հավելված N 2
G2: ՀՀ կառավարության 2021 թվականի
G3: -ի N -Ն որոշման
A4: ՀԱՅԱՍՏԱՆԻ ՀԱՆՐԱՊԵՏՈՒԹՅԱՆ ԿԱՌԱՎԱՐՈՒԹՅԱՆ 2020 ԹՎԱԿԱՆԻ ԴԵԿՏԵՄԲԵՐԻ 30-Ի N 2215-Ն ՈՐՈՇՄԱՆ N 3 և N 4 ՀԱՎԵԼՎԱԾՆԵՐՈՒՄ ԿԱՏԱՐՎՈՂ ՓՈՓՈԽՈՒԹՅՈՒՆՆԵՐԸ
G6: հազ.դրամ
A7: Գործառական դասիչը | D7: Ծրագրային դասիչը | F7: Բյուջետային ծախսերի գործառական դասակարգման բաժինների, խմբերի և դասերի, բյուջետային հատկացումների գլխավոր կարգադրիչների, ծրագրերի, միջոցառումների և միջոցառումները կատարող պետական մարմինների անվանումները | G7: Ցուցանիշների փոփոխությունը (ավելացումները նշված են դրական նշանով, իսկ նվազեցումները` փակագծերում)
A9: Բաժին | B9: Խումբ | C9: Դաս | D9: Ծրագիր | E9: Միջոցա ռում | G9: Տարի
F10: ԸՆԴԱՄԵՆԸ ԾԱԽՍԵՐ | G10: =+G18 -> 0
F11: այդ թվում`
A12: 07 | F12: ԱՌՈՂՋԱՊԱՀՈՒԹՅՈՒՆ | G12: =+G14 -> 0
F13: այդ թվում`
B14: 06 | F14: Առողջապահություն (այլ դասերին չպատկանող) | G14: =+G16 -> 0
F15: այդ թվում՝
C16: 01 | F16: Առողջապահական հարակից ծառայություններ և ծրագրեր | G16: =+G18 -> 0
F17: այդ թվում`
F18: =+'1'!C11 -> ՀՀ ԱՌՈՂՋԱՊԱՀՈՒԹՅԱՆ ՆԱԽԱՐԱՐՈՒԹՅՈՒՆ | G18: =+G20 -> 0
F19: այդ թվում՝
D20: 1053 | F20: =+[1]Gorcarakan!$C$3138 -> Առողջապահության համակարգի արդիականացման և արդյունավետության բարձրացման ծրագիր | G20: =+G22+G29+G38+G47+G56+G65+G74 -> 0
F21: այդ թվում`
E22: 11004 | F22: Գլոբալ հիմնադրամի աջակցությամբ իրականացվող «Հայաստանի Հանրապետությունում տուբերկուլյոզի և ՄԻԱՎ/ՁԻԱՀ-ի ծրագրերի հզորացում» դրամաշնորհային ծրագիր | G22: =+G26 -> 15000
F23: այդ թվում` ըստ կատարողների
F24: ՀՀ առողջապահության նախարարություն | G24: =+G26 -> 15000
F25: այդ թվում` բյուջետային ծախսերի տնտեսագիտական դասակարգման հոդվածներ
F26: ԸՆԴԱՄԵՆԸ ԾԱԽՍԵՐ | G26: =+G27 -> 15000
F27: ԱՅԼ ԾԱԽՍԵՐ | G27: =+G28 -> 15000
F28: Հարկեր, պարտադիր վճարներ և տույժեր, որոնք կառավարման տարբեր մակարդակների կողմից կիրառվում են միմյանց նկատմամբ | G28: 15000
E29: 32004 | F29: Գլոբալ հիմնադրամի աջակցությամբ իրականացվող «ՀՀ-ում տուբերկուլյոզի և ՄԻԱՎ/ՁԻԱՀ-ի ծրագրերի հզորացում» դրամաշնորհային ծրագրի շրջանակներում ՀՀ պետական առողջապահական համակարգի կարողությունների զարգացում և տեխնիկական հագեցվածության ապահովում | G29: =+$G$37 -> -15000
F30: այդ թվում` ըստ կատարողների
F31: ՀՀ առողջապահության նախարարություն | G31: =$G$37 -> -15000
F32: այդ թվում` բյուջետային ծախսերի տնտեսագիտական դասակարգման հոդվածներ
F33: ԸՆԴԱՄԵՆԸ ԾԱԽՍԵՐ | G33: =$G$37 -> -15000
F34: ՈՉ ՖԻՆԱՆՍԱԿԱՆ ԱԿՏԻՎՆԵՐԻ ԳԾՈՎ ԾԱԽՍԵՐ | G34: =$G$37 -> -15000
F35: ՀԻՄՆԱԿԱՆ ՄԻՋՈՑՆԵՐ | G35: =$G$37 -> -15000
F36: ՄԵՔԵՆԱՆԵՐ ԵՎ ՍԱՐՔԱՎՈՐՈՒՄՆԵՐ | G36: =$G$37 -> -15000
F37: - Այլ մեքենաներ և սարքավորումներ | G37: -15000
E38: 11008 | F38: =+'1'!#REF! -> #REF! | G38: =+G46 -> 0
F39: այդ թվում` ըստ կատարողների
F40: ՀՀ առողջապահության նախարարություն | G40: =+G46 -> 0
F41: այդ թվում` բյուջետային ծախսերի տնտեսագիտական դասակարգման հոդվածներ
F42: ԸՆԴԱՄԵՆԸ ԾԱԽՍԵՐ | G42: =+$G$46 -> 0
...

Sheet 3
F1: Հավելված 3
F2: ՀՀ կառավարության 2021 թվականի
F3: ______________ ի ___Ն որոշման
A5: «ՀԱՅԱՍՏԱՆԻ ՀԱՆՐԱՊԵՏՈՒԹՅԱՆ 2021 ԹՎԱԿԱՆԻ ՊԵՏԱԿԱՆ ԲՅՈՒՋԵԻ ՄԱՍԻՆ» ՀԱՅԱՍՏԱՆԻ ՀԱՆՐԱՊԵՏՈՒԹՅԱՆ ՕՐԵՆՔԻ N 1 ՀԱՎԵԼՎԱԾԻ N 5 ԱՂՅՈՒՍԱԿՈՒՄ ԿԱՏԱՐՎՈՂ ՎԵՐԱԲԱՇԽՈՒՄԸ ԵՎ ՀԱՅԱՍՏԱՆԻ ՀԱՆՐԱՊԵՏՈՒԹՅԱՆ ԿԱՌԱՎԱՐՈՒԹՅԱՆ 2020 ԹՎԱԿԱՆԻ ԴԵԿՏԵՄԲԵՐԻ 30-Ի N 2215-Ն ՈՐՈՇՄԱՆ N 5 ՀԱՎԵԼՎԱԾԻ N 4 ԱՂՅՈՒՍԱԿՈՒՄ ԿԱՏԱՐՎՈՂ ՓՈՓՈԽՈՒԹՅՈՒՆՆԵՐԸ
F7: հազ. դրամ
A9: Ծրագրային դասիչը | C9: Բյուջետային հատկացումների գլխավոր կարգադրիչների, ծրագրերի, միջոցառումների և միջոցառումները կատարող պետական մարմինների անվանումները | D9: Ցուցանիշների փոփոխությունը (ավելացումները նշված են դրական նշանով, իսկ նվազեցումները` փակագծերում)
D10: Տարի
A13: ծրագիրը | B13: միջոցառումը | D13: ընդամենը | E13: այդ թվում՝
E14: Դրամաշնոր հային միջոցներ | F14: համաֆինան_x000D_ սավորում
C15: ԸՆԴԱՄԵՆԸ այդ թվում` | D15: =D16+D17 -> 0 | E15: =E16+E17 -> 0 | F15: =F16+F17 -> 0
C16: - ԸՆԹԱՑԻԿ ԾԱԽՍԵՐ | D16: =+D21+D28 -> 0 | E16: =+E21+E28 -> 0 | F16: =+F21+F28 -> 0
C17: - ՈՉ ՖԻՆԱՆՍԱԿԱՆ ԱԿՏԻՎՆԵՐԻ ԳԾՈՎ ԾԱԽՍԵՐ | D17: =+D20 -> 0 | E17: =+E20 -> 0 | F17: =+F21+F28 -> 0
C18: ՀՀ ԱՌՈՂՋԱՊԱՀՈՒԹՅԱՆ ՆԱԽԱՐԱՐՈՒԹՅՈՒՆ
C19: այդ թվում`
A20: 1053 | C20: Առողջապահության համակարգի արդիականացման և արդյունավետության բարձրացման ծրագիր | D20: =+D21+D28 -> 0 | E20: =+E21+E28 -> 0 | F20: =+F21+F28 -> 0
B21: 11004 | C21: Գլոբալ հիմնադրամի աջակցությամբ իրականացվող «Հայաստանի Հանրապետությունում տուբերկուլյոզի և ՄԻԱՎ/ՁԻԱՀ-ի ծրագրերի հզորացում» դրամաշնորհային ծրագիր | D21: =SUM(D26:D26) -> 15000 | E21: =SUM(E26:E26) -> 0 | F21: =SUM(F26:F26) -> 15000
C22: այդ թվում` ըստ կատարողների
C23: ՀՀ առողջապահության նախարարություն
C24: այդ թվում` բյուջետային ծախսերի տնտեսագիտական դասակարգման հոդվածներ
C25: ԸՆԹԱՑԻԿ ԾԱԽՍԵՐ | D25: =+D26 -> 15000 | E25: =+E26 -> 0 | F25: =+F26 -> 15000
C26: =+'2'!F27 -> ԱՅԼ ԾԱԽՍԵՐ | D26: =+D27 -> 15000 | E26: =+E27 -> 0 | F26: =+F27 -> 15000
C27: =+'2'!F28 -> Հարկեր, պարտադիր վճարներ և տույժեր, որոնք կառավարման տարբեր մակարդակների կողմից կիրառվում են միմյանց նկատմամբ | D27: =+E27+F27 -> 15000 | F27: =+'2'!G22 -> 15000
B28: 32004 | C28: =+'2'!F29 -> Գլոբալ հիմնադրամի աջակցությամբ իրականացվող «ՀՀ-ում տուբերկուլյոզի և ՄԻԱՎ/ՁԻԱՀ-ի ծրագրերի հզորացում» դրամաշնորհային ծրագրի շրջանակներում ՀՀ պետական առողջապահական համակարգի կարողությունների զարգացում և տեխնիկական հագեցվածության ապահովում | D28: =SUM(E28:F28) -> -15000 | E28: =+E33 -> 0 | F28: =+F33 -> -15000
C29: այդ թվում` ըստ կատարողների
C30: ՀՀ առողջապահության նախարարություն | D30: =+D33 -> -15000 | E30: =+E33 -> 0 | F30: =+F32 -> -15000
C31: այդ թվում` բյուջետային ծախսերի տնտեսագիտական դասակարգման հոդվածներ
C32: ԸՆԴԱՄԵՆԸ ԾԱԽՍԵՐ | D32: =+D33 -> -15000 | E32: =+E33 -> 0 | F32: =+F33 -> -15000
C33: ՈՉ ՖԻՆԱՆՍԱԿԱՆ ԱԿՏԻՎՆԵՐԻ ԳԾՈՎ ԾԱԽՍԵՐ | D33: =SUM(E33:F33) -> -15000 | E33: 0 | F33: =+F34 -> -15000
C34: ՀԻՄՆԱԿԱՆ ՄԻՋՈՑՆԵՐ | D34: =+E34+F34 -> -15000 | E34: 0 | F34: =+F35 -> -15000
C35: ՄԵՔԵՆԱՆԵՐ ԵՎ ՍԱՐՔԱՎՈՐՈՒՄՆԵՐ | D35: =+E35+F35 -> -15000 | E35: 0 | F35: =+F36 -> -15000
C36: - Այլ մեքենաներ և սարքավորումներ | D36: =+E36+F36 -> -15000 | E36: 0 | F36: =+'2'!G29 -> -15000

Sheet 4-1
A1: Հավելված N 4
A2: Աղյուսակ N 1
A3: ՀՀ կառավարության 2021 թվականի
A4: -ի N -Ն որոշման
A5: ՀԱՅԱՍՏԱՆԻ ՀԱՆՐԱՊԵՏՈՒԹՅԱՆ ԿԱՌԱՎԱՐՈՒԹՅԱՆ 2020 ԹՎԱԿԱՆԻ ԴԵԿՏԵՄԲԵՐԻ 30-Ի N 2215-Ն ՈՐՈՇՄԱՆ N 9 ՀԱՎԵԼՎԱԾԻ N 9.9 ԱՂՅՈՒՍԱԿՈՒՄ ԿԱՏԱՐՎՈՂ ՓՈՓՈԽՈՒԹՅՈՒՆՆԵՐԸ
A8: ՀՀ առողջապահության նախարարություն
A9: ՄԱՍ 2. ՊԵՏԱԿԱՆ ՄԱՐՄՆԻ ԳԾՈՎ ԱՐԴՅՈՒՆՔԱՅԻՆ (ԿԱՏԱՐՈՂԱԿԱՆ) ՑՈՒՑԱՆԻՇՆԵՐԸ
D10: 9.9
A11: Ծրագրի դասիչը | B11: Ծրագրի անվանումը
A12: 1053 | B12: =+'1'!C13 -> Առողջապահության համակարգի արդիականացման և արդյունավետության բարձրացման ծրագիր
A14: Ծրագրի միջոցառումները
A15: Ծրագրի դասիչը` | B15: 1053 | C15: Ցուցանիշների փոփոխությունը (ավելացումները նշված են դրական նշանով)
A17: Միջոցառման դասիչը` | B17: 11004 | C17: Տարի
A18: Միջոցառման անվանումը` | B18: Գլոբալ հիմնադրամի աջակցությամբ իրականացվող «Հայաստանի Հանրապետությունում տուբերկուլյոզի և ՄԻԱՎ/ՁԻԱՀ-ի ծրագրերի հզորացում» դրամաշնորհային ծրագիր
A19: Նկարագրությունը` | B19: Հայաստանի Հանրապետությունում տուբերկուլյոզի բեռի կրճատում« տուբերկուլյոզով բոլոր ձևերի որակյալ ախտորոշման և բուժման մատչելիության ապահովում
A20: Միջոցառման տեսակը` | B20: Ծառայությունների մատուցում
A21: Միջոցառումն իրականացնողի անվանումը | B21: ՀՀ առողջապահության նախարարություն
A22: Արդյունքի չափորոշիչներ
A23: Թվով ավելի քան 1500 տուբերկուլյոզով և 2700 ՄԻԱՎ/ՁԻԱՀ-ով հիվանդների ախտորոշիչ հետազոտությունների և բուժման նպատակով ախտորոշիչ նյութերի և դեղերի ձեռք բերում, մեթադոն դեղի ձեռք բերում, թվով 11 աշխատակիցների աշխատավարձ, գրասենյակային և պահպանման ծախսեր, ամիս | C23: 0
A24: Միջոցառման վրա կատարվող ծախսը (հազար դրամ) | C24: =+'2'!G22 -> 15000
A27: Ծրագրի դասիչը` | B27: 1053 | C27: Ցուցանիշների փոփոխությունը (նվազեցումները՝ փակագծերում)
A29: Միջոցառման դասիչը` | B29: =+'2'!E29 -> 32004 | C29: Տարի
A30: Միջոցառման անվանումը` | B30: =+'3'!C28 -> Գլոբալ հիմնադրամի աջակցությամբ իրականացվող «ՀՀ-ում տուբերկուլյոզի և ՄԻԱՎ/ՁԻԱՀ-ի ծրագրերի հզորացում» դրամաշնորհային ծրագրի շրջանակներում ՀՀ պետական առողջապահական համակարգի կարողությունների զարգացում և տեխնիկական հագեցվածության ապահովում
A31: Նկարագրությունը` | B31: ՀՀ առողջապահության նախարարության հիվանդանոցային ծառայությունների բարելավման համար բժշկական սարքավորումների ձեռք բերում
A32: Միջոցառման տեսակը` | B32: Այլ պետական կազմակերպությունների կողմից օգտագործվող ոչ ֆինանսական ակտիվների հետ գործառնություններ
A33: Միջոցառումն իրականացնողի անվանումը | B33: Հիվանդանոց(ներ), «Ինֆեկցիոն հիվանդությունների ազգային կենտրոն» ՓԲԸ
A34: Արդյունքի չափորոշիչներ
A35: Պացիենտի մոնիտոր | C35: 0
A36: Թթվածնի մատակարարման (CPAP)սարքեր | C36: 0
A37: Թթվածնային կայան | C37: 0
A38: Թորակոսկոպիկ վիրաբուժական հավաքածու | C38: 0
A39: Միջոցառման վրա կատարվող ծախսը (հազար դրամ) | C39: =+'3'!D28 -> -15000
A41: Ծրագրի դասիչը` | B41: 1053 | C41: Ցուցանիշների փոփոխությունը (ավելացումները նշված են դրական նշանով, իսկ նվազեցումները՝ փակագծերում)
A42: Միջոցառման դասիչը` | B42: 11008 | C42: Տարի
A43: Միջոցառման անվանումը` | B43: Գլոբալ հիմնադրամի աջակցությամբ իրականացվող «Հայաստանի Հանրապետությունում տուբերկուլյոզի դեմ պայքարի ազգային ծրագրին աջակցություն» դրամաշնորհային ծրագիր
A44: Նկարագրությունը` | B44: Դեղակայուն տուբերկուլյոզով հիվանդների ամբուլատոր բուժումն իրականացնող մասնագետների վերապատրաստում, դեղակայուն տուբերկուլյոզի կառավարման վերաբերյալ վերապատրաստում արտասահմանում, ՏԲ դեղորայքի կառավարման ոլորտում տեխնիկական աջակցություն
A45: Միջոցառման տեսակը` | B45: Ծառայությունների մատուցում
A46: Միջոցառումն իրականացնողի անվանումը | B46: «Թոքաբանության ազգային կենտրոն» ՊՈԱԿ
A47: Արդյունքի չափորոշիչներ
A48: Տուբերկուլոզի բուժման վերաբերյալ տեսա-ՈՒՎԲ ընդլայնում | C48: 40
...

Sheet 4-2
D1: Հավելված N 4
D2: Աղյուսակ N 2
D3: ՀՀ կառավարության 2021 թվականի
D4: -ի N -Ն որոշման
A5: ՀԱՅԱՍՏԱՆԻ ՀԱՆՐԱՊԵՏՈՒԹՅԱՆ ԿԱՌԱՎԱՐՈՒԹՅԱՆ 2020 ԹՎԱԿԱՆԻ ԴԵԿՏԵՄԲԵՐԻ 30-Ի N 2215-Ն ՈՐՈՇՄԱՆ N 9.1 ՀԱՎԵԼՎԱԾԻ N 9.1.9 ԱՂՅՈՒՍԱԿՈՒՄ ԿԱՏԱՐՎՈՂ ՓՈՓՈԽՈՒԹՅՈՒՆՆԵՐԸ
A7: ՀՀ առողջապահության նախարարություն
D8: 9.1.9
A10: ՄԱՍ 1. ՊԵՏԱԿԱՆ ՄԱՐՄՆԻ ԳԾՈՎ ԱՐԴՅՈՒՆՔԱՅԻՆ (ԿԱՏԱՐՈՂԱԿԱՆ) ՑՈՒՑԱՆԻՇՆԵՐԸ
A12: Ծրագրի դասիչը | B12: Ծրագրի անվանումը
A13: 1053 | B13: Առողջապահության համակարգի արդիականացման և արդյունավետության բարձրացման ծրագիր
A15: Ծրագրի միջոցառումները
A16: Ծրագրի դասիչը` | B16: 1053 | C16: Ցուցանիշների փոփոխությունը (ավելացումները նշված են դրական նշանով)
A18: Միջոցառման դասիչը` | B18: 11004 | C18: Տարի
A19: Միջոցառման անվանումը` | B19: Գլոբալ հիմնադրամի աջակցությամբ իրականացվող «Հայաստանի Հանրապետությունում տուբերկուլյոզի և ՄԻԱՎ/ՁԻԱՀ-ի ծրագրերի հզորացում» դրամաշնորհային ծրագիր
A20: Նկարագրությունը` | B20: Հայաստանի Հանրապետությունում տուբերկուլյոզի բեռի կրճատում« տուբերկուլյոզով բոլոր ձևերի որակյալ ախտորոշման և բուժման մատչելիության ապահովում
A21: Միջոցառման տեսակը` | B21: Ծառայությունների մատուցում
A22: Միջոցառումն իրականացնողի անվանումը | B22: ՀՀ առողջապահության նախարարություն
A23: Արդյունքի չափորոշիչներ
A24: Թվով ավելի քան 1500 տուբերկուլյոզով և 2700 ՄԻԱՎ/ՁԻԱՀ-ով հիվանդների ախտորոշիչ հետազոտությունների և բուժման նպատակով ախտորոշիչ նյութերի և դեղերի ձեռք բերում, մեթադոն դեղի ձեռք բերում, թվով 11 աշխատակիցների աշխատավարձ, գրասենյակային և պահպանման ծախսեր, ամիս | C24: 0
A25: Միջոցառման վրա կատարվող ծախսը (հազար դրամ) | C25: 15000
A27: Ծրագրի դասիչը` | B27: 1053 | C27: Ցուցանիշների փոփոխությունը (նվազեցումները՝ փակագծերում)
A28: Միջոցառման դասիչը` | B28: 32004 | C28: Տարի
A29: Միջոցառման անվանումը` | B29: Գլոբալ հիմնադրամի աջակցությամբ իրականացվող «ՀՀ-ում տուբերկուլյոզի և ՄԻԱՎ/ՁԻԱՀ-ի ծրագրերի հզորացում» դրամաշնորհային ծրագրի շրջանակներում ՀՀ պետական առողջապահական համակարգի կարողությունների զարգացում և տեխնիկական հագեցվածության ապահովում
A30: Նկարագրությունը` | B30: ՀՀ առողջապահության նախարարության հիվանդանոցային ծառայությունների բարելավման համար բժշկական սարքավորումների ձեռք բերում
A31: Միջոցառման տեսակը` | B31: Այլ պետական կազմակերպությունների կողմից օգտագործվող ոչ ֆինանսական ակտիվների հետ գործառնություններ
A32: Միջոցառումն իրականացնողի անվանումը | B32: Հիվանդանոց(ներ), «Ինֆեկցիոն հիվանդությունների ազգային կենտրոն» ՓԲԸ
A33: Արդյունքի չափորոշիչներ
A34: Պացիենտի մոնիտոր | C34: 0
A35: Թթվածնի մատակարարման (CPAP)սարքեր | C35: 0
A36: Թթվածնային կայան | C36: 0
A37: Թորակոսկոպիկ վիրաբուժական հավաքածու | C37: 0
A38: Միջոցառման վրա կատարվող ծախսը (հազար դրամ) | C38: -15000
A40: Ծրագրի դասիչը` | B40: 1053 | C40: Ցուցանիշների փոփոխությունը (ավելացումները նշված են դրական նշանով, իսկ նվազեցումները՝ փակագծերում)
A41: Միջոցառման դասիչը` | B41: 11008 | C41: Տարի
A42: Միջոցառման անվանումը` | B42: Գլոբալ հիմնադրամի աջակցությամբ իրականացվող «Հայաստանի Հանրապետությունում տուբերկուլյոզի դեմ պայքարի ազգային ծրագրին աջակցություն» դրամաշնորհային ծրագիր
A43: Նկարագրությունը` | B43: Դեղակայուն տուբերկուլյոզով հիվանդների ամբուլատոր բուժումն իրականացնող մասնագետների վերապատրաստում, դեղակայուն տուբերկուլյոզի կառավարման վերաբերյալ վերապատրաստում արտասահմանում, ՏԲ դեղորայքի կառավարման ոլորտում տեխնիկական աջակցություն
A44: Միջոցառման տեսակը` | B44: Ծառայությունների մատուցում
A45: Միջոցառումն իրականացնողի անվանումը | B45: «Թոքաբանության ազգային կենտրոն» ՊՈԱԿ
A46: Արդյունքի չափորոշիչներ
A47: Տուբերկուլոզի բուժման վերաբերյալ տեսա-ՈՒՎԲ ընդլայնում | C47: 40
...
