Workbook

Sheet 1
A1: Հավելված N 1
D2: ՀՀ կառավարության 2021 թվականի
D3: -ի N -Ն որոշման
A5: «ՀԱՅԱՍՏԱՆԻ ՀԱՆՐԱՊԵՏՈՒԹՅԱՆ 2021 ԹՎԱԿԱՆԻ ՊԵՏԱԿԱՆ ԲՅՈՒՋԵԻ ՄԱՍԻՆ» ՀԱՅԱՍՏԱՆԻ ՀԱՆՐԱՊԵՏՈՒԹՅԱՆ ՕՐԵՆՔԻ N 1 ՀԱՎԵԼՎԱԾԻ N 2 ԱՂՅՈՒՍԱԿՈՒՄ ԿԱՏԱՐՎՈՂ ՎԵՐԱԲԱՇԽՈՒՄԸ ԵՎ ՀԱՅԱՍՏԱՆԻ ՀԱՆՐԱՊԵՏՈՒԹՅԱՆ ԿԱՌԱՎԱՐՈՒԹՅԱՆ 2020 ԹՎԱԿԱՆԻ ԴԵԿՏԵՄԲԵՐԻ 30-Ի N 2215-Ն ՈՐՈՇՄԱՆ N 5 ՀԱՎԵԼՎԱԾԻ N 1 ԱՂՅՈՒՍԱԿՈՒՄ ԿԱՏԱՐՎՈՂ ՓՈՓՈԽՈՒԹՅՈՒՆՆԵՐԸ
D6: հազ.դրամ
A7: Ծրագրային դասիչը | C7: Բյուջետային ծախսերի գործառական դասակարգման բաժինների, խմբերի և դասերի, բյուջետային ծրագրերի միջոցառումների, բյուջետային հատկացումների գլխավոր կարգադրիչների անվանումները | D7: Ցուցանիշների փոփոխությունը (ավելացումները նշված են դրական նշանով, իսկ նվազեցումները` փակագծերում)
A9: Ծրագիր | B9: Միջոցա ռում | D9: Տարի
C10: ԸՆԴԱՄԵՆԸ
C11: ՀՀ ԱՌՈՂՋԱՊԱՀՈՒԹՅԱՆ ՆԱԽԱՐԱՐՈՒԹՅՈՒՆ | D11: =+D25+D19 -> 0
A12: 1053 | C12: Ծրագրի անվանումը` | D12: =+D11 -> 0
C13: Առողջապահության համակարգի արդիականացման և արդյունավետության բարձրացման ծրագիր | D13: =+D12 -> 0
C14: Ծրագրի նպատակը` | D14: =+D13 -> 0
C15: Առողջապահության համակարգի արդիականացում և զարգացում | D15: =+D14 -> 0
C16: Վերջնական արդյունքի նկարագրությունը՝ | D16: =+D15 -> 0
C17: Առողջապահական ենթակառուցվածքների բարելավում՝ կարողությունների զարգացում | D17: =+D16 -> 0
A18: Ծրագրի միջոցառումներ
B19: 11004 | C19: Միջոցառման անվանումը` | D19: 15000
C20: Գլոբալ հիմնադրամի աջակցությամբ իրականացվող «Հայաստանի Հանրապետությունում տուբերկուլյոզի և ՄԻԱՎ/ՁԻԱՀ-ի ծրագրերի հզորացում» դրամաշնորհային ծրագիր
C21: Միջոցառման նկարագրությունը`
C22: Հայաստանի Հանրապետությունուն տուբերկուլյոզի բեռի կրճատում, տուբերկուլյոզի բոլոր ձևերի որոկյալ ախտորոշման և բուժման մատչելիության ապահովում
C23: Միջոցառման տեսակը
C24: Ծառայությունների մատուցում
B25: 32004 | C25: Միջոցառման անվանումը` | D25: -15000
C26: Գլոբալ հիմնադրամի աջակցությամբ իրականացվող «ՀՀ-ում տուբերկուլյոզի և ՄԻԱՎ/ՁԻԱՀ-ի ծրագրերի հզորացում» դրամաշնորհային ծրագրի շրջանակներում ՀՀ պետական առողջապահական համակարգի կարողությունների զարգացում և տեխնիկական հագեցվածության ապահովում
C27: Միջոցառման նկարագրությունը`
C28: ՀՀ առողջապահության նախարարության հիվանդանոցային ծառայությունների բարելավման համար բժշկական սարքավորումների ձեռք բերում
C29: Միջոցառման տեսակը
C30: Այլ պետական կազմակերպությունների կողմից օգտագործվող ոչ ֆինանսական ակտիվների հետ գործառնություններ

Sheet 2
G1: Հավելված N 2
G2: ՀՀ կառավարության 2021 թվականի
G3: -ի N -Ն որոշման
A4: ՀԱՅԱՍՏԱՆԻ ՀԱՆՐԱՊԵՏՈՒԹՅԱՆ ԿԱՌԱՎԱՐՈՒԹՅԱՆ 2020 ԹՎԱԿԱՆԻ ԴԵԿՏԵՄԲԵՐԻ 30-Ի N 2215-Ն ՈՐՈՇՄԱՆ N 3 և N 4 ՀԱՎԵԼՎԱԾՆԵՐՈՒՄ ԿԱՏԱՐՎՈՂ ՓՈՓՈԽՈՒԹՅՈՒՆՆԵՐԸ
G6: հազ.դրամ
A7: Գործառական դասիչը | D7: Ծրագրային դասիչը | F7: Բյուջետային ծախսերի գործառական դասակարգման բաժինների, խմբերի և դասերի, բյուջետային հատկացումների գլխավոր կարգադրիչների, ծրագրերի, միջոցառումների և միջոցառումները կատարող պետական մարմինների անվանումները | G7: Ցուցանիշների փոփոխությունը (ավելացումները նշված են դրական նշանով, իսկ նվազեցումները` փակագծերում)
A9: Բաժին | B9: Խումբ | C9: Դաս | D9: Ծրագիր | E9: Միջոցա ռում | G9: Տարի
F10: ԸՆԴԱՄԵՆԸ ԾԱԽՍԵՐ | G10: =+G18 -> 0
F11: այդ թվում`
A12: 07 | F12: ԱՌՈՂՋԱՊԱՀՈՒԹՅՈՒՆ | G12: =+G14 -> 0
F13: այդ թվում`
B14: 06 | F14: Առողջապահություն (այլ դասերին չպատկանող) | G14: =+G16 -> 0
F15: այդ թվում՝
C16: 01 | F16: Առողջապահական հարակից ծառայություններ և ծրագրեր | G16: =+G18 -> 0
F17: այդ թվում`
F18: =+'1'!C11 -> ՀՀ ԱՌՈՂՋԱՊԱՀՈՒԹՅԱՆ ՆԱԽԱՐԱՐՈՒԹՅՈՒՆ | G18: =+G20 -> 0
F19: այդ թվում՝
D20: 1053 | F20: =+[1]Gorcarakan!$C$3138 -> Առողջապահության համակարգի արդիականացման և արդյունավետության բարձրացման ծրագիր | G20: =+G22+G29+G38+G47+G56+G65+G74 -> 0
F21: այդ թվում`
E22: 11004 | F22: Գլոբալ հիմնադրամի աջակցությամբ իրականացվող «Հայաստանի Հանրապետությունում տուբերկուլյոզի և ՄԻԱՎ/ՁԻԱՀ-ի ծրագրերի հզորացում» դրամաշնորհային ծրագիր | G22: =+G26 -> 15000
F23: այդ թվում` ըստ կատարողների
F24: ՀՀ առողջապահության նախարարություն | G24: =+G26 -> 15000
F25: այդ թվում` բյուջետային ծախսերի տնտեսագիտական դասակարգման հոդվածներ
F26: ԸՆԴԱՄԵՆԸ ԾԱԽՍԵՐ | G26: =+G27 -> 15000
F27: ԱՅԼ ԾԱԽՍԵՐ | G27: =+G28 -> 15000
F28: Հարկեր, պարտադիր վճարներ և տույժեր, որոնք կառավարման տարբեր մակարդակների կողմից կիրառվում են միմյանց նկատմամբ | G28: 15000
E29: 32004 | F29: Գլոբալ հիմնադրամի աջակցությամբ իրականացվող «ՀՀ-ում տուբերկուլյոզի և ՄԻԱՎ/ՁԻԱՀ-ի ծրագրերի հզորացում» դրամաշնորհային ծրագրի շրջանակներում ՀՀ պետական առողջապահական համակարգի կարողությունների զարգացում և տեխնիկական հագեցվածության ապահովում | G29: =+$G$37 -> -15000
F30: այդ թվում` ըստ կատարողների
F31: ՀՀ առողջապահության նախարարություն | G31: =$G$37 -> -15000
F32: այդ թվում` բյուջետային ծախսերի տնտեսագիտական դասակարգման հոդվածներ
F33: ԸՆԴԱՄԵՆԸ ԾԱԽՍԵՐ | G33: =$G$37 -> -15000
F34: ՈՉ ՖԻՆԱՆՍԱԿԱՆ ԱԿՏԻՎՆԵՐԻ ԳԾՈՎ ԾԱԽՍԵՐ | G34: =$G$37 -> -15000
F35: ՀԻՄՆԱԿԱՆ ՄԻՋՈՑՆԵՐ | G35: =$G$37 -> -15000
F36: ՄԵՔԵՆԱՆԵՐ ԵՎ ՍԱՐՔԱՎՈՐՈՒՄՆԵՐ | G36: =$G$37 -> -15000
F37: - Այլ մեքենաներ և սարքավորումներ | G37: -15000
E38: 11008 | F38: =+'1'!#REF! -> #REF! | G38: =+G46 -> 0
F39: այդ թվում` ըստ կատարողների
F40: ՀՀ առողջապահության նախարարություն | G40: =+G46 -> 0
F41: այդ թվում` բյուջետային ծախսերի տնտեսագիտական դասակարգման հոդվածներ
F42: ԸՆԴԱՄԵՆԸ ԾԱԽՍԵՐ | G42: =+$G$46 -> 0
F43: ԸՆԹԱՑԻԿ ԾԱԽՍԵՐ | G43: =+$G$46 -> 0
F44: ԴՐԱՄԱՇՆՈՐՀՆԵՐ | G44: =+$G$46 -> 0
F45: Ընթացիկ դրամաշնորհներ պետական հատվածի այլ մակարդակներին | G45: =+$G$46 -> 0
F46: - Ընթացիկ դրամաշնորհներ պետական և համայնքային ոչ առևտրային կազմակերպություններին
E47: 11010 | F47: =+'1'!#REF! -> #REF! | G47: =+G55 -> 0
F48: այդ թվում` ըստ կատարողների
F49: ՀՀ առողջապահության նախարարություն | G49: =+$G$55 -> 0
F50: այդ թվում` բյուջետային ծախսերի տնտեսագիտական դասակարգման հոդվածներ | G50: =+$G$55 -> 0
F51: ԸՆԴԱՄԵՆԸ ԾԱԽՍԵՐ | G51: =+$G$55 -> 0
F52: ԸՆԹԱՑԻԿ ԾԱԽՍԵՐ | G52: =+$G$55 -> 0
F53: ԴՐԱՄԱՇՆՈՐՀՆԵՐ | G53: =+$G$55 -> 0
F54: Ընթացիկ դրամաշնորհներ պետական հատվածի այլ մակարդակներին | G54: =+$G$55 -> 0
F55: - Ընթացիկ դրամաշնորհներ պետական և համայնքային ոչ առևտրային կազմակերպություններին
E56: 11011 | F56: =+'1'!#REF! -> #REF! | G56: =+G64 -> 0
F57: այդ թվում` ըստ կատարողների
F58: ՀՀ առողջապահության նախարարություն | G58: =+$G$64 -> 0
F59: այդ թվում` բյուջետային ծախսերի տնտեսագիտական դասակարգման հոդվածներ | G59: =+$G$64 -> 0
F60: ԸՆԴԱՄԵՆԸ ԾԱԽՍԵՐ | G60: =+$G$64 -> 0
F61: ԸՆԹԱՑԻԿ ԾԱԽՍԵՐ | G61: =+$G$64 -> 0
F62: ԴՐԱՄԱՇՆՈՐՀՆԵՐ | G62: =+$G$64 -> 0
F63: Ընթացիկ դրամաշնորհներ պետական հատվածի այլ մակարդակներին | G63: =+$G$64 -> 0
F64: - Ընթացիկ դրամաշնորհներ պետական և համայնքային ոչ առևտրային կազմակերպություններին
E65: 11012 | F65: =+'1'!#REF! -> #REF! | G65: =+G73 -> 0
F66: այդ թվում` ըստ կատարողների
F67: ՀՀ առողջապահության նախարարություն | G67: =+$G$73 -> 0
F68: այդ թվում` բյուջետային ծախսերի տնտեսագիտական դասակարգման հոդվածներ | G68: =+$G$73 -> 0
F69: ԸՆԴԱՄԵՆԸ ԾԱԽՍԵՐ | G69: =+$G$73 -> 0
F70: ԸՆԹԱՑԻԿ ԾԱԽՍԵՐ | G70: =+$G$73 -> 0
F71: ԴՐԱՄԱՇՆՈՐՀՆԵՐ | G71: =+$G$73 -> 0
F72: Ընթացիկ դրամաշնորհներ պետական հատվածի այլ մակարդակներին | G72: =+$G$73 -> 0
F73: - Ընթացիկ դրամաշնորհներ պետական և համայնքային առևտրային կազմակերպություններին
E74: =+'1'!#REF! -> #REF! | F74: =+'1'!#REF! -> #REF! | G74: =+G78 -> 0
F75: այդ թվում` ըստ կատարողների
F76: ՀՀ առողջապահության նախարարություն | G76: =+G82 -> 0
F77: այդ թվում` բյուջետային ծախսերի տնտեսագիտական դասակարգման հոդվածներ
F78: ԸՆԴԱՄԵՆԸ ԾԱԽՍԵՐ | G78: =+$G$82 -> 0
F79: ՈՉ ՖԻՆԱՆՍԱԿԱՆ ԱԿՏԻՎՆԵՐԻ ԳԾՈՎ ԾԱԽՍԵՐ | G79: =+$G$82 -> 0
F80: ՀԻՄՆԱԿԱՆ ՄԻՋՈՑՆԵՐ | G80: =+$G$82 -> 0
F81: ՄԵՔԵՆԱՆԵՐ ԵՎ ՍԱՐՔԱՎՈՐՈՒՄՆԵՐ | G81: =+$G$82 -> 0
F82: - Այլ մեքենաներ և սարքավորումներ

Sheet 3
F1: Հավելված 3
F2: ՀՀ կառավարության 2021 թվականի
F3: ______________ ի ___Ն որոշման
A5: «ՀԱՅԱՍՏԱՆԻ ՀԱՆՐԱՊԵՏՈՒԹՅԱՆ 2021 ԹՎԱԿԱՆԻ ՊԵՏԱԿԱՆ ԲՅՈՒՋԵԻ ՄԱՍԻՆ» ՀԱՅԱՍՏԱՆԻ ՀԱՆՐԱՊԵՏՈՒԹՅԱՆ ՕՐԵՆՔԻ N 1 ՀԱՎԵԼՎԱԾԻ N 5 ԱՂՅՈՒՍԱԿՈՒՄ ԿԱՏԱՐՎՈՂ ՎԵՐԱԲԱՇԽՈՒՄԸ ԵՎ ՀԱՅԱՍՏԱՆԻ ՀԱՆՐԱՊԵՏՈՒԹՅԱՆ ԿԱՌԱՎԱՐՈՒԹՅԱՆ 2020 ԹՎԱԿԱՆԻ ԴԵԿՏԵՄԲԵՐԻ 30-Ի N 2215-Ն ՈՐՈՇՄԱՆ N 5 ՀԱՎԵԼՎԱԾԻ N 4 ԱՂՅՈՒՍԱԿՈՒՄ ԿԱՏԱՐՎՈՂ ՓՈՓՈԽՈՒԹՅՈՒՆՆԵՐԸ
F7: հազ. դրամ
A9: Ծրագրային դասիչը | C9: Բյուջետային հատկացումների գլխավոր կարգադրիչների, ծրագրերի, միջոցառումների և միջոցառումները կատարող պետական մարմինների անվանումները | D9: Ցուցանիշների փոփոխությունը (ավելացումները նշված են դրական նշանով, իսկ նվազեցումները` փակագծերում)
D10: Տարի
A13: ծրագիրը | B13: միջոցառումը | D13: ընդամենը | E13: այդ թվում՝
E14: Դրամաշնոր հային միջոցներ | F14: համաֆինան_x000D_ սավորում
C15: ԸՆԴԱՄԵՆԸ այդ թվում` | D15: =D16+D17 -> 0 | E15: =E16+E17 -> 0 | F15: =F16+F17 -> 0
C16: - ԸՆԹԱՑԻԿ ԾԱԽՍԵՐ | D16: =+D21+D28 -> 0 | E16: =+E21+E28 -> 0 | F16: =+F21+F28 -> 0
C17: - ՈՉ ՖԻՆԱՆՍԱԿԱՆ ԱԿՏԻՎՆԵՐԻ ԳԾՈՎ ԾԱԽՍԵՐ | D17: =+D20 -> 0 | E17: =+E20 -> 0 | F17: =+F21+F28 -> 0
C18: ՀՀ ԱՌՈՂՋԱՊԱՀՈՒԹՅԱՆ ՆԱԽԱՐԱՐՈՒԹՅՈՒՆ
C19: այդ թվում`
A20: 1053 | C20: Առողջապահության համակարգի արդիականացման և արդյունավետության բարձրացման ծրագիր | D20: =+D21+D28 -> 0 | E20: =+E21+E28 -> 0 | F20: =+F21+F28 -> 0
B21: 11004 | C21: Գլոբալ հիմնադրամի աջակցությամբ իրականացվող «Հայաստանի Հանրապետությունում տուբերկուլյոզի և ՄԻԱՎ/ՁԻԱՀ-ի ծրագրերի հզորացում» դրամաշնորհային ծրագիր | D21: =SUM(D26:D26) -> 15000 | E21: =SUM(E26:E26) -> 0 | F21: =SUM(F26:F26) -> 15000
C22: այդ թվում` ըստ կատարողների
C23: ՀՀ առողջապահության նախարարություն
C24: այդ թվում` բյուջետային ծախսերի տնտեսագիտական դասակարգման հոդվածներ
C25: ԸՆԹԱՑԻԿ ԾԱԽՍԵՐ | D25: =+D26 -> 15000 | E25: =+E26 -> 0 | F25: =+F26 -> 15000
C26: =+'2'!F27 -> ԱՅԼ ԾԱԽՍԵՐ | D26: =+D27 -> 15000 | E26: =+E27 -> 0 | F26: =+F27 -> 15000
C27: =+'2'!F28 -> Հարկեր, պարտադիր վճարներ և տույժեր, որոնք կառավարման տարբեր մակարդակների կողմից կիրառվում են միմյանց նկատմամբ | D27: =+E27+F27 -> 15000 | F27: =+'2'!G22 -> 15000
B28: 32004 | C28: =+'2'!F29 -> Գլոբալ հիմնադրամի աջակցությամբ իրականացվող «ՀՀ-ում տուբերկուլյոզի և ՄԻԱՎ/ՁԻԱՀ-ի ծրագրերի հզորացում» դրամաշնորհային ծրագրի շրջանակներում ՀՀ պետական առողջապահական համակարգի կարողությունների զարգացում և տեխնիկական հագեցվածության ապահովում | D28: =SUM(E28:F28) -> -15000 | E28: =+E33 -> 0 | F28: =+F33 -> -15000
C29: այդ թվում` ըստ կատարողների
C30: ՀՀ առողջապահության նախարարություն | D30: =+D33 -> -15000 | E30: =+E33 -> 0 | F30: =+F32 -> -15000
C31: այդ թվում` բյուջետային ծախսերի տնտեսագիտական դասակարգման հոդվածներ
C32: ԸՆԴԱՄԵՆԸ ԾԱԽՍԵՐ | D32: =+D33 -> -15000 | E32: =+E33 -> 0 | F32: =+F33 -> -15000
C33: ՈՉ ՖԻՆԱՆՍԱԿԱՆ ԱԿՏԻՎՆԵՐԻ ԳԾՈՎ ԾԱԽՍԵՐ | D33: =SUM(E33:F33) -> -15000 | E33: 0 | F33: =+F34 -> -15000
C34: ՀԻՄՆԱԿԱՆ ՄԻՋՈՑՆԵՐ | D34: =+E34+F34 -> -15000 | E34: 0 | F34: =+F35 -> -15000
C35: ՄԵՔԵՆԱՆԵՐ ԵՎ ՍԱՐՔԱՎՈՐՈՒՄՆԵՐ | D35: =+E35+F35 -> -15000 | E35: 0 | F35: =+F36 -> -15000
C36: - Այլ մեքենաներ և սարքավորումներ | D36: =+E36+F36 -> -15000 | E36: 0 | F36: =+'2'!G29 -> -15000

Sheet 4-1
A1: Հավելված N 4
A2: Աղյուսակ N 1
A3: ՀՀ կառավարության 2021 թվականի
A4: -ի N -Ն որոշման
A5: ՀԱՅԱՍՏԱՆԻ ՀԱՆՐԱՊԵՏՈՒԹՅԱՆ ԿԱՌԱՎԱՐՈՒԹՅԱՆ 2020 ԹՎԱԿԱՆԻ ԴԵԿՏԵՄԲԵՐԻ 30-Ի N 2215-Ն ՈՐՈՇՄԱՆ N 9 ՀԱՎԵԼՎԱԾԻ N 9.9 ԱՂՅՈՒՍԱԿՈՒՄ ԿԱՏԱՐՎՈՂ ՓՈՓՈԽՈՒԹՅՈՒՆՆԵՐԸ
A8: ՀՀ առողջապահության նախարարություն
A9: ՄԱՍ 2. ՊԵՏԱԿԱՆ ՄԱՐՄՆԻ ԳԾՈՎ ԱՐԴՅՈՒՆՔԱՅԻՆ (ԿԱՏԱՐՈՂԱԿԱՆ) ՑՈՒՑԱՆԻՇՆԵՐԸ
D10: 9.9
A11: Ծրագրի դասիչը | B11: Ծրագրի անվանումը
A12: 1053 | B12: =+'1'!C13 -> Առողջապահության համակարգի արդիականացման և արդյունավետության բարձրացման ծրագիր
A14: Ծրագրի միջոցառումները
A15: Ծրագրի դասիչը` | B15: 1053 | C15: Ցուցանիշների փոփոխությունը (ավելացումները նշված են դրական նշանով)
A17: Միջոցառման դասիչը` | B17: 11004 | C17: Տարի
A18: Միջոցառման անվանումը` | B18: Գլոբալ հիմնադրամի աջակցությամբ իրականացվող «Հայաստանի Հանրապետությունում տուբերկուլյոզի և ՄԻԱՎ/ՁԻԱՀ-ի ծրագրերի հզորացում» դրամաշնորհային ծրագիր
A19: Նկարագրությունը` | B19: Հայաստանի Հանրապետությունում տուբերկուլյոզի բեռի կրճատում« տուբերկուլյոզով բոլոր ձևերի որակյալ ախտորոշման և բուժման մատչելիության ապահովում
A20: Միջոցառման տեսակը` | B20: Ծառայությունների մատուցում
A21: Միջոցառումն իրականացնողի անվանումը | B21: ՀՀ առողջապահության նախարարություն
A22: Արդյունքի չափորոշիչներ
A23: Թվով ավելի քան 1500 տուբերկուլյոզով և 2700 ՄԻԱՎ/ՁԻԱՀ-ով հիվանդների ախտորոշիչ հետազոտությունների և բուժման նպատակով ախտորոշիչ նյութերի և դեղերի ձեռք բերում, մեթադոն դեղի ձեռք բերում, թվով 11 աշխատակիցների աշխատավարձ, գրասենյակային և պահպանման ծախսեր, ամիս | C23: 0
A24: Միջոցառման վրա կատարվող ծախսը (հազար դրամ) | C24: =+'2'!G22 -> 15000
A27: Ծրագրի դասիչը` | B27: 1053 | C27: Ցուցանիշների փոփոխությունը (նվազեցումները՝ փակագծերում)
A29: Միջոցառման դասիչը` | B29: =+'2'!E29 -> 32004 | C29: Տարի
A30: Միջոցառման անվանումը` | B30: =+'3'!C28 -> Գլոբալ հիմնադրամի աջակցությամբ իրականացվող «ՀՀ-ում տուբերկուլյոզի և ՄԻԱՎ/ՁԻԱՀ-ի ծրագրերի հզորացում» դրամաշնորհային ծրագրի շրջանակներում ՀՀ պետական առողջապահական համակարգի կարողությունների զարգացում և տեխնիկական հագեցվածության ապահովում
A31: Նկարագրությունը` | B31: ՀՀ առողջապահության նախարարության հիվանդանոցային ծառայությունների բարելավման համար բժշկական սարքավորումների ձեռք բերում
A32: Միջոցառման տեսակը` | B32: Այլ պետական կազմակերպությունների կողմից օգտագործվող ոչ ֆինանսական ակտիվների հետ գործառնություններ
A33: Միջոցառումն իրականացնողի անվանումը | B33: Հիվանդանոց(ներ), «Ինֆեկցիոն հիվանդությունների ազգային կենտրոն» ՓԲԸ
A34: Արդյունքի չափորոշիչներ
A35: Պացիենտի մոնիտոր | C35: 0
A36: Թթվածնի մատակարարման (CPAP)սարքեր | C36: 0
A37: Թթվածնային կայան | C37: 0
A38: Թորակոսկոպիկ վիրաբուժական հավաքածու | C38: 0
A39: Միջոցառման վրա կատարվող ծախսը (հազար դրամ) | C39: =+'3'!D28 -> -15000
A41: Ծրագրի դասիչը` | B41: 1053 | C41: Ցուցանիշների փոփոխությունը (ավելացումները նշված են դրական նշանով, իսկ նվազեցումները՝ փակագծերում)
A42: Միջոցառման դասիչը` | B42: 11008 | C42: Տարի
A43: Միջոցառման անվանումը` | B43: Գլոբալ հիմնադրամի աջակցությամբ իրականացվող «Հայաստանի Հանրապետությունում տուբերկուլյոզի դեմ պայքարի ազգային ծրագրին աջակցություն» դրամաշնորհային ծրագիր
A44: Նկարագրությունը` | B44: Դեղակայուն տուբերկուլյոզով հիվանդների ամբուլատոր բուժումն իրականացնող մասնագետների վերապատրաստում, դեղակայուն տուբերկուլյոզի կառավարման վերաբերյալ վերապատրաստում արտասահմանում, ՏԲ դեղորայքի կառավարման ոլորտում տեխնիկական աջակցություն
A45: Միջոցառման տեսակը` | B45: Ծառայությունների մատուցում
A46: Միջոցառումն իրականացնողի անվանումը | B46: «Թոքաբանության ազգային կենտրոն» ՊՈԱԿ
A47: Արդյունքի չափորոշիչներ
A48: Տուբերկուլոզի բուժման վերաբերյալ տեսա-ՈՒՎԲ ընդլայնում | C48: 40
A49: Ազգային ռեֆերենս լաբորատորիայի ընթացիկ նորոգման աշխատանքների նախագծում | C49: 1
A50: Միջոցառման վրա կատարվող ծախսը (հազար դրամ) | C50: =+'2'!G38 -> 0
A52: Ծրագրի դասիչը` | B52: 1053 | C52: Ցուցանիշների փոփոխությունը (ավելացումները նշված են դրական նշանով, իսկ նվազեցումները՝ փակագծերում)
A54: Միջոցառման դասիչը` | B54: 11010 | C54: Տարի
A55: Միջոցառման անվանումը` | B55: =+'2'!F47 -> #REF!
A56: Նկարագրությունը` | B56: =+'1'!#REF! -> #REF!
A57: Միջոցառման տեսակը` | B57: Ծառայությունների մատուցում
A58: Միջոցառումն իրականացնողի անվանումը | B58: «Մարդասիրական օգնության հանրապետական կենտրոն» ՊՈԱԿ
A59: Արդյունքի չափորոշիչներ
A60: Ուղղակի գնման եղանակով ներմուծվող բեռների պահպանում, բաշխում | C60: -12
A61: Միջոցառման վրա կատարվող ծախսը (հազար դրամ) | C61: =+'2'!G47 -> 0
A63: Ծրագրի դասիչը` | B63: 1053 | C63: Ցուցանիշների փոփոխությունը (ավելացումները նշված են դրական նշանով, իսկ նվազեցումները՝ փակագծերում)
A64: Միջոցառման դասիչը` | B64: 11011 | C64: Տարի
A65: Միջոցառման անվանումը` | B65: =+'2'!F56 -> #REF!
A66: Նկարագրությունը` | B66: =+'1'!#REF! -> #REF!
A67: Միջոցառման տեսակը` | B67: Ծառայությունների մատուցում
A68: Միջոցառումն իրականացնողի անվանումը | B68: «Քրեակատարողական բժշկության կենտրոն» ՊՈԱԿ
A69: Արդյունքի չափորոշիչներ
A70: Հաշվետու ժամանակաշրջանում ՄԻԱՎ հետազոտություն անցած և արդյունքներին տեղյակ դատապարտյալների ու կալանավորների թիվ, մարդ
A71: Միջոցառման վրա կատարվող ծախսը (հազար դրամ) | C71: ='2'!G56 -> 0
A73: Ծրագրի դասիչը` | B73: 1053 | C73: Ցուցանիշների փոփոխությունը (ավելացումները նշված են դրական նշանով, իսկ նվազեցումները՝ փակագծերում)
A74: Միջոցառման դասիչը` | B74: 11012 | C74: Տարի
A75: Միջոցառման անվանումը` | B75: =+B30 -> Գլոբալ հիմնադրամի աջակցությամբ իրականացվող «ՀՀ-ում տուբերկուլյոզի և ՄԻԱՎ/ՁԻԱՀ-ի ծրագրերի հզորացում» դրամաշնորհային ծրագրի շրջանակներում ՀՀ պետական առողջապահական համակարգի կարողությունների զարգացում և տեխնիկական հագեցվածության ապահովում
A76: Նկարագրությունը` | B76: ՄԻԱՎ/ՁԻԱՀ-ի կանխարգելման և բուժման միջոցառումների իրականացում, լաբորատոր հետազոտությունների իրականացում, սեռավարակների բուժում առավել ռիսկային բակչության խմբերում (ԿՍԿ, ՏՍՏ, ԹՆՈ), խնամք և աջակցություն ՄԻԱՎ-ով ապրող մարդկանց
A77: Միջոցառման տեսակը` | B77: Ծառայությունների մատուցում
A78: Միջոցառումն իրականացնողի անվանումը | B78: «Ինֆեկցիոն հիվանդությունների ազգային կենտրոն» փակ բաժնետիրական ընկերություն (ՓԲԸ)
A79: Արդյունքի չափորոշիչներ
A80: Միգրանտների շրջանում ՄԻԱՎ հետազոտություն | C80: 8000
A81: Միջոցառման վրա կատարվող ծախսը (հազար դրամ) | C81: =+'2'!G65 -> 0
A83: Ծրագրի դասիչը` | B83: 1053 | C83: Ցուցանիշների փոփոխությունը (ավելացումները նշված են դրական նշանով, իսկ նվազեցումները՝ փակագծերում)
A84: Միջոցառման դասիչը` | B84: =+'1'!#REF! -> #REF! | C84: Տարի
A85: Միջոցառման անվանումը` | B85: =+'1'!#REF! -> #REF!
A86: Նկարագրությունը` | B86: =+'1'!#REF! -> #REF!
A87: Միջոցառման տեսակը` | B87: Այլ պետական կազմակերպությունների կողմից օգտագործվող ոչ ֆինանսական ակտիվների հետ գործառնություններ
A88: Ակտիվն օգտագործող կազմակերպությունների անվանումները | B88: «Ինֆեկցիոն հիվանդությունների ազգային կենտրոն» փակ բաժնետիրական ընկերություն (ՓԲԸ)
A89: Արդյունքի չափորոշիչներ
B90: Պացիենտի մոնիտոր | C90: 10
B91: Թթվածնի մատակարարման (CPAP) սարքեր | C91: 10
B92: Ուլտրամանուշակագույն ճառագայթման լամպ (օդի ռեցիրկուլյատորներ) | C92: 150
B93: Թթվածնային կայան | C93: 1
B94: Ռենտգեն սարք | C94: 1
B95: Թորակոսկոպիկ վիրաբուժական հավաքածու | C95: 1
B96: Սառնարաններ | C96: 5
B97: ՊՇՌ պահարան | C97: 1
B98: Անզգայացման սարք | C98: 1
B99: Թոքերի արհեստական օդափոխության սարքեր | C99: 2
A100: Միջոցառման վրա կատարվող ծախսը (հազար դրամ) | C100: =+'2'!G74 -> 0

Sheet 4-2
D1: Հավելված N 4
D2: Աղյուսակ N 2
D3: ՀՀ կառավարության 2021 թվականի
D4: -ի N -Ն որոշման
A5: ՀԱՅԱՍՏԱՆԻ ՀԱՆՐԱՊԵՏՈՒԹՅԱՆ ԿԱՌԱՎԱՐՈՒԹՅԱՆ 2020 ԹՎԱԿԱՆԻ ԴԵԿՏԵՄԲԵՐԻ 30-Ի N 2215-Ն ՈՐՈՇՄԱՆ N 9.1 ՀԱՎԵԼՎԱԾԻ N 9.1.9 ԱՂՅՈՒՍԱԿՈՒՄ ԿԱՏԱՐՎՈՂ ՓՈՓՈԽՈՒԹՅՈՒՆՆԵՐԸ
A7: ՀՀ առողջապահության նախարարություն
D8: 9.1.9
A10: ՄԱՍ 1. ՊԵՏԱԿԱՆ ՄԱՐՄՆԻ ԳԾՈՎ ԱՐԴՅՈՒՆՔԱՅԻՆ (ԿԱՏԱՐՈՂԱԿԱՆ) ՑՈՒՑԱՆԻՇՆԵՐԸ
A12: Ծրագրի դասիչը | B12: Ծրագրի անվանումը
A13: 1053 | B13: Առողջապահության համակարգի արդիականացման և արդյունավետության բարձրացման ծրագիր
A15: Ծրագրի միջոցառումները
A16: Ծրագրի դասիչը` | B16: 1053 | C16: Ցուցանիշների փոփոխությունը (ավելացումները նշված են դրական նշանով)
A18: Միջոցառման դասիչը` | B18: 11004 | C18: Տարի
A19: Միջոցառման անվանումը` | B19: Գլոբալ հիմնադրամի աջակցությամբ իրականացվող «Հայաստանի Հանրապետությունում տուբերկուլյոզի և ՄԻԱՎ/ՁԻԱՀ-ի ծրագրերի հզորացում» դրամաշնորհային ծրագիր
A20: Նկարագրությունը` | B20: Հայաստանի Հանրապետությունում տուբերկուլյոզի բեռի կրճատում« տուբերկուլյոզով բոլոր ձևերի որակյալ ախտորոշման և բուժման մատչելիության ապահովում
A21: Միջոցառման տեսակը` | B21: Ծառայությունների մատուցում
A22: Միջոցառումն իրականացնողի անվանումը | B22: ՀՀ առողջապահության նախարարություն
A23: Արդյունքի չափորոշիչներ
A24: Թվով ավելի քան 1500 տուբերկուլյոզով և 2700 ՄԻԱՎ/ՁԻԱՀ-ով հիվանդների ախտորոշիչ հետազոտությունների և բուժման նպատակով ախտորոշիչ նյութերի և դեղերի ձեռք բերում, մեթադոն դեղի ձեռք բերում, թվով 11 աշխատակիցների աշխատավարձ, գրասենյակային և պահպանման ծախսեր, ամիս | C24: 0
A25: Միջոցառման վրա կատարվող ծախսը (հազար դրամ) | C25: 15000
A27: Ծրագրի դասիչը` | B27: 1053 | C27: Ցուցանիշների փոփոխությունը (նվազեցումները՝ փակագծերում)
A28: Միջոցառման դասիչը` | B28: 32004 | C28: Տարի
A29: Միջոցառման անվանումը` | B29: Գլոբալ հիմնադրամի աջակցությամբ իրականացվող «ՀՀ-ում տուբերկուլյոզի և ՄԻԱՎ/ՁԻԱՀ-ի ծրագրերի հզորացում» դրամաշնորհային ծրագրի շրջանակներում ՀՀ պետական առողջապահական համակարգի կարողությունների զարգացում և տեխնիկական հագեցվածության ապահովում
A30: Նկարագրությունը` | B30: ՀՀ առողջապահության նախարարության հիվանդանոցային ծառայությունների բարելավման համար բժշկական սարքավորումների ձեռք բերում
A31: Միջոցառման տեսակը` | B31: Այլ պետական կազմակերպությունների կողմից օգտագործվող ոչ ֆինանսական ակտիվների հետ գործառնություններ
A32: Միջոցառումն իրականացնողի անվանումը | B32: Հիվանդանոց(ներ), «Ինֆեկցիոն հիվանդությունների ազգային կենտրոն» ՓԲԸ
A33: Արդյունքի չափորոշիչներ
A34: Պացիենտի մոնիտոր | C34: 0
A35: Թթվածնի մատակարարման (CPAP)սարքեր | C35: 0
A36: Թթվածնային կայան | C36: 0
A37: Թորակոսկոպիկ վիրաբուժական հավաքածու | C37: 0
A38: Միջոցառման վրա կատարվող ծախսը (հազար դրամ) | C38: -15000
A40: Ծրագրի դասիչը` | B40: 1053 | C40: Ցուցանիշների փոփոխությունը (ավելացումները նշված են դրական նշանով, իսկ նվազեցումները՝ փակագծերում)
A41: Միջոցառման դասիչը` | B41: 11008 | C41: Տարի
A42: Միջոցառման անվանումը` | B42: Գլոբալ հիմնադրամի աջակցությամբ իրականացվող «Հայաստանի Հանրապետությունում տուբերկուլյոզի դեմ պայքարի ազգային ծրագրին աջակցություն» դրամաշնորհային ծրագիր
A43: Նկարագրությունը` | B43: Դեղակայուն տուբերկուլյոզով հիվանդների ամբուլատոր բուժումն իրականացնող մասնագետների վերապատրաստում, դեղակայուն տուբերկուլյոզի կառավարման վերաբերյալ վերապատրաստում արտասահմանում, ՏԲ դեղորայքի կառավարման ոլորտում տեխնիկական աջակցություն
A44: Միջոցառման տեսակը` | B44: Ծառայությունների մատուցում
A45: Միջոցառումն իրականացնողի անվանումը | B45: «Թոքաբանության ազգային կենտրոն» ՊՈԱԿ
A46: Արդյունքի չափորոշիչներ
A47: Տուբերկուլոզի բուժման վերաբերյալ տեսա-ՈՒՎԲ ընդլայնում | C47: 40
A48: Ազգային ռեֆերենս լաբորատորիայի ընթացիկ նորոգման աշխատանքների նախագծում | C48: 1
A49: Միջոցառման վրա կատարվող ծախսը (հազար դրամ)
A51: Ծրագրի դասիչը` | B51: 1053 | C51: Ցուցանիշների փոփոխությունը (ավելացումները նշված են դրական նշանով, իսկ նվազեցումները՝ փակագծերում)
A52: Միջոցառման դասիչը` | B52: 11010 | C52: Տարի
A53: Միջոցառման անվանումը` | B53: Գլոբալ հիմնադրամի աջակցությամբ իրականացվող «Հայաստանի Հանրապետությունում տուբերկուլյոզի և ՄԻԱՎ/ՁԻԱՀ-ի ախտորոշման և բուժման նպատակով ստացվող բեռների պահեստավորում և բաշխում» դրամաշնորհային ծրագիր
A54: Նկարագրությունը` | B54: ՄԻԱՎ/ՁԻԱՀ-ի կանխարգելման միջոցառումների իրականացում, ախտորոշիչ լաբորատոր հետազոտությունների իրականացում, սեռավարակների բուժում առավել ռիսկային բնակչության խմբերում (ԿՍԿ, ՏՍՏ, ԹՆՕ), խնամք և աջակցություն ՄԱԻՎ-ով ապրող մարդկանց_x000D_ _x000D_ _x000D_
A55: Միջոցառման տեսակը` | B55: Ծառայությունների մատուցում
A56: Միջոցառումն իրականացնողի անվանումը | B56: «Մարդասիրական օգնության հանրապետական կենտրոն» ՊՈԱԿ
A57: Արդյունքի չափորոշիչներ
A58: Ուղղակի գնման եղանակով ներմուծվող բեռների պահպանում, բաշխում | C58: -12
A59: Միջոցառման վրա կատարվող ծախսը (հազար դրամ)
A61: Ծրագրի դասիչը` | B61: 1053 | C61: Ցուցանիշների փոփոխությունը (ավելացումները նշված են դրական նշանով, իսկ նվազեցումները՝ փակագծերում)
A62: Միջոցառման դասիչը` | B62: 11011 | C62: Տարի
A63: Միջոցառման անվանումը` | B63: Գլոբալ հիմնադրամի աջակցությամբ իրականացվող «Հայաստանի Հանրապետությունում տուբերկուլյոզի և ՄԻԱՎ/ՁԻԱՀ-ի կանխարգելում, ախտորոշում և բուժում քրեակատարողական համակարգում» դրամաշնորհային ծրագիր
A64: Նկարագրությունը` | B64: ՄԻԱՎ/ՁԻԱՀ-ի կանխարգելման միջոցառումների իրականացում, ախտորոշիչ լաբորատոր հետազոտությունների իրականացում դատապարտյալների ու կալանավորների շրջանում_x000D_ _x000D_
A65: Միջոցառման տեսակը` | B65: Ծառայությունների մատուցում
A66: Միջոցառումն իրականացնողի անվանումը | B66: «Քրեակատարողական բժշկության կենտրոն» ՊՈԱԿ
A67: Արդյունքի չափորոշիչներ
A68: Հաշվետու ժամանակաշրջանում ՄԻԱՎ հետազոտություն անցած և արդյունքներին տեղյակ դատապարտյալների ու կալանավորների թիվ, մարդ
A69: Միջոցառման վրա կատարվող ծախսը (հազար դրամ)
A71: Ծրագրի դասիչը` | B71: 1053 | C71: Ցուցանիշների փոփոխությունը (ավելացումները նշված են դրական նշանով, իսկ նվազեցումները՝ փակագծերում)
A72: Միջոցառման դասիչը` | B72: 11012 | C72: Տարի
A73: Միջոցառման անվանումը` | B73: Գլոբալ հիմնադրամի աջակցությամբ իրականացվող «Հայաստանի Հանրապետությունում ՄԻԱՎ/ՁԻԱՀ-ի դեմ պայքարի ազգային ծրագրին աջակցություն» դրամաշնորհային շարունակության ծրագիր
A74: Նկարագրությունը` | B74: ՄԻԱՎ/ՁԻԱՀ-ի կանխարգելման և բուժման միջոցառումների իրականացում, լաբորատոր հետազոտությունների իրականացում, սեռավարակների բուժում առավել ռիսկային բակչության խմբերում (ԿՍԿ, ՏՍՏ, ԹՆՈ), խնամք և աջակցություն ՄԻԱՎ-ով ապրող մարդկանց
A75: Միջոցառման տեսակը` | B75: Ծառայությունների մատուցում
A76: Միջոցառումն իրականացնողի անվանումը | B76: «Ինֆեկցիոն հիվանդությունների ազգային կենտրոն» փակ բաժնետիրական ընկերություն (ՓԲԸ)
A77: Արդյունքի չափորոշիչներ
A78: Միգրանտների շրջանում ՄԻԱՎ հետազոտություն | C78: 8000
A79: Միջոցառման վրա կատարվող ծախսը (հազար դրամ)
A81: Ծրագրի դասիչը` | B81: 1053 | C81: Ցուցանիշների փոփոխությունը (ավելացումները նշված են դրական նշանով, իսկ նվազեցումները՝ փակագծերում)
A82: Միջոցառման դասիչը` | B82: 32004 | C82: Տարի
A83: Միջոցառման անվանումը` | B83: Գլոբալ հիմնադրամի աջակցությամբ իրականացվող «Հայաստանի Հանրապետությունում տուբերկուլյոզի և ՄԻԱՎ/ՁԻԱՀ-ի ծրագրերի հզորացում» դրամաշնորհային ծրագրի շրջանակներում ՀՀ պետական առողջապահական համակարգի կարողությունների զարգացում և տեխնիկական հագեցվածության ապահովում
A84: Նկարագրությունը` | B84: ՀՀ առողջապահության նախարարության հիվանդանոցային ծառայությունների բարելավման համար բժշկական սարքավորումների ձեռք բերում
A85: Միջոցառման տեսակը` | B85: Այլ պետական կազմակերպությունների կողմից օգտագործվող ոչ ֆինանսական ակտիվների հետ գործառնություններ
A86: Ակտիվն օգտագործող կազմակերպությունների անվանումները | B86: «Ինֆեկցիոն հիվանդությունների ազգային կենտրոն» փակ բաժնետիրական ընկերություն (ՓԲԸ)
A87: Արդյունքի չափորոշիչներ
B88: Պացիենտի մոնիտոր | C88: 10
B89: Թթվածնի մատակարարման (CPAP) սարքեր | C89: 10
B90: Ուլտրամանուշակագույն ճառագայթման լամպ (օդի ռեցիրկուլյատորներ) | C90: 150
B91: Թթվածնային կայան | C91: 1
B92: Ռենտգեն սարք | C92: 1
B93: Թորակոսկոպիկ վիրաբուժական հավաքածու | C93: 1
B94: Սառնարաններ | C94: 5
B95: ՊՇՌ պահարան | C95: 1
B96: Անզգայացման սարք | C96: 1
B97: Թոքերի արհեստական օդափոխության սարքեր | C97: 2
A98: Միջոցառման վրա կատարվող ծախսը (հազար դրամ)
