Workbook

Sheet 1
D1: Հավելված 1
C2: ՀՀ կառավարության 2021 թվականի
C3: ------------ N ---------- որոշման
A5: «ՀԱՅԱՍՏԱՆԻ ՀԱՆՐԱՊԵՏՈՒԹՅԱՆ 2021 ԹՎԱԿԱՆԻ ՊԵՏԱԿԱՆ ԲՅՈՒՋԵԻ ՄԱՍԻՆ» ՀԱՅԱՍՏԱՆԻ ՀԱՆՐԱՊԵՏՈՒԹՅԱՆ OՐԵՆՔԻ N 1 ՀԱՎԵԼՎԱԾԻ N 2 ԱՂՅՈՒՍԱԿՈՒՄ ԿԱՏԱՐՎՈՂ ՎԵՐԱԲԱՇԽՈՒՄԸ ԵՎ ՀԱՅԱՍՏԱՆԻ ՀԱՆՐԱՊԵՏՈՒԹՅԱՆ ԿԱՌԱՎԱՐՈՒԹՅԱՆ 2020 ԹՎԱԿԱՆԻ ԴԵԿՏԵՄԲԵՐԻ 30-Ի ԹԻՎ 2215-Ն ՈՐՈՇՄԱՆ N 5 ՀԱՎԵԼՎԱԾԻ N 1 ԱՂՅՈՒՍԱԿՈՒՄ ԿԱՏԱՐՎՈՂ ՓՈՓՈԽՈՒԹՅՈՒՆՆԵՐԸ
D7: (հազ. դրամ)
A8: Ծրագրային դասիչը | C8: Բյուջետային գլխավոր կարգադրիչների, ծրագրերի և միջոցառումների անվանումները | D8: Ցուցանիշների փոփոխություն (ավելացումները նշված են դրական նշանով, իսկ նվազեցումները՝ փակագծերում)
A9: Ծրագիր | B9: Միջոցառում | D9: Տարի
C10: ԸՆԴԱՄԵՆԸ ԾԱԽՍԵՐ | D10: =+D12+D49+D62 -> 0
C11: ՀՀ աշխատանքի և սոցիալական հարցերի նախարարություն
A12: 1205 | C12: Ծրագրի անվանումը` | D12: =D19+D25+D31+D37+D43 -> 367430
C13: Սոցիալական ապահովություն
C14: Ծրագրի նպատակը`
C15: Սոցիալական ապահովության իրավունքի իրականացման ապահովում
C16: Վերջնական արդյունքի նկարագրությունը`
C17: Սոցիալական ապահովության իրավունքի իրականացում
A18: Ծրագրի միջոցառումներ
B19: 12005 | C19: Միջոցառման անվանումը` | D19: 50000
C20: Աջակցություն զոհվածների ընտանիքներին
C21: Միջոցառման նկարագրությունը`
C22: Վարժական հավաքների և զինծառայության և փրկարարական ծառայության ընթացքում մահացած (զոհված) զինծառայողների ու փրկարար ծառայողների հուղարկավորության, գերեզմանների բարեկարգման, տապանաքարերի պատրաստմանև տեղադրման հետ կապված ծախսերի փոխհատուցում
C23: Միջոցառման տեսակը
C24: Տրանսֆերտների տրամադրում
B25: 12011 | C25: Միջոցառման անվանումը` | D25: 78600
C26: Ռազմական դրությամբ պայմանավորված՝ միանվագ դրամական աջակցություն Ադրբեջանի Հանրապետության վերահսկողության տակ անցած տարածքներում հաշվառված քաղաքացիներին
C27: Միջոցառման նկարագրությունը`
C28: Ադրբեջանի կողմից 2020 թվականի սեպտեմբերի 27-ին Արցախի Հանրապետության դեմ սկսված պատերազմական գործողությունների հետևանքով Ադրբեջանի Հանրապետության վերահսկողության տակ անցած համայնքներում հաշվառված քաղաքացիներին աջակցության տրամադրում
C29: Միջոցառման տեսակը
C30: Տրանսֆերտների տրամադրում
B31: 12016 | C31: Միջոցառման անվանումը` | D31: 177000
C32: Ռազմական դրությամբ պայմանավորված՝ Արցախի Հանրապետությունում հաշվառված և հաշվառման հասցեում գտնվող բնակելի անշարժ գույքը կորցրած քաղաքացիներին միանվագ դրամական աջակցություն
C33: Միջոցառման նկարագրությունը`
C34: Արցախի Հանրապետությունում հաշվառված և հաշվառման հասցեում գտնվող բնակելի անշարժ գույքը կորցրած քաղաքացիներին աջակցության տրամադրում
C35: Միջոցառման տեսակը
C36: Տրանսֆերտների տրամադրում
B37: 12022 | C37: Միջոցառման անվանումը` | D37: 39720
C38: Ռազմական դրությամբ պայմանավորված՝ Արցախի Հանրապետության վերահսկողությունից դուրս մնացած համայնքներում հաշվառված չափահաս քաղաքացիներին ժամանակավոր հյուրընկալողների ծախսերի փոխհատուցման վեցամսյա սոցիալական աջակցության տրամադում
C39: Միջոցառման նկարագրությունը`
C40: Արցախի Հանրապետության վերահսկողությունից դուրս մնացած համայնքներում հաշվառված չափահաս քաղաքացիներին ժամանակավոր հյուրընկալողների ծախսերի փոխհատուցման վեցամսյա սոցիալական աջակցության տրամադում՝ հյուրընկալի կողմից էլեկտրոնային եղանակով ներկայացվող դիմումի հիման վրա
C41: Միջոցառման տեսակը
C42: Տրանսֆերտների տրամադրում
B43: 12021 | C43: Միջոցառման անվանումը` | D43: 22110
C44: Ռազմական դրությամբ պայմանավորված՝ Արցախի վերահսկողության ներքո գտնվող համայնքների հաշվառման հասցեում գտնվող բնակելի անշարժ գույքը կորցրած չափահաս քաղաքացիներին ժամանակավոր հյուրընկալողների ծախսերի փոխհատուցման եռամսյա սոցիալական աջակցության տրամադրում
C45: Միջոցառման նկարագրությունը`
C46: Ադրբեջանի կողմից 2020 թվականի սեպտեմբերի 27-ին սանձազերծված պատերազմական գործողությունների հետևանքով տեղահանված և փաստացի Հայաստանի Հանրապետությունում գտնվող՝ Արցախում հաշվառված քաղաքացիներին սոցիալական աջակցության տրամադրում
C47: Միջոցառման տեսակը
C48: Տրանսֆերտների տրամադրում
A49: 1068 | C49: Ծրագրի անվանումը` | D49: =D56 -> 250000
C50: Ժողովրդագրական վիճակի բարելավում
C51: Ծրագրի նպատակը`
C52: Խթանել ժողովրդագրական վիճակի բարելավումը
C53: Վերջնական արդյունքի նկարագրությունը`
C54: Ժողովրդագրական վիճակի բարելավում և բազմազավակության աճ
A55: Ծրագրի միջոցառումներ
B56: 12001 | C56: Միջոցառման անվանումը` | D56: 250000
C57: Մինչև 2 տարեկան երեխայի խնամքի նպաստի տրամադրում
C58: Միջոցառման նկարագրությունը`
C59: Մինչև 2 տարեկան երեխայի խնամքի նպաստի տրամադրում
C60: Միջոցառման տեսակը
C61: Տրանսֆերտների տրամադրում
C62: ՀՀ կառավարություն | D62: =D63 -> -617430
A63: 1139 | C63: Ծրագրի անվանումը` | D63: =D70 -> -617430
C64: ՀՀ կառավարության պահուստային ֆոնդ
C65: Ծրագրի նպատակը`
C66: Պետական բյուջեում չկանխատեսված, ինչպես նաեւ բյուջետային երաշխիքների ապահովման ծախսերի ֆինանսավորման ապահովում
C67: Վերջնական արդյունքի նկարագրությունը`
C68: Պահուստային ֆոնդի կառավարման արդյունավետության և թափանցիկության ապահովում
A69: Ծրագրի միջոցառումներ
B70: 11001 | C70: Միջոցառման անվանումը` | D70: -617430
C71: ՀՀ կառավարության պահուստային ֆոնդ
C72: Միջոցառման նկարագրությունը`
C73: ՀՀ պետական բյուջեում նախատեսված ելքերի լրացուցիչ ֆինանսավորման, պետական բյուջեում չկանխատեսված ելքերի, ինչպես նաև բյուջետային երաշխիքների ապահովման ելքերի ֆինանսավորման ապահովում
C74: Միջոցառման տեսակը
C75: Ծառայությունների մատուցում

Sheet 2
G1: Հավելված N 2
F2: ՀՀ կառավարության 2021 թվականի
F3: ------------ N ---------- որոշման
A5: ՀԱՅԱՍՏԱՆԻ ՀԱՆՐԱՊԵՏՈՒԹՅԱՆ ԿԱՌԱՎԱՐՈՒԹՅԱՆ 2020 ԹՎԱԿԱՆԻ ԴԵԿՏԵՄԲԵՐԻ 30-Ի ԹԻՎ 2215-Ն ՈՐՈՇՄԱՆ NN 3 ԵՎ 4 ՀԱՎԵԼՎԱԾՆԵՐՈՒՄ ԿԱՏԱՐՎՈՂ ՓՈՓՈԽՈՒԹՅՈՒՆՆԵՐԸ
G7: (հազ. դրամ)
A8: Գործառական դասիչը | D8: Ծրագրային դասիչը | F8: Բյուջետային ծախսերի գործառական դասակարգման բաժինների, խմբերի և դասերի, Բյուջետային հատկացումների գլխավոր կարգադրիչների, ծրագրերի, միջոցառումների և միջոցառումները կատարող պետական մարմինների անվանումները | G8: Ցուցանիշների փոփոխություն (ավելացումները նշված են դրական նշանով, իսկ նվազեցումները՝ փակագծերում)
A9: Բաժին | B9: Խումբ | C9: Դաս | D9: Ծրագիր | E9: Միջոցառում | G9: Տարի
F10: ԸՆԴԱՄԵՆԸ ԾԱԽՍԵՐ | G10: =G13+G77 -> 0
F11: ՀՀ աշխատանքի և սոցիալական հարցերի նախարարություն
F12: այդ թվում`
A13: 10 | F13: ՍՈՑԻԱԼԱԿԱՆ ՊԱՇՏՊԱՆՈՒԹՅՈՒՆ | G13: =G30+G15 -> 617430
F14: այդ թվում`
B15: 04 | F15: Ընտանիքի անդամներ և զավակներ | G15: =+G17 -> 250000
F16: այդ թվում՝
C17: 01 | F17: Ընտանիքի անդամներ և զավակներ | G17: =+G19 -> 250000
F18: այդ թվում՝
D19: 1068 | F19: Ժողովրդագրական վիճակի բարելավում | G19: =G21 -> 250000
F20: այդ թվում՝
E21: 12001 | F21: Մինչև 2 տարեկան երեխայի խնամքի նպաստի տրամադրում | G21: =G23 -> 250000
F22: այդ թվում` ըստ կատարողների
F23: ՀՀ աշխատանքի և սոցիալական հարցերի նախարարության միասնական սոցիալական ծառայություն | G23: =G25 -> 250000
F24: այդ թվում` բյուջետային ծախսերի տնտեսագիտական դասակարգման հոդվածներ
F25: ԸՆԴԱՄԵՆԸ ԾԱԽՍԵՐ | G25: =G27 -> 250000
F26: ԸՆԹԱՑԻԿ ԾԱԽՍԵՐ
F27: ՍՈՑԻԱԼԱԿԱՆ ՆՊԱՍՏՆԵՐ ԵՎ ԿԵՆՍԱԹՈՇԱԿՆԵՐ | G27: =G28 -> 250000
F28: Սոցիալական օգնության դրամական արտահայտությամբ նպաստներ (բյուջեից) | G28: ='1'!D56 -> 250000
F29: - Մայրության նպաստներ բյուջեից | G29: ='1'!D56 -> 250000
B30: 09 | F30: Սոցիալական պաշտպանություն (այլ դասերին չպատկանող) | G30: =G32 -> 367430
F31: այդ թվում՝
C32: 02 | F32: Սոցիալական պաշտպանությանը տրամադրվող օժանդակ ծառայություններ (այլ դասերին չպատկանող) | G32: =G34 -> 367430
F33: այդ թվում`
D34: 1205 | F34: Սոցիալական ապահովություն | G34: =G36+G69+G45+G53+G61 -> 367430
F35: այդ թվում`
E36: 12005 | F36: Աջակցություն զոհվածների ընտանիքներին | G36: =G38 -> 50000
F37: այդ թվում` ըստ կատարողների
F38: ՀՀ աշխատանքի և սոցիալական հարցերի նախարարության միասնական սոցիալական ծառայություն | G38: =G40 -> 50000
F39: այդ թվում` բյուջետային ծախսերի տնտեսագիտական դասակարգման հոդվածներ
F40: ԸՆԴԱՄԵՆԸ ԾԱԽՍԵՐ | G40: =G41 -> 50000
F41: ԸՆԹԱՑԻԿ ԾԱԽՍԵՐ | G41: =G42 -> 50000
F42: ՍՈՑԻԱԼԱԿԱՆ ՆՊԱՍՏՆԵՐ ԵՎ ԿԵՆՍԱԹՈՇԱԿՆԵՐ | G42: =G43 -> 50000
F43: Սոցիալական օգնության դրամական արտահայտությամբ նպաստներ (բյուջեից) | G43: =G44 -> 50000
F44: - Հուղարկավորության նպաստներ բյուջեից | G44: ='1'!D19 -> 50000
E45: =+'1'!B25 -> 12011 | F45: Ռազմական դրությամբ պայմանավորված՝ միանվագ դրամական աջակցություն Ադրբեջանի Հանրապետության վերահսկողության տակ անցած տարածքներում հաշվառված քաղաքացիներին | G45: =G47 -> 78600
F46: այդ թվում` ըստ կատարողների
F47: ՀՀ աշխատանքի և սոցիալական հարցերի նախարարության միասնական սոցիալական ծառայություն | G47: =G49 -> 78600
F48: այդ թվում` բյուջետային ծախսերի տնտեսագիտական դասակարգման հոդվածներ
F49: ԸՆԴԱՄԵՆԸ ԾԱԽՍԵՐ | G49: =G50 -> 78600
F50: ԸՆԹԱՑԻԿ ԾԱԽՍԵՐ | G50: =G51 -> 78600
F51: ՍՈՑԻԱԼԱԿԱՆ ՆՊԱՍՏՆԵՐ ԵՎ ԿԵՆՍԱԹՈՇԱԿՆԵՐ | G51: =G52 -> 78600
F52: - Այլ նպաստներ բյուջեից | G52: ='1'!D25 -> 78600
E53: =+'1'!B31 -> 12016 | F53: =+'1'!C32 -> Ռազմական դրությամբ պայմանավորված՝ Արցախի Հանրապետությունում հաշվառված և հաշվառման հասցեում գտնվող բնակելի անշարժ գույքը կորցրած քաղաքացիներին միանվագ դրամական աջակցություն | G53: =G55 -> 177000
F54: այդ թվում` ըստ կատարողների
F55: ՀՀ աշխատանքի և սոցիալական հարցերի նախարարության միասնական սոցիալական ծառայություն | G55: =G57 -> 177000
F56: այդ թվում` բյուջետային ծախսերի տնտեսագիտական դասակարգման հոդվածներ
F57: ԸՆԴԱՄԵՆԸ ԾԱԽՍԵՐ | G57: =G58 -> 177000
F58: ԸՆԹԱՑԻԿ ԾԱԽՍԵՐ | G58: =G59 -> 177000
F59: ՍՈՑԻԱԼԱԿԱՆ ՆՊԱՍՏՆԵՐ ԵՎ ԿԵՆՍԱԹՈՇԱԿՆԵՐ | G59: =G60 -> 177000
F60: - Այլ նպաստներ բյուջեից | G60: ='1'!D31 -> 177000
E61: ='1'!B37 -> 12022 | F61: ='1'!C38 -> Ռազմական դրությամբ պայմանավորված՝ Արցախի Հանրապետության վերահսկողությունից դուրս մնացած համայնքներում հաշվառված չափահաս քաղաքացիներին ժամանակավոր հյուրընկալողների ծախսերի փոխհատուցման վեցամսյա սոցիալական աջակցության տրամադում | G61: =G64 -> 39720
F62: այդ թվում` ըստ կատարողների
F63: ՀՀ աշխատանքի և սոցիալական հարցերի նախարարության միասնական սոցիալական ծառայություն
F64: այդ թվում` բյուջետային ծախսերի տնտեսագիտական դասակարգման հոդվածներ | G64: =G65 -> 39720
F65: ԸՆԴԱՄԵՆԸ ԾԱԽՍԵՐ | G65: =G66 -> 39720
F66: ԸՆԹԱՑԻԿ ԾԱԽՍԵՐ | G66: =G67 -> 39720
F67: ՍՈՑԻԱԼԱԿԱՆ ՆՊԱՍՏՆԵՐ ԵՎ ԿԵՆՍԱԹՈՇԱԿՆԵՐ | G67: =G68 -> 39720
F68: - Այլ նպաստներ բյուջեից | G68: ='1'!D37 -> 39720
E69: =+'1'!B43 -> 12021 | F69: =+'1'!C44 -> Ռազմական դրությամբ պայմանավորված՝ Արցախի վերահսկողության ներքո գտնվող համայնքների հաշվառման հասցեում գտնվող բնակելի անշարժ գույքը կորցրած չափահաս քաղաքացիներին ժամանակավոր հյուրընկալողների ծախսերի փոխհատուցման եռամսյա սոցիալական աջակցության տրամադրում | G69: =G71 -> 22110
F70: այդ թվում` ըստ կատարողների
F71: ՀՀ աշխատանքի և սոցիալական հարցերի նախարարության միասնական սոցիալական ծառայություն | G71: =G73 -> 22110
F72: այդ թվում` բյուջետային ծախսերի տնտեսագիտական դասակարգման հոդվածներ
F73: ԸՆԴԱՄԵՆԸ ԾԱԽՍԵՐ | G73: =G74 -> 22110
F74: ԸՆԹԱՑԻԿ ԾԱԽՍԵՐ | G74: =G75 -> 22110
F75: ՍՈՑԻԱԼԱԿԱՆ ՆՊԱՍՏՆԵՐ ԵՎ ԿԵՆՍԱԹՈՇԱԿՆԵՐ | G75: =G76 -> 22110
F76: - Այլ նպաստներ բյուջեից | G76: ='1'!D43 -> 22110
A77: 11 | F77: ՀԻՄՆԱԿԱՆ ԲԱԺԻՆՆԵՐԻՆ ՉԴԱՍՎՈՂ ՊԱՀՈՒՍՏԱՅԻՆ ՖՈՆԴԵՐ | G77: =G79 -> -617430
F78: այդ թվում՝
B79: 01 | F79: ՀՀ կառավարության և համայնքների պահուստային ֆոնդ | G79: =+G81 -> -617430
F80: այդ թվում՝
C81: 01 | F81: ՀՀ կառավարության պահուստային ֆոնդ | G81: =+G83 -> -617430
F82: այդ թվում՝
F83: ՀՀ կառավարություն | G83: =+G85 -> -617430
F84: այդ թվում՝
D85: 1139 | F85: ՀՀ կառավարության պահուստային ֆոնդ | G85: =G87 -> -617430
F86: այդ թվում՝
E87: 11001 | F87: ՀՀ կառավարության պահուստային ֆոնդ | G87: =G89 -> -617430
F88: այդ թվում՝ ըստ կատարողների
F89: ՀՀ կառավարություն | G89: =G91 -> -617430
F90: այդ թվում՝ բյուջետային ծախսերի տնտեսագիտական դասակարգման հոդվածներ
F91: ԸՆԴԱՄԵՆԸ ԾԱԽՍԵՐ | G91: =G93 -> -617430
F92: ԸՆԹԱՑԻԿ ԾԱԽՍԵՐ
F93: Այլ ծախսեր | G93: =G94 -> -617430
F94: Պահուստային միջոցներ | G94: -617430

Sheet 3
C1: Հավելված N 3
B2: ՀՀ կառավարության 2021 թվականի
B3: ------------ N ---------- որոշման
A5: ՀԱՅԱՍՏԱՆԻ ՀԱՆՐԱՊԵՏՈՒԹՅԱՆ ԿԱՌԱՎԱՐՈՒԹՅԱՆ 2020 ԹՎԱԿԱՆԻ ԴԵԿՏԵՄԲԵՐԻ 30-Ի N 2215-Ն N 9 ՀԱՎԵԼՎԱԾԻ N 9.16 ԱՂՅՈՒՍԱԿԻ ԵՎ 9.47 ԱՂՅՈՒՍԱԿՆԵՐՈՒՄ ԿԱՏԱՐՎՈՂ ՓՈՓՈԽՈՒԹՅՈՒՆՆԵՐԸ
A6: ՀՀ աշխատանքի և սոցիալական հարցերի նախարարություն
A7: ՄԱՍ 2. ՊԵՏԱԿԱՆ ՄԱՐՄՆԻ ԳԾՈՎ ԱՐԴՅՈՒՆՔԱՅԻՆ (ԿԱՏԱՐՈՂԱԿԱՆ) ՑՈՒՑԱՆԻՇՆԵՐԸ
A9: Ծրագրի դասիչը | B9: Ծրագրի անվանումը
A10: 1205 | B10: Սոցիալական ապահովություն
A12: Ծրագրի միջոցառումները
A14: Ծրագրի դասիչը` | B14: 1205 | C14: Ցուցանիշների փոփոխություն (ավելացումները նշված են դրական նշանով)
A15: Միջոցառման դասիչը` | B15: 12005 | C15: Տարի
A16: Միջոցառման անվանումը` | B16: Աջակցություն զոհվածների ընտանիքներին
A17: Նկարագրությունը` | B17: Վարժական հավաքների և զինծառայության և փրկարարական ծառայության ընթացքում մահացած (զոհված) զինծառայողների ու փրկարար ծառայողների հուղարկավորության, գերեզմանների բարեկարգման, տապանաքարերի պատրաստմանև տեղադրման հետ կապված ծախսերի փոխհատուցում
A18: Միջոցառման տեսակը` | B18: Տրանսֆերտների տրամադրում
A19: Շահառուների ընտրության չափորոշիչները | B19: ՀՀ կառավարության 2018թ. օգոստոսի 9-ի N 916-Ն որոշման պահանջներին համապատասխան
A20: Արդյունքի չափորոշիչներ
A21: Միջոցառման վրա կատարվող ծախսը (հազար դրամ) | C21: ='1'!D19 -> 50000
A23: Ծրագրի դասիչը` | B23: 1205 | C23: Ցուցանիշների փոփոխություն (ավելացումները նշված են դրական նշանով)
A24: Միջոցառման դասիչը` | B24: =+'1'!B25 -> 12011 | C24: Տարի
A25: Միջոցառման անվանումը` | B25: =+'1'!C26 -> Ռազմական դրությամբ պայմանավորված՝ միանվագ դրամական աջակցություն Ադրբեջանի Հանրապետության վերահսկողության տակ անցած տարածքներում հաշվառված քաղաքացիներին
A26: Նկարագրությունը` | B26: =+'1'!C28 -> Ադրբեջանի կողմից 2020 թվականի սեպտեմբերի 27-ին Արցախի Հանրապետության դեմ սկսված պատերազմական գործողությունների հետևանքով Ադրբեջանի Հանրապետության վերահսկողության տակ անցած համայնքներում հաշվառված քաղաքացիներին աջակցության տրամադրում
A27: Միջոցառման տեսակը` | B27: Տրանսֆերտների տրամադրում
A28: Շահառուների ընտրության չափանիշները | B28: ՀՀ կառավարության 2020 թվականի նոյեմբերի 21-ի N 1820-Լ որոշմամբ
A29: Արդյունքի չափորոշիչներ
A30: Փոխհատուցում ստացող շահառուների թվաքանակ | C30: =SUM(C31/D30)*1000 -> 262 | D30: 300000
A31: Միջոցառման վրա կատարվող ծախսը (հազար դրամ) | C31: ='1'!D25 -> 78600
A33: Ծրագրի դասիչը` | B33: 1205 | C33: Ցուցանիշների փոփոխություն (ավելացումները նշված են դրական նշանով)
A34: Միջոցառման դասիչը` | B34: =+'1'!B31 -> 12016 | C34: Տարի
A35: Միջոցառման անվանումը` | B35: =+'1'!C32 -> Ռազմական դրությամբ պայմանավորված՝ Արցախի Հանրապետությունում հաշվառված և հաշվառման հասցեում գտնվող բնակելի անշարժ գույքը կորցրած քաղաքացիներին միանվագ դրամական աջակցություն
A36: Նկարագրությունը` | B36: =+'1'!C34 -> Արցախի Հանրապետությունում հաշվառված և հաշվառման հասցեում գտնվող բնակելի անշարժ գույքը կորցրած քաղաքացիներին աջակցության տրամադրում
A37: Միջոցառման տեսակը` | B37: Տրանսֆերտների տրամադրում
A38: Շահառուների ընտրության չափանիշները | B38: ՀՀ կառավարության 2020 թվականի դեկտեմբերի 10-ի N 2021-Լ որոշմամբ
A39: Արդյունքի չափորոշիչներ
A40: Փոխհատուցում ստացող շահառուների թվաքանակ | C40: =SUM(C41/D40)*1000 -> 708 | D40: 250000
A41: Միջոցառման վրա կատարվող ծախսը (հազար դրամ) | C41: ='1'!D31 -> 177000
A43: Ծրագրի դասիչը` | B43: 1205 | C43: Ցուցանիշների փոփոխություն (ավելացումները նշված են դրական նշանով)
A44: Միջոցառման դասիչը` | B44: ='1'!B37 -> 12022
A45: Միջոցառման անվանումը` | B45: ='1'!C38 -> Ռազմական դրությամբ պայմանավորված՝ Արցախի Հանրապետության վերահսկողությունից դուրս մնացած համայնքներում հաշվառված չափահաս քաղաքացիներին ժամանակավոր հյուրընկալողների ծախսերի փոխհատուցման վեցամսյա սոցիալական աջակցության տրամադում
A46: Նկարագրությունը` | B46: ='1'!C40 -> Արցախի Հանրապետության վերահսկողությունից դուրս մնացած համայնքներում հաշվառված չափահաս քաղաքացիներին ժամանակավոր հյուրընկալողների ծախսերի փոխհատուցման վեցամսյա սոցիալական աջակցության տրամադում՝ հյուրընկալի կողմից էլեկտրոնային եղանակով ներկայացվող դիմումի հիման վրա
A47: Միջոցառման տեսակը` | B47: Տրանսֆերտների տրամադրում
A48: Շահառուների ընտրության չափանիշները | B48: ՀՀ կառավարության 2020 թվականի դեկտեմբերի 3-ի N 1977-Լ որոշմամբ
A49: Արդյունքի չափորոշիչներ | D49: 30000
A50: Փոխհատուցում ստացող շահառուների թվաքանակ | C50: 1324
A51: Միջոցառման վրա կատարվող ծախսը (հազար դրամ) | C51: ='1'!D37 -> 39720
A53: Ծրագրի դասիչը` | B53: 1205 | C53: Ցուցանիշների փոփոխություն (ավելացումները նշված են դրական նշանով)
A54: Միջոցառման դասիչը` | B54: =+'1'!B43 -> 12021 | C54: Տարի
A55: Միջոցառման անվանումը` | B55: =+'1'!C44 -> Ռազմական դրությամբ պայմանավորված՝ Արցախի վերահսկողության ներքո գտնվող համայնքների հաշվառման հասցեում գտնվող բնակելի անշարժ գույքը կորցրած չափահաս քաղաքացիներին ժամանակավոր հյուրընկալողների ծախսերի փոխհատուցման եռամսյա սոցիալական աջակցության տրամադրում
A56: Նկարագրությունը` | B56: =+'1'!C46 -> Ադրբեջանի կողմից 2020 թվականի սեպտեմբերի 27-ին սանձազերծված պատերազմական գործողությունների հետևանքով տեղահանված և փաստացի Հայաստանի Հանրապետությունում գտնվող՝ Արցախում հաշվառված քաղաքացիներին սոցիալական աջակցության տրամադրում
A57: Միջոցառման տեսակը` | B57: Տրանսֆերտների տրամադրում
A58: Շահառուների ընտրության չափանիշները | B58: ՀՀ կառավարության 2020 թվականի դեկտեմբերի 17-ի N N 2069–Լ որոշմամբ
A59: Արդյունքի չափորոշիչներ
A60: Փոխհատուցում ստացող շահառուների թվաքանակ | C60: =SUM(C61/D60)*1000 -> 737 | D60: 30000
A61: Միջոցառման վրա կատարվող ծախսը (հազար դրամ) | C61: ='1'!D43 -> 22110
A64: Ծրագրի դասիչը | B64: Ծրագրի անվանումը
A65: 1068 | B65: Ժողովրդագրական վիճակի բարելավում
A67: Ծրագրի միջոցառումները
A69: Ծրագրի դասիչը` | B69: 1068 | C69: Ցուցանիշների փոփոխություն (ավելացումները նշված են դրական նշանով)
A70: Միջոցառման դասիչը` | B70: 12001 | C70: Տարի
A71: Միջոցառման անվանումը` | B71: Մինչև 2 տարեկան երեխայի խնամքի նպաստի տրամադրում
A72: Նկարագրությունը` | B72: Մինչև 2 տարեկան երեխայի խնամքի նպաստի տրամադրում
A73: Միջոցառման տեսակը` | B73: Տրանսֆերտների տրամադրում
A74: Շահառուների ընտրության չափանիշները | B74: Մինչև երեք տարեկան երեխայի խնամքի արձակուրդում գտնվող անձը` մինչև երեխայի 2 տարեկանը լրանալը,գյուղական բնակավայրում բնակվող ծնող? անկախ խնամքի արձակուրդում գտնվելու հանգամանքից? մինչև երեխայի 2 տարեկանը լրանալը
A75: Արդյունքի չափորոշիչներ
A76: Միջոցառման վրա կատարվող ծախսը (հազար դրամ) | C76: ='1'!D56 -> 250000
A78: ՀՀ կառավարություն
A79: ՄԱՍ 2. ՊԵՏԱԿԱՆ ՄԱՐՄՆԻ ԳԾՈՎ ԱՐԴՅՈՒՆՔԱՅԻՆ (ԿԱՏԱՐՈՂԱԿԱՆ) ՑՈՒՑԱՆԻՇՆԵՐԸ
A81: Ծրագրի դասիչը | B81: Ծրագրի անվանումը
A82: 1139 | B82: ՀՀ կառավարության պահուստային ֆոնդ
A84: Ծրագրի միջոցառումները
A86: Ծրագրի դասիչը` | B86: 1139 | C86: Ցուցանիշների փոփոխություն (նվազեցումները նշված են փակագծերում)
A87: Միջոցառման դասիչը` | B87: 11001 | C87: Տարի
A88: Միջոցառման անվանումը` | B88: ՀՀ կառավարության պահուստային ֆոնդ
A89: Նկարագրությունը` | B89: ՀՀ պետական բյուջեում նախատեսված ելքերի լրացուցիչ ֆինանսավորման՝ պետական բյուջեում չկանխատեսված ելքերի, ինչպես նաև բյուջետային երաշխիքների ապահովման ելքերի ֆինանսավորման ապահովում
A90: Միջոցառման տեսակը` | B90: Ծառայությունների մատուցում
A91: Միջոցառումն իրականացնողի անվանումը | B91: ՀՀ կառավարություն
A92: Արդյունքի չափորոշիչներ
A93: Միջոցառման վրա կատարվող ծախսը (հազար դրամ) | C93: ='2'!G94 -> -617430

Sheet 4
C1: Հավելված N 4
B2: ՀՀ կառավարության 2021 թվականի
B3: ------------ N ---------- որոշման
A5: ՀԱՅԱՍՏԱՆԻ ՀԱՆՐԱՊԵՏՈՒԹՅԱՆ ԿԱՌԱՎԱՐՈՒԹՅԱՆ 2020 ԹՎԱԿԱՆԻ ԴԵԿՏԵՄԲԵՐԻ 30-Ի N 2215-Ն ՈՐՈՇՄԱՆ N 9.1 ՀԱՎԵԼՎԱԾԻ N 9.1.20 ԵՎ 9.1.58 ԱՂՅՈՒՍԱԿՆԵՐՈՒՄ ԿԱՏԱՐՎՈՂ ՓՈՓՈԽՈՒԹՅՈՒՆՆԵՐԸ
A6: ՀՀ աշխատանքի և սոցիալական հարցերի նախարարության միասնական սոցիալական ծառայություն
A7: ՄԱՍ 1. ՊԵՏԱԿԱՆ ՄԱՐՄՆԻ ԳԾՈՎ ԱՐԴՅՈՒՆՔԱՅԻՆ (ԿԱՏԱՐՈՂԱԿԱՆ) ՑՈՒՑԱՆԻՇՆԵՐԸ
A9: Ծրագրի դասիչը | B9: Ծրագրի անվանումը
A10: 1205 | B10: Սոցիալական ապահովություն
A12: Ծրագրի միջոցառումները
A14: Ծրագրի դասիչը` | B14: 1205 | C14: Ցուցանիշների փոփոխություն (ավելացումները նշված են դրական նշանով)
A15: Միջոցառման դասիչը` | B15: 12005 | C15: Տարի
A16: Միջոցառման անվանումը` | B16: Աջակցություն զոհվածների ընտանիքներին
A17: Նկարագրությունը` | B17: Վարժական հավաքների և զինծառայության և փրկարարական ծառայության ընթացքում մահացած (զոհված) զինծառայողների ու փրկարար ծառայողների հուղարկավորության, գերեզմանների բարեկարգման, տապանաքարերի պատրաստմանև տեղադրման հետ կապված ծախսերի փոխհատուցում
A18: Միջոցառման տեսակը` | B18: Տրանսֆերտների տրամադրում
A19: Շահառուների ընտրության չափորոշիչները | B19: ՀՀ կառավարության 2018թ. օգոստոսի 9-ի N 916-Ն որոշման պահանջներին համապատասխան
A20: Արդյունքի չափորոշիչներ
A21: Միջոցառման վրա կատարվող ծախսը (հազար դրամ) | C21: ='1'!D19 -> 50000
A23: Ծրագրի դասիչը` | B23: 1205 | C23: Ցուցանիշների փոփոխություն (ավելացումները նշված են դրական նշանով)
A24: Միջոցառման դասիչը` | B24: =+'1'!B25 -> 12011 | C24: Տարի
A25: Միջոցառման անվանումը` | B25: =+'1'!C26 -> Ռազմական դրությամբ պայմանավորված՝ միանվագ դրամական աջակցություն Ադրբեջանի Հանրապետության վերահսկողության տակ անցած տարածքներում հաշվառված քաղաքացիներին
A26: Նկարագրությունը` | B26: =+'1'!C28 -> Ադրբեջանի կողմից 2020 թվականի սեպտեմբերի 27-ին Արցախի Հանրապետության դեմ սկսված պատերազմական գործողությունների հետևանքով Ադրբեջանի Հանրապետության վերահսկողության տակ անցած համայնքներում հաշվառված քաղաքացիներին աջակցության տրամադրում
A27: Միջոցառման տեսակը` | B27: Տրանսֆերտների տրամադրում
A28: Շահառուների ընտրության չափանիշները | B28: ՀՀ կառավարության 2020 թվականի նոյեմբերի 21-ի N 1820-Լ որոշմամբ
A29: Արդյունքի չափորոշիչներ
A30: Փոխհատուցում ստացող շահառուների թվաքանակ | C30: =SUM(C31/D30)*1000 -> 262 | D30: 300000
A31: Միջոցառման վրա կատարվող ծախսը (հազար դրամ) | C31: ='1'!D25 -> 78600
A33: Ծրագրի դասիչը` | B33: 1205 | C33: Ցուցանիշների փոփոխություն (ավելացումները նշված են դրական նշանով)
A34: Միջոցառման դասիչը` | B34: =+'1'!B31 -> 12016 | C34: Տարի
A35: Միջոցառման անվանումը` | B35: =+'1'!C32 -> Ռազմական դրությամբ պայմանավորված՝ Արցախի Հանրապետությունում հաշվառված և հաշվառման հասցեում գտնվող բնակելի անշարժ գույքը կորցրած քաղաքացիներին միանվագ դրամական աջակցություն
A36: Նկարագրությունը` | B36: =+'1'!C34 -> Արցախի Հանրապետությունում հաշվառված և հաշվառման հասցեում գտնվող բնակելի անշարժ գույքը կորցրած քաղաքացիներին աջակցության տրամադրում
A37: Միջոցառման տեսակը` | B37: Տրանսֆերտների տրամադրում
A38: Շահառուների ընտրության չափանիշները | B38: ՀՀ կառավարության 2020 թվականի դեկտեմբերի 10-ի N 2021-Լ որոշմամբ
A39: Արդյունքի չափորոշիչներ
A40: Փոխհատուցում ստացող շահառուների թվաքանակ | C40: =SUM(C41/D40)*1000 -> 708 | D40: 250000
A41: Միջոցառման վրա կատարվող ծախսը (հազար դրամ) | C41: ='1'!D31 -> 177000
A43: Ծրագրի դասիչը` | B43: 1205 | C43: Ցուցանիշների փոփոխություն (ավելացումները նշված են դրական նշանով)
A44: Միջոցառման դասիչը` | B44: ='1'!B37 -> 12022
A45: Միջոցառման անվանումը` | B45: ='1'!C38 -> Ռազմական դրությամբ պայմանավորված՝ Արցախի Հանրապետության վերահսկողությունից դուրս մնացած համայնքներում հաշվառված չափահաս քաղաքացիներին ժամանակավոր հյուրընկալողների ծախսերի փոխհատուցման վեցամսյա սոցիալական աջակցության տրամադում
A46: Նկարագրությունը` | B46: ='1'!C40 -> Արցախի Հանրապետության վերահսկողությունից դուրս մնացած համայնքներում հաշվառված չափահաս քաղաքացիներին ժամանակավոր հյուրընկալողների ծախսերի փոխհատուցման վեցամսյա սոցիալական աջակցության տրամադում՝ հյուրընկալի կողմից էլեկտրոնային եղանակով ներկայացվող դիմումի հիման վրա
A47: Միջոցառման տեսակը` | B47: Տրանսֆերտների տրամադրում
A48: Շահառուների ընտրության չափանիշները | B48: ՀՀ կառավարության 2020 թվականի դեկտեմբերի 3-ի N 1977-Լ որոշմամբ
A49: Արդյունքի չափորոշիչներ | D49: 30000
A50: Փոխհատուցում ստացող շահառուների թվաքանակ | C50: 1324
A51: Միջոցառման վրա կատարվող ծախսը (հազար դրամ) | C51: ='1'!D37 -> 39720
A53: Ծրագրի դասիչը` | B53: 1205 | C53: Ցուցանիշների փոփոխություն (ավելացումները նշված են դրական նշանով)
A54: Միջոցառման դասիչը` | B54: =+'1'!B43 -> 12021 | C54: Տարի
A55: Միջոցառման անվանումը` | B55: =+'1'!C44 -> Ռազմական դրությամբ պայմանավորված՝ Արցախի վերահսկողության ներքո գտնվող համայնքների հաշվառման հասցեում գտնվող բնակելի անշարժ գույքը կորցրած չափահաս քաղաքացիներին ժամանակավոր հյուրընկալողների ծախսերի փոխհատուցման եռամսյա սոցիալական աջակցության տրամադրում
A56: Նկարագրությունը` | B56: =+'1'!C46 -> Ադրբեջանի կողմից 2020 թվականի սեպտեմբերի 27-ին սանձազերծված պատերազմական գործողությունների հետևանքով տեղահանված և փաստացի Հայաստանի Հանրապետությունում գտնվող՝ Արցախում հաշվառված քաղաքացիներին սոցիալական աջակցության տրամադրում
A57: Միջոցառման տեսակը` | B57: Տրանսֆերտների տրամադրում
A58: Շահառուների ընտրության չափանիշները | B58: ՀՀ կառավարության 2020 թվականի դեկտեմբերի 17-ի N N 2069–Լ որոշմամբ
A59: Արդյունքի չափորոշիչներ
A60: Փոխհատուցում ստացող շահառուների թվաքանակ | C60: =SUM(C61/D60)*1000 -> 737 | D60: 30000
A61: Միջոցառման վրա կատարվող ծախսը (հազար դրամ) | C61: ='1'!D43 -> 22110
A64: Ծրագրի դասիչը | B64: Ծրագրի անվանումը
A65: 1068 | B65: Ժողովրդագրական վիճակի բարելավում
A67: Ծրագրի միջոցառումները
A69: Ծրագրի դասիչը` | B69: 1068 | C69: Ցուցանիշների փոփոխություն (ավելացումները նշված են դրական նշանով)
A70: Միջոցառման դասիչը` | B70: 12001 | C70: Տարի
A71: Միջոցառման անվանումը` | B71: Մինչև 2 տարեկան երեխայի խնամքի նպաստի տրամադրում
A72: Նկարագրությունը` | B72: Մինչև 2 տարեկան երեխայի խնամքի նպաստի տրամադրում
A73: Միջոցառման տեսակը` | B73: Տրանսֆերտների տրամադրում
A74: Շահառուների ընտրության չափանիշները | B74: Մինչև երեք տարեկան երեխայի խնամքի արձակուրդում գտնվող անձը` մինչև երեխայի 2 տարեկանը լրանալը,գյուղական բնակավայրում բնակվող ծնող? անկախ խնամքի արձակուրդում գտնվելու հանգամանքից? մինչև երեխայի 2 տարեկանը լրանալը
A75: Արդյունքի չափորոշիչներ
A76: Միջոցառման վրա կատարվող ծախսը (հազար դրամ) | C76: ='1'!D56 -> 250000
A78: ՀՀ կառավարություն
A79: ՄԱՍ 2. ՊԵՏԱԿԱՆ ՄԱՐՄՆԻ ԳԾՈՎ ԱՐԴՅՈՒՆՔԱՅԻՆ (ԿԱՏԱՐՈՂԱԿԱՆ) ՑՈՒՑԱՆԻՇՆԵՐԸ
A81: Ծրագրի դասիչը | B81: Ծրագրի անվանումը
A82: 1139 | B82: ՀՀ կառավարության պահուստային ֆոնդ
A84: Ծրագրի միջոցառումները
A85: Ծրագրի դասիչը` | B85: 1139 | C85: Ցուցանիշների փոփոխություն (նվազեցումները նշված են փակագծերում)
A86: Միջոցառման դասիչը` | B86: 11001 | C86: Տարի
A87: Միջոցառման անվանումը` | B87: ՀՀ կառավարության պահուստային ֆոնդ
A88: Նկարագրությունը` | B88: ՀՀ պետական բյուջեում նախատեսված ելքերի լրացուցիչ ֆինանսավորման՝ պետական բյուջեում չկանխատեսված ելքերի, ինչպես նաև բյուջետային երաշխիքների ապահովման ելքերի ֆինանսավորման ապահովում
A89: Միջոցառման տեսակը` | B89: Ծառայությունների մատուցում
A90: Միջոցառումն իրականացնողի անվանումը | B90: ՀՀ կառավարություն
A91: Արդյունքի չափորոշիչներ
A92: Միջոցառման վրա կատարվող ծախսը (հազար դրամ) | C92: ='2'!G94 -> -617430
