Workbook

Sheet 1
D1: Հավելված 1
C2: ՀՀ կառավարության 2021 թվականի
C3: ------------ N ---------- որոշման
A5: «ՀԱՅԱՍՏԱՆԻ ՀԱՆՐԱՊԵՏՈՒԹՅԱՆ 2021 ԹՎԱԿԱՆԻ ՊԵՏԱԿԱՆ ԲՅՈՒՋԵԻ ՄԱՍԻՆ» ՀԱՅԱՍՏԱՆԻ ՀԱՆՐԱՊԵՏՈՒԹՅԱՆ OՐԵՆՔԻ N 1 ՀԱՎԵԼՎԱԾԻ N 2 ԱՂՅՈՒՍԱԿՈՒՄ ԿԱՏԱՐՎՈՂ ՎԵՐԱԲԱՇԽՈՒՄԸ ԵՎ ՀԱՅԱՍՏԱՆԻ ՀԱՆՐԱՊԵՏՈՒԹՅԱՆ ԿԱՌԱՎԱՐՈՒԹՅԱՆ 2020 ԹՎԱԿԱՆԻ ԴԵԿՏԵՄԲԵՐԻ 30-Ի ԹԻՎ 2215-Ն ՈՐՈՇՄԱՆ N 5 ՀԱՎԵԼՎԱԾԻ N 1 ԱՂՅՈՒՍԱԿՈՒՄ ԿԱՏԱՐՎՈՂ ՓՈՓՈԽՈՒԹՅՈՒՆՆԵՐԸ
D7: (հազ. դրամ)
A8: Ծրագրային դասիչը | C8: Բյուջետային գլխավոր կարգադրիչների, ծրագրերի և միջոցառումների անվանումները | D8: Ցուցանիշների փոփոխություն (ավելացումները նշված են դրական նշանով, իսկ նվազեցումները՝ փակագծերում)
A9: Ծրագիր | B9: Միջոցառում | D9: Տարի
C10: ԸՆԴԱՄԵՆԸ ԾԱԽՍԵՐ | D10: =+D12+D49+D62 -> 0
C11: ՀՀ աշխատանքի և սոցիալական հարցերի նախարարություն
A12: 1205 | C12: Ծրագրի անվանումը` | D12: =D19+D25+D31+D37+D43 -> 367430
C13: Սոցիալական ապահովություն
C14: Ծրագրի նպատակը`
C15: Սոցիալական ապահովության իրավունքի իրականացման ապահովում
C16: Վերջնական արդյունքի նկարագրությունը`
C17: Սոցիալական ապահովության իրավունքի իրականացում
A18: Ծրագրի միջոցառումներ
B19: 12005 | C19: Միջոցառման անվանումը` | D19: 50000
C20: Աջակցություն զոհվածների ընտանիքներին
C21: Միջոցառման նկարագրությունը`
C22: Վարժական հավաքների և զինծառայության և փրկարարական ծառայության ընթացքում մահացած (զոհված) զինծառայողների ու փրկարար ծառայողների հուղարկավորության, գերեզմանների բարեկարգման, տապանաքարերի պատրաստմանև տեղադրման հետ կապված ծախսերի փոխհատուցում
C23: Միջոցառման տեսակը
C24: Տրանսֆերտների տրամադրում
B25: 12011 | C25: Միջոցառման անվանումը` | D25: 78600
C26: Ռազմական դրությամբ պայմանավորված՝ միանվագ դրամական աջակցություն Ադրբեջանի Հանրապետության վերահսկողության տակ անցած տարածքներում հաշվառված քաղաքացիներին
C27: Միջոցառման նկարագրությունը`
C28: Ադրբեջանի կողմից 2020 թվականի սեպտեմբերի 27-ին Արցախի Հանրապետության դեմ սկսված պատերազմական գործողությունների հետևանքով Ադրբեջանի Հանրապետության վերահսկողության տակ անցած համայնքներում հաշվառված քաղաքացիներին աջակցության տրամադրում
C29: Միջոցառման տեսակը
C30: Տրանսֆերտների տրամադրում
B31: 12016 | C31: Միջոցառման անվանումը` | D31: 177000
C32: Ռազմական դրությամբ պայմանավորված՝ Արցախի Հանրապետությունում հաշվառված և հաշվառման հասցեում գտնվող բնակելի անշարժ գույքը կորցրած քաղաքացիներին միանվագ դրամական աջակցություն
C33: Միջոցառման նկարագրությունը`
C34: Արցախի Հանրապետությունում հաշվառված և հաշվառման հասցեում գտնվող բնակելի անշարժ գույքը կորցրած քաղաքացիներին աջակցության տրամադրում
C35: Միջոցառման տեսակը
C36: Տրանսֆերտների տրամադրում
B37: 12022 | C37: Միջոցառման անվանումը` | D37: 39720
C38: Ռազմական դրությամբ պայմանավորված՝ Արցախի Հանրապետության վերահսկողությունից դուրս մնացած համայնքներում հաշվառված չափահաս քաղաքացիներին ժամանակավոր հյուրընկալողների ծախսերի փոխհատուցման վեցամսյա սոցիալական աջակցության տրամադում
C39: Միջոցառման նկարագրությունը`
C40: Արցախի Հանրապետության վերահսկողությունից դուրս մնացած համայնքներում հաշվառված չափահաս քաղաքացիներին ժամանակավոր հյուրընկալողների ծախսերի փոխհատուցման վեցամսյա սոցիալական աջակցության տրամադում՝ հյուրընկալի կողմից էլեկտրոնային եղանակով ներկայացվող դիմումի հիման վրա
C41: Միջոցառման տեսակը
C42: Տրանսֆերտների տրամադրում
...

Sheet 2
G1: Հավելված N 2
F2: ՀՀ կառավարության 2021 թվականի
F3: ------------ N ---------- որոշման
A5: ՀԱՅԱՍՏԱՆԻ ՀԱՆՐԱՊԵՏՈՒԹՅԱՆ ԿԱՌԱՎԱՐՈՒԹՅԱՆ 2020 ԹՎԱԿԱՆԻ ԴԵԿՏԵՄԲԵՐԻ 30-Ի ԹԻՎ 2215-Ն ՈՐՈՇՄԱՆ NN 3 ԵՎ 4 ՀԱՎԵԼՎԱԾՆԵՐՈՒՄ ԿԱՏԱՐՎՈՂ ՓՈՓՈԽՈՒԹՅՈՒՆՆԵՐԸ
G7: (հազ. դրամ)
A8: Գործառական դասիչը | D8: Ծրագրային դասիչը | F8: Բյուջետային ծախսերի գործառական դասակարգման բաժինների, խմբերի և դասերի, Բյուջետային հատկացումների գլխավոր կարգադրիչների, ծրագրերի, միջոցառումների և միջոցառումները կատարող պետական մարմինների անվանումները | G8: Ցուցանիշների փոփոխություն (ավելացումները նշված են դրական նշանով, իսկ նվազեցումները՝ փակագծերում)
A9: Բաժին | B9: Խումբ | C9: Դաս | D9: Ծրագիր | E9: Միջոցառում | G9: Տարի
F10: ԸՆԴԱՄԵՆԸ ԾԱԽՍԵՐ | G10: =G13+G77 -> 0
F11: ՀՀ աշխատանքի և սոցիալական հարցերի նախարարություն
F12: այդ թվում`
A13: 10 | F13: ՍՈՑԻԱԼԱԿԱՆ ՊԱՇՏՊԱՆՈՒԹՅՈՒՆ | G13: =G30+G15 -> 617430
F14: այդ թվում`
B15: 04 | F15: Ընտանիքի անդամներ և զավակներ | G15: =+G17 -> 250000
F16: այդ թվում՝
C17: 01 | F17: Ընտանիքի անդամներ և զավակներ | G17: =+G19 -> 250000
F18: այդ թվում՝
D19: 1068 | F19: Ժողովրդագրական վիճակի բարելավում | G19: =G21 -> 250000
F20: այդ թվում՝
E21: 12001 | F21: Մինչև 2 տարեկան երեխայի խնամքի նպաստի տրամադրում | G21: =G23 -> 250000
F22: այդ թվում` ըստ կատարողների
F23: ՀՀ աշխատանքի և սոցիալական հարցերի նախարարության միասնական սոցիալական ծառայություն | G23: =G25 -> 250000
F24: այդ թվում` բյուջետային ծախսերի տնտեսագիտական դասակարգման հոդվածներ
F25: ԸՆԴԱՄԵՆԸ ԾԱԽՍԵՐ | G25: =G27 -> 250000
F26: ԸՆԹԱՑԻԿ ԾԱԽՍԵՐ
F27: ՍՈՑԻԱԼԱԿԱՆ ՆՊԱՍՏՆԵՐ ԵՎ ԿԵՆՍԱԹՈՇԱԿՆԵՐ | G27: =G28 -> 250000
F28: Սոցիալական օգնության դրամական արտահայտությամբ նպաստներ (բյուջեից) | G28: ='1'!D56 -> 250000
F29: - Մայրության նպաստներ բյուջեից | G29: ='1'!D56 -> 250000
B30: 09 | F30: Սոցիալական պաշտպանություն (այլ դասերին չպատկանող) | G30: =G32 -> 367430
F31: այդ թվում՝
C32: 02 | F32: Սոցիալական պաշտպանությանը տրամադրվող օժանդակ ծառայություններ (այլ դասերին չպատկանող) | G32: =G34 -> 367430
F33: այդ թվում`
D34: 1205 | F34: Սոցիալական ապահովություն | G34: =G36+G69+G45+G53+G61 -> 367430
F35: այդ թվում`
E36: 12005 | F36: Աջակցություն զոհվածների ընտանիքներին | G36: =G38 -> 50000
F37: այդ թվում` ըստ կատարողների
F38: ՀՀ աշխատանքի և սոցիալական հարցերի նախարարության միասնական սոցիալական ծառայություն | G38: =G40 -> 50000
F39: այդ թվում` բյուջետային ծախսերի տնտեսագիտական դասակարգման հոդվածներ
F40: ԸՆԴԱՄԵՆԸ ԾԱԽՍԵՐ | G40: =G41 -> 50000
F41: ԸՆԹԱՑԻԿ ԾԱԽՍԵՐ | G41: =G42 -> 50000
F42: ՍՈՑԻԱԼԱԿԱՆ ՆՊԱՍՏՆԵՐ ԵՎ ԿԵՆՍԱԹՈՇԱԿՆԵՐ | G42: =G43 -> 50000
...

Sheet 3
C1: Հավելված N 3
B2: ՀՀ կառավարության 2021 թվականի
B3: ------------ N ---------- որոշման
A5: ՀԱՅԱՍՏԱՆԻ ՀԱՆՐԱՊԵՏՈՒԹՅԱՆ ԿԱՌԱՎԱՐՈՒԹՅԱՆ 2020 ԹՎԱԿԱՆԻ ԴԵԿՏԵՄԲԵՐԻ 30-Ի N 2215-Ն N 9 ՀԱՎԵԼՎԱԾԻ N 9.16 ԱՂՅՈՒՍԱԿԻ ԵՎ 9.47 ԱՂՅՈՒՍԱԿՆԵՐՈՒՄ ԿԱՏԱՐՎՈՂ ՓՈՓՈԽՈՒԹՅՈՒՆՆԵՐԸ
A6: ՀՀ աշխատանքի և սոցիալական հարցերի նախարարություն
A7: ՄԱՍ 2. ՊԵՏԱԿԱՆ ՄԱՐՄՆԻ ԳԾՈՎ ԱՐԴՅՈՒՆՔԱՅԻՆ (ԿԱՏԱՐՈՂԱԿԱՆ) ՑՈՒՑԱՆԻՇՆԵՐԸ
A9: Ծրագրի դասիչը | B9: Ծրագրի անվանումը
A10: 1205 | B10: Սոցիալական ապահովություն
A12: Ծրագրի միջոցառումները
A14: Ծրագրի դասիչը` | B14: 1205 | C14: Ցուցանիշների փոփոխություն (ավելացումները նշված են դրական նշանով)
A15: Միջոցառման դասիչը` | B15: 12005 | C15: Տարի
A16: Միջոցառման անվանումը` | B16: Աջակցություն զոհվածների ընտանիքներին
A17: Նկարագրությունը` | B17: Վարժական հավաքների և զինծառայության և փրկարարական ծառայության ընթացքում մահացած (զոհված) զինծառայողների ու փրկարար ծառայողների հուղարկավորության, գերեզմանների բարեկարգման, տապանաքարերի պատրաստմանև տեղադրման հետ կապված ծախսերի փոխհատուցում
A18: Միջոցառման տեսակը` | B18: Տրանսֆերտների տրամադրում
A19: Շահառուների ընտրության չափորոշիչները | B19: ՀՀ կառավարության 2018թ. օգոստոսի 9-ի N 916-Ն որոշման պահանջներին համապատասխան
A20: Արդյունքի չափորոշիչներ
A21: Միջոցառման վրա կատարվող ծախսը (հազար դրամ) | C21: ='1'!D19 -> 50000
A23: Ծրագրի դասիչը` | B23: 1205 | C23: Ցուցանիշների փոփոխություն (ավելացումները նշված են դրական նշանով)
A24: Միջոցառման դասիչը` | B24: =+'1'!B25 -> 12011 | C24: Տարի
A25: Միջոցառման անվանումը` | B25: =+'1'!C26 -> Ռազմական դրությամբ պայմանավորված՝ միանվագ դրամական աջակցություն Ադրբեջանի Հանրապետության վերահսկողության տակ անցած տարածքներում հաշվառված քաղաքացիներին
A26: Նկարագրությունը` | B26: =+'1'!C28 -> Ադրբեջանի կողմից 2020 թվականի սեպտեմբերի 27-ին Արցախի Հանրապետության դեմ սկսված պատերազմական գործողությունների հետևանքով Ադրբեջանի Հանրապետության վերահսկողության տակ անցած համայնքներում հաշվառված քաղաքացիներին աջակցության տրամադրում
A27: Միջոցառման տեսակը` | B27: Տրանսֆերտների տրամադրում
A28: Շահառուների ընտրության չափանիշները | B28: ՀՀ կառավարության 2020 թվականի նոյեմբերի 21-ի N 1820-Լ որոշմամբ
A29: Արդյունքի չափորոշիչներ
A30: Փոխհատուցում ստացող շահառուների թվաքանակ | C30: =SUM(C31/D30)*1000 -> 262 | D30: 300000
A31: Միջոցառման վրա կատարվող ծախսը (հազար դրամ) | C31: ='1'!D25 -> 78600
A33: Ծրագրի դասիչը` | B33: 1205 | C33: Ցուցանիշների փոփոխություն (ավելացումները նշված են դրական նշանով)
A34: Միջոցառման դասիչը` | B34: =+'1'!B31 -> 12016 | C34: Տարի
A35: Միջոցառման անվանումը` | B35: =+'1'!C32 -> Ռազմական դրությամբ պայմանավորված՝ Արցախի Հանրապետությունում հաշվառված և հաշվառման հասցեում գտնվող բնակելի անշարժ գույքը կորցրած քաղաքացիներին միանվագ դրամական աջակցություն
A36: Նկարագրությունը` | B36: =+'1'!C34 -> Արցախի Հանրապետությունում հաշվառված և հաշվառման հասցեում գտնվող բնակելի անշարժ գույքը կորցրած քաղաքացիներին աջակցության տրամադրում
A37: Միջոցառման տեսակը` | B37: Տրանսֆերտների տրամադրում
A38: Շահառուների ընտրության չափանիշները | B38: ՀՀ կառավարության 2020 թվականի դեկտեմբերի 10-ի N 2021-Լ որոշմամբ
A39: Արդյունքի չափորոշիչներ
A40: Փոխհատուցում ստացող շահառուների թվաքանակ | C40: =SUM(C41/D40)*1000 -> 708 | D40: 250000
A41: Միջոցառման վրա կատարվող ծախսը (հազար դրամ) | C41: ='1'!D31 -> 177000
A43: Ծրագրի դասիչը` | B43: 1205 | C43: Ցուցանիշների փոփոխություն (ավելացումները նշված են դրական նշանով)
A44: Միջոցառման դասիչը` | B44: ='1'!B37 -> 12022
A45: Միջոցառման անվանումը` | B45: ='1'!C38 -> Ռազմական դրությամբ պայմանավորված՝ Արցախի Հանրապետության վերահսկողությունից դուրս մնացած համայնքներում հաշվառված չափահաս քաղաքացիներին ժամանակավոր հյուրընկալողների ծախսերի փոխհատուցման վեցամսյա սոցիալական աջակցության տրամադում
A46: Նկարագրությունը` | B46: ='1'!C40 -> Արցախի Հանրապետության վերահսկողությունից դուրս մնացած համայնքներում հաշվառված չափահաս քաղաքացիներին ժամանակավոր հյուրընկալողների ծախսերի փոխհատուցման վեցամսյա սոցիալական աջակցության տրամադում՝ հյուրընկալի կողմից էլեկտրոնային եղանակով ներկայացվող դիմումի հիման վրա
A47: Միջոցառման տեսակը` | B47: Տրանսֆերտների տրամադրում
...

Sheet 4
C1: Հավելված N 4
B2: ՀՀ կառավարության 2021 թվականի
B3: ------------ N ---------- որոշման
A5: ՀԱՅԱՍՏԱՆԻ ՀԱՆՐԱՊԵՏՈՒԹՅԱՆ ԿԱՌԱՎԱՐՈՒԹՅԱՆ 2020 ԹՎԱԿԱՆԻ ԴԵԿՏԵՄԲԵՐԻ 30-Ի N 2215-Ն ՈՐՈՇՄԱՆ N 9.1 ՀԱՎԵԼՎԱԾԻ N 9.1.20 ԵՎ 9.1.58 ԱՂՅՈՒՍԱԿՆԵՐՈՒՄ ԿԱՏԱՐՎՈՂ ՓՈՓՈԽՈՒԹՅՈՒՆՆԵՐԸ
A6: ՀՀ աշխատանքի և սոցիալական հարցերի նախարարության միասնական սոցիալական ծառայություն
A7: ՄԱՍ 1. ՊԵՏԱԿԱՆ ՄԱՐՄՆԻ ԳԾՈՎ ԱՐԴՅՈՒՆՔԱՅԻՆ (ԿԱՏԱՐՈՂԱԿԱՆ) ՑՈՒՑԱՆԻՇՆԵՐԸ
A9: Ծրագրի դասիչը | B9: Ծրագրի անվանումը
A10: 1205 | B10: Սոցիալական ապահովություն
A12: Ծրագրի միջոցառումները
A14: Ծրագրի դասիչը` | B14: 1205 | C14: Ցուցանիշների փոփոխություն (ավելացումները նշված են դրական նշանով)
A15: Միջոցառման դասիչը` | B15: 12005 | C15: Տարի
A16: Միջոցառման անվանումը` | B16: Աջակցություն զոհվածների ընտանիքներին
A17: Նկարագրությունը` | B17: Վարժական հավաքների և զինծառայության և փրկարարական ծառայության ընթացքում մահացած (զոհված) զինծառայողների ու փրկարար ծառայողների հուղարկավորության, գերեզմանների բարեկարգման, տապանաքարերի պատրաստմանև տեղադրման հետ կապված ծախսերի փոխհատուցում
A18: Միջոցառման տեսակը` | B18: Տրանսֆերտների տրամադրում
A19: Շահառուների ընտրության չափորոշիչները | B19: ՀՀ կառավարության 2018թ. օգոստոսի 9-ի N 916-Ն որոշման պահանջներին համապատասխան
A20: Արդյունքի չափորոշիչներ
A21: Միջոցառման վրա կատարվող ծախսը (հազար դրամ) | C21: ='1'!D19 -> 50000
A23: Ծրագրի դասիչը` | B23: 1205 | C23: Ցուցանիշների փոփոխություն (ավելացումները նշված են դրական նշանով)
A24: Միջոցառման դասիչը` | B24: =+'1'!B25 -> 12011 | C24: Տարի
A25: Միջոցառման անվանումը` | B25: =+'1'!C26 -> Ռազմական դրությամբ պայմանավորված՝ միանվագ դրամական աջակցություն Ադրբեջանի Հանրապետության վերահսկողության տակ անցած տարածքներում հաշվառված քաղաքացիներին
A26: Նկարագրությունը` | B26: =+'1'!C28 -> Ադրբեջանի կողմից 2020 թվականի սեպտեմբերի 27-ին Արցախի Հանրապետության դեմ սկսված պատերազմական գործողությունների հետևանքով Ադրբեջանի Հանրապետության վերահսկողության տակ անցած համայնքներում հաշվառված քաղաքացիներին աջակցության տրամադրում
A27: Միջոցառման տեսակը` | B27: Տրանսֆերտների տրամադրում
A28: Շահառուների ընտրության չափանիշները | B28: ՀՀ կառավարության 2020 թվականի նոյեմբերի 21-ի N 1820-Լ որոշմամբ
A29: Արդյունքի չափորոշիչներ
A30: Փոխհատուցում ստացող շահառուների թվաքանակ | C30: =SUM(C31/D30)*1000 -> 262 | D30: 300000
A31: Միջոցառման վրա կատարվող ծախսը (հազար դրամ) | C31: ='1'!D25 -> 78600
A33: Ծրագրի դասիչը` | B33: 1205 | C33: Ցուցանիշների փոփոխություն (ավելացումները նշված են դրական նշանով)
A34: Միջոցառման դասիչը` | B34: =+'1'!B31 -> 12016 | C34: Տարի
A35: Միջոցառման անվանումը` | B35: =+'1'!C32 -> Ռազմական դրությամբ պայմանավորված՝ Արցախի Հանրապետությունում հաշվառված և հաշվառման հասցեում գտնվող բնակելի անշարժ գույքը կորցրած քաղաքացիներին միանվագ դրամական աջակցություն
A36: Նկարագրությունը` | B36: =+'1'!C34 -> Արցախի Հանրապետությունում հաշվառված և հաշվառման հասցեում գտնվող բնակելի անշարժ գույքը կորցրած քաղաքացիներին աջակցության տրամադրում
A37: Միջոցառման տեսակը` | B37: Տրանսֆերտների տրամադրում
A38: Շահառուների ընտրության չափանիշները | B38: ՀՀ կառավարության 2020 թվականի դեկտեմբերի 10-ի N 2021-Լ որոշմամբ
A39: Արդյունքի չափորոշիչներ
A40: Փոխհատուցում ստացող շահառուների թվաքանակ | C40: =SUM(C41/D40)*1000 -> 708 | D40: 250000
A41: Միջոցառման վրա կատարվող ծախսը (հազար դրամ) | C41: ='1'!D31 -> 177000
A43: Ծրագրի դասիչը` | B43: 1205 | C43: Ցուցանիշների փոփոխություն (ավելացումները նշված են դրական նշանով)
A44: Միջոցառման դասիչը` | B44: ='1'!B37 -> 12022
A45: Միջոցառման անվանումը` | B45: ='1'!C38 -> Ռազմական դրությամբ պայմանավորված՝ Արցախի Հանրապետության վերահսկողությունից դուրս մնացած համայնքներում հաշվառված չափահաս քաղաքացիներին ժամանակավոր հյուրընկալողների ծախսերի փոխհատուցման վեցամսյա սոցիալական աջակցության տրամադում
A46: Նկարագրությունը` | B46: ='1'!C40 -> Արցախի Հանրապետության վերահսկողությունից դուրս մնացած համայնքներում հաշվառված չափահաս քաղաքացիներին ժամանակավոր հյուրընկալողների ծախսերի փոխհատուցման վեցամսյա սոցիալական աջակցության տրամադում՝ հյուրընկալի կողմից էլեկտրոնային եղանակով ներկայացվող դիմումի հիման վրա
A47: Միջոցառման տեսակը` | B47: Տրանսֆերտների տրամադրում
...
