Workbook
Name AgencyCode: #REF!
Name AgencyCode: #REF!
Name AgencyCode: #REF!
Name AgencyName: #REF!
Name AgencyName: #REF!
Name Functional1: #REF!
Name Functional1: #REF!
Name PANature: #REF!
Name PANature: #REF!
Name PAType: #REF!
Name PAType: #REF!
Name Performance2: #REF!
Name Performance2: #REF!
Name PerformanceType: #REF!
Name PerformanceType: #REF!

Sheet 1
H1: Հավելված N1
H2: ՀՀ կառավարության 2021 թվականի
H3: ______________ ի ___Ն որոշման
A4: «ՀԱՅԱՍՏԱՆԻ ՀԱՆՐԱՊԵՏՈՒԹՅԱՆ 2021 ԹՎԱԿԱՆԻ ՊԵՏԱԿԱՆ ԲՅՈՒՋԵԻ ՄԱՍԻՆ» ՕՐԵՆՔԻ N 1 ՀԱՎԵԼՎԱԾԻ N 3 ԱՂՅՈՒՍԱԿՈՒՄ ԿԱՏԱՐՎՈՂ ՓՈՓՈԽՈՒԹՅՈՒՆՆԵՐԸ ԵՎ ԼՐԱՑՈՒՄՆԵՐԸ
G5: հազ. դրամ
A6: Ծրագրային դասիչ | C6: Բյուջետային գլխավոր կարգադրիչների, ծրագրերի, միջոցառումների և ուղղությունների անվանումները | D6: Ցուցանիշների փոփոխությունը (ավելացումները նշված են դրական նշանով, իսկ նվազեցումները` փակագծերում)
D7: Ընդամենը, | E7: այդ թվում՝
A8: Ծրագիր | B8: Միջոցառում | E8: Կառուցման աշխատանքներ | F8: Վերակառուցման, վերանորոգման և վերականգնման աշխատանքներ | G8: Նախագծահե- տազոտական, գեոդեզիա- քարտեզագրա- կան աշխա- տանքներ | H8: Ոչ ֆինանսական այլ ակտիվների ձեռքբերում
C9: ԸՆԴԱՄԵՆԸ | D9: =+E9+F9+G9+H9 -> 2.910383e-11 | E9: =E11 -> 0 | F9: =F11 -> -142760.6 | G9: =G11 -> 142760.6 | H9: =H11 -> 0
C10: այդ թվում՝
C11: ՀՀ ՏԱՐԱԾՔԱՅԻՆ ԿԱՌԱՎԱՐՄԱՆ ԵՎ ԵՆԹԱԿԱՌՈՒՑՎԱԾՔՆԵՐԻ ՆԱԽԱՐԱՐՈՒԹՅՈՒՆ | D11: =+E11+F11+G11+H11 -> 2.910383e-11 | E11: =+E13+E29 -> 0 | F11: =+F13+F29 -> -142760.6 | G11: =+G13+G29 -> 142760.6 | H11: =+H13+H29 -> 0
C12: այդ թվում`
A13: 1049 | B13: 21001 | C13: Պետական նշանակության ավտոճանապարհների հիմնանորոգում | D13: =+E13+F13+G13+H13 -> -178787.4 | E13: =+E15+E20 -> 0 | F13: =+F15+F20 -> -321548 | G13: =+G15+G20 -> 142760.6 | H13: =+H15+H20 -> 0
C14: այդ թվում`
B15: 1 | C15: Միջպետական նշանակության ավտոճանապարհներ, այդ թվում | D15: =+E15+F15+G15+H15 -> -804447.5 | E15: =+E16+E18 -> 0 | F15: =+F16+F18 -> -804447.5 | G15: =+G16+G18 -> 0 | H15: =+H16+H18 -> 0
C16: Մ-2, Երևան-Երասխ-Գորիս-Մեղրի-Իրանի սահման | D16: =+E16+F16+G16+H16 -> -869863.1 | E16: =SUM(E17:E17) -> 0 | F16: =+F17 -> -869863.1 | G16: =+G17+G18 -> 0 | H16: =SUM(H17:H17) -> 0
C17: կմ374+000 - կմ384+300 հատվածի հիմնանորոգում | D17: =+E17+F17+G17+H17 -> -869863.1 | E17: 0 | F17: =+'3'!D19 -> -869863.1 | G17: 0 | H17: 0
C18: Մ10, Սևան-Մարտունի-Գետափ | D18: =+E18+F18+G18+H18 -> 65415.6 | E18: 0 | F18: =+F19 -> 65415.6 | G18: 0 | H18: 0
C19: կմ57+450-կմ59+450 հատվածի մայթերի կառուցում | D19: =+E19+F19+G19+H19 -> 65415.6 | E19: =SUM(E20:E20) -> 0 | F19: =+'3'!D21 -> 65415.6 | G19: 0 | H19: 0
B20: 3 | C20: Մարզային նշանակության ավտոճանապարհներ, այդ թվում | D20: =+E20+F20+G20+H20 -> 625660.1 | E20: =SUM(E21:E28) -> 0 | F20: =SUM(F21:F28) -> 482899.5 | G20: =SUM(G21:G28) -> 142760.6 | H20: =SUM(H21:H28) -> 0
C21: Տ-3-15, /Հ-15/ - Ալաշկերտ (Տ-3-14) ավտոճանապարհի կմ0+000-կմ1+000 հատվածի հիմնանորոգում | D21: =+E21+F21+G21+H21 -> 204166.2 | E21: =SUM(E22:E22) -> 0 | F21: =+'3'!D23 -> 204166.2 | G21: =+G22 -> 0 | H21: =SUM(H22:H22) -> 0
C22: ՀՀ Լոռու մարզի, Ստեփանավան քաղաքի Սուրբ Վարդան փողոցի կմ 0+000-կմ 1+600 (Հ-34-ի հետ հատման կետ) | D22: =+E22+F22+G22+H22 -> 234498.3 | E22: 0 | F22: =+'3'!D24 -> 234498.3 | G22: 0 | H22: 0
C23: Տավուշի մարզի Բերդի հոսպիտալ տանող ճանապարհի 300գծմ հատվածի հիմնանորոգում | D23: =+E23+F23+G23+H23 -> 44235 | E23: 0 | F23: =+'3'!D25 -> 44235 | G23: 0 | H23: 0
C24: Տ-5-24,/Մ-3/ (Ստեփանավան) – Արմանիս – Ուրասար – Կաթնաղբյուր տեղական նշանակության ավտոճանապարհի կմ 6+600-կմ 15+200 հատվածի և Կաթնաղբյուր համայնքի 8-րդ և 9-րդ փողոցների հիմնանորոգում | D24: =+E24+F24+G24+H24 -> 15105.6 | E24: 0 | F24: 0 | G24: =+'3'!D26 -> 15105.6 | H24: 0
C25: Որոտան - Խոտ ավտոճանապարհի վերակառուցում | D25: =+E25+F25+G25+H25 -> 34530 | E25: 0 | F25: 0 | G25: =+'3'!D27 -> 34530 | H25: 0
C26: Հ-46(Քաշունի գյուղի խաչմերուկից) - Բարձրավան ավտոճանապարհի կառուցում | D26: =+E26+F26+G26+H26 -> 36175 | E26: 0 | F26: 0 | G26: =+'3'!D28 -> 36175 | H26: 0
C27: Տանձավեր - Շուռնուխ ավտոճանապարհի կառուցում | D27: =+E27+F27+G27+H27 -> 40850 | E27: 0 | F27: 0 | G27: =+'3'!D29 -> 40850 | H27: 0
C28: Տ-8-49, /Տ-8-48/ - Լծեն ավտոճանապարհի վերակառուցում | D28: =+E28+F28+G28+H28 -> 16100 | E28: 0 | F28: 0 | G28: =+'3'!D30 -> 16100 | H28: 0
A29: 1049 | B29: 21001 | C29: Պետական նշանակության ավտոճանապարհների հիմնանորոգում | D29: =+E29+F29+G29+H29 -> 178787.4 | E29: =+E31+E36 -> 0 | F29: =+'3'!D33 -> 178787.4 | G29: =+G31+G36 -> 0 | H29: =+H31+H36 -> 0

Sheet 2
A1: Հավելված N2
A2: ՀՀ կառավարության 2021 թվականի
A3: ______________ ի ___Ն որոշման
A5: ՀԱՅԱՍՏԱՆԻ ՀԱՆՐԱՊԵՏՈՒԹՅԱՆ ԿԱՌԱՎԱՐՈՒԹՅԱՆ 2020 ԹՎԱԿԱՆԻ ԴԵԿՏԵՄԲԵՐԻ 30-Ի N 2215-Ն ՈՐՈՇՄԱՆ N 3 ԵՎ N 4 ՀԱՎԵԼՎԱԾՆԵՐՈՒՄ ԿԱՏԱՐՎՈՂ ՓՈՓՈԽՈՒԹՅՈՒՆՆԵՐԸ ԵՎ ԼՐԱՑՈՒՄՆԵՐԸ
G7: հազ. դրամ
A8: Գործառական դասիչը | D8: Ծրագրային դասիչը | F8: Բյուջետային ծախսերի գործառական դասակարգման բաժինների, խմբերի և դասերի, բյուջետային հատկացումների գլխավոր կարգադրիչների, ծրագրերի, միջոցառումների և միջոցառումները կատարող պետական մարմինների անվանումները | G8: Ցուցանիշների փոփոխությունը (ավելացումները նշված են դրական նշանով, իսկ նվազեցումները` փակագծերում)
A9: Բաժին | B9: Խումբ | C9: Դաս | D9: Ծրագիր | E9: Միջոցառում | G9: Տարի
F10: ԸՆԴԱՄԵՆԸ ԾԱԽՍԵՐ | G10: =G12 -> 0
F11: այդ թվում`
A12: 04 | F12: ՏՆՏԵՍԱԿԱՆ ՀԱՐԱԲԵՐՈՒԹՅՈՒՆՆԵՐ | G12: =G14 -> 0
F13: այդ թվում`
B14: 05 | F14: Տրանսպորտ | G14: =G16 -> 0
F15: այդ թվում`
C16: 01 | F16: Ճանապարհային տրանսպորտ | G16: =G18 -> 0
F17: այդ թվում`
F18: ՀՀ ՏԱՐԱԾՔԱՅԻՆ ԿԱՌԱՎԱՐՄԱՆ ԵՎ ԵՆԹԱԿԱՌՈՒՑՎԱԾՔՆԵՐԻ ՆԱԽԱՐԱՐՈՒԹՅՈՒՆ | G18: =+G20 -> 0
F19: այդ թվում`
D20: 1049 | F20: Ճանապարհային ցանցի բարելավում | G20: =+G22 -> 0
F21: այդ թվում`
E22: 21001 | F22: Պետական նշանակության ավտոճանապարհների հիմնանորոգում | G22: =+G24+G31 -> 0
F23: այդ թվում` ըստ կատարողների
F24: ՀՀ կառավարություն | G24: =+G26 -> 178787.4
F25: այդ թվում` բյուջետային ծախսերի տնտեսագիտական դասակարգման հոդվածների
F26: ԸՆԴԱՄԵՆԸ ԾԱԽՍԵՐ | G26: =+G27 -> 178787.4
F27: ՈՉ ՖԻՆԱՆՍԱԿԱՆ ԱԿՏԻՎՆԵՐԻ ԳԾՈՎ ԾԱԽՍԵՐ | G27: =+G28 -> 178787.4
F28: ՀԻՄՆԱԿԱՆ ՄԻՋՈՑՆԵՐ | G28: =+G29 -> 178787.4
F29: ՇԵՆՔԵՐ ԵՎ ՇԻՆՈՒԹՅՈՒՆՆԵՐ | G29: =+G30 -> 178787.4
F30: - Շենքերի և շինությունների կապիտալ վերանորոգում | G30: =+'1'!F29 -> 178787.4
F31: ՀՀ տարածքային կառավարման և ենթակառուցվածքների նախարարություն | G31: =+G33 -> -178787.4
F32: այդ թվում` բյուջետային ծախսերի տնտեսագիտական դասակարգման հոդվածների
F33: ԸՆԴԱՄԵՆԸ ԾԱԽՍԵՐ | G33: =+G34 -> -178787.4
F34: ՈՉ ՖԻՆԱՆՍԱԿԱՆ ԱԿՏԻՎՆԵՐԻ ԳԾՈՎ ԾԱԽՍԵՐ | G34: =+G35 -> -178787.4
F35: ՀԻՄՆԱԿԱՆ ՄԻՋՈՑՆԵՐ | G35: =+G36+G38 -> -178787.4
F36: ՇԵՆՔԵՐ ԵՎ ՇԻՆՈՒԹՅՈՒՆՆԵՐ | G36: =+G37 -> -321548
F37: - Շենքերի և շինությունների կապիտալ վերանորոգում | G37: =-G39-G30 -> -321548
F38: ԱՅԼ ՀԻՄՆԱԿԱՆ ՄԻՋՈՑՆԵՐ | G38: =+G39 -> 142760.6
F39: - Նախագծահետազոտական ծախսեր | G39: =+'1'!G13 -> 142760.6

Sheet 3
A1: Հավելված N3
A2: ՀՀ կառավարության 2021 թվականի
A3: ______________ ի ___Ն որոշման
A5: ՀԱՅԱՍՏԱՆԻ ՀԱՆՐԱՊԵՏՈՒԹՅԱՆ ԿԱՌԱՎԱՐՈՒԹՅԱՆ 2020 ԹՎԱԿԱՆԻ ԴԵԿՏԵՄԲԵՐԻ 30-Ի N 2215-Ն ՈՐՈՇՄԱՆ N 5 ՀԱՎԵԼՎԱԾԻ N 2 ԱՂՅՈՒՍԱԿՈՒՄ ԿԱՏԱՐՎՈՂ ՓՈՓՈԽՈՒԹՅՈՒՆՆԵՐԸ ԵՎ ԼՐԱՑՈՒՄՆԵՐԸ
D6: հազ. դրամ
A7: Ծրագրային դասիչ | C7: Բյուջետային գլխավոր կարգադրիչների, ծրագրերի, միջոցառումների և ուղղությունների անվանումները | D7: Ցուցանիշների փոփոխությունը (ավելացումները նշված են դրական նշանով, իսկ նվազեցումները` փակագծերում)
A8: Ծրագիր | B8: Միջոցառում | D8: Տարի
C9: ԸՆԴԱՄԵՆԸ | D9: =D11 -> 0
C10: այդ թվում՝
C11: ՀՀ ՏԱՐԱԾՔԱՅԻՆ ԿԱՌԱՎԱՐՄԱՆ ԵՎ ԵՆԹԱԿԱՌՈՒՑՎԱԾՔՆԵՐԻ ՆԱԽԱՐԱՐՈՒԹՅՈՒՆ | D11: =+D13+D31 -> 0
C12: այդ թվում`
A13: 1049 | B13: 21001 | C13: Պետական նշանակության ավտոճանապարհների հիմնանորոգում | D13: =+D15 -> -178787.4
C14: այդ թվում` ըստ կատարողների
C15: ՀՀ տարածքային կառավարման և ենթակառուցվածքների նախարարություն | D15: =+D17+D22 -> -178787.4
C16: այդ թվում՝ ըստ ուղղությունների
B17: 1 | C17: Միջպետական նշանակության ավտոճանապարհներ, այդ թվում | D17: =+D18+D20 -> -804447.5
C18: Մ-2, Երևան-Երասխ-Գորիս-Մեղրի-Իրանի սահման | D18: =+D19 -> -869863.1
C19: կմ374+000 - կմ384+300 հատվածի հիմնանորոգում | D19: -869863.1
C20: Մ10, Սևան-Մարտունի-Գետափ | D20: =+D21 -> 65415.6
C21: կմ57+450-կմ59+450 հատվածի մայթերի կառուցում | D21: 65415.6
B22: 3 | C22: Մարզային նշանակության ավտոճանապարհներ, այդ թվում | D22: =SUM(D23:D30) -> 625660.1
C23: Տ-3-15, /Հ-15/ - Ալաշկերտ (Տ-3-14) ավտոճանապարհի կմ0+000-կմ1+000 հատվածի հիմնանորոգում | D23: 204166.2
C24: ՀՀ Լոռու մարզի, Ստեփանավան քաղաքի Սուրբ Վարդան փողոցի կմ 0+000-կմ 1+600 (Հ-34-ի հետ հատման կետ) | D24: 234498.3
C25: Տավուշի մարզի Բերդի հոսպիտալ տանող ճանապարհի 300գծմ հատվածի հիմնանորոգում | D25: 44235
C26: Տ-5-24,/Մ-3/ (Ստեփանավան) – Արմանիս – Ուրասար – Կաթնաղբյուր տեղական նշանակության ավտոճանապարհի կմ 6+600-կմ 15+200 հատվածի և Կաթնաղբյուր համայնքի 8-րդ և 9-րդ փողոցների հիմնանորոգում | D26: 15105.6
C27: Որոտան - Խոտ ավտոճանապարհի վերակառուցում | D27: 34530
C28: Հ-46(Քաշունի գյուղի խաչմերուկից) - Բարձրավան ավտոճանապարհի կառուցում | D28: 36175
C29: Տանձավեր - Շուռնուխ ավտոճանապարհի կառուցում | D29: 40850
C30: Տ-8-49, /Տ-8-48/ - Լծեն ավտոճանապարհի վերակառուցում | D30: 16100
A31: 1049 | B31: 21001 | C31: Պետական նշանակության ավտոճանապարհների հիմնանորոգում | D31: =+D33 -> 178787.4
C32: այդ թվում` ըստ կատարողների
C33: ՀՀ կառավարություն | D33: =-D15 -> 178787.4

Sheet 4
C1: Հավելված N4
A2: ՀՀ կառավարության 2021 թվականի
A3: ______________ ի ___Ն որոշման
A5: ՀԱՅԱՍՏԱՆԻ ՀԱՆՐԱՊԵՏՈՒԹՅԱՆ ԿԱՌԱՎԱՐՈՒԹՅԱՆ 2020 ԹՎԱԿԱՆԻ ԴԵԿՏԵՄԲԵՐԻ 30-Ի N 2215-Ն ՈՐՈՇՄԱՆ N 9 ՀԱՎԵԼՎԱԾԻ N 9.8 ԱՂՅՈՒՍԱԿՈՒՄ ԿԱՏԱՐՎՈՂ ՓՈՓՈԽՈՒԹՅՈՒՆՆԵՐԸ ԵՎ ԼՐԱՑՈՒՄՆԵՐԸ
A7: ՀՀ ՏԱՐԱԾՔԱՅԻՆ ԿԱՌԱՎԱՐՄԱՆ ԵՎ ԵՆԹԱԿԱՌՈՒՑՎԱԾՔՆԵՐԻ ՆԱԽԱՐԱՐՈՒԹՅՈՒՆ
A8: ՄԱՍ 2. ՊԵՏԱԿԱՆ ՄԱՐՄՆԻ ԳԾՈՎ ԱՐԴՅՈՒՆՔԱՅԻՆ (ԿԱՏԱՐՈՂԱԿԱՆ) ՑՈՒՑԱՆԻՇՆԵՐԸ
A10: Ծրագրի դասիչը | B10: Ծրագրի անվանումը
A11: 1049 | B11: Ճանապարհային ցանցի բարելավում
A13: Ծրագրի միջոցառումները
A15: Ծրագրի դասիչը` | B15: 1049 | C15: Ցուցանիշների փոփոխությունը (ավելացումները նշված են դրական նշանով)
A16: Միջոցառման դասիչը` | B16: 21001 | C16: Տարի
A17: Միջոցառման անվանումը` | B17: Պետական նշանակության ավտոճանապարհների հիմնանորոգում
A18: Նկարագրությունը` | B18: Միջպետական՝ հանրապետական և մարզային նշանակության ավտոճանապարհների քայքայված ծածկի վերանորոգում՝ մաշված ծածկի փոխարինում
A19: Միջոցառման տեսակը` | B19: Հանրության կողմից անմիջականորեն օգտագործվող ակտիվների հետ կապված միջոցառումներ
A20: Արդյունքի չափորոշիչներ
A21: Հիմնանորոգվող ավտոճանապարհների երկարությունը/կիլոմետր/ այդ թվում՛ | C21: =+C22 -> 2.8
A22: Մարզային նշանակության ավտոճանապարհներ | C22: 2.8
A23: Միջոցառման վրա կատարվող ծախսը (հազար դրամ) | C23: 0

Sheet 5
C1: Հավելված N5
A2: ՀՀ կառավարության 2021 թվականի
A3: ______________ ի ___Ն որոշման
A4: ՀԱՅԱՍՏԱՆԻ ՀԱՆՐԱՊԵՏՈՒԹՅԱՆ ԿԱՌԱՎԱՐՈՒԹՅԱՆ 2020 ԹՎԱԿԱՆԻ ԴԵԿՏԵՄԲԵՐԻ 30-Ի N 2215-Ն ՈՐՈՇՄԱՆ N 9.1 ՀԱՎԵԼՎԱԾԻ NN 9.1.8 ԵՎ 9.1.58 ԱՂՅՈՒՍԱԿՆԵՐՈՒՄ ԿԱՏԱՐՎՈՂ ՓՈՓՈԽՈՒԹՅՈՒՆՆԵՐԸ ԵՎ ԼՐԱՑՈՒՄՆԵՐԸ
C5: Աղյուսակ N9.1.8
A6: ՀՀ ՏԱՐԱԾՔԱՅԻՆ ԿԱՌԱՎԱՐՄԱՆ ԵՎ ԵՆԹԱԿԱՌՈՒՑՎԱԾՔՆԵՐԻ ՆԱԽԱՐԱՐՈՒԹՅՈՒՆ
A7: ՄԱՍ 1. ՊԵՏԱԿԱՆ ՄԱՐՄՆԻ ԳԾՈՎ ԱՐԴՅՈՒՆՔԱՅԻՆ (ԿԱՏԱՐՈՂԱԿԱՆ) ՑՈՒՑԱՆԻՇՆԵՐԸ
A8: Ծրագրի դասիչը | B8: Ծրագրի անվանումը
A9: 1049 | B9: Ճանապարհային ցանցի բարելավում
A11: Ծրագրի միջոցառումները
A13: Ծրագրի դասիչը` | B13: 1049 | C13: Ցուցանիշների փոփոխությունը (ավելացումները նշված են դրական նշանով, իսկ նվազեցումները` փակագծերում)
A14: Միջոցառման դասիչը` | B14: 21001 | C14: Տարի
A15: Միջոցառման անվանումը` | B15: Պետական նշանակության ավտոճանապարհների հիմնանորոգում
A16: Նկարագրությունը` | B16: Միջպետական՝ հանրապետական և մարզային նշանակության ավտոճանապարհների քայքայված ծածկի վերանորոգում՝ մաշված ծածկի փոխարինում_x000D_
A17: Միջոցառման տեսակը` | B17: Հանրության կողմից անմիջականորեն օգտագործվող ակտիվների հետ կապված միջոցառումներ
A18: Արդյունքի չափորոշիչներ
A19: Հիմնանորոգվող ավտոճանապարհների երկարությունը/կիլոմետր/ այդ թվում՛ | C19: =+C20 -> 2.8
A20: Մարզային նշանակության ավտոճանապարհներ | C20: 2.8
A21: Միջոցառման վրա կատարվող ծախսը (հազար դրամ) | C21: =+'3'!D15 -> -178787.4
C23: Աղյուսակ N9.1.58
A24: ՀՀ ԿԱՌԱՎԱՐՈՒԹՅՈՒՆ
A25: ՄԱՍ 1. ՊԵՏԱԿԱՆ ՄԱՐՄՆԻ ԳԾՈՎ ԱՐԴՅՈՒՆՔԱՅԻՆ (ԿԱՏԱՐՈՂԱԿԱՆ) ՑՈՒՑԱՆԻՇՆԵՐԸ
A26: Ծրագրի դասիչը | B26: Ծրագրի անվանումը
A27: 1049 | B27: Ճանապարհային ցանցի բարելավում
A29: Ծրագրի միջոցառումները
A31: Ծրագրի դասիչը` | B31: 1049 | C31: Ցուցանիշների փոփոխությունը (ավելացումները նշված են դրական նշանով)
A32: Միջոցառման դասիչը` | B32: 21001 | C32: Տարի
A33: Միջոցառման անվանումը` | B33: Պետական նշանակության ավտոճանապարհների հիմնանորոգում
A34: Նկարագրությունը` | B34: Միջպետական՝ հանրապետական և մարզային նշանակության ավտոճանապարհների քայքայված ծածկի վերանորոգում՝ մաշված ծածկի փոխարինում_x000D_
A35: Միջոցառման տեսակը` | B35: Հանրության կողմից անմիջականորեն օգտագործվող ակտիվների հետ կապված միջոցառումներ
A36: Արդյունքի չափորոշիչներ
A37: Միջոցառման վրա կատարվող ծախսը (հազար դրամ) | C37: =+'3'!D33 -> 178787.4

Sheet 6
A1: Հավելված N6
A2: ՀՀ կառավարության 2021 թվականի
A3: ______________ ի ___Ն որոշման
A5: ՀԱՅԱՍՏԱՆԻ ՀԱՆՐԱՊԵՏՈՒԹՅԱՆ ԿԱՌԱՎԱՐՈՒԹՅԱՆ 2020 ԹՎԱԿԱՆԻ ԴԵԿՏԵՄԲԵՐԻ 30-Ի N 2215-Ն ՈՐՈՇՄԱՆ N 10 ՀԱՎԵԼՎԱԾՈՒՄ ԿԱՏԱՐՎՈՂ ՓՈՓՈԽՈՒԹՅՈՒՆՆԵՐԸ ԵՎ ԼՐԱՑՈՒՄՆԵՐԸ
A6: Կոդը | B6: Անվանումը | C6: Գնման ձևը | D6: Չափման միավորը | E6: Միավորի գինը | F6: Ցուցանիշների փոփոխությունը (ավելացումները նշված են դրական նշանով, իսկ նվազեցումները` փակագծերում)
F7: Քանակը | G7: Գումարը (հազար դրամով)
A8: ՀՀ տարածքային կառավարման և ենթակառուցվածքների նախարարություն | G8: =+G9 -> -178787.44
A9: Բաժին N 04 | B9: Խումբ N 05 | C9: Դաս N 01 | D9: Ճանապարհային տրանսպորտ | G9: =+G10 -> -178787.44
A10: 1049 21001 | B10: Պետական նշանակության ավտոճանապարհների հիմնանորոգում | G10: =+G11+G17 -> -178787.44
A11: ՄԱՍ II. ԱՇԽԱՏԱՆՔՆԵՐ | G11: =SUM(G12:G16) -> -333295.49
A12: 45231177/532 | B12: ճանապարհների վերանորոգման աշխատանքներ | C12: ՀԲՄ | D12: դրամ | G12: -869863.1
A13: 45231177/584 | B13: ճանապարհների վերանորոգման աշխատանքներ | C13: ԳՀ | D13: դրամ | E13: 64254000 | F13: 1 | G13: =+E13/1000 -> 64254
A14: 45231177/591 | B14: ճանապարհների վերանորոգման աշխատանքներ | C14: ՀԲՄ | D14: դրամ | E14: 199000000 | F14: 1 | G14: =+E14/1000 -> 199000
A15: 45231177/589 | B15: ճանապարհների վերանորոգման աշխատանքներ | C15: ՀԲՄ | D15: դրամ | E15: 230032000 | F15: 1 | G15: =+E15/1000 -> 230032
A16: 45231177/585 | B16: ճանապարհների վերանորոգման աշխատանքներ | C16: ԳՀ | D16: դրամ | E16: 43281606 | F16: 1 | G16: =+E16/1000 -> 43281.606
A17: ՄԱՍ III. ԾԱՌԱՅՈՒԹՅՈՒՆՆԵՐ | G17: =SUM(G18:G35) -> 154508.05
A18: 98111140 | B18: հեղինակային հսկողության ծառայություններ | C18: ՄԱ | D18: դրամ | E18: 391200 | F18: 1 | G18: =+F18*E18/1000 -> 391.2
A19: 98111140 | B19: հեղինակային հսկողության ծառայություններ | C19: ՄԱ | D19: դրամ | E19: 1506200 | F19: 1 | G19: =+F19*E19/1000 -> 1506.2
A20: 98111140 | B20: հեղինակային հսկողության ծառայություններ | C20: ՄԱ | D20: դրամ | E20: 1706300 | F20: 1 | G20: =+F20*E20/1000 -> 1706.3
A21: 98111140 | B21: հեղինակային հսկողության ծառայություններ | C21: ՄԱ | D21: դրամ | E21: 259750 | F21: 1 | G21: =+F21*E21/1000 -> 259.75
A22: 71351540/542 | B22: տեխնիկական հսկողության ծառայություններ | C22: ՀԲՄ | D22: դրամ | E22: 693600 | F22: 1 | G22: =+F22*E22/1000 -> 693.6
A23: 71351540/540 | B23: տեխնիկական հսկողության ծառայություններ | C23: ՀԲՄ | D23: դրամ | E23: 2760000 | F23: 1 | G23: =+F23*E23/1000 -> 2760
A24: 71351540/539 | B24: տեխնիկական հսկողության ծառայություններ | C24: ՀԲՄ | D24: դրամ | E24: 3660000 | F24: 1 | G24: =+F24*E24/1000 -> 3660
A25: 71351540/537 | B25: տեխնիկական հսկողության ծառայություններ | C25: ՀԲՄ | D25: դրամ | E25: 770400 | F25: 1 | G25: =+F25*E25/1000 -> 770.4
A26: 71241200/545 | B26: նախագծերի պատրաստում, ծախսերի գնահատում | C26: ՀԲՄ | D26: դրամ | E26: 13980000 | F26: 1 | G26: =+F26*E26/1000 -> 13980
A27: 71241200 | B27: նախագծերի պատրաստում, ծախսերի գնահատում | C27: ՀՄԱ | D27: դրամ | E27: 33000000 | F27: 1 | G27: =+F27*E27/1000 -> 33000
A28: 71241200 | B28: նախագծերի պատրաստում, ծախսերի գնահատում | C28: ՀՄԱ | D28: դրամ | E28: 34000000 | F28: 1 | G28: =+F28*E28/1000 -> 34000
A29: 71241200 | B29: նախագծերի պատրաստում, ծախսերի գնահատում | C29: ՀՄԱ | D29: դրամ | E29: 39000000 | F29: 1 | G29: =+F29*E29/1000 -> 39000
A30: 71241200 | B30: նախագծերի պատրաստում, ծախսերի գնահատում | C30: ՀՄԱ | D30: դրամ | E30: 15000000 | F30: 1 | G30: =+F30*E30/1000 -> 15000
A31: 50531140/512 | B31: փորձաքննության ծառայություններ | C31: ԳՀ | D31: դրամ | E31: 1125600 | F31: 1 | G31: =+F31*E31/1000 -> 1125.6
A32: 50531140 | B32: փորձաքննության ծառայություններ | C32: ՀՄԱ | D32: դրամ | E32: 1530000 | F32: 1 | G32: =+F32*E32/1000 -> 1530
A33: 50531140 | B33: փորձաքննության ծառայություններ | C33: ՀՄԱ | D33: դրամ | E33: 2175000 | F33: 1 | G33: =+F33*E33/1000 -> 2175
A34: 50531140 | B34: փորձաքննության ծառայություններ | C34: ՀՄԱ | D34: դրամ | E34: 1850000 | F34: 1 | G34: =+F34*E34/1000 -> 1850
A35: 50531140 | B35: փորձաքննության ծառայություններ | C35: ՀՄԱ | D35: դրամ | E35: 1100000 | F35: 1 | G35: =+F35*E35/1000 -> 1100
