Workbook
Name AgencyCode: #REF!
Name AgencyCode: #REF!
Name AgencyName: #REF!
Name AgencyName: #REF!
Name davit: #REF!
Name davit: #REF!
Name Functional1: #REF!
Name Functional1: #REF!
Name ggg: #REF!
Name ggg: #REF!
Name PANature: #REF!
Name PANature: #REF!
Name PAType: #REF!
Name PAType: #REF!
Name Performance2: #REF!
Name Performance2: #REF!
Name PerformanceType: #REF!
Name PerformanceType: #REF!
Name Հավելված: #REF!
Name Հավելված: #REF!
Name Մաս: #REF!
Name Մաս: #REF!
Name շախմատիստ: #REF!
Name շախմատիստ: #REF!

Sheet Havelvats 1
C1: Հավելված N 1
C2: ՀՀ կառավարության 2021 թվականի
C3: ______________ ի ___Ն որոշման
A5: «ՀԱՅԱUՏԱՆԻ ՀԱՆՐԱՊԵՏՈՒԹՅԱՆ 2021 ԹՎԱԿԱՆԻ ՊԵՏԱԿԱՆ ԲՅՈՒՋԵԻ ՄԱUԻՆ» ՀԱՅԱUՏԱՆԻ ՀԱՆՐԱՊԵՏՈՒԹՅԱՆ OՐԵՆՔԻ N 1 ՀԱՎԵԼՎԱԾԻ N 2 ԱՂՅՈՒՍԱԿՈՒՄ ԿԱՏԱՐՎՈՂ ՎԵՐԱԲԱՇԽՈՒՄԸ ԵՎ ՀԱՅԱՍՏԱՆԻ ՀԱՆՐԱՊԵՏՈՒԹՅԱՆ ԿԱՌԱՎԱՐՈՒԹՅԱՆ 2020 ԹՎԱԿԱՆԻ ԴԵԿՏԵՄԲԵՐԻ 30-Ի N 2215-Ն ՈՐՈՇՄԱՆ N 5 ՀԱՎԵԼՎԱԾԻ N 1 ԱՂՅՈՒՍԱԿՈՒՄ ԿԱՏԱՐՎՈՂ ՓՈՓՈԽՈՒԹՅՈՒՆՆԵՐԸ ԵՎ ԼՐԱՑՈՒՄՆԵՐԸ
D7: հազ. դրամներով
A8: Ծրագրային դասիչը | C8: Բյուջետային հատկացումների գլխավոր կարգադրիչների, ծրագրերի և միջոցառումների անվանումները | D8: Ցուցանիշների փոփոխությունը (ավելացումները նշված են դրական նշանով, իսկ նվազեցումները՝ փակագծերում)
A9: Ծրագիր | B9: Միջոցառում | D9: Տարի
C10: ԸՆԴԱՄԵՆԸ | D10: =+D12+D72 -> 0
C11: այդ թվում
C12: ՀՀ ԿՐԹՈՒԹՅԱՆ, ԳԻՏՈՒԹՅԱՆ, ՄՇԱԿՈՒՅԹԻ ԵՎ ՍՊՈՐՏԻ ՆԱԽԱՐԱՐՈՒԹՅՈՒՆ | D12: =+D14+D27+D40+D53 -> -976274.2
A13: 1075 | C13: Ծրագրի անվանումը`
C14: Մշակութային ժառանգության ծրագիր | D14: =+D21 -> -1274.2
C15: Ծրագրի նպատակը`
C16: Մշակութային ժառանգության պահպանում, օգտագործում, համալրում և հանրահռչակում
C17: Վերջնական արդյունքի նկարագրությունը`
C18: Մշակութային ժառանգության շարունակական պահպանում, մշակութային զբոսաշրջության զարգացում և խթանում
C19: Ծրագրի միջոցառումներ
B20: 21001 | C20: Միջոցառման անվանումը`
C21: Հուշարձանների ամրակայում, նորոգում և վերականգնում | D21: =+'Havelvats 2'!G22 -> -1274.2
C22: Միջոցառման նկարագրությունը`
C23: Հուշարձանների գիտանախագծային փաստաթղթերի կազմում, հրատապ ուսումնասիրում, վավերագրման և ուսումնասիրման աշխատանքներ, հետախուզում և հնագիտական պեղում, ամրակայում, նորոգում և վերականգնում
C24: Միջոցառման տեսակը
C25: Հանրության կողմից անմիջականորեն օգտագործվող ակտիվների հետ կապված միջոցառումներ
A26: 1146 | C26: Ծրագրի անվանումը`
C27: Հանրակրթության ծրագիր | D27: =+D34 -> -900000
C28: Ծրագրի նպատակը`
C29: Ապահովել անվճար և որակյալ հանրակրթություն
C30: Վերջնական արդյունքի նկարագրությունը`
C31: Մտավոր, հոգևոր, ֆիզիկական և սոցիալական ունակությունների համակողմանի ու ներդաշնակ զարգացմամբ, հայրենասիրության, պետականության և մարդասիրության ոգով դաստիրակված, պատշաճ վարքով և վարվելակերպով անձի ձևավորում
C32: Ծրագրի միջոցառումներ
B33: 12010 | C33: Միջոցառման անվանումը`
C34: «Մոդուլային» տիպի մանկապարտեզների շենքային ապահովում | D34: =+'Havelvats 2'!G41 -> -900000
C35: Միջոցառման նկարագրությունը`
C36: Համայնքներում «Մոդուլային» տիպի մանկապարտեզների կառուցում և նախագծում _x000D_
C37: Միջոցառման տեսակը
C38: Տրանսֆերտների տրամադրում
A39: 1163 | C39: Ծրագրի անվանումը`
C40: Մասսայական սպորտ | D40: =+D47 -> 150000
C41: Ծրագրի նպատակը`
C42: Բնակչության շրջանում առողջ ապրելակերպի արմատավորում, անհատի բազմակողմանի ու ներդաշնակ զարգացման գործում ֆիզիկական կուլտուրայի և սպորտի դերի բարձրացում
C43: Վերջնական արդյունքի նկարագրությունը`
C44: Սպորտի նկատմամբ հետաքրքրվածության և մասնակցության ընդլայնում
C45: Ծրագրի միջոցառումներ
B46: 12001 | C46: Միջոցառման անվանումը`
C47: Աջակցություն համայնքներին մարզական հաստատությունների շենքային պայմանների բարելավման համար | D47: =+'Havelvats 2'!G52 -> 150000
C48: Միջոցառման նկարագրությունը`
C49: Համայնքային ենթակայության մարզական հաստատությունների վերանորոգում և կառուցում
C50: Միջոցառման տեսակը
C51: Տրանսֆերտների տրամադրում
A52: 1183 | C52: Ծրագրի անվանումը`
C53: Ապահով դպրոց | D53: =+D60+D66 -> -225000
C54: Ծրագրի նպատակը`
C55: Դպրոցներին սպառնացող աղետների ռիսկի կառավարման կարողությունների հզորացում, դպրոցի անձնակազմի և աշակերտների անվտանգության ապահովման մակարդակի բարձրացում՛ կիրառելով ներառական և երեխայակենտրոն մոտեցում
C56: Վերջնական արդյունքի նկարագրությունը`
C57: Դպրոցական միջավայրի բարելավում
C58: Ծրագրի միջոցառումներ
B59: 32001 | C59: Միջոցառման անվանումը`
C60: Կրթական օբյեկտների շենքային պայմանների բարելավում | D60: =+'Havelvats 2'!G63 -> -100000
C61: Միջոցառման նկարագրությունը`
C62: Կրթական օբյեկտների շենքերի (մասնաշենքերի) հիմնանորոգում (համաշինարարական աշխատանքներ, ջեռուցման համակարգի իրականացում, ներքին հարդարում, տարածքի բարեկարգում) և նախագծում
C63: Միջոցառման տեսակը
C64: Այլ պետական կազմակերպությունների կողմից օգտագործվող ոչ ֆինանսական ակտիվների հետ գործառնություններ
B65: 32003 | C65: Միջոցառման անվանումը`
C66: Փոքրաքանակ երեխաներով համալրված հանրակրթական դպրոցների մոդուլային շենքերի կառուցում | D66: =+'Havelvats 2'!G72 -> -125000
C67: Միջոցառման նկարագրությունը`
C68: Կրթական հաստատությունների կառուցում համայնքային կենտրոնների մոդելով _x000D_
C69: Միջոցառման տեսակը
C70: Այլ պետական կազմակերպությունների կողմից օգտագործվող ոչ ֆինանսական ակտիվների հետ գործառնություններ
C72: ՀՀ ԿԱՌԱՎԱՐՈՒԹՅՈՒՆ | D72: =+D74 -> 976274.2
A73: 1139 | C73: Ծրագրի անվանումը`
C74: ՀՀ կառավարության պահուստային ֆոնդ | D74: =+D80 -> 976274.2
C75: Ծրագրի նպատակը`
C76: Պետական բյուջեում չկանխատեսված, ինչպես նաև բյուջետային երաշխիքների ապահովման ծախսերի ֆինանսավորման ապահովում
C77: Վերջնական արդյունքի նկարագրությունը`
C78: Պահուստային ֆոնդի կառավարման արդյունավետության և թափանցիկության ապահովում
B79: 11001 | C79: Միջոցառման անվանումը`
C80: ՀՀ կառավարության պահուստային ֆոնդ | D80: =+'Havelvats 2'!G93 -> 976274.2
C81: Միջոցառման նկարագրությունը`
C82: ՀՀ պետական բյուջեում նախատեսված ելքերի լրացուցիչ ֆինանսավորման՝ պետական բյուջեում չկանխատեսված ելքերի, ինչպես նաև բյուջետային երաշխիքների ապահովման ելքերի ֆինանսավորման ապահովում
C83: Միջոցառման տեսակը
C84: Ծառայությունների մատուցում

Sheet Havelvats 2
F1: Հավելված N 2
F2: ՀՀ կառավարության 2021 թվականի
F3: ______________ ի ___Ն որոշման
A5: ՀԱՅԱՍՏԱՆԻ ՀԱՆՐԱՊԵՏՈՒԹՅԱՆ ԿԱՌԱՎԱՐՈՒԹՅԱՆ 2020 ԹՎԱԿԱՆԻ ԴԵԿՏԵՄԲԵՐԻ 30-Ի N 2215-Ն ՈՐՈՇՄԱՆ N 3 ԵՎ N 4 ՀԱՎԵԼՎԱԾՆԵՐՈՒՄ ԿԱՏԱՐՎՈՂ ՓՈՓՈԽՈՒԹՅՈՒՆՆԵՐԸ ԵՎ ԼՐԱՑՈՒՄՆԵՐԸ
G6: հազ. դրամներով
A7: Գործառական դասիչը | D7: Ծրագրային դասիչը | F7: Բյուջետային հատկացումների գլխավոր կարգադրիչների, ծրագրերի, միջոցառումների և միջոցառումները կատարող պետական մարմինների անվանումները | G7: Ցուցանիշների փոփոխությունը (ավելացումները նշված են դրական նշանով, իսկ նվազեցումները՝ փակագծերում)
A8: Բաժին | B8: Խումբ | C8: Դաս | D8: Ծրագիր | E8: Միջոցառում | G8: Տարի
F9: ԸՆԴԱՄԵՆԸ | G9: =+G11+G82 -> 0
F10: այդ թվում
F11: ՀՀ ԿՐԹՈՒԹՅԱՆ, ԳԻՏՈՒԹՅԱՆ, ՄՇԱԿՈՒՅԹԻ ԵՎ ՍՊՈՐՏԻ ՆԱԽԱՐԱՐՈՒԹՅՈՒՆ | G11: =+G12+G31 -> -976274.2
A12: 08 | F12: ՀԱՆԳԻՍՏ, ՄՇԱԿՈՒՅԹ ԵՎ ԿՐՈՆ | G12: =+G14 -> -1274.2
F13: այդ թվում`
B14: 02 | F14: Մշակութային ծառայություններ | G14: =+G16 -> -1274.2
F15: այդ թվում`
C16: 07 | F16: Հուշարձանների և մշակութային արժեքների վերականգնում և պահպանում | G16: =+G18 -> -1274.2
F17: այդ թվում`
F18: ՀՀ կրթության, գիտության, մշակույթի և սպորտի նախարարություն | G18: =+G20 -> -1274.2
F19: այդ թվում`
D20: 1075 | E20: Մշակութային ժառանգության ծրագիր | G20: =+G22 -> -1274.2
F21: այդ թվում`
E22: 21001 | F22: Հուշարձանների ամրակայում, նորոգում և վերականգնում | G22: =+G24 -> -1274.2
F23: այդ թվում` ըստ կատարողների
F24: ՀՀ կրթության, գիտության, մշակույթի և սպորտի նախարարություն | G24: =+G26 -> -1274.2
F25: այդ թվում՝ բյուջետային ծախսերի տնտեսագիտական դասակարգման հոդվածներ
F26: ԸՆԴԱՄԵՆԸ ԾԱԽՍԵՐ | G26: =+G27 -> -1274.2
F27: ՈՉ ՖԻՆԱՆՍԱԿԱՆ ԱԿՏԻՎՆԵՐԻ ԳԾՈՎ ԾԱԽՍԵՐ | G27: =+G28 -> -1274.2
F28: ՀԻՄՆԱԿԱՆ ՄԻՋՈՑՆԵՐ | G28: =+G29 -> -1274.2
F29: ԱՅԼ ՀԻՄՆԱԿԱՆ ՄԻՋՈՑՆԵՐ | G29: =+G30 -> -1274.2
F30: - Նախագծահետազոտական ծախսեր | G30: =+'Havelvats 4'!E14 -> -1274.2
A31: 09 | F31: ԿՐԹՈՒԹՅՈՒՆ | G31: =+G33 -> -975000
F32: այդ թվում`
B33: 06 | F33: Կրթությանը տրամադրվող օժանդակ ծառայություններ | G33: =+G35 -> -975000
F34: այդ թվում`
C35: 01 | F35: Կրթությանը տրամադրվող օժանդակ ծառայություններ | G35: =+G37 -> -975000
F36: այդ թվում`
F37: ՀՀ կրթության, գիտության, մշակույթի և սպորտի նախարարություն | G37: =+G39+G50+G61 -> -975000
F38: այդ թվում`
D39: 1146 | E39: Հանրակրթության ծրագիր | G39: =+G41 -> -900000
F40: այդ թվում`
E41: 12010 | F41: «Մոդուլային» տիպի մանկապարտեզների շենքային ապահովում | G41: =+G43 -> -900000
F42: այդ թվում` ըստ կատարողների
F43: ՀՀ քաղաքաշինության կոմիտե | G43: =+G45 -> -900000
F44: այդ թվում՝ բյուջետային ծախսերի տնտեսագիտական դասակարգման հոդվածներ
F45: ԸՆԴԱՄԵՆԸ ԾԱԽՍԵՐ | G45: =+G46 -> -900000
F46: ՈՉ ՖԻՆԱՆՍԱԿԱՆ ԱԿՏԻՎՆԵՐԻ ԳԾՈՎ ԾԱԽՍԵՐ | G46: =+G47 -> -900000
F47: ՀԻՄՆԱԿԱՆ ՄԻՋՈՑՆԵՐ | G47: =+G48 -> -900000
F48: ՇԵՆՔԵՐ ԵՎ ՇԻՆՈՒԹՅՈՒՆՆԵՐ | G48: =+G49 -> -900000
F49: -Շենքերի և շինությունների շինարարություն | G49: =+'Havelvats 4'!E24 -> -900000
D50: 1163 | E50: Մասսայական սպորտ | G50: =+G52 -> 150000
F51: այդ թվում`
E52: 12001 | F52: Աջակցություն համայնքներին մարզական հաստատությունների շենքային պայմանների բարելավման համար | G52: =+G54 -> 150000
F53: այդ թվում` ըստ կատարողների
F54: ՀՀ քաղաքաշինության կոմիտե | G54: =+G56 -> 150000
F55: այդ թվում՝ բյուջետային ծախսերի տնտեսագիտական դասակարգման հոդվածներ
F56: ԸՆԴԱՄԵՆԸ ԾԱԽՍԵՐ | G56: =+G57 -> 150000
F57: ՈՉ ՖԻՆԱՆՍԱԿԱՆ ԱԿՏԻՎՆԵՐԻ ԳԾՈՎ ԾԱԽՍԵՐ | G57: =+G58 -> 150000
F58: ՀԻՄՆԱԿԱՆ ՄԻՋՈՑՆԵՐ | G58: =+G59 -> 150000
F59: ՇԵՆՔԵՐ ԵՎ ՇԻՆՈՒԹՅՈՒՆՆԵՐ | G59: =+G60 -> 150000
F60: -Շենքերի և շինությունների շինարարություն | G60: =+'Havelvats 4'!E46 -> 150000
D61: 1183 | E61: Ապահով դպրոց | G61: =+G63+G72 -> -225000
F62: այդ թվում`
E63: 32001 | F63: Կրթական օբյեկտների շենքային պայմանների բարելավում | G63: =+G65 -> -100000
F64: այդ թվում` ըստ կատարողների
F65: ՀՀ քաղաքաշինության կոմիտե | G65: =+G67 -> -100000
F66: այդ թվում՝ բյուջետային ծախսերի տնտեսագիտական դասակարգման հոդվածներ
F67: ԸՆԴԱՄԵՆԸ ԾԱԽՍԵՐ | G67: =+G68 -> -100000
F68: ՈՉ ՖԻՆԱՆՍԱԿԱՆ ԱԿՏԻՎՆԵՐԻ ԳԾՈՎ ԾԱԽՍԵՐ | G68: =+G69 -> -100000
F69: ՀԻՄՆԱԿԱՆ ՄԻՋՈՑՆԵՐ | G69: =+G70 -> -100000
F70: ՇԵՆՔԵՐ ԵՎ ՇԻՆՈՒԹՅՈՒՆՆԵՐ | G70: =+G71 -> -100000
F71: - Շենքերի և շինությունների կապիտալ վերանորոգում | G71: =+'Havelvats 4'!E52 -> -100000
E72: 32003 | F72: Փոքրաքանակ երեխաներով համալրված հանրակրթական դպրոցների մոդուլային շենքերի կառուցում | G72: =+G74 -> -125000
F73: այդ թվում` ըստ կատարողների
F74: ՀՀ քաղաքաշինության կոմիտե | G74: =+G76 -> -125000
F75: այդ թվում՝ բյուջետային ծախսերի տնտեսագիտական դասակարգման հոդվածներ
F76: ԸՆԴԱՄԵՆԸ ԾԱԽՍԵՐ | G76: =+G77 -> -125000
F77: ՈՉ ՖԻՆԱՆՍԱԿԱՆ ԱԿՏԻՎՆԵՐԻ ԳԾՈՎ ԾԱԽՍԵՐ | G77: =+G78 -> -125000
F78: ՀԻՄՆԱԿԱՆ ՄԻՋՈՑՆԵՐ | G78: =+G79 -> -125000
F79: ՇԵՆՔԵՐ ԵՎ ՇԻՆՈՒԹՅՈՒՆՆԵՐ | G79: =+G80 -> -125000
F80: -Շենքերի և շինությունների շինարարություն | G80: =+'Havelvats 4'!E58 -> -125000
F82: ՀՀ ԿԱՌԱՎԱՐՈՒԹՅՈՒՆ | G82: =+G83 -> 976274.2
A83: 11 | F83: ՀԻՄՆԱԿԱՆ ԲԱԺԻՆՆԵՐԻՆ ՉԴԱՍՎՈՂ ՊԱՀՈՒՍՏԱՅԻՆ ՖՈՆԴԵՐ | G83: =+G85 -> 976274.2
F84: այդ թվում`
B85: 01 | F85: ՀՀ կառավարության և համայնքների պահուստային ֆոնդ | G85: =+G87 -> 976274.2
F86: այդ թվում`
C87: 01 | F87: ՀՀ կառավարության պահուստային ֆոնդ | G87: =+G89 -> 976274.2
F88: այդ թվում`
F89: ՀՀ կառավարություն | G89: =+G91 -> 976274.2
F90: այդ թվում`
D91: 1139 | E91: ՀՀ կառավարության պահուստային ֆոնդ | F91: ՀՀ կառավարության պահուստային ֆոնդ | G91: =+G93 -> 976274.2
F92: այդ թվում`
E93: 11001 | F93: ՀՀ կառավարության պահուստային ֆոնդ | G93: =+G95 -> 976274.2
F94: այդ թվում` ըստ կատարողների
F95: ՀՀ կառավարություն | G95: =+G97 -> 976274.2
F96: այդ թվում` բյուջետային ծախսերի տնտեսագիտական դասակարգման հոդվածներ
F97: ԸՆԴԱՄԵՆԸ ԾԱԽՍԵՐ | G97: =+G98 -> 976274.2
F98: ԸՆԹԱՑԻԿ ԾԱԽՍԵՐ | G98: =+G99 -> 976274.2
F99: ԱՅԼ ԾԱԽՍԵՐ | G99: =+G100 -> 976274.2
F100: Պահուստային միջոցներ | G100: =-G11 -> 976274.2

Sheet Havelvats 3
F1: Հավելված N 3
F2: ՀՀ կառավարության 2021 թվականի
F3: ______________ ի ___Ն որոշման
A5: «ՀԱՅԱUՏԱՆԻ ՀԱՆՐԱՊԵՏՈՒԹՅԱՆ 2021 ԹՎԱԿԱՆԻ ՊԵՏԱԿԱՆ ԲՅՈՒՋԵԻ ՄԱUԻՆ» ՀԱՅԱUՏԱՆԻ ՀԱՆՐԱՊԵՏՈՒԹՅԱՆ OՐԵՆՔԻ N 1 ՀԱՎԵԼՎԱԾԻ N 3 ԱՂՅՈՒՍԱԿՈՒՄ ԿԱՏԱՐՎՈՂ ՓՈՓՈԽՈՒԹՅՈՒՆՆԵՐԸ ԵՎ ԼՐԱՑՈՒՄՆԵՐԸ
G8: հազ. դրամներով
A9: Ծրագրային դասիչ | C9: Բյուջետային գլխավոր կարգադրիչների, ծրագրերի, միջոցառումների, միջոցառումները կատարող պետական մարմինների և ուղղությունների անվանումները | D9: Ընդամենը | E9: Ցուցանիշների փոփոխությունը (ավելացումները նշված են դրական նշանով, իսկ նվազեցումները՝ փակագծերում)
A10: Ծրագիր | B10: Միջոցառում | E10: Կառուցման աշխատանքներ | F10: Վերակառուցման, վերանորոգման և վերականգնման աշխատանքներ | G10: Նախագծահե- տազոտական, գեոդեզիա- քարտեզագրա- կան աշխա- տանքներ | H10: Ոչ ֆինանսական այլ ակտիվների ձեռքբերում
C11: ԸՆԴԱՄԵՆԸ | D11: =SUM(E11:H11) -> -976274.2 | E11: =+E13 -> -875000 | F11: =+F13 -> -100000 | G11: =+G13 -> -1274.2 | H11: =+H13 -> 0
C12: այդ թվում՝
C13: ՀՀ ԿՐԹՈՒԹՅԱՆ, ԳԻՏՈՒԹՅԱՆ, ՄՇԱԿՈՒՅԹԻ ԵՎ ՍՊՈՐՏԻ ՆԱԽԱՐԱՐՈՒԹՅՈՒՆ | D13: =SUM(E13:H13) -> -976274.2 | E13: =+E15+E23+E43+E47+E51 -> -875000 | F13: =+F15+F23+F43+F47+F51 -> -100000 | G13: =+G15+G23+G43+G47+G51 -> -1274.2 | H13: =+H15+H23+H43+H47+H51 -> 0
C14: այդ թվում`
A15: 1075 | B15: 21001 | C15: Հուշարձանների ամրակայում, նորոգում և վերականգնում | D15: =SUM(E15:H15) -> -1274.2 | E15: =+E17 -> 0 | F15: =+F17 -> 0 | G15: =+G17 -> -1274.2 | H15: =+H17 -> 0
C16: այդ թվում`
C17: 2. Վավերագրման և ուսումնասիրման աշխատանքներ, (այդ թվում՝ հետախուզումև պեղում), գիտանախագծային փաստաթղթերի կազմում և փորձաքննում | D17: =SUM(E17:H17) -> -1274.2 | E17: =+E19+E21 -> 0 | F17: =+F19+F21 -> 0 | G17: =+G19+G21 -> -1274.2 | H17: =+H19+H21 -> 0
C18: որից`
C19: ՀՀ Արագածոտնի մարզ | D19: =SUM(E19:H19) -> -437 | E19: =+E20 -> 0 | F19: =+F20 -> 0 | G19: =+G20 -> -437 | H19: =+H20 -> 0
C20: Ագարակ հնավայրի վաղ բրոնզի դարի կացարանների, միջնադարյան համալիրի և Պարսպապատի ամրակայում | D20: =SUM(E20:H20) -> -437 | G20: =+'Havelvats 7'!I15 -> -437
C21: ՀՀ Վայոց Ձորի մարզ | D21: =SUM(E21:G21) -> -837.2 | E21: =+E22 -> 0 | F21: =+F22 -> 0 | G21: =+G22 -> -837.2 | H21: =+H22 -> 0
C22: Շատիվանքի վանական համալիրի ամրակայում, մասնակի վերականգնում և տարածքի բարեկարգում | D22: =SUM(E22:H22) -> -837.2 | G22: =+'Havelvats 7'!I16 -> -837.2
A23: 1146 | B23: 12010 | C23: «Մոդուլային» տիպի մանկապարտեզների շենքային ապահովում | D23: =SUM(E23:H23) -> -900000 | E23: =+E25+E27+E29+E31+E33+E35+E37+E39+E41 -> -900000 | F23: =+F25+F27+F29+F31+F33+F35+F37+F39+F41 -> 0 | G23: =+G25+G27+G29+G31+G33+G35+G37+G39+G41 -> 0 | H23: =+H25+H27+H29+H31+H33+H35+H37+H39+H41 -> 0
C24: այդ թվում`
C25: ՀՀ Արագածոտնի մարզ | D25: =SUM(E25:H25) -> -100000 | E25: =+E26 -> -100000 | F25: =+F26 -> 0 | G25: =+G26 -> 0 | H25: =+H26 -> 0
C26: ՀՀ Արագածոտնի մարզի Ալագյազ համայնքում «Մոդուլային» տիպի 144 տեղ հզորությամբ մսուր-մանկապարտեզ | D26: =SUM(E26:H26) -> -100000 | E26: -100000
C27: ՀՀ Արարատի մարզ | D27: =SUM(E27:H27) -> -100000 | E27: =+E28 -> -100000 | F27: =+F28 -> 0 | G27: =+G28 -> 0 | H27: =+H28 -> 0
C28: ՀՀ Արարատի մարզի Արալեզ համայնքում «Մոդուլային» տիպի 144 տեղ հզորությամբ մսուր-մանկապարտեզ | D28: =SUM(E28:H28) -> -100000 | E28: -100000
C29: ՀՀ Գեղարքունիքի մարզ | D29: =SUM(E29:H29) -> -100000 | E29: =+E30 -> -100000 | F29: =+F30 -> 0 | G29: =+G30 -> 0 | H29: =+H30 -> 0
C30: ՀՀ Գեղարքունիքի մարզի Աստղաձոր համայնքում «Մոդուլային» տիպի 144 տեղ հզորությամբ մսուր-մանկապարտեզ | D30: =SUM(E30:H30) -> -100000 | E30: -100000
C31: ՀՀ Լոռու մարզ | D31: =SUM(E31:H31) -> -100000 | E31: =+E32 -> -100000 | F31: =+F32 -> 0 | G31: =+G32 -> 0 | H31: =+H32 -> 0
C32: ՀՀ Լոռու մարզի Սպիտակ համայնքում «Մոդուլային» տիպի 144 տեղ հզորությամբ մսուր-մանկապարտեզ | D32: =SUM(E32:H32) -> -100000 | E32: -100000
C33: ՀՀ Կոտայքի մարզ | D33: =SUM(E33:H33) -> -100000 | E33: =+E34 -> -100000 | F33: =+F34 -> 0 | G33: =+G34 -> 0 | H33: =+H34 -> 0
C34: ՀՀ Կոտայքի մարզի Հրազդան համայնքում «Մոդուլային» տիպի 144 տեղ հզորությամբ մսուր-մանկապարտեզ | D34: =SUM(E34:H34) -> -100000 | E34: -100000
C35: ՀՀ Շիրակի մարզ | D35: =SUM(E35:H35) -> -100000 | E35: =+E36 -> -100000 | F35: =+F36 -> 0 | G35: =+G36 -> 0 | H35: =+H36 -> 0
C36: ՀՀ Շիրակի մարզի Արթիկ համայնքում «Մոդուլային» տիպի 144 տեղ հզորությամբ մսուր-մանկապարտեզ | D36: =SUM(E36:H36) -> -100000 | E36: -100000
C37: ՀՀ Սյունիքի մարզ | D37: =SUM(E37:H37) -> -100000 | E37: =+E38 -> -100000 | F37: =+F38 -> 0 | G37: =+G38 -> 0 | H37: =+H38 -> 0
C38: ՀՀ Սյունիքի մարզի Սիսիան համայնքում «Մոդուլային» տիպի 144 տեղ հզորությամբ մսուր-մանկապարտեզ | D38: =SUM(E38:H38) -> -100000 | E38: -100000
C39: ՀՀ Վայոց Ձորի մարզ | D39: =SUM(E39:H39) -> -100000 | E39: =+E40 -> -100000 | F39: =+F40 -> 0 | G39: =+G40 -> 0 | H39: =+H40 -> 0
C40: ՀՀ Վայոց ձորի մարզի Եղեգիս համայնքի Շատին բնակավայրում «Մոդուլային» տիպի 144 տեղ հզորությամբ մսուր-մանկապարտեզ | D40: =SUM(E40:H40) -> -100000 | E40: -100000
C41: ՀՀ Տավուշի մարզ | D41: =SUM(E41:H41) -> -100000 | E41: =+E42 -> -100000 | F41: =+F42 -> 0 | G41: =+G42 -> 0 | H41: =+H42 -> 0
C42: ՀՀ Տավուշի մարզի Այրում համայնքի Բագրատաշեն բնակավայրում «Մոդուլային» տիպի 144 տեղ հզորությամբ մսուր-մանկապարտեզ | D42: =SUM(E42:H42) -> -100000 | E42: -100000
A43: 1163 | B43: 12001 | C43: Աջակցություն համայնքներին մարզական հաստատությունների շենքային պայմանների բարելավման համար | D43: =SUM(E43:H43) -> 150000 | E43: =+E45 -> 150000 | F43: =+F45 -> 0 | G43: =+G45 -> 0 | H43: =+H45 -> 0
C44: այդ թվում`
C45: ՀՀ Շիրակի մարզ | D45: =SUM(E45:H45) -> 150000 | E45: =+E46 -> 150000
C46: «Արթուր Ալեքսանյանի անվան հունահռոմեական ըմբշամարտի մանկապատանեկան դպրոց» նոր սպորտային համալիր | D46: =SUM(E46:H46) -> 150000 | E46: =+'Havelvats 7'!I50 -> 150000
A47: 1183 | B47: 32001 | C47: Կրթական օբյեկտների շենքային պայմանների բարելավում | D47: =SUM(E47:H47) -> -100000 | E47: =+E49 -> 0 | F47: =+F49 -> -100000 | G47: =+G49 -> 0 | H47: =+H49 -> 0
C48: այդ թվում`
C49: Երևան քաղաք | D49: =SUM(E49:H49) -> -100000 | F49: =+F50 -> -100000
C50: «Երևանի թիվ 22 հիմնական դպրոց» ՊՈԱԿ | D50: =SUM(E50:H50) -> -100000 | F50: =+'Havelvats 7'!I56 -> -100000
A51: 1183 | B51: 32003 | C51: Փոքրաքանակ երեխաներով համալրված հանրակրթական դպրոցների մոդուլային շենքերի կառուցում | D51: =SUM(E51:H51) -> -125000 | E51: =+E53+E55 -> -125000 | F51: =+F53+F55 -> 0 | G51: =+G53+G55 -> 0 | H51: =+H53+H55 -> 0
C52: այդ թվում`
C53: ՀՀ Կոտայքի մարզ | D53: =SUM(E53:H53) -> 50000 | E53: =+E54 -> 50000
C54: «Ջրառատի միջնակարգ դպրոց» ՊՈԱԿ | D54: =SUM(E54:H54) -> 50000 | E54: =+'Havelvats 7'!I65+'Havelvats 7'!I68+297 -> 50000
C55: ՀՀ Վայոց Ձորի մարզ | D55: =SUM(E55:H55) -> -175000 | E55: =SUM(E56:E57) -> -175000 | F55: =SUM(F56:F57) -> 0 | G55: =SUM(G56:G57) -> 0 | H55: =SUM(H56:H57) -> 0
C56: «Եղեգիսի միջնակարգ դպրոց» ՊՈԱԿ | D56: =SUM(E56:H56) -> -100000 | E56: =+'Havelvats 7'!I64-3930-594.3 -> -100000
C57: «Չիվայի միջնակարգ դպրոց» ՊՈԱԿ | D57: =SUM(E57:H57) -> -75000 | E57: =+'Havelvats 7'!I66-3035.6-469.4 -> -75000

Sheet Havelvats 4
D1: Հավելված N 4
D2: ՀՀ կառավարության 2021 թվականի
D3: ______________ ի ___Ն որոշման
B5: ՀԱՅԱՍՏԱՆԻ ՀԱՆՐԱՊԵՏՈՒԹՅԱՆ ԿԱՌԱՎԱՐՈՒԹՅԱՆ 2020 ԹՎԱԿԱՆԻ ԴԵԿՏԵՄԲԵՐԻ 30-Ի N 2215-Ն ՈՐՈՇՄԱՆ N 5 ՀԱՎԵԼՎԱԾԻ N 2 ԱՂՅՈՒՍԱԿՈՒՄ ԿԱՏԱՐՎՈՂ ՓՈՓՈԽՈՒԹՅՈՒՆՆԵՐԸ ԵՎ ԼՐԱՑՈՒՄՆԵՐԸ
E7: հազ. դրամներով
B8: Ծրագրային դասիչ | D8: Բյուջետային գլխավոր կարգադրիչների, ծրագրերի, միջոցառումների, միջոցառումները կատարող պետական մարմինների և ուղղությունների անվանումները | E8: Ցուցանիշների փոփոխությունը (ավելացումները նշված են դրական նշանով, իսկ նվազեցումները՝ փակագծերում)
B9: Ծրագիր | C9: Միջոցառում | E9: Տարի
D10: ՀՀ ԿՐԹՈՒԹՅԱՆ, ԳԻՏՈՒԹՅԱՆ, ՄՇԱԿՈՒՅԹԻ ԵՎ ՍՊՈՐՏԻ ՆԱԽԱՐԱՐՈՒԹՅՈՒՆ | E10: =+E12+E22+E44+E50+E56 -> -976274.2
D11: այդ թվում՝
B12: 1075 | C12: 21001 | D12: Հուշարձանների ամրակայում, նորոգում և վերականգնում | E12: =+E14 -> -1274.2
D13: այդ թվում` ըստ կատարողների
D14: ՀՀ կրթության, գիտության, մշակույթի և սպորտի նախարարություն | E14: =+E16 -> -1274.2
D15: այդ թվում`ըստ ուղղությունների
D16: 2. Վավերագրման և ուսումնասիրման աշխատանքներ, (այդ թվում՝ հետախուզումև պեղում), գիտանախագծային փաստաթղթերի կազմում և փորձաքննում | E16: =+E18+E20 -> -1274.2
D17: որից`
D18: ՀՀ Արագածոտնի մարզ | E18: =+E19 -> -437
D19: Ագարակ հնավայրի վաղ բրոնզի դարի կացարանների, միջնադարյան համալիրի և Պարսպապատի ամրակայում | E19: =+'Havelvats 3'!D20 -> -437
D20: ՀՀ Վայոց Ձորի մարզ | E20: =+E21 -> -837.2
D21: Շատիվանքի վանական համալիրի ամրակայում, մասնակի վերականգնում և տարածքի բարեկարգում | E21: =+'Havelvats 3'!D22 -> -837.2
B22: 1146 | C22: 12010 | D22: «Մոդուլային» տիպի մանկապարտեզների շենքային ապահովում | E22: =+E24 -> -900000
D23: այդ թվում` ըստ կատարողների
D24: ՀՀ քաղաքաշինության կոմիտե | E24: =+E26+E28+E30+E32+E34+E36+E38+E40+E42 -> -900000
D25: այդ թվում`ըստ ուղղությունների
D26: ՀՀ Արագածոտնի մարզ | E26: =+E27 -> -100000
D27: ՀՀ Արագածոտնի մարզի Ալագյազ համայնքում «Մոդուլային» տիպի 144 տեղ հզորությամբ մսուր-մանկապարտեզ | E27: =+'Havelvats 3'!D26 -> -100000
D28: ՀՀ Արարատի մարզ | E28: =+E29 -> -100000
D29: ՀՀ Արարատի մարզի Արալեզ համայնքում «Մոդուլային» տիպի 144 տեղ հզորությամբ մսուր-մանկապարտեզ | E29: =+'Havelvats 3'!D28 -> -100000
D30: ՀՀ Գեղարքունիքի մարզ | E30: =+E31 -> -100000
D31: ՀՀ Գեղարքունիքի մարզի Աստղաձոր համայնքում «Մոդուլային» տիպի 144 տեղ հզորությամբ մսուր-մանկապարտեզ | E31: =+'Havelvats 3'!D30 -> -100000
D32: ՀՀ Լոռու մարզ | E32: =+E33 -> -100000
D33: ՀՀ Լոռու մարզի Սպիտակ համայնքում «Մոդուլային» տիպի 144 տեղ հզորությամբ մսուր-մանկապարտեզ | E33: =+'Havelvats 3'!D32 -> -100000
D34: ՀՀ Կոտայքի մարզ | E34: =+E35 -> -100000
D35: ՀՀ Կոտայքի մարզի Հրազդան համայնքում «Մոդուլային» տիպի 144 տեղ հզորությամբ մսուր-մանկապարտեզ | E35: =+'Havelvats 3'!D34 -> -100000
D36: ՀՀ Շիրակի մարզ | E36: =+E37 -> -100000
D37: ՀՀ Շիրակի մարզի Արթիկ համայնքում «Մոդուլային» տիպի 144 տեղ հզորությամբ մսուր-մանկապարտեզ | E37: =+'Havelvats 3'!D36 -> -100000
D38: ՀՀ Սյունիքի մարզ | E38: =+E39 -> -100000
D39: ՀՀ Սյունիքի մարզի Սիսիան համայնքում «Մոդուլային» տիպի 144 տեղ հզորությամբ մսուր-մանկապարտեզ | E39: =+'Havelvats 3'!D38 -> -100000
D40: ՀՀ Վայոց Ձորի մարզ | E40: =+E41 -> -100000
D41: ՀՀ Վայոց ձորի մարզի Եղեգիս համայնքի Շատին բնակավայրում «Մոդուլային» տիպի 144 տեղ հզորությամբ մսուր-մանկապարտեզ | E41: =+'Havelvats 3'!D40 -> -100000
D42: ՀՀ Տավուշի մարզ | E42: =+E43 -> -100000
D43: ՀՀ Տավուշի մարզի Այրում համայնքի Բագրատաշեն բնակավայրում «Մոդուլային» տիպի 144 տեղ հզորությամբ մսուր-մանկապարտեզ | E43: =+'Havelvats 3'!D42 -> -100000
B44: 1163 | C44: 12001 | D44: Աջակցություն համայնքներին մարզական հաստատությունների շենքային պայմանների բարելավման համար | E44: =+E46 -> 150000
D45: այդ թվում` ըստ կատարողների
D46: ՀՀ քաղաքաշինության կոմիտե | E46: =+E48 -> 150000
D47: այդ թվում`ըստ ուղղությունների
D48: ՀՀ Շիրակի մարզ | E48: =+E49 -> 150000
D49: «Արթուր Ալեքսանյանի անվան հունահռոմեական ըմբշամարտի մանկապատանեկան դպրոց» նոր սպորտային համալիր | E49: =+'Havelvats 3'!D46 -> 150000
B50: 1183 | C50: 32001 | D50: Կրթական օբյեկտների շենքային պայմանների բարելավում | E50: =+E52 -> -100000
D51: այդ թվում` ըստ կատարողների
D52: ՀՀ քաղաքաշինության կոմիտե | E52: =+E54 -> -100000
D53: այդ թվում`ըստ ուղղությունների
D54: Երևան քաղաք | E54: =+E55 -> -100000
D55: «Երևանի թիվ 22 հիմնական դպրոց» ՊՈԱԿ | E55: =+'Havelvats 3'!D50 -> -100000
B56: 1183 | C56: 32003 | D56: Փոքրաքանակ երեխաներով համալրված հանրակրթական դպրոցների մոդուլային շենքերի կառուցում | E56: =+E58 -> -125000
D57: այդ թվում` ըստ կատարողների
D58: ՀՀ քաղաքաշինության կոմիտե | E58: =+E60+E62 -> -125000
D59: այդ թվում`ըստ ուղղությունների
D60: ՀՀ Կոտայքի մարզ | E60: =+E61 -> 50000
D61: «Ջրառատի միջնակարգ դպրոց» ՊՈԱԿ | E61: =+'Havelvats 3'!D54 -> 50000
D62: ՀՀ Վայոց Ձորի մարզ | E62: =SUM(E63:E64) -> -175000
D63: «Եղեգիսի միջնակարգ դպրոց» ՊՈԱԿ | E63: =+'Havelvats 3'!D56 -> -100000
D64: «Չիվայի միջնակարգ դպրոց» ՊՈԱԿ | E64: =+'Havelvats 3'!D57 -> -75000

Sheet Havelvats 5
C1: Հավելված N 5
C2: ՀՀ կառավարության 2021 թվականի
C3: ______________ ի ___Ն որոշման
B5: ՀԱՅԱՍՏԱՆԻ ՀԱՆՐԱՊԵՏՈՒԹՅԱՆ ԿԱՌԱՎԱՐՈՒԹՅԱՆ 2020 ԹՎԱԿԱՆԻ ԴԵԿՏԵՄԲԵՐԻ 30-Ի N 2215-Ն ՈՐՈՇՄԱՆ N 9 ՀԱՎԵԼՎԱԾԻ NN 9.14 ԵՎ 9.47 ԱՂՅՈՒՍԱԿՆԵՐՈՒՄ ԿԱՏԱՐՎՈՂ ՓՈՓՈԽՈՒԹՅՈՒՆՆԵՐԸ ԵՎ ԼՐԱՑՈՒՄՆԵՐԸ
A7: Աղյուսակ 9․14
C8: ՀՀ կրթության, գիտության, մշակույթի և սպորտի նախարարություն
B9: ՄԱՍ 2. ՊԵՏԱԿԱՆ ՄԱՐՄՆԻ ԳԾՈՎ ԱՐԴՅՈՒՆՔԱՅԻՆ (ԿԱՏԱՐՈՂԱԿԱՆ) ՑՈՒՑԱՆԻՇՆԵՐԸ
B12: Ծրագրի դասիչը | C12: Ծրագրի անվանումը
B13: 1075 | C13: Մշակութային ժառանգության ծրագիր
B14: Ծրագրի միջոցառումները
B15: Ծրագրի դասիչը՝ | C15: 1075 | D15: Ցուցանիշների փոփոխությունը (նվազեցումները նշված են փակագծերում)
B16: Միջոցառման դասիչը՝ | C16: 21001 | D16: Տարի
B17: Միջոցառման անվանումը` | C17: Հուշարձանների ամրակայում, նորոգում և վերականգնում
B18: Նկարագրությունը` | C18: Հուշարձանների գիտանախագծային փաստաթղթերի կազմում, հրատապ ուսումնասիրում, վավերագրման և ուսումնասիրման աշխատանքներ, հետախուզում և հնագիտական պեղում, ամրակայում, նորոգում և վերականգնում
B19: Միջոցառման տեսակը` | C19: Հանրության կողմից անմիջականորեն օգտագործվող ակտիվների հետ կապված միջոցառումներ
B20: Միջոցառումն իրականացնողի անվանումը | C20: Մասնագիտացված կազմակերպություն
B21: Արդյունքի չափորոշիչներ
B22: Միջոցառման վրա կատարվող ծախսը (հազար դրամ) | D22: =+'Havelvats 1'!D21 -> -1274.2
B24: Ծրագրի դասիչը | C24: Ծրագրի անվանումը
B25: 1146 | C25: Հանրակրթության ծրագիր
B26: Ծրագրի միջոցառումները
B27: Ծրագրի դասիչը՝ | C27: 1146 | D27: Ցուցանիշների փոփոխությունը (նվազեցումները նշված են փակագծերում)
B28: Միջոցառման դասիչը՝ | C28: 12010 | D28: Տարի
B29: Միջոցառման անվանումը` | C29: «Մոդուլային» տիպի մանկապարտեզների շենքային ապահովում
B30: Նկարագրությունը` | C30: Համայնքներում «Մոդուլային» տիպի մանկապարտեզների կառուցում և նախագծում
B31: Միջոցառման տեսակը` | C31: Տրանսֆերտների տրամադրում
B32: Շահառուների ընտրության չափանիշները | C32: Նախադպրոցական կրթություն իրականացնող ուսումնական հաստատություններ
B33: Արդյունքի չափորոշիչներ
B34: Կազմակերպությունների թիվը, որտեղ կատարվում են ներդրումները, հատ | D34: -9
B35: Միջոցառման վրա կատարվող ծախսը (հազար դրամ) | D35: =+'Havelvats 1'!D34 -> -900000
B37: Ծրագրի դասիչը | C37: Ծրագրի անվանումը
B38: 1163 | C38: Մասսայական սպորտ
B39: Ծրագրի միջոցառումները
B40: Ծրագրի դասիչը՝ | C40: 1163 | D40: Ցուցանիշների փոփոխությունը (ավելացումները նշված են դրական նշանով)
B41: Միջոցառման դասիչը՝ | C41: 12001 | D41: Տարի
B42: Միջոցառման անվանումը` | C42: Աջակցություն համայնքներին մարզական հաստատությունների շենքային պայմանների բարելավման համար
B43: Նկարագրությունը` | C43: Համայնքային ենթակայության մարզական հաստատությունների վերանորոգում և կառուցում
B44: Միջոցառման տեսակը` | C44: Տրանսֆերտների տրամադրում
B45: Շահառուների ընտրության չափանիշները | C45: Համայնքային ենթակայության մարզական հաստատություններ
B46: Արդյունքի չափորոշիչներ
B47: Միջոցառման վրա կատարվող ծախսը (հազար դրամ) | D47: =+'Havelvats 1'!D47 -> 150000
B49: Ծրագրի դասիչը | C49: Ծրագրի անվանումը
B50: 1183 | C50: Ապահով դպրոց
B51: Ծրագրի միջոցառումները
B52: Ծրագրի դասիչը՝ | C52: 1183 | D52: Ցուցանիշների փոփոխությունը (նվազեցումները նշված են փակագծերում)
B53: Միջոցառման դասիչը՝ | C53: 32001 | D53: Տարի
B54: Միջոցառման անվանումը` | C54: Կրթական օբյեկտների շենքային պայմանների բարելավում
B55: Նկարագրությունը` | C55: Կրթական օբյեկտների շենքերի (մասնաշենքերի) հիմնանորոգում (համաշինարարական աշխատանքներ, ջեռուցման համակարգի իրականացում, ներքին հարդարում, տարածքի բարեկարգում) և նախագծում
B56: Միջոցառման տեսակը` | C56: Այլ պետական կազմակերպությունների կողմից օգտագործվող ոչ ֆինանսական ակտիվների հետ գործառնություններ
B57: Ակտիվն օգտագործող կազմակերպությունների անվանումները | C57: Հանրակրթական դպրոցներ
B58: Արդյունքի չափորոշիչներ
B59: Միջոցառման վրա կատարվող ծախսը (հազար դրամ) | D59: =+'Havelvats 1'!D60 -> -100000
B61: Ծրագրի դասիչը | C61: Ծրագրի անվանումը
B62: 1183 | C62: Ապահով դպրոց
B63: Ծրագրի միջոցառումները
B64: Ծրագրի դասիչը՝ | C64: 1183 | D64: Ցուցանիշների փոփոխությունը (նվազեցումները նշված են փակագծերում)
B65: Միջոցառման դասիչը՝ | C65: 32003 | D65: Տարի
B66: Միջոցառման անվանումը` | C66: Փոքրաքանակ երեխաներով համալրված հանրակրթական դպրոցների մոդուլային շենքերի կառուցում
B67: Նկարագրությունը` | C67: Կրթական հաստատությունների կառուցում համայնքային կենտրոնների մոդելով
B68: Միջոցառման տեսակը` | C68: Այլ պետական կազմակերպությունների կողմից օգտագործվող ոչ ֆինանսական ակտիվների հետ գործառնություններ
B69: Ակտիվն օգտագործող կազմակերպությունների անվանումները | C69: Փոքրաքանակ երեխաներով համալրված հանրակրթական դպրոցներ
B70: Արդյունքի չափորոշիչներ
B71: Միջոցառման վրա կատարվող ծախսը (հազար դրամ) | D71: =+'Havelvats 1'!D66 -> -125000
A74: Աղյուսակ 9․47
C75: ՀՀ կառավարություն
B76: ՄԱՍ 2. ՊԵՏԱԿԱՆ ՄԱՐՄՆԻ ԳԾՈՎ ԱՐԴՅՈՒՆՔԱՅԻՆ (ԿԱՏԱՐՈՂԱԿԱՆ) ՑՈՒՑԱՆԻՇՆԵՐԸ
B79: Ծրագրի դասիչը | C79: Ծրագրի անվանումը
B80: 1139 | C80: ՀՀ կառավարության պահուստային ֆոնդ
B81: Ծրագրի միջոցառումները
B82: Ծրագրի դասիչը՝ | C82: 1139 | D82: Ցուցանիշների փոփոխությունը (ավելացումները նշված են դրական նշանով)
B83: Միջոցառման դասիչը՝ | C83: 11001 | D83: Տարի
B84: Միջոցառման անվանումը՝ | C84: ՀՀ կառավարության պահուստային ֆոնդ
B85: Նկարագրությունը՝ | C85: ՀՀ պետական բյուջեում նախատեսված ելքերի լրացուցիչ ֆինանսավորման՝ պետական բյուջեում չկանխատեսված ելքերի, ինչպես նաև բյուջետային երաշխիքների ապահովման ելքերի ֆինանսավորման ապահովում
B86: Միջոցառման տեսակը՝ | C86: Ծառայությունների մատուցում
B87: Միջոցառումն իրականացնողի անվանումը | C87: ՀՀ կառավարություն
C88: Արդյունքի չափորոշիչներ
B89: Միջոցառման վրա կատարվող ծախսը (հազար դրամ) | D89: =+'Havelvats 1'!D80 -> 976274.2

Sheet Havelvats 6
C1: Հավելված N 6
C2: ՀՀ կառավարության 2021 թվականի
C3: ______________ ի ___Ն որոշման
B5: ՀԱՅԱՍՏԱՆԻ ՀԱՆՐԱՊԵՏՈՒԹՅԱՆ ԿԱՌԱՎԱՐՈՒԹՅԱՆ 2020 ԹՎԱԿԱՆԻ ԴԵԿՏԵՄԲԵՐԻ 30-Ի N 2215-Ն ՈՐՈՇՄԱՆ N 9.1 ՀԱՎԵԼՎԱԾԻ NN 9.1.14, 9.1.42 ԵՎ 9.1.58 ԱՂՅՈՒՍԱԿՆԵՐՈՒՄ ԿԱՏԱՐՎՈՂ ՓՈՓՈԽՈՒԹՅՈՒՆՆԵՐԸ ԵՎ ԼՐԱՑՈՒՄՆԵՐԸ
A7: Աղյուսակ 9․1.14
C8: ՀՀ կրթության, գիտության, մշակույթի և սպորտի նախարարություն
B9: ՄԱՍ 1. ՊԵՏԱԿԱՆ ՄԱՐՄՆԻ ԳԾՈՎ ԱՐԴՅՈՒՆՔԱՅԻՆ (ԿԱՏԱՐՈՂԱԿԱՆ) ՑՈՒՑԱՆԻՇՆԵՐԸ
B12: Ծրագրի դասիչը | C12: Ծրագրի անվանումը
B13: 1075 | C13: Մշակութային ժառանգության ծրագիր
B14: Ծրագրի միջոցառումները
B15: Ծրագրի դասիչը՝ | C15: 1075 | D15: Ցուցանիշների փոփոխությունը (նվազեցումները նշված են փակագծերում)
B16: Միջոցառման դասիչը՝ | C16: 21001 | D16: Տարի
B17: Միջոցառման անվանումը` | C17: Հուշարձանների ամրակայում, նորոգում և վերականգնում
B18: Նկարագրությունը` | C18: Հուշարձանների գիտանախագծային փաստաթղթերի կազմում, հրատապ ուսումնասիրում, վավերագրման և ուսումնասիրման աշխատանքներ, հետախուզում և հնագիտական պեղում, ամրակայում, նորոգում և վերականգնում
B19: Միջոցառման տեսակը` | C19: Հանրության կողմից անմիջականորեն օգտագործվող ակտիվների հետ կապված միջոցառումներ
B20: Միջոցառումն իրականացնողի անվանումը | C20: Մասնագիտացված կազմակերպություն
B21: Արդյունքի չափորոշիչներ
B22: Միջոցառման վրա կատարվող ծախսը (հազար դրամ) | D22: =+'Havelvats 2'!G24 -> -1274.2
A25: Աղյուսակ 9․1.42
C26: ՀՀ քաղաքաշինության կոմիտե
B27: ՄԱՍ 1. ՊԵՏԱԿԱՆ ՄԱՐՄՆԻ ԳԾՈՎ ԱՐԴՅՈՒՆՔԱՅԻՆ (ԿԱՏԱՐՈՂԱԿԱՆ) ՑՈՒՑԱՆԻՇՆԵՐԸ
B30: Ծրագրի դասիչը | C30: Ծրագրի անվանումը
B31: 1146 | C31: Հանրակրթության ծրագիր
B32: Ծրագրի միջոցառումները
B33: Ծրագրի դասիչը՝ | C33: 1146 | D33: Ցուցանիշների փոփոխությունը (նվազեցումները նշված են փակագծերում)
B34: Միջոցառման դասիչը՝ | C34: 12010 | D34: Տարի
B35: Միջոցառման անվանումը` | C35: «Մոդուլային» տիպի մանկապարտեզների շենքային ապահովում
B36: Նկարագրությունը` | C36: Համայնքներում «Մոդուլային» տիպի մանկապարտեզների կառուցում և նախագծում
B37: Միջոցառման տեսակը` | C37: Տրանսֆերտների տրամադրում
B38: Շահառուների ընտրության չափանիշները | C38: Նախադպրոցական կրթություն իրականացնող ուսումնական հաստատություններ
B39: Արդյունքի չափորոշիչներ
B40: Կազմակերպությունների թիվը, որտեղ կատարվում են ներդրումները, հատ | D40: -9
B41: Միջոցառման վրա կատարվող ծախսը (հազար դրամ) | D41: =+'Havelvats 2'!G43 -> -900000
B43: Ծրագրի դասիչը | C43: Ծրագրի անվանումը
B44: 1163 | C44: Մասսայական սպորտ
B45: Ծրագրի միջոցառումները
B46: Ծրագրի դասիչը՝ | C46: 1163 | D46: Ցուցանիշների փոփոխությունը (ավելացումները նշված են դրական նշանով)
B47: Միջոցառման դասիչը՝ | C47: 12001 | D47: Տարի
B48: Միջոցառման անվանումը` | C48: Աջակցություն համայնքներին մարզական հաստատությունների շենքային պայմանների բարելավման համար
B49: Նկարագրությունը` | C49: Համայնքային ենթակայության մարզական հաստատությունների վերանորոգում և կառուցում
B50: Միջոցառման տեսակը` | C50: Տրանսֆերտների տրամադրում
B51: Շահառուների ընտրության չափանիշները | C51: Համայնքային ենթակայության մարզական հաստատություններ
B52: Արդյունքի չափորոշիչներ
B53: Միջոցառման վրա կատարվող ծախսը (հազար դրամ) | D53: =+'Havelvats 2'!G54 -> 150000
B55: Ծրագրի դասիչը | C55: Ծրագրի անվանումը
B56: 1183 | C56: Ապահով դպրոց
B57: Ծրագրի միջոցառումները
B58: Ծրագրի դասիչը՝ | C58: 1183 | D58: Ցուցանիշների փոփոխությունը (նվազեցումները նշված են փակագծերում)
B59: Միջոցառման դասիչը՝ | C59: 32001 | D59: Տարի
B60: Միջոցառման անվանումը` | C60: Կրթական օբյեկտների շենքային պայմանների բարելավում
B61: Նկարագրությունը` | C61: Կրթական օբյեկտների շենքերի (մասնաշենքերի) հիմնանորոգում (համաշինարարական աշխատանքներ, ջեռուցման համակարգի իրականացում, ներքին հարդարում, տարածքի բարեկարգում) և նախագծում
B62: Միջոցառման տեսակը` | C62: Այլ պետական կազմակերպությունների կողմից օգտագործվող ոչ ֆինանսական ակտիվների հետ գործառնություններ
B63: Ակտիվն օգտագործող կազմակերպությունների անվանումները | C63: Հանրակրթական դպրոցներ
B64: Արդյունքի չափորոշիչներ
B65: Միջոցառման վրա կատարվող ծախսը (հազար դրամ) | D65: =+'Havelvats 2'!G65 -> -100000
B67: Ծրագրի դասիչը | C67: Ծրագրի անվանումը
B68: 1183 | C68: Ապահով դպրոց
B69: Ծրագրի միջոցառումները
B70: Ծրագրի դասիչը՝ | C70: 1183 | D70: Ցուցանիշների փոփոխությունը (նվազեցումները նշված են փակագծերում)
B71: Միջոցառման դասիչը՝ | C71: 32003 | D71: Տարի
B72: Միջոցառման անվանումը` | C72: Փոքրաքանակ երեխաներով համալրված հանրակրթական դպրոցների մոդուլային շենքերի կառուցում
B73: Նկարագրությունը` | C73: Կրթական հաստատությունների կառուցում համայնքային կենտրոնների մոդելով
B74: Միջոցառման տեսակը` | C74: Այլ պետական կազմակերպությունների կողմից օգտագործվող ոչ ֆինանսական ակտիվների հետ գործառնություններ
B75: Ակտիվն օգտագործող կազմակերպությունների անվանումները | C75: Փոքրաքանակ երեխաներով համալրված հանրակրթական դպրոցներ
B76: Արդյունքի չափորոշիչներ
B77: Միջոցառման վրա կատարվող ծախսը (հազար դրամ) | D77: =+'Havelvats 2'!G74 -> -125000
A81: Աղյուսակ 9.1.58
C82: ՀՀ կառավարություն
B83: ՄԱՍ 2. ՊԵՏԱԿԱՆ ՄԱՐՄՆԻ ԳԾՈՎ ԱՐԴՅՈՒՆՔԱՅԻՆ (ԿԱՏԱՐՈՂԱԿԱՆ) ՑՈՒՑԱՆԻՇՆԵՐԸ
B86: Ծրագրի դասիչը | C86: Ծրագրի անվանումը
B87: 1139 | C87: ՀՀ կառավարության պահուստային ֆոնդ
B88: Ծրագրի միջոցառումները
B89: Ծրագրի դասիչը՝ | C89: 1139 | D89: Ցուցանիշների փոփոխությունը (ավելացումները նշված են դրական նշանով)
B90: Միջոցառման դասիչը՝ | C90: 11001 | D90: Տարի
B91: Միջոցառման անվանումը՝ | C91: ՀՀ կառավարության պահուստային ֆոնդ
B92: Նկարագրությունը՝ | C92: ՀՀ պետական բյուջեում նախատեսված ելքերի լրացուցիչ ֆինանսավորման՝ պետական բյուջեում չկանխատեսված ելքերի, ինչպես նաև բյուջետային երաշխիքների ապահովման ելքերի ֆինանսավորման ապահովում
B93: Միջոցառման տեսակը՝ | C93: Ծառայությունների մատուցում
B94: Միջոցառումն իրականացնողի անվանումը | C94: ՀՀ կառավարություն
C95: Արդյունքի չափորոշիչներ
B96: Միջոցառման վրա կատարվող ծախսը (հազար դրամ) | D96: =+'Havelvats 2'!G95 -> 976274.2

Sheet Havelvats 7
H1: Հավելված N 7
H2: ՀՀ կառավարության 2021 թվականի
H3: ______________ ի ___Ն որոշման
A5: ՀԱՅԱՍՏԱՆԻ ՀԱՆՐԱՊԵՏՈՒԹՅԱՆ ԿԱՌԱՎԱՐՈՒԹՅԱՆ 2020 ԹՎԱԿԱՆԻ ԴԵԿՏԵՄԲԵՐԻ 30-Ի N 2215-Ն ՈՐՈՇՄԱՆ N 10 ՀԱՎԵԼՎԱԾՈՒՄ ԿԱՏԱՐՎՈՂ ՓՈՓՈԽՈՒԹՅՈՒՆՆԵՐԸ ԵՎ ԼՐԱՑՈՒՄՆԵՐԸ
A7: Կոդը | B7: Անվանումը | E7: Գնման ձևը | F7: Չափման միավորը | G7: Միավորի գինը | H7: Ցուցանիշների փոփոխությունը (ավելացումները նշված են դրական նշանով, իսկ նվազեցումները` փակագծերում)
H8: Քանակը | I8: Գումարը (հազար դրամ)
A10: 1 | B10: 2 | E10: 3 | F10: 4 | G10: 5 | H10: 6 | I10: 7
A11: ՀՀ կրթության, գիտության, մշակույթի և սպորտի նախարարություն | I11: =+I12 -> -1274.2
A12: Բաժին N 08 | B12: Խումբ N 02 | C12: Դաս N 07 | D12: Հուշարձանների և մշակութային արժեքների վերականգնում և պահպանում | I12: =+I13 -> -1274.2
A13: 1075-21001 | B13: Հուշարձանների ամրակայում, նորոգում և վերականգնում | I13: =+I14 -> -1274.2
B14: ՄԱՍ III. ԾԱՌԱՅՈՒԹՅՈՒՆՆԵՐ | I14: =SUM(I15:I16) -> -1274.2
A15: 50531140-1 | B15: փորձաքննության ծառայություններ | E15: ԳՀ | F15: դրամ | G15: 437000 | H15: 1 | I15: =-G15/1000 -> -437
A16: 50531140-3 | B16: փորձաքննության ծառայություններ | E16: ԳՀ | F16: դրամ | G16: 837200 | H16: 1 | I16: =-G16/1000 -> -837.2
A18: ՀՀ քաղաքաշինության կոմիտե | I18: =+I19 -> -975000
A19: Բաժին N 09 | B19: Խումբ N 06 | C19: Դաս N 01 | D19: Կրթությանը տրամադրվող օժանդակ ծառայություններ | I19: =+I20+I50+I56+I62 -> -975000
A20: 1146-12010 | B20: «Մոդուլային» տիպի մանկապարտեզների շենքային ապահովում | I20: =+I21+I31 -> -900000
B21: ՄԱՍ II. ԱՇԽԱՏԱՆՔՆԵՐ | I21: =SUM(I22:I30) -> -860420.7
A22: 45221142-7 | B22: ընդհանուր շինարարական աշխատանքներ | E22: ՀԲՄ | F22: դրամ | G22: 95602294 | H22: 1 | I22: -95602.3
A23: 45221142-8 | B23: ընդհանուր շինարարական աշխատանքներ | E23: ՀԲՄ | F23: դրամ | G23: 95602294 | H23: 1 | I23: -95602.3
A24: 45221142-9 | B24: ընդհանուր շինարարական աշխատանքներ | E24: ՀԲՄ | F24: դրամ | G24: 95602294 | H24: 1 | I24: -95602.3
A25: 45221142-10 | B25: ընդհանուր շինարարական աշխատանքներ | E25: ՀԲՄ | F25: դրամ | G25: 95602294 | H25: 1 | I25: -95602.3
A26: 45221142-11 | B26: ընդհանուր շինարարական աշխատանքներ | E26: ՀԲՄ | F26: դրամ | G26: 95602294 | H26: 1 | I26: -95602.3
A27: 45221142-12 | B27: ընդհանուր շինարարական աշխատանքներ | E27: ՀԲՄ | F27: դրամ | G27: 95602294 | H27: 1 | I27: -95602.3
A28: 45221142-13 | B28: ընդհանուր շինարարական աշխատանքներ | E28: ՀԲՄ | F28: դրամ | G28: 95602294 | H28: 1 | I28: -95602.3
A29: 45221142-14 | B29: ընդհանուր շինարարական աշխատանքներ | E29: ՀԲՄ | F29: դրամ | G29: 95602294 | H29: 1 | I29: -95602.3
A30: 45221142-15 | B30: ընդհանուր շինարարական աշխատանքներ | E30: ՀԲՄ | F30: դրամ | G30: 95602294 | H30: 1 | I30: -95602.3
B31: ՄԱՍ III. ԾԱՌԱՅՈՒԹՅՈՒՆՆԵՐ | I31: =SUM(I32:I49) -> -39579.3
A32: 71351540-29 | B32: տեխնիկական հսկողության ծառայություններ | E32: ԳՀ | F32: դրամ | G32: 3824091 | H32: 1 | I32: -3824.1
A33: 71351540-30 | B33: տեխնիկական հսկողության ծառայություններ | E33: ԳՀ | F33: դրամ | G33: 3824091 | H33: 1 | I33: -3824.1
A34: 71351540-31 | B34: տեխնիկական հսկողության ծառայություններ | E34: ԳՀ | F34: դրամ | G34: 3824091 | H34: 1 | I34: -3824.1
A35: 71351540-32 | B35: տեխնիկական հսկողության ծառայություններ | E35: ԳՀ | F35: դրամ | G35: 3824091 | H35: 1 | I35: -3824.1
A36: 71351540-33 | B36: տեխնիկական հսկողության ծառայություններ | E36: ԳՀ | F36: դրամ | G36: 3824091 | H36: 1 | I36: -3824.1
A37: 71351540-34 | B37: տեխնիկական հսկողության ծառայություններ | E37: ԳՀ | F37: դրամ | G37: 3824091 | H37: 1 | I37: -3824.1
A38: 71351540-35 | B38: տեխնիկական հսկողության ծառայություններ | E38: ԳՀ | F38: դրամ | G38: 3824091 | H38: 1 | I38: -3824.1
A39: 71351540-36 | B39: տեխնիկական հսկողության ծառայություններ | E39: ԳՀ | F39: դրամ | G39: 3824091 | H39: 1 | I39: -3824.1
A40: 71351540-37 | B40: տեխնիկական հսկողության ծառայություններ | E40: ԳՀ | F40: դրամ | G40: 3824091 | H40: 1 | I40: -3824.1
A41: 98111140-29 | B41: հեղինակային հսկողության ծառայություններ | E41: ՄԱ | F41: դրամ | G41: 573603 | H41: 1 | I41: -573.6
A42: 98111140-30 | B42: հեղինակային հսկողության ծառայություններ | E42: ՄԱ | F42: դրամ | G42: 573603 | H42: 1 | I42: -573.6
A43: 98111140-31 | B43: հեղինակային հսկողության ծառայություններ | E43: ՄԱ | F43: դրամ | G43: 573603 | H43: 1 | I43: -573.6
... A49: 98111140-37 | B49: հեղինակային հսկողության ծառայություններ | E49: ՄԱ | F49: դրամ | G49: 573603 | H49: 1 | I49: -573.6
A50: 1163-12001 | B50: Աջակցություն համայնքներին մարզական հաստատությունների շենքային պայմանների բարելավման համար | I50: =+I51+I53 -> 150000
B51: ՄԱՍ II. ԱՇԽԱՏԱՆՔՆԵՐ | I51: =+I52 -> 146461.3
A52: 45211131-504 | B52: մարզական օբյեկտների շինարարական աշխատանքներ | E52: ՀԲՄ | F52: դրամ | I52: 146461.3
B53: ՄԱՍ III. ԾԱՌԱՅՈՒԹՅՈՒՆՆԵՐ | I53: =SUM(I54:I55) -> 3538.7
A54: 71351540-26 | B54: տեխնիկական հսկողության ծառայություններ | E54: ԳՀ | F54: դրամ | I54: 2563.1
A55: 98111140-16 | B55: հեղինակային հսկողության ծառայություններ | E55: ՄԱ | F55: դրամ | I55: 975.6
A56: 1183-32001 | B56: Կրթական օբյեկտների շենքային պայմանների բարելավում | I56: =+I57+I59 -> -100000
B57: ՄԱՍ II. ԱՇԽԱՏԱՆՔՆԵՐ | I57: =+I58 -> -98994.8
A58: 45611100-1 | B58: կրթական օբյեկտների հիմնանորոգում | E58: ԲՄ | F58: դրամ | I58: -98994.8
B59: ՄԱՍ III. ԾԱՌԱՅՈՒԹՅՈՒՆՆԵՐ | I59: =SUM(I60:I61) -> -1005.2
A60: 71351540-1 | B60: տեխնիկական հսկողության ծառայություններ | E60: ԳՀ | F60: դրամ | I60: -225.1
A61: 98111140-1 | B61: հեղինակային հսկողության ծառայություններ | E61: ՄԱ | F61: դրամ | I61: -780.1
A62: 1183-32003 | B62: Փոքրաքանակ երեխաներով համալրված հանրակրթական դպրոցների մոդուլային շենքերի կառուցում | I62: =+I63+I67 -> -125000
B63: ՄԱՍ II. ԱՇԽԱՏԱՆՔՆԵՐ | I63: =SUM(I64:I66) -> -119044.9
A64: 45211231-12 | B64: միջնակարգ դպրոցների կառուցման աշխատանքներ | E64: ԲՄ | F64: դրամ | I64: -95475.7
A65: 45211231-14 | B65: միջնակարգ դպրոցների կառուցման աշխատանքներ | E65: ԲՄ | F65: դրամ | I65: 47925.8
A66: 45211231-502 | B66: միջնակարգ դպրոցների կառուցման աշխատանքներ | E66: ԲՄ | F66: դրամ | I66: -71495
B67: ՄԱՍ III. ԾԱՌԱՅՈՒԹՅՈՒՆՆԵՐ | I67: =SUM(I68:I70) -> -5955.1
A68: 71351540-5 | B68: տեխնիկական հսկողության ծառայություններ | E68: ԳՀ | F68: դրամ | I68: 1777.2
A69: 71351540-8 | B69: տեխնիկական հսկողության ծառայություններ | E69: ԳՀ | F69: դրամ | I69: =-3035.6-3930 -> -6965.6
A70: 98111140-1 | B70: հեղինակային հսկողության ծառայություններ | E70: ՄԱ | F70: դրամ | I70: =297-469.4-594.3 -> -766.7
