Workbook
Name AgencyCode: #REF!
Name AgencyCode: #REF!
Name AgencyCode: #REF!
Name AgencyName: #REF!
Name AgencyName: #REF!
Name AgencyName: #REF!
Name davit: #REF!
Name Functional1: #REF!
Name Functional1: #REF!
Name Functional1: #REF!
Name ggg: #REF!
Name PANature: #REF!
Name PANature: #REF!
Name PANature: #REF!
Name PAType: #REF!
Name PAType: #REF!
Name PAType: #REF!
Name Performance2: #REF!
Name Performance2: #REF!
Name Performance2: #REF!
Name PerformanceType: #REF!
Name PerformanceType: #REF!
Name PerformanceType: #REF!
Name Հավելված: #REF!
Name Մաս: #REF!
Name շախմատիստ: #REF!

Sheet հավելված 1
C1: Հավելված 1
C2: ՀՀ կառավարության 2021 թվականի
C3: ______________ ի ___Ն որոշման
A6: «ՀԱՅԱUՏԱՆԻ ՀԱՆՐԱՊԵՏՈՒԹՅԱՆ 2021 ԹՎԱԿԱՆԻ ՊԵՏԱԿԱՆ ԲՅՈՒՋԵԻ ՄԱUԻՆ» OՐԵՆՔԻ N 1 ՀԱՎԵԼՎԱԾԻ N 2 ԱՂՅՈՒՍԱԿՈՒՄ ԿԱՏԱՐՎՈՂ ՎԵՐԱԲԱՇԽՈՒՄԸ ԵՎ ՀԱՅԱՍՏԱՆԻ ՀԱՆՐԱՊԵՏՈՒԹՅԱՆ ԿԱՌԱՎԱՐՈՒԹՅԱՆ 2020 ԹՎԱԿԱՆԻ ԴԵԿՏԵՄԲԵՐԻ 30-Ի N 2215-Ն ՈՐՈՇՄԱՆ N 5 ՀԱՎԵԼՎԱԾԻ N 1 ԱՂՅՈՒՍԱԿՈՒՄ ԿԱՏԱՐՎՈՂ ՓՈՓՈԽՈՒԹՅՈՒՆՆԵՐԸ ԵՎ ԼՐԱՑՈՒՄՆԵՐԸ
D8: հազ. դրամներով
A9: Ծրագրային դասիչը | C9: Բյուջետային հատկացումների գլխավոր կարգադրիչների, ծրագրերի և միջոցառումների անվանումները | D9: Ցուցանիշների փոփոխությունը (ավելացումները նշված են դրական նշանով, իսկ նվազեցումները` փակագծերում)
A10: Ծրագիր | B10: Միջոցառում | D10: Տարի
A11: 1192 | C11: ԸՆԴԱՄԵՆԸ | D11: =+D12+D124 -> 0
B12: ՀՀ Կրթության, գիտության, մշակույթի և սպորտի նախարարություն | D12: =+D14+D105 -> -880931.4
A13: 1146 | C13: Ծրագրի անվանումը`
C14: Հանրակրթության ծրագիր | D14: =+D21+D27+D33+D39+D45+D51+D57+D63+D69+D75+D81+D87+D93+D99 -> -1134930.1
C15: Ծրագրի նպատակը`
C16: Ապահովել անվճար և որակյալ հանրակրթություն
C17: Վերջնական արդյունքի նկարագրությունը`
C18: Մտավոր, հոգևոր, ֆիզիկական և սոցիալական ունակությունների համակողմանի ու ներդաշնակ զարգացմամբ, հայրենասիրության, պետականության և մարդասիրության ոգով դաստիարակված, պատշաճ վարքով և վարվելակերպով անձի ձևավորում
C19: Ծրագրի միջոցառումներ
B20: 11001 | C20: Միջոցառման անվանումը`
C21: Տարրական ընդհանուր հանրակրթություն | D21: =+'հավելված 2'!G109 -> -278041.7
C22: Միջոցառման նկարագրությունը`
C23: Պարտադիր կրթության առաջին մակարդակում սովորողների ընդգրկվածության, գրագիտության և համակողմանի զարգացման բարձր մակարդակի ապահովում
C24: Միջոցառման տեսակը
C25: Ծառայությունների մատուցում
B26: 11002 | C26: Միջոցառման անվանումը`
C27: Հիմնական ընդհանուր հանրակրթություն | D27: =+'հավելված 2'!G193 -> -941479.6
C28: Միջոցառման նկարագրությունը`
C29: Պարտադիր կրթության երկրորդ մակարդակում սովորողների ընդգրկվածության, գրագիտության և համակողմանի զարգացման բարձր մակարդակի ապահովում
C30: Միջոցառման տեսակը
C31: Ծառայությունների մատուցում
B32: 11003 | C32: Միջոցառման անվանումը`
C33: Միջնակարգ ընդհանուր հանրակրթություն | D33: =+'հավելված 2'!G289 -> 16370.8
C34: Միջոցառման նկարագրությունը`
C35: Պարտադիր կրթության երրորդ մակարդակում սովորողների ընդգրկվածության, գրագիտության և համակողմանի զարգացման բարձր մակարդակի ապահովում
C36: Միջոցառման տեսակը
C37: Ծառայությունների մատուցում
B38: 11004 | C38: Միջոցառման անվանումը`
C39: Տարրական հատուկ հանրակրթություն | D39: =+'հավելված 2'!G167 -> -3397.2
C40: Միջոցառման նկարագրությունը`
C41: Պարտադիր կրթության առաջին մակարդակում սովորողների ընդգրկվածության և գրագիտության ապահովում
C42: Միջոցառման տեսակը
C43: Ծառայությունների մատուցում
...

Sheet հավելված 2
G1: Հավելված 2
F2: ՀՀ կառավարության 2021 թվականի
F3: ______________ ի ___Ն որոշման
A6: ՀԱՅԱՍՏԱՆԻ ՀԱՆՐԱՊԵՏՈՒԹՅԱՆ ԿԱՌԱՎԱՐՈՒԹՅԱՆ 2020 ԹՎԱԿԱՆԻ ԴԵԿՏԵՄԲԵՐԻ 30-Ի N 2215-Ն ՈՐՈՇՄԱՆ NN 3 ԵՎ 4 ՀԱՎԵԼՎԱԾՆԵՐՈՒՄ ԿԱՏԱՐՎՈՂ ՓՈՓՈԽՈՒԹՅՈՒՆՆԵՐԸ ԵՎ ԼՐԱՑՈՒՄՆԵՐԸ
G8: հազ. դրամներով
A9: Գործառական դասիչը | D9: Ծրագրային դասիչը | F9: Բյուջետային հատկացումների գլխավոր կարգադրիչների, ծրագրերի, միջոցառումների և միջոցառումները կատարող պետական մարմինների անվանումները | G9: Ցուցանիշների փոփոխությունը (ավելացումները նշված են դրական նշանով, իսկ նվազեցումները` փակագծերում)
A10: Բաժին | B10: Խումբ | C10: Դաս | D10: Ծրագիր | E10: Միջոցառում | G10: Տարի
F11: ԸՆԴԱՄԵՆԸ | G11: =+G13+G685 -> 0
F12: այդ թվում`
F13: ՀՀ ԿՐԹՈՒԹՅԱՆ, ԳԻՏՈՒԹՅԱՆ, ՄՇԱԿՈՒՅԹԻ ԵՎ ՍՊՈՐՏԻ ՆԱԽԱՐԱՐՈՒԹՅՈՒՆ | G13: =+G14 -> -880931.4
A14: 09 | E14: 11010 | F14: ԿՐԹՈՒԹՅՈՒՆ | G14: =+G16+G185+G395 -> -880931.4
F15: այդ թվում`
B16: 01 | F16: Նախադպրոցական և տարրական ընդհանուր կրթություն | G16: =+G18+G103 -> -376949.8
F17: այդ թվում`
C18: 01 | F18: Նախադպրոցական կրթություն | G18: =+G20 -> -25418.3
F19: այդ թվում`
F20: ՀՀ կրթության, գիտության, մշակույթի և սպորտի նախարարություն | G20: =+G22 -> -25418.3
F21: այդ թվում`
D22: 1146 | F22: Հանրակրթության ծրագիր | G22: =+G24 -> -25418.3
F23: այդ թվում՝
E24: 11013 | F24: Նախադպրոցական կրթություն | G24: =+G26+G33+G40+G47+G54+G61+G68+G75+G82+G89+G96 -> -25418.3
F25: այդ թվում` ըստ կատարողների
F26: ՀՀ տարածքային կառավարման և ենթակառուցվածքների նախարարություն | G26: =G28 -> -4135.1 | H26: =+G26+G40+G61+G68+G82+G111+G118+G125+#REF!+G132+G139+#REF!+G160+G169+G178+G195+G202+G216+G223+G230+G237+G244+G258+G276+G305+G319+G326+G333+G347+G354+G361+G370+G379+G454+G514+G535+G542 -> #REF!
F27: այդ թվում` բյուջետային ծախսերի տնտեսագիտական դասակարգման հոդվածներ | H27: =+H26+'հավելված 1'!D133 -> #REF!
F28: ԸՆԴԱՄԵՆԸ ԾԱԽՍԵՐ | G28: =G29 -> -4135.1
F29: ԸՆԹԱՑԻԿ ԾԱԽՍԵՐ | G29: =G30 -> -4135.1
F30: ՍՈՒԲՍԻԴԻԱՆԵՐ | G30: =G31 -> -4135.1
F31: Սուբսիդիաներ պետական կազմակերպություններին | G31: =G32 -> -4135.1
F32: - Սուբսիդիաներ ոչ ֆինանսական պետական կազմակերպություններին | G32: ='հավելված 5'!D37 -> -4135.1
F33: ՀՀ կրթության , գիտության, մշակույթի և սպորտի նախարարություն | G33: =+G35 -> 5211.6
F34: այդ թվում` բյուջետային ծախսերի տնտեսագիտական դասակարգման հոդվածներ
F35: ԸՆԴԱՄԵՆԸ ԾԱԽՍԵՐ | G35: =+G36 -> 5211.6
F36: ԸՆԹԱՑԻԿ ԾԱԽՍԵՐ | G36: =+G37 -> 5211.6
F37: ՍՈՒԲՍԻԴԻԱՆԵՐ | G37: =+G38 -> 5211.6
F38: Սուբսիդիաներ պետական կազմակերպություններին | G38: =+G39 -> 5211.6
F39: - Սուբսիդիաներ ոչ ֆինանսական պետական կազմակերպություններին | G39: 5211.6
F40: ՀՀ Արագածոտնի մարզպետարան | G40: =+G42 -> -11817.6
F41: այդ թվում` բյուջետային ծախսերի տնտեսագիտական դասակարգման հոդվածներ
F42: ԸՆԴԱՄԵՆԸ ԾԱԽՍԵՐ | G42: =+G43 -> -11817.6
F43: ԸՆԹԱՑԻԿ ԾԱԽՍԵՐ | G43: =+G44 -> -11817.6
...

Sheet հավելված 3
G1: Հավելված 3
F2: ՀՀ կառավարության 2021 թվականի
F3: _____________-ի ___-Ն որոշում
A6: ՀԱՅԱՍՏԱՆԻ ՀԱՆՐԱՊԵՏՈՒԹՅԱՆ ԿԱՌԱՎԱՐՈՒԹՅԱՆ 2020 ԹՎԱԿԱՆԻ ԴԵԿՏԵՄԲԵՐԻ 30-Ի N 2215-Ն ՈՐՈՇՄԱՆ N 5 ՀԱՎԵԼՎԱԾԻ N 7 ԱՂՅՈՒՍԱԿՈՒՄ ԿԱՏԱՐՎՈՂ ՓՈՓՈԽՈՒԹՅՈՒՆՆԵՐԸ ԵՎ ԼՐԱՑՈՒՄՆԵՐԸ
G7: հազար դրամներով
A8: Ծրագրային դասիչը | C8: Բյուջետային հատկացումների գլխավոր կարգադրիչների, ծրագրերի, միջոցառումների, ծախսային ուղղությունների անվանումները | F8: Միջոցառումները կատարող պետական մարմինների և դրամաշնորհ ստացող տնտեսվարող սուբյեկտների անվանումները | G8: Ցուցանիշների փոփոխությունը (նվազեցումները նշված են փակագծերում, ավելացումները նշված են դրական նշանով)
A9: Ծրագիր | B9: Միջոցառում | G9: Տարի
C10: Հանրակրթության ծրագիր | G10: =G11+G34 -> 109371.6
A11: 1146 | B11: 12002 | C11: Հանրակրթական դպրոցների մանկավարժներին և դպրոցահասակ երեխաներին տրանսպորտային ծախսերի փոխհատուցում | F11: ընդամենը, որից՝ | G11: =+G12+G14+G16+G18+G20+G22+G24+G26+G28+G30+G32 -> 100745.4
F12: ՀՀ կրթության, գիտության, մշակույթի և սպորտի նախարարություն | G12: =G13 -> 7941.8
F13: Հանրակրթական դպրոցների մանկավարժներ և դպրոցահասակ երեխաներ | G13: ='հավելված 5'!D205 -> 7941.8
F14: ՀՀ Արագածոտնի մարզպետարան | G14: =G15 -> 16471.8
F15: Հանրակրթական դպրոցների մանկավարժներ և դպրոցահասակ երեխաներ | G15: ='հավելված 5'!D347 -> 16471.8
F16: ՀՀ Արարատի մարզպետարան | G16: =G17 -> 3365.8
F17: Հանրակրթական դպրոցների մանկավարժներ և դպրոցահասակ երեխաներ | G17: ='հավելված 5'!D444 -> 3365.8
F18: ՀՀ Արմավիրի մարզպետարան | G18: =G19 -> 20438.1
F19: Հանրակրթական դպրոցների մանկավարժներ և դպրոցահասակ երեխաներ | G19: ='հավելված 5'!D528 -> 20438.1
F20: ՀՀ Գեղարքունիքի մարզպետարան | G20: =G21 -> 13479.9
F21: Հանրակրթական դպրոցների մանկավարժներ և դպրոցահասակ երեխաներ | G21: ='հավելված 5'!D625 -> 13479.9
F22: ՀՀ Լոռու մարզպետարան | G22: =G23 -> 3061.3
F23: Հանրակրթական դպրոցների մանկավարժներ և դպրոցահասակ երեխաներ | G23: ='հավելված 5'!D748 -> 3061.3
F24: ՀՀ Կոտայքի մարզպետարան | G24: =G25 -> 2009.3
F25: Հանրակրթական դպրոցների մանկավարժներ և դպրոցահասակ երեխաներ | G25: ='հավելված 5'!D845 -> 2009.3
F26: ՀՀ Շիրակի մարզպետարան | G26: =G27 -> -7682.6
F27: Հանրակրթական դպրոցների մանկավարժներ և դպրոցահասակ երեխաներ | G27: ='հավելված 5'!D940 -> -7682.6
F28: ՀՀ Սյունիքի մարզպետարան | G28: =G29 -> 19156.6
F29: Հանրակրթական դպրոցների մանկավարժներ և դպրոցահասակ երեխաներ | G29: ='հավելված 5'!D1036 -> 19156.6
F30: ՀՀ Վայոց ձորի մարզպետարան | G30: =G31 -> 1258.4
F31: Հանրակրթական դպրոցների մանկավարժներ և դպրոցահասակ երեխաներ | G31: ='հավելված 5'!D1132 -> 1258.4
F32: ՀՀ Տավուշի մարզպետարան | G32: =G33 -> 21245
F33: Հանրակրթական դպրոցների մանկավարժներ և դպրոցահասակ երեխաներ | G33: ='հավելված 5'!D1217 -> 21245
B34: 12004 | C34: Ատեստավորման միջոցով որակավորում ստացած ուսուցիչներին հավելավճարների տրամադրում | F34: ընդամենը, որից՝ | G34: =G35+G37+G39+G41+G43+G45+G47+G49+G51 -> 8626.2
F35: ՀՀ տարածքային կառավարման և ենթակառուցվածքների նախարարություն | G35: =G36 -> 559.8
F36: Ատեստավորման միջոցով որակավորում ստացած ուսուցիչներ | G36: ='հավելված 2'!G493 -> 559.8
F37: ՀՀ Արագածոտնի մարզպետարան | G37: =G38 -> 1468
F38: Ատեստավորման միջոցով որակավորում ստացած ուսուցիչներ | G38: ='հավելված 2'!G500 -> 1468
F39: ՀՀ Արարատի մարզպետարան | G39: =G40 -> 2130.7
F40: Ատեստավորման միջոցով որակավորում ստացած ուսուցիչներ | G40: ='հավելված 2'!G507 -> 2130.7
F41: ՀՀ Արմավիրի մարզպետարան | G41: =G42 -> -2571.4
F42: Ատեստավորման միջոցով որակավորում ստացած ուսուցիչներ | G42: ='հավելված 2'!G514 -> -2571.4
...

Sheet հավելված 4
C2: Հավելված 4
C3: ՀՀ կառավարության 2021 թվականի
C4: ______________ ի ___Ն որոշման
B7: ՀԱՅԱՍՏԱՆԻ ՀԱՆՐԱՊԵՏՈՒԹՅԱՆ ԿԱՌԱՎԱՐՈՒԹՅԱՆ 2020 ԹՎԱԿԱՆԻ ԴԵԿՏԵՄԲԵՐԻ 30-Ի N 2215-Ն ՈՐՈՇՄԱՆ N 9 ՀԱՎԵԼՎԱԾԻ N 9.14 ԵՎ 9.47 ԱՂՅՈՒՍԱԿՈՒՄ ԿԱՏԱՐՎՈՂ ՓՈՓՈԽՈՒԹՅՈՒՆՆԵՐԸ ԵՎ ԼՐԱՑՈՒՄՆԵՐԸ
B9: ՀՀ կրթության, գիտության, մշակույթի և սպորտի նախարարություն
B11: ՄԱՍ 2. ՊԵՏԱԿԱՆ ՄԱՐՄՆԻ ԳԾՈՎ ԱՐԴՅՈՒՆՔԱՅԻՆ (ԿԱՏԱՐՈՂԱԿԱՆ) ՑՈՒՑԱՆԻՇՆԵՐԸ
B14: Ծրագրի դասիչը | C14: Ծրագրի անվանումը
B15: 1146 | C15: Հանրակրթության ծրագիր
B17: Ծրագրի միջոցառումները
B18: Ծրագրի դասիչը՝ | C18: 1146 | D18: Ցուցանիշների փոփոխությունը (նվազեցումները նշված են փակագծերում)
B19: Միջոցառման դասիչը՝ | C19: 11001 | D19: Տարի
B20: Միջոցառման անվանումը՝ | C20: Տարրական ընդհանուր հանրակրթություն
B21: Նկարագրությունը՝ | C21: Պարտադիր կրթության առաջին մակարդակում սովորողների ընդգրկվածության, գրագիտության և համակողմանի զարգացման բարձր մակարդակի ապահովում
B22: Միջոցառման տեսակը՝ | C22: Ծառայությունների մատուցում
B23: Շահառուների ընտրության չափորոշիչները՝ | C23: ՀՀ կրթության, գիտության,մշակույթի և սպորտի նախարարության, ՀՀ մարզպետարանների, Երևանի քաղաքապետարանի ենթակայության ուսումնական հաստատություններ
B24: Արդյունքի չափորոշիչներ
B25: Տարրական ընդհանուր կրթության դասարանների սովորողների թիվը, մարդ | D25: ='հավելված 5'!D80+'հավելված 5'!D292+'հավելված 5'!D389+'հավելված 5'!D569+'հավելված 5'!D693+'հավելված 5'!D790+'հավելված 5'!D981+'հավելված 5'!D1077+'հավելված 5'!D1162 -> -1167
B26: տղա | D26: ='հավելված 5'!D81+'հավելված 5'!D293+'հավելված 5'!D390+'հավելված 5'!D570+'հավելված 5'!D694+'հավելված 5'!D791+'հավելված 5'!D982+'հավելված 5'!D1078+'հավելված 5'!D1163 -> -767
B27: աղջիկ | D27: ='հավելված 5'!D82+'հավելված 5'!D294+'հավելված 5'!D391+'հավելված 5'!D571+'հավելված 5'!D695+'հավելված 5'!D792+'հավելված 5'!D983+'հավելված 5'!D1079+'հավելված 5'!D1164 -> -400
B28: Միջոցառման վրա կատարվող ծախսը (հազար դրամ) | D28: ='հավելված 5'!D83+'հավելված 5'!D295+'հավելված 5'!D392+'հավելված 5'!D572+'հավելված 5'!D696+'հավելված 5'!D793+'հավելված 5'!D984+'հավելված 5'!D1080+'հավելված 5'!D1165 -> -278041.7
B30: Ծրագրի դասիչը՝ | C30: 1146 | D30: Ցուցանիշների փոփոխությունը (նվազեցումները նշված են փակագծերում)
B31: Միջոցառման դասիչը՝ | C31: 11002 | D31: Տարի
B32: Միջոցառման անվանումը՝ | C32: Հիմնական ընդհանուր հանրակրթություն
B33: Նկարագրությունը՝ | C33: Պարտադիր կրթության երկրորդ մակարդակում սովորողների ընդգրկվածության, գրագիտության և համակողմանի զարգացման բարձր մակարդակի ապահովում
B34: Միջոցառման տեսակը՝ | C34: Ծառայությունների մատուցում
B35: Շահառուների ընտրության չափորոշիչները՝ | C35: ՀՀ կրթության, գիտության,մշակույթի և սպորտի նախարարության, ՀՀ մարզպետարանների, Երևանի քաղաքապետարանի ենթակայության ուսումնական հաստատություններ
B36: Արդյունքի չափորոշիչներ
B37: Հիմնական ընդհանուր կրթության դասարանների սովորողների միջին տարեկան թիվը, մարդ | D37: =+'հավելված 5'!D92+'հավելված 5'!D304+'հավելված 5'!D401+'հավելված 5'!D485+'հավելված 5'!D582+'հավելված 5'!D705+'հավելված 5'!D802+'հավելված 5'!D887+'հավելված 5'!D993+'հավելված 5'!D1089+'հավելված 5'!D1174 -> 249
B38: տղա | D38: =+'հավելված 5'!D93+'հավելված 5'!D305+'հավելված 5'!D402+'հավելված 5'!D486+'հավելված 5'!D583+'հավելված 5'!D706+'հավելված 5'!D803+'հավելված 5'!D888+'հավելված 5'!D994+'հավելված 5'!D1090+'հավելված 5'!D1175 -> -246
B39: աղջիկ | D39: =+'հավելված 5'!D94+'հավելված 5'!D306+'հավելված 5'!D403+'հավելված 5'!D487+'հավելված 5'!D584+'հավելված 5'!D707+'հավելված 5'!D804+'հավելված 5'!D889+'հավելված 5'!D995+'հավելված 5'!D1091+'հավելված 5'!D1176 -> 495
B40: Միջոցառման վրա կատարվող ծախսը (հազար դրամ) | D40: =+'հավելված 5'!D95+'հավելված 5'!D307+'հավելված 5'!D404+'հավելված 5'!D488+'հավելված 5'!D585+'հավելված 5'!D708+'հավելված 5'!D805+'հավելված 5'!D890+'հավելված 5'!D996+'հավելված 5'!D1092+'հավելված 5'!D1177 -> -941479.6
B42: Ծրագրի դասիչը՝ | C42: 1146 | D42: Ցուցանիշների փոփոխությունը (ավելացումները նշված են դրական նշանով, իսկ նվազեցումները` փակագծերում)
B43: Միջոցառման դասիչը՝ | C43: 11003 | D43: Տարի
B44: Միջոցառման անվանումը՝ | C44: Միջնակարգ ընդհանուր հանրակրթություն
B45: Նկարագրությունը՝ | C45: Պարտադիր կրթության երրորդ մակարդակում սովորողների ընդգրկվածության, գրագիտության և համակողմանի զարգացման բարձր մակարդակի ապահովում
B46: Միջոցառման տեսակը՝ | C46: Ծառայությունների մատուցում
B47: Շահառուների ընտրության չափորոշիչները՝ | C47: ՀՀ կրթության, գիտության,մշակույթի և սպորտի նախարարության, ՀՀ մարզպետարանների, Երևանի քաղաքապետարանի ենթակայության ուսումնական հաստատություններ
B48: Արդյունքի չափորոշիչներ
B49: Միջնակարգ ընդհանուր կրթության դասարանների սովորողների միջին տարեկան թիվը, մարդ | D49: ='հավելված 5'!D22+'հավելված 5'!D104+'հավելված 5'!D316+'հավելված 5'!D413+'հավելված 5'!D497+'հավելված 5'!D593+'հավելված 5'!D717+'հավելված 5'!D814+'հավելված 5'!D899+'հավելված 5'!D1005+'հավելված 5'!D1101+'հավելված 5'!D1186 -> -3715
B50: տղա | D50: ='հավելված 5'!D23+'հավելված 5'!D105+'հավելված 5'!D317+'հավելված 5'!D414+'հավելված 5'!D498+'հավելված 5'!D594+'հավելված 5'!D718+'հավելված 5'!D815+'հավելված 5'!D900+'հավելված 5'!D1006+'հավելված 5'!D1102+'հավելված 5'!D1187 -> -2046
...

Sheet հավելված 5
C2: Հավելված 5
C3: ՀՀ կառավարության 2021 թվականի
C4: ______________ ի ___Ն որոշման
B7: ՀԱՅԱՍՏԱՆԻ ՀԱՆՐԱՊԵՏՈՒԹՅԱՆ ԿԱՌԱՎԱՐՈՒԹՅԱՆ 2020 ԹՎԱԿԱՆԻ ԴԵԿՏԵՄԲԵՐԻ 30-Ի N 2215-Ն ՈՐՈՇՄԱՆ N 9.1 ՀԱՎԵԼՎԱԾԻ N 9.1.58, 9.1.8, 9.1.14, 9.1.15, 9.1.48, 9.1.49, 9.1.50, 9.1.51, 9.1.52, 9.1.53, 9.1.54, 9.1.55, 9.1.56, 9.1.57 ԱՂՅՈՒՍԱԿՆԵՐՈՒՄ ԿԱՏԱՐՎՈՂ ՓՈՓՈԽՈՒԹՅՈՒՆՆԵՐԸ ԵՎ ԼՐԱՑՈՒՄՆԵՐԸ
B9: ՀՀ տարածքային կառավարման և ենթակառուցվածքների նախարարություն
B11: Ծրագրի դասիչը | C11: Ծրագրի անվանումը
B12: 1146 | C12: Հանրակրթության ծրագիր
B15: Ծրագրի դասիչը՝ | C15: 1146 | D15: Ցուցանիշների փոփոխությունը (նվազեցումները նշված են փակագծերում)
B16: Միջոցառման դասիչը՝ | C16: 11003 | D16: Տարի
B17: Միջոցառման անվանումը՝ | C17: Միջնակարգ ընդհանուր հանրակրթություն
B18: Նկարագրությունը՝ | C18: Պարտադիր կրթության երրորդ մակարդակում սովորողների ընդգրկվածության, գրագիտության և համակողմանի զարգացման բարձր մակարդակի ապահովում
B19: Միջոցառման տեսակը՝ | C19: Ծառայությունների մատուցում
B20: Շահառուների ընտրության չափորոշիչները՝ | C20: Երևանի քաղաքապետարանի ենթակայության հանրակրթական դպրոցներ
B21: Արդյունքի չափորոշիչներ
B22: Միջնակարգ ընդհանուր կրթության դասարանների սովորողների միջին տարեկան թիվը, մարդ | D22: -198
B23: տղա | D23: -55
B24: աղջիկ | D24: -143
B25: Միջոցառման վրա կատարվող ծախսը (հազար դրամ) | D25: 46953
B27: Ծրագրի դասիչը՝ | C27: 1146 | D27: Ցուցանիշների փոփոխությունը (նվազեցումները նշված են փակագծերում)
B28: Միջոցառման դասիչը՝ | C28: 11013 | D28: Տարի
B29: Միջոցառման անվանումը՝ | C29: Նախադպրոցական կրթություն
B30: Նկարագրությունը՝ | C30: Նախադպրոցական կրթություն մակարդակում սաների ընդգրկվածության, զարգացման բարձր մակարդակի ապահովում, 5-6 տարեկան երեխաների նախապատրաստում տարրական դպրոցին
B31: Միջոցառման տեսակը՝ | C31: Ծառայությունների մատուցում
B32: Շահառուների ընտրության չափորոշիչները՝ | C32: Երևանի քաղաքապետարանի ենթակայության նախադպրոցական կրթություն իրականացնող ուսումնական հաստատություններ
B33: Արդյունքի չափորոշիչներ
B34: Ծառայությունը ստացող երեխաների միջին տարեկան թիվը, մարդ | D34: -80
B35: տղա | D35: -38
B36: աղջիկ | D36: -42
B37: Միջոցառման վրա կատարվող ծախսը (հազար դրամ) | D37: -4135.1
B39: Ծրագրի դասիչը՝ | C39: 1146 | D39: Ցուցանիշների փոփոխությունը (ավելացումները նշված են դրական նշանով)
B40: Միջոցառման դասիչը՝ | C40: 12004 | D40: Տարի
B41: Միջոցառման անվանումը՝ | C41: Ատեստավորման միջոցով որակավորում ստացած ուսուցիչներին հավելավճարների տրամադրում
B42: Նկարագրությունը՝ | C42: Ատեստավորման միջոցով տարակարգի որակավորում ստացած ուսուցիչներին համաապատասխան հավելավճարի տրամադրման ապահովում
B43: Միջոցառման տեսակը՝ | C43: Տրանսֆերտների տրամադրում
B44: Շահառուների ընտրության չափորոշիչները՝ | C44: Ատեստավորման արդյունքում որակավորում ստացած ուսուցիչներ
B45: Արդյունքի չափորոշիչներ
B46: Որակավորման տարակարգ ստացած ուսուցիչների թիվը, մարդ | D46: 57
B47: տղամարդ | D47: 56
B48: կին | D48: 1
B49: Միջոցառման վրա կատարվող ծախսը (հազար դրամ) | D49: 559.8
...
