Workbook
Name AgencyCode: #REF!
Name AgencyCode: #REF!
Name AgencyCode: #REF!
Name AgencyName: #REF!
Name AgencyName: #REF!
Name AgencyName: #REF!
Name davit: #REF!
Name Functional1: #REF!
Name Functional1: #REF!
Name Functional1: #REF!
Name ggg: #REF!
Name PANature: #REF!
Name PANature: #REF!
Name PANature: #REF!
Name PAType: #REF!
Name PAType: #REF!
Name PAType: #REF!
Name Performance2: #REF!
Name Performance2: #REF!
Name Performance2: #REF!
Name PerformanceType: #REF!
Name PerformanceType: #REF!
Name PerformanceType: #REF!
Name Հավելված: #REF!
Name Մաս: #REF!
Name շախմատիստ: #REF!

Sheet հավելված 1
C1: Հավելված 1
C2: ՀՀ կառավարության 2021 թվականի
C3: ______________ ի ___Ն որոշման
A6: «ՀԱՅԱUՏԱՆԻ ՀԱՆՐԱՊԵՏՈՒԹՅԱՆ 2021 ԹՎԱԿԱՆԻ ՊԵՏԱԿԱՆ ԲՅՈՒՋԵԻ ՄԱUԻՆ» OՐԵՆՔԻ N 1 ՀԱՎԵԼՎԱԾԻ N 2 ԱՂՅՈՒՍԱԿՈՒՄ ԿԱՏԱՐՎՈՂ ՎԵՐԱԲԱՇԽՈՒՄԸ ԵՎ ՀԱՅԱՍՏԱՆԻ ՀԱՆՐԱՊԵՏՈՒԹՅԱՆ ԿԱՌԱՎԱՐՈՒԹՅԱՆ 2020 ԹՎԱԿԱՆԻ ԴԵԿՏԵՄԲԵՐԻ 30-Ի N 2215-Ն ՈՐՈՇՄԱՆ N 5 ՀԱՎԵԼՎԱԾԻ N 1 ԱՂՅՈՒՍԱԿՈՒՄ ԿԱՏԱՐՎՈՂ ՓՈՓՈԽՈՒԹՅՈՒՆՆԵՐԸ ԵՎ ԼՐԱՑՈՒՄՆԵՐԸ
D8: հազ. դրամներով
A9: Ծրագրային դասիչը | C9: Բյուջետային հատկացումների գլխավոր կարգադրիչների, ծրագրերի և միջոցառումների անվանումները | D9: Ցուցանիշների փոփոխությունը (ավելացումները նշված են դրական նշանով, իսկ նվազեցումները` փակագծերում)
A10: Ծրագիր | B10: Միջոցառում | D10: Տարի
A11: 1192 | C11: ԸՆԴԱՄԵՆԸ | D11: =+D12+D124 -> 0
B12: ՀՀ Կրթության, գիտության, մշակույթի և սպորտի նախարարություն | D12: =+D14+D105 -> -880931.4
A13: 1146 | C13: Ծրագրի անվանումը`
C14: Հանրակրթության ծրագիր | D14: =+D21+D27+D33+D39+D45+D51+D57+D63+D69+D75+D81+D87+D93+D99 -> -1134930.1
C15: Ծրագրի նպատակը`
C16: Ապահովել անվճար և որակյալ հանրակրթություն
C17: Վերջնական արդյունքի նկարագրությունը`
C18: Մտավոր, հոգևոր, ֆիզիկական և սոցիալական ունակությունների համակողմանի ու ներդաշնակ զարգացմամբ, հայրենասիրության, պետականության և մարդասիրության ոգով դաստիարակված, պատշաճ վարքով և վարվելակերպով անձի ձևավորում
C19: Ծրագրի միջոցառումներ
B20: 11001 | C20: Միջոցառման անվանումը`
C21: Տարրական ընդհանուր հանրակրթություն | D21: =+'հավելված 2'!G109 -> -278041.7
C22: Միջոցառման նկարագրությունը`
C23: Պարտադիր կրթության առաջին մակարդակում սովորողների ընդգրկվածության, գրագիտության և համակողմանի զարգացման բարձր մակարդակի ապահովում
C24: Միջոցառման տեսակը
C25: Ծառայությունների մատուցում
B26: 11002 | C26: Միջոցառման անվանումը`
C27: Հիմնական ընդհանուր հանրակրթություն | D27: =+'հավելված 2'!G193 -> -941479.6
C28: Միջոցառման նկարագրությունը`
C29: Պարտադիր կրթության երկրորդ մակարդակում սովորողների ընդգրկվածության, գրագիտության և համակողմանի զարգացման բարձր մակարդակի ապահովում
C30: Միջոցառման տեսակը
C31: Ծառայությունների մատուցում
B32: 11003 | C32: Միջոցառման անվանումը`
C33: Միջնակարգ ընդհանուր հանրակրթություն | D33: =+'հավելված 2'!G289 -> 16370.8
C34: Միջոցառման նկարագրությունը`
C35: Պարտադիր կրթության երրորդ մակարդակում սովորողների ընդգրկվածության, գրագիտության և համակողմանի զարգացման բարձր մակարդակի ապահովում
C36: Միջոցառման տեսակը
C37: Ծառայությունների մատուցում
B38: 11004 | C38: Միջոցառման անվանումը`
C39: Տարրական հատուկ հանրակրթություն | D39: =+'հավելված 2'!G167 -> -3397.2
C40: Միջոցառման նկարագրությունը`
C41: Պարտադիր կրթության առաջին մակարդակում սովորողների ընդգրկվածության և գրագիտության ապահովում
C42: Միջոցառման տեսակը
C43: Ծառայությունների մատուցում
B44: 11005 | C44: Միջոցառման անվանումը`
C45: Հիմնական հատուկ հանրակրթություն | D45: =+'հավելված 2'!G265 -> 110261.7
C46: Միջոցառման նկարագրությունը`
C47: Պարտադիր կրթության երկրորդ մակարդակում սովորողների ընդգրկվածության և գրագիտության ապահովում
C48: Միջոցառման տեսակը
C49: Ծառայությունների մատուցում
B50: 11006 | C50: Միջոցառման անվանումը`
C51: Միջնակարգ հատուկ հանրակրթություն | D51: =+'հավելված 2'!G368 -> -31552.2
C52: Միջոցառման նկարագրությունը`
C53: Պարտադիր կրթության երրորդ մակարդակում սովորողների ընդգրկվածության՛ գրագիտության և համակողմանի զարգացման բարձր մակարդակի ապահովում
C54: Միջոցառման տեսակը
C55: Ծառայությունների մատուցում
B56: 11010 | C56: Միջոցառման անվանումը`
C57: Տարրական մասնագիտացված հանրակրթություն | D57: =+'հավելված 2'!G176 -> -70092.6
C58: Միջոցառման նկարագրությունը`
C59: Տարրական կրթության մակարդակում մասնագիտացված հանրակրթական ծառայությունների մատուցման միջոցով սովորողների ընդգրկվածության և գրագիտության ապահովում
C60: Միջոցառման տեսակը
C61: Ծառայությունների մատուցում
B62: 11011 | C62: Միջոցառման անվանումը`
C63: Հիմնական մասնագիտացված հանրակրթություն | D63: =+'հավելված 2'!G276 -> -8630.3
C64: Միջոցառման նկարագրությունը`
C65: Հիմնական կրթության մակարդակում մասնագիտացված հանրակրթական ծառայությունների մատուցման միջոցով սովորողների ընդգրկվածության և գրագիտության ապահովում
C66: Միջոցառման տեսակը
C67: Ծառայությունների մատուցում
B68: 11012 | C68: Միջոցառման անվանումը`
C69: Միջնակարգ մասնագիտացված հանրակրթություն | D69: =+'հավելված 2'!G377 -> -15321.2
C70: Միջոցառման նկարագրությունը`
C71: Միջնակարգ կրթության մակարդակում մասնագիտացված հանրակրթական ծառայությունների մատուցման միջոցով սովորողների ընդգրկվածության , համակողմանի զարգացման և գրագիտության ապահովում
C72: Միջոցառման տեսակը
C73: Ծառայությունների մատուցում
B74: 11013 | C74: Միջոցառման անվանումը`
C75: Նախադպրոցական կրթություն | D75: =+'հավելված 2'!G24 -> -25418.3
C76: Միջոցառման նկարագրությունը`
C77: Նախադպրոցական կրթություն մակարդակում սաների ընդգրկվածության, զարգացման բարձր մակարդակի ապահովում, 5-6 տարեկան երեխաների նախապատրաստում տարրական դպրոցին
C78: Միջոցառման տեսակը
C79: Ծառայությունների մատուցում
B80: 11020 | C80: Միջոցառման անվանումը`
C81: Միջնակարգ հանրակրթություն երեկոյան դպրոցում (Շիրակի մարզ) | D81: =+'հավելված 2'!G386 -> 1260.6
C82: Միջոցառման նկարագրությունը`
C83: ՀՀ ԱՆ Արթիկի քրեակատարողական հիմնարկում գտնվող ազատազրկված և միջնակարգ կրթություն չունեցող անձանց շրջանակում հանրակրթական ծառայությունների մատուցում
C84: Միջոցառման տեսակը
C85: Ծառայությունների մատուցում
B86: 12002 | C86: Միջոցառման անվանումը`
C87: Հանրակրթական դպրոցների մանկավարժներին և դպրոցահասակ երեխաներին տրնասպորտային ծախսերի փոխհատուցում | D87: =+'հավելված 2'!G403 -> 100745.4
C88: Միջոցառման նկարագրությունը`
C89: Հանրակրթական դպրոցների մանկավարժներին և դպրոցահասակ երեխաներին տրնասպորտային ծախսերի փոխհատուցման ապահովում
C90: Միջոցառման տեսակը
C91: Տրանսֆերտների տրամադրում
B92: 12003 | C92: Միջոցառման անվանումը`
C93: Սոցիալական աջակցություն ստացող ՀՀ սահմանամերձ համայնքների երեխաների դասագրքերի վարձավճարների փոխհատուցում | D93: =+'հավելված 2'!G482 -> 1738.3
C94: Միջոցառման նկարագրությունը`
C95: Հանրակրթական դպրոցի սոցիալական աջակցություն ստացող ՀՀ սահմանամերձ համայնքների դպրոցների երեխաների դասագրքերի վարձավճարների փոխհատուցում
C96: Միջոցառման տեսակը
C97: Տրանսֆերտների տրամադրում
B98: 12004 | C98: Միջոցառման անվանումը`
C99: Ատեստավորման միջոցով որակավորում ստացած ուսուցիչներին հավելավճարների տրամադրում | D99: =+'հավելված 2'!G491 -> 8626.2
C100: Միջոցառման նկարագրությունը`
C101: Հանրակրթական դպրոցների մանկավարժներին և դպրոցահասակ երեխաներին տրանսպորտային ծախսերի փոխհատուցման ապահովում
C102: Միջոցառման տեսակը
C103: Տրանսֆերտների տրամադրում
...

Sheet հավելված 2
G1: Հավելված 2
F2: ՀՀ կառավարության 2021 թվականի
F3: ______________ ի ___Ն որոշման
A6: ՀԱՅԱՍՏԱՆԻ ՀԱՆՐԱՊԵՏՈՒԹՅԱՆ ԿԱՌԱՎԱՐՈՒԹՅԱՆ 2020 ԹՎԱԿԱՆԻ ԴԵԿՏԵՄԲԵՐԻ 30-Ի N 2215-Ն ՈՐՈՇՄԱՆ NN 3 ԵՎ 4 ՀԱՎԵԼՎԱԾՆԵՐՈՒՄ ԿԱՏԱՐՎՈՂ ՓՈՓՈԽՈՒԹՅՈՒՆՆԵՐԸ ԵՎ ԼՐԱՑՈՒՄՆԵՐԸ
G8: հազ. դրամներով
A9: Գործառական դասիչը | D9: Ծրագրային դասիչը | F9: Բյուջետային հատկացումների գլխավոր կարգադրիչների, ծրագրերի, միջոցառումների և միջոցառումները կատարող պետական մարմինների անվանումները | G9: Ցուցանիշների փոփոխությունը (ավելացումները նշված են դրական նշանով, իսկ նվազեցումները` փակագծերում)
A10: Բաժին | B10: Խումբ | C10: Դաս | D10: Ծրագիր | E10: Միջոցառում | G10: Տարի
F11: ԸՆԴԱՄԵՆԸ | G11: =+G13+G685 -> 0
F12: այդ թվում`
F13: ՀՀ ԿՐԹՈՒԹՅԱՆ, ԳԻՏՈՒԹՅԱՆ, ՄՇԱԿՈՒՅԹԻ ԵՎ ՍՊՈՐՏԻ ՆԱԽԱՐԱՐՈՒԹՅՈՒՆ | G13: =+G14 -> -880931.4
A14: 09 | E14: 11010 | F14: ԿՐԹՈՒԹՅՈՒՆ | G14: =+G16+G185+G395 -> -880931.4
F15: այդ թվում`
B16: 01 | F16: Նախադպրոցական և տարրական ընդհանուր կրթություն | G16: =+G18+G103 -> -376949.8
F17: այդ թվում`
C18: 01 | F18: Նախադպրոցական կրթություն | G18: =+G20 -> -25418.3
F19: այդ թվում`
F20: ՀՀ կրթության, գիտության, մշակույթի և սպորտի նախարարություն | G20: =+G22 -> -25418.3
F21: այդ թվում`
D22: 1146 | F22: Հանրակրթության ծրագիր | G22: =+G24 -> -25418.3
F23: այդ թվում՝
E24: 11013 | F24: Նախադպրոցական կրթություն | G24: =+G26+G33+G40+G47+G54+G61+G68+G75+G82+G89+G96 -> -25418.3
F25: այդ թվում` ըստ կատարողների
F26: ՀՀ տարածքային կառավարման և ենթակառուցվածքների նախարարություն | G26: =G28 -> -4135.1 | H26: =+G26+G40+G61+G68+G82+G111+G118+G125+#REF!+G132+G139+#REF!+G160+G169+G178+G195+G202+G216+G223+G230+G237+G244+G258+G276+G305+G319+G326+G333+G347+G354+G361+G370+G379+G454+G514+G535+G542 -> #REF!
F27: այդ թվում` բյուջետային ծախսերի տնտեսագիտական դասակարգման հոդվածներ | H27: =+H26+'հավելված 1'!D133 -> #REF!
F28: ԸՆԴԱՄԵՆԸ ԾԱԽՍԵՐ | G28: =G29 -> -4135.1
F29: ԸՆԹԱՑԻԿ ԾԱԽՍԵՐ | G29: =G30 -> -4135.1
F30: ՍՈՒԲՍԻԴԻԱՆԵՐ | G30: =G31 -> -4135.1
F31: Սուբսիդիաներ պետական կազմակերպություններին | G31: =G32 -> -4135.1
F32: - Սուբսիդիաներ ոչ ֆինանսական պետական կազմակերպություններին | G32: ='հավելված 5'!D37 -> -4135.1
F33: ՀՀ կրթության , գիտության, մշակույթի և սպորտի նախարարություն | G33: =+G35 -> 5211.6
F34: այդ թվում` բյուջետային ծախսերի տնտեսագիտական դասակարգման հոդվածներ
F35: ԸՆԴԱՄԵՆԸ ԾԱԽՍԵՐ | G35: =+G36 -> 5211.6
F36: ԸՆԹԱՑԻԿ ԾԱԽՍԵՐ | G36: =+G37 -> 5211.6
F37: ՍՈՒԲՍԻԴԻԱՆԵՐ | G37: =+G38 -> 5211.6
F38: Սուբսիդիաներ պետական կազմակերպություններին | G38: =+G39 -> 5211.6
F39: - Սուբսիդիաներ ոչ ֆինանսական պետական կազմակերպություններին | G39: 5211.6
F40: ՀՀ Արագածոտնի մարզպետարան | G40: =+G42 -> -11817.6
F41: այդ թվում` բյուջետային ծախսերի տնտեսագիտական դասակարգման հոդվածներ
F42: ԸՆԴԱՄԵՆԸ ԾԱԽՍԵՐ | G42: =+G43 -> -11817.6
F43: ԸՆԹԱՑԻԿ ԾԱԽՍԵՐ | G43: =+G44 -> -11817.6
F44: ՍՈՒԲՍԻԴԻԱՆԵՐ | G44: =+G45 -> -11817.6
F45: Սուբսիդիաներ պետական կազմակերպություններին | G45: =+G46 -> -11817.6
F46: - Սուբսիդիաներ ոչ ֆինանսական պետական կազմակերպություններին | G46: ='հավելված 5'!D331 -> -11817.6
F47: ՀՀ Արարատի մարզպետարան | G47: =+G49 -> 7554.8
F48: այդ թվում` բյուջետային ծախսերի տնտեսագիտական դասակարգման հոդվածներ
F49: ԸՆԴԱՄԵՆԸ ԾԱԽՍԵՐ | G49: =+G50 -> 7554.8
F50: ԸՆԹԱՑԻԿ ԾԱԽՍԵՐ | G50: =+G51 -> 7554.8
F51: ՍՈՒԲՍԻԴԻԱՆԵՐ | G51: =+G52 -> 7554.8
F52: Սուբսիդիաներ պետական կազմակերպություններին | G52: =+G53 -> 7554.8
F53: - Սուբսիդիաներ ոչ ֆինանսական պետական կազմակերպություններին | G53: ='հավելված 5'!D428 -> 7554.8
F54: ՀՀ Արմավիրի մարզպետարան | G54: =G56 -> 21116.3
F55: այդ թվում` բյուջետային ծախսերի տնտեսագիտական դասակարգման հոդվածներ
F56: ԸՆԴԱՄԵՆԸ ԾԱԽՍԵՐ | G56: =G57 -> 21116.3
F57: ԸՆԹԱՑԻԿ ԾԱԽՍԵՐ | G57: =G58 -> 21116.3
F58: ՍՈՒԲՍԻԴԻԱՆԵՐ | G58: =G59 -> 21116.3
F59: Սուբսիդիաներ պետական կազմակերպություններին | G59: =G60 -> 21116.3
F60: - Սուբսիդիաներ ոչ ֆինանսական պետական կազմակերպություններին | G60: ='հավելված 5'!D512 -> 21116.3
F61: ՀՀ Գեղարքունիքի մարզպետարան | G61: =G63 -> -28209
F62: այդ թվում` բյուջետային ծախսերի տնտեսագիտական դասակարգման հոդվածներ
F63: ԸՆԴԱՄԵՆԸ ԾԱԽՍԵՐ | G63: =G64 -> -28209
F64: ԸՆԹԱՑԻԿ ԾԱԽՍԵՐ | G64: =G65 -> -28209
F65: ՍՈՒԲՍԻԴԻԱՆԵՐ | G65: =G66 -> -28209
F66: Սուբսիդիաներ պետական կազմակերպություններին | G66: =G67 -> -28209
F67: - Սուբսիդիաներ ոչ ֆինանսական պետական կազմակերպություններին | G67: ='հավելված 5'!D609 -> -28209
F68: ՀՀ Լոռու մարզպետարան | G68: =+G70 -> -7758.9
F69: այդ թվում` բյուջետային ծախսերի տնտեսագիտական դասակարգման հոդվածներ
F70: ԸՆԴԱՄԵՆԸ ԾԱԽՍԵՐ | G70: =+G71 -> -7758.9
F71: ԸՆԹԱՑԻԿ ԾԱԽՍԵՐ | G71: =+G72 -> -7758.9
F72: ՍՈՒԲՍԻԴԻԱՆԵՐ | G72: =+G73 -> -7758.9
F73: Սուբսիդիաներ պետական կազմակերպություններին | G73: =+G74 -> -7758.9
F74: - Սուբսիդիաներ ոչ ֆինանսական պետական կազմակերպություններին | G74: ='հավելված 5'!D732 -> -7758.9
F75: ՀՀ Կոտայքի մարզպետարան | G75: =+G77 -> 1915.7
F76: այդ թվում` բյուջետային ծախսերի տնտեսագիտական դասակարգման հոդվածներ
F77: ԸՆԴԱՄԵՆԸ ԾԱԽՍԵՐ | G77: =+G78 -> 1915.7
F78: ԸՆԹԱՑԻԿ ԾԱԽՍԵՐ | G78: =+G79 -> 1915.7
F79: ՍՈՒԲՍԻԴԻԱՆԵՐ | G79: =+G80 -> 1915.7
F80: Սուբսիդիաներ պետական կազմակերպություններին | G80: =+G81 -> 1915.7
F81: - Սուբսիդիաներ ոչ ֆինանսական պետական կազմակերպություններին | G81: ='հավելված 5'!D829 -> 1915.7
F82: ՀՀ Շիրակի մարզպետարան | G82: =+G84 -> -13942.8
F83: այդ թվում` բյուջետային ծախսերի տնտեսագիտական դասակարգման հոդվածներ
F84: ԸՆԴԱՄԵՆԸ ԾԱԽՍԵՐ | G84: =+G85 -> -13942.8
F85: ԸՆԹԱՑԻԿ ԾԱԽՍԵՐ | G85: =+G86 -> -13942.8
F86: ՍՈՒԲՍԻԴԻԱՆԵՐ | G86: =+G87 -> -13942.8
F87: Սուբսիդիաներ պետական կազմակերպություններին | G87: =+G88 -> -13942.8
F88: - Սուբսիդիաներ ոչ ֆինանսական պետական կազմակերպություններին | G88: ='հավելված 5'!D914 -> -13942.8
F89: ՀՀ Սյունիքի մարզպետարան | G89: =+G91 -> 2805.8
F90: այդ թվում` բյուջետային ծախսերի տնտեսագիտական դասակարգման հոդվածներ
F91: ԸՆԴԱՄԵՆԸ ԾԱԽՍԵՐ | G91: =+G92 -> 2805.8
F92: ԸՆԹԱՑԻԿ ԾԱԽՍԵՐ | G92: =+G93 -> 2805.8
F93: ՍՈՒԲՍԻԴԻԱՆԵՐ | G93: =+G94 -> 2805.8
F94: Սուբսիդիաներ պետական կազմակերպություններին | G94: =+G95 -> 2805.8
F95: - Սուբսիդիաներ ոչ ֆինանսական պետական կազմակերպություններին | G95: ='հավելված 5'!D1020 -> 2805.8
F96: ՀՀ Տավուշի մարզպետարան | G96: =G98 -> 1840.9
F97: այդ թվում` բյուջետային ծախսերի տնտեսագիտական դասակարգման հոդվածներ
F98: ԸՆԴԱՄԵՆԸ ԾԱԽՍԵՐ | G98: =G99 -> 1840.9
F99: ԸՆԹԱՑԻԿ ԾԱԽՍԵՐ | G99: =G100 -> 1840.9
F100: ՍՈՒԲՍԻԴԻԱՆԵՐ | G100: =G101 -> 1840.9
F101: Սուբսիդիաներ պետական կազմակերպություններին | G101: =G102 -> 1840.9
F102: - Սուբսիդիաներ ոչ ֆինանսական պետական կազմակերպություններին | G102: ='հավելված 5'!D1201 -> 1840.9
C103: 02 | F103: Տարրական ընդհանուր կրթություն | G103: =+G105 -> -351531.5
...

Sheet հավելված 3
G1: Հավելված 3
F2: ՀՀ կառավարության 2021 թվականի
F3: _____________-ի ___-Ն որոշում
A6: ՀԱՅԱՍՏԱՆԻ ՀԱՆՐԱՊԵՏՈՒԹՅԱՆ ԿԱՌԱՎԱՐՈՒԹՅԱՆ 2020 ԹՎԱԿԱՆԻ ԴԵԿՏԵՄԲԵՐԻ 30-Ի N 2215-Ն ՈՐՈՇՄԱՆ N 5 ՀԱՎԵԼՎԱԾԻ N 7 ԱՂՅՈՒՍԱԿՈՒՄ ԿԱՏԱՐՎՈՂ ՓՈՓՈԽՈՒԹՅՈՒՆՆԵՐԸ ԵՎ ԼՐԱՑՈՒՄՆԵՐԸ
G7: հազար դրամներով
A8: Ծրագրային դասիչը | C8: Բյուջետային հատկացումների գլխավոր կարգադրիչների, ծրագրերի, միջոցառումների, ծախսային ուղղությունների անվանումները | F8: Միջոցառումները կատարող պետական մարմինների և դրամաշնորհ ստացող տնտեսվարող սուբյեկտների անվանումները | G8: Ցուցանիշների փոփոխությունը (նվազեցումները նշված են փակագծերում, ավելացումները նշված են դրական նշանով)
A9: Ծրագիր | B9: Միջոցառում | G9: Տարի
C10: Հանրակրթության ծրագիր | G10: =G11+G34 -> 109371.6
A11: 1146 | B11: 12002 | C11: Հանրակրթական դպրոցների մանկավարժներին և դպրոցահասակ երեխաներին տրանսպորտային ծախսերի փոխհատուցում | F11: ընդամենը, որից՝ | G11: =+G12+G14+G16+G18+G20+G22+G24+G26+G28+G30+G32 -> 100745.4
F12: ՀՀ կրթության, գիտության, մշակույթի և սպորտի նախարարություն | G12: =G13 -> 7941.8
F13: Հանրակրթական դպրոցների մանկավարժներ և դպրոցահասակ երեխաներ | G13: ='հավելված 5'!D205 -> 7941.8
F14: ՀՀ Արագածոտնի մարզպետարան | G14: =G15 -> 16471.8
F15: Հանրակրթական դպրոցների մանկավարժներ և դպրոցահասակ երեխաներ | G15: ='հավելված 5'!D347 -> 16471.8
F16: ՀՀ Արարատի մարզպետարան | G16: =G17 -> 3365.8
F17: Հանրակրթական դպրոցների մանկավարժներ և դպրոցահասակ երեխաներ | G17: ='հավելված 5'!D444 -> 3365.8
F18: ՀՀ Արմավիրի մարզպետարան | G18: =G19 -> 20438.1
F19: Հանրակրթական դպրոցների մանկավարժներ և դպրոցահասակ երեխաներ | G19: ='հավելված 5'!D528 -> 20438.1
F20: ՀՀ Գեղարքունիքի մարզպետարան | G20: =G21 -> 13479.9
F21: Հանրակրթական դպրոցների մանկավարժներ և դպրոցահասակ երեխաներ | G21: ='հավելված 5'!D625 -> 13479.9
F22: ՀՀ Լոռու մարզպետարան | G22: =G23 -> 3061.3
F23: Հանրակրթական դպրոցների մանկավարժներ և դպրոցահասակ երեխաներ | G23: ='հավելված 5'!D748 -> 3061.3
F24: ՀՀ Կոտայքի մարզպետարան | G24: =G25 -> 2009.3
F25: Հանրակրթական դպրոցների մանկավարժներ և դպրոցահասակ երեխաներ | G25: ='հավելված 5'!D845 -> 2009.3
F26: ՀՀ Շիրակի մարզպետարան | G26: =G27 -> -7682.6
F27: Հանրակրթական դպրոցների մանկավարժներ և դպրոցահասակ երեխաներ | G27: ='հավելված 5'!D940 -> -7682.6
F28: ՀՀ Սյունիքի մարզպետարան | G28: =G29 -> 19156.6
F29: Հանրակրթական դպրոցների մանկավարժներ և դպրոցահասակ երեխաներ | G29: ='հավելված 5'!D1036 -> 19156.6
F30: ՀՀ Վայոց ձորի մարզպետարան | G30: =G31 -> 1258.4
F31: Հանրակրթական դպրոցների մանկավարժներ և դպրոցահասակ երեխաներ | G31: ='հավելված 5'!D1132 -> 1258.4
F32: ՀՀ Տավուշի մարզպետարան | G32: =G33 -> 21245
F33: Հանրակրթական դպրոցների մանկավարժներ և դպրոցահասակ երեխաներ | G33: ='հավելված 5'!D1217 -> 21245
B34: 12004 | C34: Ատեստավորման միջոցով որակավորում ստացած ուսուցիչներին հավելավճարների տրամադրում | F34: ընդամենը, որից՝ | G34: =G35+G37+G39+G41+G43+G45+G47+G49+G51 -> 8626.2
F35: ՀՀ տարածքային կառավարման և ենթակառուցվածքների նախարարություն | G35: =G36 -> 559.8
F36: Ատեստավորման միջոցով որակավորում ստացած ուսուցիչներ | G36: ='հավելված 2'!G493 -> 559.8
F37: ՀՀ Արագածոտնի մարզպետարան | G37: =G38 -> 1468
F38: Ատեստավորման միջոցով որակավորում ստացած ուսուցիչներ | G38: ='հավելված 2'!G500 -> 1468
F39: ՀՀ Արարատի մարզպետարան | G39: =G40 -> 2130.7
F40: Ատեստավորման միջոցով որակավորում ստացած ուսուցիչներ | G40: ='հավելված 2'!G507 -> 2130.7
F41: ՀՀ Արմավիրի մարզպետարան | G41: =G42 -> -2571.4
F42: Ատեստավորման միջոցով որակավորում ստացած ուսուցիչներ | G42: ='հավելված 2'!G514 -> -2571.4
F43: ՀՀ Գեղարքունիքի մարզպետարան | G43: =G44 -> 416.3
F44: Ատեստավորման միջոցով որակավորում ստացած ուսուցիչներ | G44: ='հավելված 2'!G521 -> 416.3
F45: ՀՀ Կոտայքի մարզպետարան | G45: =G46 -> 15554.9
F46: Ատեստավորման միջոցով որակավորում ստացած ուսուցիչներ | G46: ='հավելված 5'!D857 -> 15554.9
F47: ՀՀ Շիրակի մարզպետարան | G47: =G48 -> -7690.7
F48: Ատեստավորման միջոցով որակավորում ստացած ուսուցիչներ | G48: ='հավելված 2'!G535 -> -7690.7
F49: ՀՀ Սյունիքի մարզպետարան | G49: =G50 -> -3758.4
F50: Ատեստավորման միջոցով որակավորում ստացած ուսուցիչներ | G50: ='հավելված 2'!G542 -> -3758.4
F51: ՀՀ Տավուշի մարզպետարան | G51: =G52 -> 2517
F52: Ատեստավորման միջոցով որակավորում ստացած ուսուցիչներ | G52: ='հավելված 2'!G549 -> 2517
B53: Ապահով դպրոց | G53: =G80+G54 -> 253998.7
A54: 1183 | B54: 32001 | C54: Կրթական օբյեկտների շենքային պայմանների բարելավում | F54: ընդամենը, որից՝ | G54: =G55+G57 -> 227804.7
F55: ՀՀ կրթության, գիտության, մշակույթի և սպորտի նախարարություն | G55: =G56 -> 7222
F56: «Վարդենիկի կրթահամալիր» ՊՈԱԿ | G56: =62+6950+210 -> 7222
F57: ՀՀ Գեղարքունիքի մարզպետարան | G57: =SUM(G58:G79) -> 220582.7
F58: «Ակունքի միջնակարգ դպրոց» ՊՈԱԿ | G58: =47.1+5198+103 -> 5348.1
F59: «Այգուտ գյուղի միջնակարգ դպրոց» ՊՈԱԿ | G59: =42.6+3900+141 -> 4083.6
F60: «Այրքի միջնակարգ դպրոց» ՊՈԱԿ | G60: =23+3970+79 -> 4072
F61: «Արծվանիստի միջնակարգ դպրոց» ՊՈԱԿ | G61: =30.6+4569.4+120 -> 4720
F62: «Արփունք գյուղի միջնակարգ դպրոց» ՊՈԱԿ | G62: =85+4250+26 -> 4361
F63: «Գավառի Մնացական Բունիաթյանի անվան թիվ 8 միջնակարգ դպրոց» ՊՈԱԿ | G63: =430+106.3+18816.6 -> 19352.9
F64: «Գեղամասար գյուղի միջնակարգ դպրոց» ՊՈԱԿ | G64: =114+5700+43 -> 5857
F65: «Դպրաբակ գյուղի միջնակարգ դպրոց» ՊՈԱԿ | G65: =412+13860+103 -> 14375
F66: «Դրախտիկ գյուղի միջնակարգ դպրոց» ՊՈԱԿ | G66: =436+19490.9+109.1 -> 20036
F67: «Լուսակունք գյուղի միջնակարգ դպրոց» ՊՈԱԿ | G67: =59+9375+187 -> 9621
F68: «Խաչաղբյուր գյուղի Կ. Գևորգյանի անվան միջնակարգ դպրոց» ՊՈԱԿ | G68: =45+2285+21.3 -> 2351.3
F69: «Ծակքար գյուղի միջնակարգ դպրոց» ՊՈԱԿ | G69: =121+3512.4+29.8 -> 3663.2
F70: «Ծովակ գյուղի միջնակարգ դպրոց» ՊՈԱԿ | G70: =91+4550+35.2 -> 4676.2
F71: «Կալավան գյուղի միջնակարգ դպրոց» ՊՈԱԿ | G71: =71+2251.9+21.6 -> 2344.5
F72: «Կարճաղբյուրի Ա. Գրիգորյանի անվան միջնակարգ դպրոց» ՊՈԱԿ | G72: =331+16550+125 -> 17006
F73: «Մադինա գյուղի միջնակարգ դպրոց» ՊՈԱԿ | G73: =132+4944+39.9 -> 5115.9
F74: «Նորակերտ գյուղի Ս. Սարոյանի անվան միջնակարգ դպրոց» ՊՈԱԿ | G74: =67+3350+28.2 -> 3445.2
F75: «Սարուխան գյուղի Մ. Խոստեղյանի անվան թիվ 2 միջնակարգ դպրոց» ՊՈԱԿ | G75: =127+5829.3+31.5 -> 5987.8
F76: «Սևան քաղաքի Վլ. Կարապետյանի անվան N 3 հիմնական դպրոց» ՊՈԱԿ | G76: =800+23000+260.3 -> 24060.3
F77: «Վանևան գյուղի միջնակարգ դպրոց» ՊՈԱԿ | G77: =417+20850+108 -> 21375
F78: «Վարդենիսի N 3 հիմնական դպրոց» ՊՈԱԿ | G78: =599+29950+179 -> 30728
F79: «Ճամբարակի միջնակարգ դպրոց» ՊՈԱԿ | G79: =194+7749+59.7 -> 8002.7
A80: 1183 | B80: 32012 | C80: Հանրակրթական դպրոցների գույքով և տեխնիկայով ապահովում | F80: ընդամենը, որից՝ | G80: =G81+G83 -> 26194
F81: ՀՀ կրթության, գիտության, մշակույթի և սպորտի նախարարություն | G81: =G82 -> 1480
F82: «Վարդենիկի կրթահամալիր» ՊՈԱԿ | G82: 1480
F83: ՀՀ Գեղարքունիքի մարզպետարան | G83: =SUM(G84:G106) -> 24714
F84: «Ակունքի միջնակարգ դպրոց» ՊՈԱԿ | G84: 483.9
F85: «Այգուտ գյուղի միջնակարգ դպրոց» ՊՈԱԿ | G85: 690.7
F86: «Այրքի միջնակարգ դպրոց» ՊՈԱԿ | G86: 248.5
F87: «Արեգունի գյուղի միջնակարգ դպրոց» ՊՈԱԿ | G87: 394.7
F88: «Արծվանիստի միջնակարգ դպրոց» ՊՈԱԿ | G88: 1480
F89: «Արփունք գյուղի միջնակարգ դպրոց» ՊՈԱԿ | G89: 385.2
F90: «Գավառի Մնացական Բունիաթյանի անվան թիվ 8 միջնակարգ դպրոց» ՊՈԱԿ | G90: 1925.9
F91: «Գեղամասար գյուղի միջնակարգ դպրոց» ՊՈԱԿ | G91: 1747.5
F92: «Դպրաբակ գյուղի միջնակարգ դպրոց» ՊՈԱԿ | G92: 948.7
F93: «Դրախտիկ գյուղի միջնակարգ դպրոց» ՊՈԱԿ | G93: 1569.2
F94: «Լուսակունք գյուղի միջնակարգ դպրոց» ՊՈԱԿ | G94: 1254.2
F95: «Խաչաղբյուր գյուղի Կ. Գևորգյանի անվան միջնակարգ դպրոց» ՊՈԱԿ | G95: 356.7
... F106: «Ճամբարակի միջնակարգ դպրոց» ՊՈԱԿ | G106: 347.2
C107: Կրթության որակի ապահովում | G107: =G108 -> 0
A108: 1192 | B108: 11010 | C108: Ատեստավորման նոր համակարգի ներդրում՝ ուղղված ուսուցիչների որակի բարձրացմանը | F108: ընդամենը, որից՝ | G108: =G109+G111+G115+G117+G119+G121+G123+G125+G127+G129+G131+G133+G113 -> 0
F109: ՀՀ տարածքային կառավարման և ենթակառուցվածքների նախարարություն | G109: =G110 -> 5033
F110: Ատեստավորված ուսուցիչներ | G110: ='հավելված 2'!G594 -> 5033
F111: ՀՀ կրթության, գիտության, մշակույթի և սոպրտի նախարարություն | G111: =G112 -> -39027
F112: Ատեստավորված ուսուցիչներ | G112: ='հավելված 2'!G601 -> -39027
...

Sheet հավելված 4
C2: Հավելված 4
C3: ՀՀ կառավարության 2021 թվականի
C4: ______________ ի ___Ն որոշման
B7: ՀԱՅԱՍՏԱՆԻ ՀԱՆՐԱՊԵՏՈՒԹՅԱՆ ԿԱՌԱՎԱՐՈՒԹՅԱՆ 2020 ԹՎԱԿԱՆԻ ԴԵԿՏԵՄԲԵՐԻ 30-Ի N 2215-Ն ՈՐՈՇՄԱՆ N 9 ՀԱՎԵԼՎԱԾԻ N 9.14 ԵՎ 9.47 ԱՂՅՈՒՍԱԿՈՒՄ ԿԱՏԱՐՎՈՂ ՓՈՓՈԽՈՒԹՅՈՒՆՆԵՐԸ ԵՎ ԼՐԱՑՈՒՄՆԵՐԸ
B9: ՀՀ կրթության, գիտության, մշակույթի և սպորտի նախարարություն
B11: ՄԱՍ 2. ՊԵՏԱԿԱՆ ՄԱՐՄՆԻ ԳԾՈՎ ԱՐԴՅՈՒՆՔԱՅԻՆ (ԿԱՏԱՐՈՂԱԿԱՆ) ՑՈՒՑԱՆԻՇՆԵՐԸ
B14: Ծրագրի դասիչը | C14: Ծրագրի անվանումը
B15: 1146 | C15: Հանրակրթության ծրագիր
B17: Ծրագրի միջոցառումները
B18: Ծրագրի դասիչը՝ | C18: 1146 | D18: Ցուցանիշների փոփոխությունը (նվազեցումները նշված են փակագծերում)
B19: Միջոցառման դասիչը՝ | C19: 11001 | D19: Տարի
B20: Միջոցառման անվանումը՝ | C20: Տարրական ընդհանուր հանրակրթություն
B21: Նկարագրությունը՝ | C21: Պարտադիր կրթության առաջին մակարդակում սովորողների ընդգրկվածության, գրագիտության և համակողմանի զարգացման բարձր մակարդակի ապահովում
B22: Միջոցառման տեսակը՝ | C22: Ծառայությունների մատուցում
B23: Շահառուների ընտրության չափորոշիչները՝ | C23: ՀՀ կրթության, գիտության,մշակույթի և սպորտի նախարարության, ՀՀ մարզպետարանների, Երևանի քաղաքապետարանի ենթակայության ուսումնական հաստատություններ
B24: Արդյունքի չափորոշիչներ
B25: Տարրական ընդհանուր կրթության դասարանների սովորողների թիվը, մարդ | D25: ='հավելված 5'!D80+'հավելված 5'!D292+'հավելված 5'!D389+'հավելված 5'!D569+'հավելված 5'!D693+'հավելված 5'!D790+'հավելված 5'!D981+'հավելված 5'!D1077+'հավելված 5'!D1162 -> -1167
B26: տղա | D26: ='հավելված 5'!D81+'հավելված 5'!D293+'հավելված 5'!D390+'հավելված 5'!D570+'հավելված 5'!D694+'հավելված 5'!D791+'հավելված 5'!D982+'հավելված 5'!D1078+'հավելված 5'!D1163 -> -767
B27: աղջիկ | D27: ='հավելված 5'!D82+'հավելված 5'!D294+'հավելված 5'!D391+'հավելված 5'!D571+'հավելված 5'!D695+'հավելված 5'!D792+'հավելված 5'!D983+'հավելված 5'!D1079+'հավելված 5'!D1164 -> -400
B28: Միջոցառման վրա կատարվող ծախսը (հազար դրամ) | D28: ='հավելված 5'!D83+'հավելված 5'!D295+'հավելված 5'!D392+'հավելված 5'!D572+'հավելված 5'!D696+'հավելված 5'!D793+'հավելված 5'!D984+'հավելված 5'!D1080+'հավելված 5'!D1165 -> -278041.7
B30: Ծրագրի դասիչը՝ | C30: 1146 | D30: Ցուցանիշների փոփոխությունը (նվազեցումները նշված են փակագծերում)
B31: Միջոցառման դասիչը՝ | C31: 11002 | D31: Տարի
B32: Միջոցառման անվանումը՝ | C32: Հիմնական ընդհանուր հանրակրթություն
B33: Նկարագրությունը՝ | C33: Պարտադիր կրթության երկրորդ մակարդակում սովորողների ընդգրկվածության, գրագիտության և համակողմանի զարգացման բարձր մակարդակի ապահովում
B34: Միջոցառման տեսակը՝ | C34: Ծառայությունների մատուցում
B35: Շահառուների ընտրության չափորոշիչները՝ | C35: ՀՀ կրթության, գիտության,մշակույթի և սպորտի նախարարության, ՀՀ մարզպետարանների, Երևանի քաղաքապետարանի ենթակայության ուսումնական հաստատություններ
B36: Արդյունքի չափորոշիչներ
B37: Հիմնական ընդհանուր կրթության դասարանների սովորողների միջին տարեկան թիվը, մարդ | D37: =+'հավելված 5'!D92+'հավելված 5'!D304+'հավելված 5'!D401+'հավելված 5'!D485+'հավելված 5'!D582+'հավելված 5'!D705+'հավելված 5'!D802+'հավելված 5'!D887+'հավելված 5'!D993+'հավելված 5'!D1089+'հավելված 5'!D1174 -> 249
B38: տղա | D38: =+'հավելված 5'!D93+'հավելված 5'!D305+'հավելված 5'!D402+'հավելված 5'!D486+'հավելված 5'!D583+'հավելված 5'!D706+'հավելված 5'!D803+'հավելված 5'!D888+'հավելված 5'!D994+'հավելված 5'!D1090+'հավելված 5'!D1175 -> -246
B39: աղջիկ | D39: =+'հավելված 5'!D94+'հավելված 5'!D306+'հավելված 5'!D403+'հավելված 5'!D487+'հավելված 5'!D584+'հավելված 5'!D707+'հավելված 5'!D804+'հավելված 5'!D889+'հավելված 5'!D995+'հավելված 5'!D1091+'հավելված 5'!D1176 -> 495
B40: Միջոցառման վրա կատարվող ծախսը (հազար դրամ) | D40: =+'հավելված 5'!D95+'հավելված 5'!D307+'հավելված 5'!D404+'հավելված 5'!D488+'հավելված 5'!D585+'հավելված 5'!D708+'հավելված 5'!D805+'հավելված 5'!D890+'հավելված 5'!D996+'հավելված 5'!D1092+'հավելված 5'!D1177 -> -941479.6
B42: Ծրագրի դասիչը՝ | C42: 1146 | D42: Ցուցանիշների փոփոխությունը (ավելացումները նշված են դրական նշանով, իսկ նվազեցումները` փակագծերում)
B43: Միջոցառման դասիչը՝ | C43: 11003 | D43: Տարի
B44: Միջոցառման անվանումը՝ | C44: Միջնակարգ ընդհանուր հանրակրթություն
B45: Նկարագրությունը՝ | C45: Պարտադիր կրթության երրորդ մակարդակում սովորողների ընդգրկվածության, գրագիտության և համակողմանի զարգացման բարձր մակարդակի ապահովում
B46: Միջոցառման տեսակը՝ | C46: Ծառայությունների մատուցում
B47: Շահառուների ընտրության չափորոշիչները՝ | C47: ՀՀ կրթության, գիտության,մշակույթի և սպորտի նախարարության, ՀՀ մարզպետարանների, Երևանի քաղաքապետարանի ենթակայության ուսումնական հաստատություններ
B48: Արդյունքի չափորոշիչներ
B49: Միջնակարգ ընդհանուր կրթության դասարանների սովորողների միջին տարեկան թիվը, մարդ | D49: ='հավելված 5'!D22+'հավելված 5'!D104+'հավելված 5'!D316+'հավելված 5'!D413+'հավելված 5'!D497+'հավելված 5'!D593+'հավելված 5'!D717+'հավելված 5'!D814+'հավելված 5'!D899+'հավելված 5'!D1005+'հավելված 5'!D1101+'հավելված 5'!D1186 -> -3715
B50: տղա | D50: ='հավելված 5'!D23+'հավելված 5'!D105+'հավելված 5'!D317+'հավելված 5'!D414+'հավելված 5'!D498+'հավելված 5'!D594+'հավելված 5'!D718+'հավելված 5'!D815+'հավելված 5'!D900+'հավելված 5'!D1006+'հավելված 5'!D1102+'հավելված 5'!D1187 -> -2046
B51: աղջիկ | D51: ='հավելված 5'!D24+'հավելված 5'!D106+'հավելված 5'!D318+'հավելված 5'!D415+'հավելված 5'!D499+'հավելված 5'!D595+'հավելված 5'!D719+'հավելված 5'!D816+'հավելված 5'!D901+'հավելված 5'!D1007+'հավելված 5'!D1103+'հավելված 5'!D1188 -> -2499
B52: Միջոցառման վրա կատարվող ծախսը (հազար դրամ) | D52: ='հավելված 5'!D25+'հավելված 5'!D107+'հավելված 5'!D319+'հավելված 5'!D416+'հավելված 5'!D500+'հավելված 5'!D596+'հավելված 5'!D720+'հավելված 5'!D817+'հավելված 5'!D902+'հավելված 5'!D1008+'հավելված 5'!D1104+'հավելված 5'!D1189 -> 309339.3
B54: Ծրագրի դասիչը՝ | C54: 1146 | D54: Ցուցանիշների փոփոխությունը (նվազեցումները նշված են փակագծերում)
B55: Միջոցառման դասիչը՝ | C55: 11004 | D55: Տարի
B56: Միջոցառման անվանումը՝ | C56: Տարրական հատուկ հանրակրթություն
B57: Նկարագրությունը՝ | C57: Պարտադիր կրթության առաջին մակարդակում սովորողների ընդգրկվածության և գրագիտության ապահովում
B58: Միջոցառման տեսակը՝ | C58: Ծառայությունների մատուցում
B59: Շահառուների ընտրության չափորոշիչները՝ | C59: ՀՀ կրթության, գիտության,մշակույթի և սպորտի նախարարության, ՀՀ մարզպետարանների, Երևանի քաղաքապետարանի ենթակայության ուսումնական հաստատություններ
B60: Արդյունքի չափորոշիչներ
B61: Սովորողների միջին տարեկան թիվը, մարդ | D61: ='հավելված 5'!D116 -> -23
B62: տղա | D62: ='հավելված 5'!D117 -> -13
B63: աղջիկ | D63: ='հավելված 5'!D118 -> -10
B64: Միջոցառման վրա կատարվող ծախսը (հազար դրամ) | D64: ='հավելված 5'!D119 -> -3397.2
B66: Ծրագրի դասիչը՝ | C66: 1146 | D66: Ցուցանիշների փոփոխությունը (նվազեցումները նշված են փակագծերում)
B67: Միջոցառման դասիչը՝ | C67: 11005 | D67: Տարի
B68: Միջոցառման անվանումը՝ | C68: Հիմնական հատուկ հանրակրթություն
B69: Նկարագրությունը՝ | C69: Պարտադիր կրթության երկրորդ մակարդակում սովորողների ընդգրկվածության և գրագիտության ապահովում
B70: Միջոցառման տեսակը՝ | C70: Ծառայությունների մատուցում
B71: Շահառուների ընտրության չափորոշիչները՝ | C71: ՀՀ կրթության, գիտության,մշակույթի և սպորտի նախարարության, ՀՀ մարզպետարանների, Երևանի քաղաքապետարանի ենթակայության ուսումնական հաստատություններ
B72: Արդյունքի չափորոշիչներ
B73: Սովորողների միջին տարեկան թիվը, մարդ | D73: ='հավելված 5'!D128 -> 20
B74: տղա | D74: ='հավելված 5'!D129 -> 13
B75: աղջիկ | D75: ='հավելված 5'!D130 -> 7
B76: Միջոցառման վրա կատարվող ծախսը (հազար դրամ) | D76: ='հավելված 5'!D131 -> 110261.7
B78: Ծրագրի դասիչը՝ | C78: 1146 | D78: Ցուցանիշների փոփոխությունը (ավելացումները նշված են դրական նշանով)
B79: Միջոցառման դասիչը՝ | C79: 11006 | D79: Տարի
B80: Միջոցառման անվանումը՝ | C80: Միջնակարգ հատուկ հանրակրթություն
B81: Նկարագրությունը՝ | C81: Պարտադիր կրթության երրորդ մակարդակում սովորողների ընդգրկվածության՛ գրագիտության և համակողմանի զարգացման բարձր մակարդակի ապահովում
B82: Միջոցառման տեսակը՝ | C82: Ծառայությունների մատուցում
B83: Շահառուների ընտրության չափորոշիչները՝ | C83: ՀՀ կրթության, գիտության,մշակույթի և սպորտի նախարարության, Երևանի քաղաքապետարանի ենթակայության հատուկ ուսումնական հաստատություններ
B84: Արդյունքի չափորոշիչներ
B85: Սովորողների միջին տարեկան թիվը, մարդ | D85: ='հավելված 5'!D140 -> -65
B86: տղա | D86: ='հավելված 5'!D141 -> -42
B87: աղջիկ | D87: ='հավելված 5'!D142 -> -23
B88: Միջոցառման վրա կատարվող ծախսը (հազար դրամ) | D88: ='հավելված 5'!D143 -> -31552.2
B90: Ծրագրի դասիչը՝ | C90: 1146 | D90: Ցուցանիշների փոփոխությունը (նվազեցումները նշված են փակագծերում)
B91: Միջոցառման դասիչը՝ | C91: 11010 | D91: Տարի
B92: Միջոցառման անվանումը՝ | C92: Տարրական մասնագիտացված հանրակրթություն
B93: Նկարագրությունը՝ | C93: Տարրական կրթության մակարդակում մասնագիտացված հանրակրթական ծառայությունների մատուցման միջոցով սովորողների ընդգրկվածության և գրագիտության ապահովում
B94: Միջոցառման տեսակը՝ | C94: Ծառայությունների մատուցում
B95: Շահառուների ընտրության չափորոշիչները՝ | C95: ՀՀ կրթության, գիտության, մշակույթի և սպորտի նախարարության ենթակայության մասնագիտացված հանրակրթական ուսումնական հաստատություններ
B96: Արդյունքի չափորոշիչներ
B97: Սովորողների միջին տարեկան թիվը, մարդ | D97: ='հավելված 5'!D152 -> -57
B98: տղա | D98: ='հավելված 5'!D153 -> -23
B99: աղջիկ | D99: ='հավելված 5'!D154 -> -34
B100: Միջոցառման վրա կատարվող ծախսը (հազար դրամ) | D100: ='հավելված 5'!D155 -> -70092.6
B102: Ծրագրի դասիչը՝ | C102: 1146 | D102: Ցուցանիշների փոփոխությունը (նվազեցումները նշված են փակագծերում)
B103: Միջոցառման դասիչը՝ | C103: 11011 | D103: Տարի
B104: Միջոցառման անվանումը՝ | C104: Հիմնական մասնագիտացված հանրակրթություն
B105: Նկարագրությունը՝ | C105: Հիմնական կրթության մակարդակում մասնագիտացված հանրակրթական ծառայությունների մատուցման միջոցով սովորողների ընդգրկվածության և գրագիտության ապահովում
B106: Միջոցառման տեսակը՝ | C106: Ծառայությունների մատուցում
B107: Շահառուների ընտրության չափորոշիչները՝ | C107: ՀՀ կրթության, գիտության, մշակույթի և սպորտի նախարարության ենթակայության մասնագիտացված հանրակրթական ուսումնական հաստատություններ
B108: Արդյունքի չափորոշիչներ
B109: Սովորողների միջին տարեկան թիվը, մարդ | D109: ='հավելված 5'!D164 -> -6
B110: տղա | D110: ='հավելված 5'!D165 -> -4
B111: աղջիկ | D111: ='հավելված 5'!D166 -> -2
B112: Միջոցառման վրա կատարվող ծախսը (հազար դրամ) | D112: ='հավելված 5'!D167 -> -8630.3
B114: Ծրագրի դասիչը՝ | C114: 1146 | D114: Ցուցանիշների փոփոխությունը (ավելացումները նշված են դրական նշանով)
B115: Միջոցառման դասիչը՝ | C115: 11012 | D115: Տարի
B116: Միջոցառման անվանումը՝ | C116: Միջնակարգ մասնագիտացված հանրակրթություն
...

Sheet հավելված 5
C2: Հավելված 5
C3: ՀՀ կառավարության 2021 թվականի
C4: ______________ ի ___Ն որոշման
B7: ՀԱՅԱՍՏԱՆԻ ՀԱՆՐԱՊԵՏՈՒԹՅԱՆ ԿԱՌԱՎԱՐՈՒԹՅԱՆ 2020 ԹՎԱԿԱՆԻ ԴԵԿՏԵՄԲԵՐԻ 30-Ի N 2215-Ն ՈՐՈՇՄԱՆ N 9.1 ՀԱՎԵԼՎԱԾԻ N 9.1.58, 9.1.8, 9.1.14, 9.1.15, 9.1.48, 9.1.49, 9.1.50, 9.1.51, 9.1.52, 9.1.53, 9.1.54, 9.1.55, 9.1.56, 9.1.57 ԱՂՅՈՒՍԱԿՆԵՐՈՒՄ ԿԱՏԱՐՎՈՂ ՓՈՓՈԽՈՒԹՅՈՒՆՆԵՐԸ ԵՎ ԼՐԱՑՈՒՄՆԵՐԸ
B9: ՀՀ տարածքային կառավարման և ենթակառուցվածքների նախարարություն
B11: Ծրագրի դասիչը | C11: Ծրագրի անվանումը
B12: 1146 | C12: Հանրակրթության ծրագիր
B15: Ծրագրի դասիչը՝ | C15: 1146 | D15: Ցուցանիշների փոփոխությունը (նվազեցումները նշված են փակագծերում)
B16: Միջոցառման դասիչը՝ | C16: 11003 | D16: Տարի
B17: Միջոցառման անվանումը՝ | C17: Միջնակարգ ընդհանուր հանրակրթություն
B18: Նկարագրությունը՝ | C18: Պարտադիր կրթության երրորդ մակարդակում սովորողների ընդգրկվածության, գրագիտության և համակողմանի զարգացման բարձր մակարդակի ապահովում
B19: Միջոցառման տեսակը՝ | C19: Ծառայությունների մատուցում
B20: Շահառուների ընտրության չափորոշիչները՝ | C20: Երևանի քաղաքապետարանի ենթակայության հանրակրթական դպրոցներ
B21: Արդյունքի չափորոշիչներ
B22: Միջնակարգ ընդհանուր կրթության դասարանների սովորողների միջին տարեկան թիվը, մարդ | D22: -198
B23: տղա | D23: -55
B24: աղջիկ | D24: -143
B25: Միջոցառման վրա կատարվող ծախսը (հազար դրամ) | D25: 46953
B27: Ծրագրի դասիչը՝ | C27: 1146 | D27: Ցուցանիշների փոփոխությունը (նվազեցումները նշված են փակագծերում)
B28: Միջոցառման դասիչը՝ | C28: 11013 | D28: Տարի
B29: Միջոցառման անվանումը՝ | C29: Նախադպրոցական կրթություն
B30: Նկարագրությունը՝ | C30: Նախադպրոցական կրթություն մակարդակում սաների ընդգրկվածության, զարգացման բարձր մակարդակի ապահովում, 5-6 տարեկան երեխաների նախապատրաստում տարրական դպրոցին
B31: Միջոցառման տեսակը՝ | C31: Ծառայությունների մատուցում
B32: Շահառուների ընտրության չափորոշիչները՝ | C32: Երևանի քաղաքապետարանի ենթակայության նախադպրոցական կրթություն իրականացնող ուսումնական հաստատություններ
B33: Արդյունքի չափորոշիչներ
B34: Ծառայությունը ստացող երեխաների միջին տարեկան թիվը, մարդ | D34: -80
B35: տղա | D35: -38
B36: աղջիկ | D36: -42
B37: Միջոցառման վրա կատարվող ծախսը (հազար դրամ) | D37: -4135.1
B39: Ծրագրի դասիչը՝ | C39: 1146 | D39: Ցուցանիշների փոփոխությունը (ավելացումները նշված են դրական նշանով)
B40: Միջոցառման դասիչը՝ | C40: 12004 | D40: Տարի
B41: Միջոցառման անվանումը՝ | C41: Ատեստավորման միջոցով որակավորում ստացած ուսուցիչներին հավելավճարների տրամադրում
B42: Նկարագրությունը՝ | C42: Ատեստավորման միջոցով տարակարգի որակավորում ստացած ուսուցիչներին համաապատասխան հավելավճարի տրամադրման ապահովում
B43: Միջոցառման տեսակը՝ | C43: Տրանսֆերտների տրամադրում
B44: Շահառուների ընտրության չափորոշիչները՝ | C44: Ատեստավորման արդյունքում որակավորում ստացած ուսուցիչներ
B45: Արդյունքի չափորոշիչներ
B46: Որակավորման տարակարգ ստացած ուսուցիչների թիվը, մարդ | D46: 57
B47: տղամարդ | D47: 56
B48: կին | D48: 1
B49: Միջոցառման վրա կատարվող ծախսը (հազար դրամ) | D49: 559.8
B51: Ծրագրի դասիչը | C51: Ծրագրի անվանումը
B52: 1192 | C52: Կրթության որակի ապահովում
B54: Ծրագրի միջոցառումները
B55: Ծրագրի դասիչը՝ | C55: 1192 | D55: Ցուցանիշների փոփոխությունը (ավելացումները նշված են դրական նշանով)
B56: Միջոցառման դասիչը՝ | C56: 11010 | D56: Տարի
B57: Միջոցառման անվանումը՝ | C57: Ատեստավորման նոր համակարգի ներդրում՛ ուղղված ուսուցիչների որակի բարձրացմանը
B58: Նկարագրությունը՝ | C58: Հանրակրթական դպրոցներում դասվանդող ուսուցիչների կամավոր ատեստավորման համակարգի մշակում և ներդրում
B59: Միջոցառման տեսակը՝ | C59: Ծառայությունների մատուցում
B60: Շահառուների ընտրության չափորոշիչները՝ | C60: Մասնագիտացված կազմակերպություն
B61: Արդյունքի չափորոշիչներ
B62: Կամավոր ատեստավորմանը մասնակցած ուսուցիչների թիվը, մարդ
B63: Կամավոր ատեստավորման արդյունքում հավելավճար ստացող ուսուցիչների թվաքանակը | D63: 33
B64: Միջոցառման վրա կատարվող ծախսը (հազար դրամ) | D64: 5033
B67: ՀՀ կրթության, գիտության, մշակույթի և սպորտի նախարարություն
B69: Ծրագրի դասիչը | C69: Ծրագրի անվանումը
B70: 1146 | C70: Հանրակրթության ծրագիր
B72: Ծրագրի միջոցառումները
B73: Ծրագրի դասիչը՝ | C73: 1146 | D73: Ցուցանիշների փոփոխությունը (ավելացումները նշված են դրական նշանով, իսկ նվազեցումները` փակագծերում)
B74: Միջոցառման դասիչը՝ | C74: 11001 | D74: Տարի
B75: Միջոցառման անվանումը՝ | C75: Տարրական ընդհանուր հանրակրթություն
B76: Նկարագրությունը՝ | C76: Պարտադիր կրթության առաջին մակարդակում սովորողների ընդգրկվածության, գրագիտության և համակողմանի զարգացման բարձր մակարդակի ապահովում
B77: Միջոցառման տեսակը՝ | C77: Ծառայությունների մատուցում
B78: Շահառուների ընտրության չափորոշիչները՝ | C78: ՀՀ ԿԳՄՍՆ ենթակայության հանրակրթական դպրոցներ
B79: Արդյունքի չափորոշիչներ
B80: Տարրական ընդհանուր կրթության դասարանների սովորողների միջին տարեկան թիվը, մարդ | D80: 59
B81: տղա | D81: 31
B82: աղջիկ | D82: 28
B83: Միջոցառման վրա կատարվող ծախսը (հազար դրամ) | D83: -36511.7
B85: Ծրագրի դասիչը՝ | C85: 1146 | D85: Ցուցանիշների փոփոխությունը (ավելացումները նշված են դրական նշանով, իսկ նվազեցումները` փակագծերում)
B86: Միջոցառման դասիչը՝ | C86: 11002 | D86: Տարի
B87: Միջոցառման անվանումը՝ | C87: Հիմնական ընդհանուր հանրակրթություն
B88: Նկարագրությունը՝ | C88: Պարտադիր կրթության երկրորդ մակարդակում սովորողների ընդգրկվածության, գրագիտության և համակողմանի զարգացման բարձր մակարդակի ապահովում
B89: Միջոցառման տեսակը՝ | C89: Ծառայությունների մատուցում
B90: Շահառուների ընտրության չափորոշիչները՝ | C90: ՀՀ ԿԳՄՍՆ ենթակայության հանրակրթական դպրոցներ
B91: Արդյունքի չափորոշիչներ
B92: Հիմնական ընդհանուր կրթության դասարանների սովորողների միջին տարեկան թիվը, մարդ | D92: 83
B93: տղա | D93: 44
B94: աղջիկ | D94: 39
B95: Միջոցառման վրա կատարվող ծախսը (հազար դրամ) | D95: -119477.3
B97: Ծրագրի դասիչը՝ | C97: 1146 | D97: Ցուցանիշների փոփոխությունը (ավելացումները նշված են դրական նշանով, իսկ նվազեցումները` փակագծերում)
B98: Միջոցառման դասիչը՝ | C98: 11003 | D98: Տարի
B99: Միջոցառման անվանումը՝ | C99: Միջնակարգ ընդհանուր հանրակրթություն
B100: Նկարագրությունը՝ | C100: Պարտադիր կրթության երրորդ մակարդակում սովորողների ընդգրկվածության, գրագիտության և համակողմանի զարգացման բարձր մակարդակի ապահովում
B101: Միջոցառման տեսակը՝ | C101: Ծառայությունների մատուցում
B102: Շահառուների ընտրության չափորոշիչները՝ | C102: ՀՀ ԿԳՄՍՆ ենթակայության հանրակրթական դպրոցներ
B103: Արդյունքի չափորոշիչներ
B104: Միջնակարգ ընդհանուր կրթության դասարանների սովորողների միջին տարեկան թիվը, մարդ | D104: -134
B105: տղա | D105: -66
B106: աղջիկ | D106: -68
B107: Միջոցառման վրա կատարվող ծախսը (հազար դրամ) | D107: 119093.4
B109: Ծրագրի դասիչը՝ | C109: 1146 | D109: Ցուցանիշների փոփոխությունը (նվազեցումները նշված են փակագծերում)
B110: Միջոցառման դասիչը՝ | C110: 11004 | D110: Տարի
B111: Միջոցառման անվանումը՝ | C111: Տարրական հատուկ հանրակրթություն
B112: Նկարագրությունը՝ | C112: Պարտադիր կրթության առաջին մակարդակում սովորողների ընդգրկվածության և գրագիտության ապահովում
B113: Միջոցառման տեսակը՝ | C113: Ծառայությունների մատուցում
B114: Շահառուների ընտրության չափորոշիչները՝ | C114: ՀՀ ԿԳՄՍՆ ենթակայության հատուկ կրթություն իրականացնող ուսումնական հաստատություններ
B115: Արդյունքի չափորոշիչներ
B116: Սովորողների միջին տարեկան թիվը, մարդ | D116: -23
B117: տղա | D117: -13
B118: աղջիկ | D118: -10
...
