Workbook
Name AgencyCode: #REF!
Name AgencyCode: #REF!
Name AgencyName: #REF!
Name AgencyName: #REF!
Name åû: #REF!
Name åû: #REF!
Name davit: #REF!
Name davit: #REF!
Name Functional1: #REF!
Name Functional1: #REF!
Name ggg: #REF!
Name ggg: #REF!
Name mas: #REF!
Name mas: #REF!
Name mass: #REF!
Name mass: #REF!
Name PANature: #REF!
Name PANature: #REF!
Name PAType: #REF!
Name PAType: #REF!
Name Performance2: #REF!
Name Performance2: #REF!
Name PerformanceType: #REF!
Name PerformanceType: #REF!
Name x: #REF!
Name x: #REF!
Name Հավելված: #REF!
Name Հավելված: #REF!
Name Մաս: #REF!
Name Մաս: #REF!
Name շախմատիստ: #REF!
Name շախմատիստ: #REF!

Sheet 1
D1: Հավելված N 1
C2: ՀՀ կառավարության 2021 թվականի
C3: ______________ ի ___Ն որոշման
A5: «ՀԱՅԱՍՏԱՆԻ ՀԱՆՐԱՊԵՏՈՒԹՅԱՆ 2021 ԹՎԱԿԱՆԻ ՊԵՏԱԿԱՆ ԲՅՈՒՋԵԻ ՄԱՍԻՆ» ՀԱՅԱՍՏԱՆԻ ՀԱՆՐԱՊԵՏՈՒԹՅԱՆ ՕՐԵՆՔԻ N 1 ՀԱՎԵԼՎԱԾԻ N 2 ԱՂՅՈՒՍԱԿՈՒՄ ԿԱՏԱՐՎՈՂ ՎԵՐԱԲԱՇԽՈՒՄԸ ԵՎ ՀԱՅԱՍՏԱՆԻ ՀԱՆՐԱՊԵՏՈՒԹՅԱՆ ԿԱՌԱՎԱՐՈՒԹՅԱՆ 2020 ԹՎԱԿԱՆԻ ԴԵԿՏԵՄԲԵՐԻ 30-Ի N 2215-Ն ՈՐՈՇՄԱՆ N 5 ՀԱՎԵԼՎԱԾԻ N 1 ԱՂՅՈՒՍԱԿՈՒՄ ԿԱՏԱՐՎՈՂ ՓՈՓՈԽՈՒԹՅՈՒՆՆԵՐԸ
D6: հազար դրամ
A7: Ծրագրային դասիչը | C7: Բյուջետային հատկացումների գլխավոր կարգադրիչների, ծրագրերի և միջոցառումների անվանումները | D7: Ցուցանիշների փոփոխություն (ավելացումները նշված են դրական նշանով իսկ պակասեցումները փակագծերում)
A8: Ծրագիր | B8: Միջոցառում | D8: Տարի
C9: ԸՆԴԱՄԵՆԸ | D9: =D11 -> 0
C10: այդ թվում՝
C11: ՀՀ աշխատանքի և սոցիալական հարցերի նախարարություն | D11: =D12 -> 0
A12: 1205 | C12: Ծրագրի անվանումը` | D12: =D19+D25+D31 -> 0
C13: Սոցիալական ապահովություն
C14: Ծրագրի նպատակը`
C15: Սոցիալական ապահովության իրավունքի իրականացման ապահովում
C16: Վերջնական արդյունքի նկարագրությունը`
C17: Սոցիալական ապահովության իրավունքի իրականացում
A18: Ծրագրի միջոցառումներ
B19: 12027 | C19: Միջոցառման անվանումը` | D19: =1635777.7-3324 -> 1632453.7
C20: ='2'!F22 -> Արցախի Հանրապետությունից տեղահանված կամ Արցախի Հանրապետությունում բնակելի անշարժ գույքը կորցրած քաղաքացիներին 4 ամիս ժամկետով աջակցություն
C21: Միջոցառման նկարագրությունը`
C22: Արցախի Հանրապետությունից տեղահանված կամ Արցախի Հանրապետությունում բնակելի անշարժ գույքը կորցրած քաղաքացիներին (Կառավարության 2020 թվականի նոյեմբերի 21-ի N 1820-Լ կամ Հայաստանի Հանրապետության կառավարության 2020 թվականի դեկտեմբերի 10-ի N 2021-Լ որոշումներով հաստատված միջոցառումների շրջանակներում վճարման ցուցակներ ներառված) 4 ամիս ժամկետով աջակցության տրամադրում
C23: Միջոցառման տեսակը
C24: Տրանսֆերտների տրամադրում
B25: 12010 | C25: Միջոցառման անվանումը` | D25: =-1312589.1+3324 -> -1309265.1
C26: Ռազմական դրությամբ պայմանավորված՝ միանվագ դրամական աջակցություն Ադրբեջանի Հանրապետության վերահսկողության տակ անցած տարածքներում հաշվառված քաղաքացիներին
C27: Միջոցառման նկարագրությունը`
C28: Ադրբեջանի կողմից 2020 թվականի սեպտեմբերի 27-ին սանձազերծված պատերազմական գործողությունների հետևանքով տեղահանված և փաստացի Հայաստանի Հանրապետությունում գտնվող՝ Արցախում հաշվառված քաղաքացիներին սոցիալական աջակցության տրամադրում
C29: Միջոցառման տեսակը
C30: Տրանսֆերտների տրամադրում
B31: 12022 | C31: Միջոցառման անվանումը` | D31: -323188.6
C32: Ռազմական դրությամբ պայմանավորված՝ Արցախի Հանրապետության վերահսկողությունից դուրս մնացած համայնքներում հաշվառված չափահաս քաղաքացիներին ժամանակավոր հյուրընկալողների ծախսերի փոխհատուցման վեցամսյա սոցիալական աջակցության տրամադրում
C33: Միջոցառման նկարագրությունը`
C34: Արցախի Հանրապետության վերահսկողությունից դուրս մնացած համայնքներում հաշվառված չափահաս քաղաքացիներին ժամանակավոր հյուրընկալողների ծախսերի փոխհատուցման վեցամսյա սոցիալական աջակցության տրամադրում՝ հյուրընկալի կողմից էլեկտրոնային եղանակով ներկայացվող դիմումի հիման վրա
C35: Միջոցառման տեսակը
C36: Տրանսֆերտների տրամադրում

Sheet 2
G1: Հավելված N 2
F2: ՀՀ կառավարության 2021 թվականի
F3: ______________ ի ___Ն որոշման
A6: ՀԱՅԱՍՏԱՆԻ ՀԱՆՐԱՊԵՏՈՒԹՅԱՆ ԿԱՌԱՎԱՐՈՒԹՅԱՆ 2020 ԹՎԱԿԱՆԻ ԴԵԿՏԵՄԲԵՐԻ 30-Ի N 2215-Ն ՈՐՈՇՄԱՆ NN 3 ԵՎ 4 ՀԱՎԵԼՎԱԾՆԵՐՈՒՄ ԿԱՏԱՐՎՈՂ ՓՈՓՈԽՈՒԹՅՈՒՆՆԵՐԸ
G8: հազար դրամ
A9: Գործառական դասիչը | D9: Ծրագրային դասիչը | F9: Բյուջետային ծախսերի գործառական դասակարգման բաժինների, խմբերի և դասերի, տնտեսագիտական դասակարգման հոդվածների, բյուջետային հատկացումների գլխավոր կարգադրիչների, բյուջետային ծրագրերի, միջոցառումների և միջոցառումները կատարող պետական մարմինների անվանումները | G9: Ցուցանիշների փոփոխությունը (ավելացումները նշված են դրական նշանով, իսկ նվազեցումները՝ փակագծերում)
A10: Բաժին | B10: Խումբ | C10: Դաս | D10: Ծրագիր | E10: Միջոցառում | G10: Տարի
F11: ԸՆԴԱՄԵՆԸ ԾԱԽՍԵՐ | G11: =G13 -> 0
F12: այդ թվում`
A13: 10 | F13: ՍՈՑԻԱԼԱԿԱՆ ՊԱՇՏՊԱՆՈՒԹՅՈՒՆ | G13: =G15 -> 0
F14: այդ թվում`
B15: 09 | F15: Սոցիալական պաշտպանություն (այլ դասերին չպատկանող) | G15: =G17 -> 0
F16: այդ թվում՝
C17: 02 | F17: Սոցիալական պաշտպանությանը տրամադրվող օժանդակ ծառայություններ (այլ դասերին չպատկանող) | G17: =G20 -> 0
F18: այդ թվում`
F19: ՀՀ աշխատանքի և սոցիալական հարցերի նախարարություն
D20: 1205 | F20: Սոցիալական ապահովություն | G20: =G22+G30+G38 -> 0
F21: այդ թվում`
E22: ='1'!B19 -> 12027 | F22: Արցախի Հանրապետությունից տեղահանված կամ Արցախի Հանրապետությունում բնակելի անշարժ գույքը կորցրած քաղաքացիներին 4 ամիս ժամկետով աջակցություն | G22: =G24 -> 1632453.7
F23: այդ թվում` ըստ կատարողների
F24: ՀՀ աշխատանքի և սոցիալական հարցերի նախարարության միասնական սոցիալական ծառայություն | G24: =G26 -> 1632453.7
F25: այդ թվում` բյուջետային ծախսերի տնտեսագիտական դասակարգման հոդվածներ
F26: ԸՆԴԱՄԵՆԸ ԾԱԽՍԵՐ | G26: =G28 -> 1632453.7
F27: ԸՆԹԱՑԻԿ ԾԱԽՍԵՐ
F28: ՍՈՑԻԱԼԱԿԱՆ ՆՊԱՍՏՆԵՐ ԵՎ ԿԵՆՍԱԹՈՇԱԿՆԵՐ | G28: =G29 -> 1632453.7
F29: - Այլ նպաստներ բյուջեից | G29: ='1'!D19 -> 1632453.7
E30: 12010 | F30: ='1'!C26 -> Ռազմական դրությամբ պայմանավորված՝ միանվագ դրամական աջակցություն Ադրբեջանի Հանրապետության վերահսկողության տակ անցած տարածքներում հաշվառված քաղաքացիներին | G30: =G32 -> -1309265.1
F31: այդ թվում` ըստ կատարողների
F32: ՀՀ աշխատանքի և սոցիալական հարցերի նախարարության միասնական սոցիալական ծառայություն | G32: =G34 -> -1309265.1
F33: այդ թվում` բյուջետային ծախսերի տնտեսագիտական դասակարգման հոդվածներ
F34: ԸՆԴԱՄԵՆԸ ԾԱԽՍԵՐ | G34: =G35 -> -1309265.1
F35: ԸՆԹԱՑԻԿ ԾԱԽՍԵՐ | G35: =G36 -> -1309265.1
F36: ՍՈՑԻԱԼԱԿԱՆ ՆՊԱՍՏՆԵՐ ԵՎ ԿԵՆՍԱԹՈՇԱԿՆԵՐ | G36: =G37 -> -1309265.1
F37: - Այլ նպաստներ բյուջեից | G37: ='1'!D25 -> -1309265.1
E38: 12022 | F38: Ռազմական դրությամբ պայմանավորված՝ Արցախի Հանրապետության վերահսկողությունից դուրս մնացած համայնքներում հաշվառված չափահաս քաղաքացիներին ժամանակավոր հյուրընկալողների ծախսերի փոխհատուցման վեցամսյա սոցիալական աջակցության տրամադրում | G38: =G40 -> -323188.6
F39: այդ թվում` ըստ կատարողների
F40: ՀՀ աշխատանքի և սոցիալական հարցերի նախարարության միասնական սոցիալական ծառայություն | G40: =G42 -> -323188.6
F41: այդ թվում` բյուջետային ծախսերի տնտեսագիտական դասակարգման հոդվածներ
F42: ԸՆԴԱՄԵՆԸ ԾԱԽՍԵՐ | G42: =G43 -> -323188.6
F43: ԸՆԹԱՑԻԿ ԾԱԽՍԵՐ | G43: =G44 -> -323188.6
...

Sheet 3
C1: Հավելված N 3
B2: ՀՀ կառավարության 2021 թվականի
B3: ______________ ի ___Ն որոշման
A6: ՀԱՅԱՍՏԱՆԻ ՀԱՆՐԱՊԵՏՈՒԹՅԱՆ ԿԱՌԱՎԱՐՈՒԹՅԱՆ 2020 ԹՎԱԿԱՆԻ ԴԵԿՏԵՄԲԵՐԻ 30-Ի N 2215-Ն ՈՐՈՇՄԱՆ N 9 ՀԱՎԵԼՎԱԾԻ N 9.16 ԱՂՅՈՒՍԱԿՈՒՄ ԿԱՏԱՐՎՈՂ ՓՈՓՈԽՈՒԹՅՈՒՆՆԵՐԸ
A7: ՀՀ աշխատանքի և սոցիալական հարցերի նախարարություն
A9: ՄԱՍ 2. ՊԵՏԱԿԱՆ ՄԱՐՄՆԻ ԳԾՈՎ ԱՐԴՅՈՒՆՔԱՅԻՆ (ԿԱՏԱՐՈՂԱԿԱՆ) ՑՈՒՑԱՆԻՇՆԵՐԸ
A11: Ծրագրի դասիչը | B11: Ծրագրի անվանումը
A12: 1205 | B12: Սոցիալական ապահովություն
A13: Ծրագրի միջոցառումները
A15: Միջոցառման անվանումը` | B15: 1205 | C15: Ցուցանիշների փոփոխությունը (ավելացումները նշված են դրական նշանով)
A16: Միջոցառման դասիչը` | B16: 12027 | C16: Տարի
A17: Միջոցառման անվանումը` | B17: Արցախի Հանրապետությունից տեղահանված կամ Արցախի Հանրապետությունում բնակելի անշարժ գույքը կորցրած քաղաքացիներին 4 ամիս ժամկետով աջակցություն
A18: Նկարագրությունը` | B18: Արցախի Հանրապետությունից տեղահանված կամ Արցախի Հանրապետությունում բնակելի անշարժ գույքը կորցրած քաղաքացիներին (Կառավարության 2020 թվականի նոյեմբերի 21-ի N 1820-Լ կամ Հայաստանի Հանրապետության կառավարության 2020 թվականի դեկտեմբերի 10-ի N 2021-Լ որոշումներով հաստատված միջոցառումների շրջանակներում վճարման ցուցակներ ներառված) 4 ամիս ժամկետով աջակցության տրամադրում
A19: Միջոցառման տեսակը` | B19: Տրանսֆերտների տրամադրում
A20: Շահառուների ընտրության չափանիշները | B20: Կառավարության 2020 թվականի նոյեմբերի 21-ի N 1820-Լ կամ Հայաստանի Հանրապետության կառավարության 2020 թվականի դեկտեմբերի 10-ի N 2021-Լ որոշումներով հաստատված միջոցառումների շրջանակներում վճարման ցուցակներ ներառված Արցախում բնակվող քաղաքացիներ
A21: Արդյունքի չափորոշիչներ
A22: շահառուների թիվ | C22: 42102
A23: Միջոցառման վրա կատարվող ծախսը (հազար դրամ) | C23: ='2'!G29 -> 1632453.7
A25: Ծրագրի դասիչը` | B25: 1205 | C25: Ցուցանիշների փոփոխությունը (ավելացումները նշված են դրական նշանով)
A26: Միջոցառման դասիչը` | B26: 12010 | C26: Տարի
A27: Միջոցառման անվանումը` | B27: ='1'!C26 -> Ռազմական դրությամբ պայմանավորված՝ միանվագ դրամական աջակցություն Ադրբեջանի Հանրապետության վերահսկողության տակ անցած տարածքներում հաշվառված քաղաքացիներին
A28: Նկարագրությունը` | B28: Ադրբեջանի կողմից 2020 թվականի սեպտեմբերի 27-ին սանձազերծված պատերազմական գործողությունների հետևանքով տեղահանված և փաստացի Հայաստանի Հանրապետությունում գտնվող՝ Արցախում հաշվառված քաղաքացիներին սոցիալական աջակցության տրամադրում
A29: Միջոցառման տեսակը` | B29: Տրանսֆերտների տրամադրում
A30: Շահառուների ընտրության չափանիշները | B30: ՀՀ կառավարության 2020 թ․ նոյեմբերի 18-ի N 1813-Լ որոշման պահանջներին համապատասխան
A31: Արդյունքի չափորոշիչներ
A32: Փոխհատուցում ստացող շահառուների թվաքանակ | C32: -19689
A33: Միջոցառման վրա կատարվող ծախսը (հազար դրամ) | C33: ='1'!D25 -> -1309265.1
A35: Ծրագրի դասիչը` | B35: 1205 | C35: Ցուցանիշների փոփոխությունը (ավելացումները նշված են դրական նշանով)
A36: Միջոցառման դասիչը` | B36: 12022 | C36: Տարի
A37: Միջոցառման անվանումը` | B37: Ռազմական դրությամբ պայմանավորված՝ Արցախի Հանրապետության վերահսկողությունից դուրս մնացած համայնքներում հաշվառված չափահաս քաղաքացիներին ժամանակավոր հյուրընկալողների ծախսերի փոխհատուցման վեցամսյա սոցիալական աջակցության տրամադրում
A38: Նկարագրությունը` | B38: Արցախի Հանրապետության վերահսկողությունից դուրս մնացած համայնքներում հաշվառված չափահաս քաղաքացիներին ժամանակավոր հյուրընկալողների ծախսերի փոխհատուցման վեցամսյա սոցիալական աջակցության տրամադրում՝ հյուրընկալի կողմից էլեկտրոնային եղանակով ներկայացվող դիմումի
A39: Միջոցառման տեսակը` | B39: Տրանսֆերտների տրամադրում
A40: Շահառուների ընտրության չափանիշները | B40: ՀՀ կառավարության 2020 թվականի դեկտեմբերի 17-ի N 2072-Լ որոշման պահանջներին համապատասխան
A41: Արդյունքի չափորոշիչներ
A42: Շահառուների թվաքանակ | C42: -873
A43: Միջոցառման վրա կատարվող ծախսը (հազար դրամ) | C43: ='1'!D31 -> -323188.6

Sheet 4
C1: Հավելված N 4
B2: ՀՀ կառավարության 2021 թվականի
B3: ______________ ի ___Ն որոշման
A6: ՀԱՅԱՍՏԱՆԻ ՀԱՆՐԱՊԵՏՈՒԹՅԱՆ ԿԱՌԱՎԱՐՈՒԹՅԱՆ 2020 ԹՎԱԿԱՆԻ ԴԵԿՏԵՄԲԵՐԻ 30-Ի ԹԻՎ 2215-Ն ՈՐՈՇՄԱՆ N 9.1 ՀԱՎԵԼՎԱԾԻ N 9.1.20 ԱՂՅՈՒՍԱԿՈՒՄ ԿԱՏԱՐՎՈՂ ՓՈՓՈԽՈՒԹՅՈՒՆՆԵՐԸ
A8: ՀՀ աշխատանքի և սոցիալական հարցերի նախարարության միասնական սոցիալական ծառայություն
A9: ՄԱՍ 1. ՊԵՏԱԿԱՆ ՄԱՐՄՆԻ ԳԾՈՎ ԱՐԴՅՈՒՆՔԱՅԻՆ (ԿԱՏԱՐՈՂԱԿԱՆ) ՑՈՒՑԱՆԻՇՆԵՐԸ
A11: Ծրագրի դասիչը | B11: Ծրագրի անվանումը
A12: 1205 | B12: Սոցիալական ապահովություն
A13: Ծրագրի միջոցառումները
A16: Միջոցառման անվանումը` | B16: 1205 | C16: Ցուցանիշների փոփոխությունը (ավելացումները նշված են դրական նշանով)
A17: Միջոցառման դասիչը` | B17: 12027 | C17: Տարի
A18: Միջոցառման անվանումը` | B18: Արցախի Հանրապետությունից տեղահանված կամ Արցախի Հանրապետությունում բնակելի անշարժ գույքը կորցրած քաղաքացիներին 4 ամիս ժամկետով աջակցություն
A19: Նկարագրությունը` | B19: Արցախի Հանրապետությունից տեղահանված կամ Արցախի Հանրապետությունում բնակելի անշարժ գույքը կորցրած քաղաքացիներին (Կառավարության 2020 թվականի նոյեմբերի 21-ի N 1820-Լ կամ Հայաստանի Հանրապետության կառավարության 2020 թվականի դեկտեմբերի 10-ի N 2021-Լ որոշումներով հաստատված միջոցառումների շրջանակներում վճարման ցուցակներ ներառված) 4 ամիս ժամկետով աջակցության տրամադրում
A20: Միջոցառման տեսակը` | B20: Տրանսֆերտների տրամադրում
A21: Շահառուների ընտրության չափանիշները | B21: Կառավարության 2020 թվականի նոյեմբերի 21-ի N 1820-Լ կամ Հայաստանի Հանրապետության կառավարության 2020 թվականի դեկտեմբերի 10-ի N 2021-Լ որոշումներով հաստատված միջոցառումների շրջանակներում վճարման ցուցակներ ներառված Արցախում բնակվող քաղաքացիներ
A22: Արդյունքի չափորոշիչներ
A23: շահառուների թիվ | C23: 42102
A24: Միջոցառման վրա կատարվող ծախսը (հազար դրամ) | C24: ='1'!D19 -> 1632453.7
A26: Ծրագրի դասիչը` | B26: 1205 | C26: Ցուցանիշների փոփոխությունը (ավելացումները նշված են դրական նշանով)
A27: Միջոցառման դասիչը` | B27: 12010 | C27: Տարի
A28: Միջոցառման անվանումը` | B28: ='1'!C26 -> Ռազմական դրությամբ պայմանավորված՝ միանվագ դրամական աջակցություն Ադրբեջանի Հանրապետության վերահսկողության տակ անցած տարածքներում հաշվառված քաղաքացիներին
A29: Նկարագրությունը` | B29: Ադրբեջանի կողմից 2020 թվականի սեպտեմբերի 27-ին սանձազերծված պատերազմական գործողությունների հետևանքով տեղահանված և փաստացի Հայաստանի Հանրապետությունում գտնվող՝ Արցախում հաշվառված քաղաքացիներին սոցիալական աջակցության տրամադրում
A30: Միջոցառման տեսակը` | B30: Տրանսֆերտների տրամադրում
A31: Շահառուների ընտրության չափանիշները | B31: ՀՀ կառավարության 2020 թ․ նոյեմբերի 18-ի N 1813-Լ որոշման պահանջներին համապատասխան
A32: Արդյունքի չափորոշիչներ
A33: Փոխհատուցում ստացող շահառուների թվաքանակ | C33: -19689
A34: Միջոցառման վրա կատարվող ծախսը (հազար դրամ) | C34: ='1'!D25 -> -1309265.1
A36: Ծրագրի դասիչը` | B36: 1205 | C36: Ցուցանիշների փոփոխությունը (ավելացումները նշված են դրական նշանով)
A37: Միջոցառման դասիչը` | B37: 12022 | C37: Տարի
A38: Միջոցառման անվանումը` | B38: Ռազմական դրությամբ պայմանավորված՝ Արցախի Հանրապետության վերահսկողությունից դուրս մնացած համայնքներում հաշվառված չափահաս քաղաքացիներին ժամանակավոր հյուրընկալողների ծախսերի փոխհատուցման վեցամսյա սոցիալական աջակցության տրամադրում
A39: Նկարագրությունը` | B39: Արցախի Հանրապետության վերահսկողությունից դուրս մնացած համայնքներում հաշվառված չափահաս քաղաքացիներին ժամանակավոր հյուրընկալողների ծախսերի փոխհատուցման վեցամսյա սոցիալական աջակցության տրամադրում՝ հյուրընկալի կողմից էլեկտրոնային եղանակով ներկայացվող դիմումի
A40: Միջոցառման տեսակը` | B40: Տրանսֆերտների տրամադրում
A41: Շահառուների ընտրության չափանիշները | B41: ՀՀ կառավարության 2020 թվականի դեկտեմբերի 17-ի N 2072-Լ որոշման պահանջներին համապատասխան
A42: Արդյունքի չափորոշիչներ
A43: Շահառուների թվաքանակ | C43: -873
A44: Միջոցառման վրա կատարվող ծախսը (հազար դրամ) | C44: ='1'!D31 -> -323188.6
