Workbook

Sheet 1
D1: Հավելված N 1
D2: ՀՀ կառավարության 2021 թվականի
D3: -ի N -Ն որոշման
A4: «ՀԱՅԱՍՏԱՆԻ ՀԱՆՐԱՊԵՏՈՒԹՅԱՆ 2021 ԹՎԱԿԱՆԻ ՊԵՏԱԿԱՆ ԲՅՈՒՋԵԻ ՄԱՍԻՆ» ՕՐԵՆՔԻ N 1 ՀԱՎԵԼՎԱԾԻ N 2 ԱՂՅՈՒՍԱԿՈՒՄ ԿԱՏԱՐՎՈՂ ՎԵՐԱԲԱՇԽՈՒՄԸ, ՓՈՓՈԽՈՒԹՅՈՒՆՆԵՐԸ ԵՎ ՀԱՅԱՍՏԱՆԻ ՀԱՆՐԱՊԵՏՈՒԹՅԱՆ ԿԱՌԱՎԱՐՈՒԹՅԱՆ 2020 ԹՎԱԿԱՆԻ ԴԵԿՏԵՄԲԵՐԻ 30-Ի N 2215-Ն ՈՐՈՇՄԱՆ N 5 ՀԱՎԵԼՎԱԾԻ N 1 ԱՂՅՈՒՍԱԿՈՒՄ ԿԱՏԱՐՎՈՂ ՓՈՓՈԽՈՒԹՅՈՒՆՆԵՐԸ
D6: (հազ. դրամ)
A7: Ծրագրային դասիչը | C7: Բյուջետային գլխավոր կարգադրիչների, ծրագրերի և միջոցառումների անվանումները | D7: Ցուցանիշների փոփոխությունը (ավելացումները նշված են դրական նշանով, իսկ նվազեցումները՝ փակագծերում)
A8: Ծրագիր | B8: Միջոցառում | D8: Տարի
C9: ԸՆԴԱՄԵՆԸ | D9: =D10+D30 -> 0
C10: ՀՀ տարածքային կառավարման և ենթակառուցվածքների նախարարություն | D10: =D11 -> -103571.3
A11: 1004 | C11: Ծրագրի անվանումը` | D11: =D24+D18 -> -103571.3
C12: Ոռոգման համակարգի առողջացում
C13: Ծրագրի նպատակը`
C14: Ոռոգման ծառայությունների հասանելիության և մատչելիության ապահովում
C15: Վերջնական արդյունքի նկարագրությունը`
C16: Ոռոգման ջրի մատակարարման արդյունավետության և հասանելիության բարելավում՝ կորուստների կրճատում
A17: Ծրագրի միջոցառումներ
B18: 31002 | C18: Միջոցառման անվանումը` | D18: ='2'!E15 -> -89331.3
C19: Ոռոգման համակարգերի հիմնանորոգում
C20: Միջոցառման նկարագրությունը`
C21: Ոռոգման համակարգերի հիմնանորոգում
C22: Միջոցառման տեսակը
C23: Պետական մարմինների կողմից օգտագործվող ոչ ֆինանսական ակտիվների հետ գործառնություններ
B24: 31013 | C24: Միջոցառման անվանումը` | D24: -14240
C25: Փոքր և միջին ջրամբարների կառուցման աշխատանքներ
C26: Միջոցառման նկարագրությունը`
C27: Փոքր և միջին ջրամբարների կառուցման նախագծերի և աշխատանքների ձեռքբերում
C28: Միջոցառման տեսակը
C29: Պետական մարմինների կողմից օգտագործվող ոչ ֆինանսական ակտիվների հետ գործառնություններ
C30: ՀՀ կառավարություն | D30: =D31 -> 103571.3
A31: 1139 | C31: Ծրագրի անվանումը` | D31: =D38 -> 103571.3
C32: ՀՀ կառավարության պահուստային ֆոնդ
C33: Ծրագրի նպատակը`
C34: Պետական բյուջեում չկանխատեսված՝ ինչպես նաեւ բյուջետային երաշխիքների ապահովման ծախսերի ֆինանսավորման ապահովում
C35: Վերջնական արդյունքի նկարագրությունը`
C36: Պահուստային ֆոնդի կառավարման արդյունավետության և թափանցիկության ապահովում
A37: Ծրագրի միջոցառումներ
B38: 11001 | C38: Միջոցառման անվանումը` | D38: =-D11 -> 103571.3
C39: ՀՀ կառավարության պահուստային ֆոնդ
C40: Միջոցառման նկարագրությունը`
C41: ՀՀ պետական բյուջեում նախատեսված ելքերի լրացուցիչ ֆինանսավորման՝ պետական բյուջեում չկանխատեսված ելքերի՝ ինչպես նաև բյուջետային երաշխիքների ապահովման ելքերի ֆինանսավորման ապահովում
...

Sheet 2
A1: Հավելված N 2
A2: ՀՀ կառավարության 2021 թվականի
A3: -ի N -Ն որոշման
A4: «ՀԱՅԱՍՏԱՆԻ ՀԱՆՐԱՊԵՏՈՒԹՅԱՆ 2021 ԹՎԱԿԱՆԻ ՊԵՏԱԿԱՆ ԲՅՈՒՋԵԻ ՄԱՍԻՆ» ՕՐԵՆՔԻ N 1 ՀԱՎԵԼՎԱԾԻ N 3 ԱՂՅՈՒՍԱԿՈՒՄ ԿԱՏԱՐՎՈՂ ՓՈՓՈԽՈՒԹՅՈՒՆՆԵՐԸ
G5: (հազ. դրամ)
A6: Ծրագրային դասիչ | C6: Բյուջետային գլխավոր կարգադրիչների, ծրագրերի, միջոցառումների և ուղղությունների անվանումները | D6: Ցուցանիշների փոփոխությունը (Նվազեցումները նշված են փակագծերում)
D7: Ընդամենը, | E7: այդ թվում՝
A8: Ծրագիր | B8: Միջոցառում | E8: Կառուցման աշխատանքներ | F8: Վերակառուցման, վերանորոգման և վերականգնման աշխատանքներ | G8: Նախագծահե- տազոտական, գեոդեզիա- քարտեզագրա- կան աշխա- տանքներ | H8: Ոչ ֆինանսական այլ ակտիվների ձեռքբերում
C9: ԸՆԴԱՄԵՆԸ | D9: =SUM(E9:H9) -> -103571.3 | E9: =E11 -> -89331.3 | F9: =F11 -> 0 | G9: =G11 -> -14240 | H9: =H11 -> 0
C10: այդ թվում՝
C11: ՀՀ ՏԱՐԱԾՔԱՅԻՆ ԿԱՌԱՎԱՐՄԱՆ ԵՎ ԵՆԹԱԿԱՌՈՒՑՎԱԾՔՆԵՐԻ ՆԱԽԱՐԱՐՈՒԹՅՈՒՆ | D11: =SUM(E11:H11) -> -103571.3 | E11: =E13+E16 -> -89331.3 | F11: =F13+F16 -> 0 | G11: =G13+G16 -> -14240 | H11: =H13+H16 -> 0
C12: այդ թվում`
A13: 1004 | B13: 31002 | C13: Ոռոգման համակարգերի հիմնանորոգում | D13: =SUM(E13:H13) -> -89331.3 | E13: =E15 -> -89331.3
C14: այդ թվում`
C15: ՀՀ Կոտայքի մարզիԳեղարդալճի ինքնահոս համակարգի չավարտված աշխատանքների իրականացում | D15: =SUM(E15:H15) -> -89331.3 | E15: -89331.3
A16: 1004 | B16: 31013 | C16: Փոքր և միջին ջրամբարների կառուցման աշխատանքներ | D16: =SUM(E16:H16) -> -14240 | F16: =F19 -> 0 | G16: =G18+G19 -> -14240
C17: այդ թվում`
C18: ՀՀ Գեղարքունիքի մարզի Արգիճիի ջրամբարի կառուցման նախագծանախահաշվային փաստաթղթերի ձեռքբերում | D18: =SUM(E18:H18) -> -7320 | G18: -7320
C19: ՀՀ Գեղարքունիքի մարզի Աստղաձորի ջրամբարի կառուցման նախագծանախահաշվային փաստաթղթերի ձեռքբերում | D19: =SUM(E19:H19) -> -6920 | G19: -6920

Sheet 3
G1: Հավելված N3
A2: ՀՀ կառավարության 2021 թվականի
A3: -ի N -Ն որոշման
A4: ՀԱՅԱՍՏԱՆԻ ՀԱՆՐԱՊԵՏՈՒԹՅԱՆ ԿԱՌԱՎԱՐՈՒԹՅԱՆ 2020 ԹՎԱԿԱՆԻ ԴԵԿՏԵՄԲԵՐԻ 30-Ի N 2215-Ն ՈՐՈՇՄԱՆ N 3 ԵՎ N 4 ՀԱՎԵԼՎԱԾՆԵՐՈՒՄ ԿԱՏԱՐՎՈՂ ՓՈՓՈԽՈՒԹՅՈՒՆՆԵՐԸ
G6: (հազ. դրամ)
A7: Գործառական դասիչը | D7: Ծրագրային դասիչը | F7: Բյուջետային ծախսերի գործառական դասակարգման բաժինների, խմբերի և դասերի, բյուջետային ծրագրերի միջոցառումների, բյուջետային հատկացումների գլխավոր կարգադրիչների անվանումները | G7: Ցուցանիշների փոփոխությունը (ավելացումները նշված են դրական նշանով, իսկ նվազեցումները՝ փակագծերում)
G8: Տարի
A9: Բաժին | B9: Խումբ | C9: Դաս | D9: Ծրագիր | E9: Միջոցառում
F10: ԸՆԴԱՄԵՆԸ ԾԱԽՍԵՐ | G10: =G12+G39 -> 0
F11: այդ թվում`
A12: 04 | F12: ՏՆՏԵՍԱԿԱՆ ՀԱՐԱԲԵՐՈՒԹՅՈՒՆՆԵՐ | G12: =G14 -> -103571.3
F13: այդ թվում`
B14: 02 | F14: Գյուղատնտեսություն, անտառային տնտեսություն, ձկնորսություն և որսորդություն | G14: =G16 -> -103571.3
F15: այդ թվում`
C16: 04 | F16: Ոռոգում | G16: =G18 -> -103571.3
F17: այդ թվում`
F18: ՀՀ տարածքային կառավարման և ենթակառուցվածքների նախարարություն | G18: =G20 -> -103571.3
F19: այդ թվում`
D20: 1004 | F20: Ոռոգման համակարգի առողջացում | G20: =G31+G22 -> -103571.3
F21: այդ թվում`
E22: 31002 | F22: Ոռոգման համակարգերի հիմնանորոգում | G22: =G24 -> -89331.3
F23: այդ թվում` ըստ կատարողների
F24: ՀՀ տարածքային կառավարման և ենթակառուցվածքների նախարարության ջրային կոմիտե | G24: =G26 -> -89331.3
F25: այդ թվում` բյուջետային ծախսերի տնտեսագիտական դասակարգման հոդվածներ
F26: ԸՆԴԱՄԵՆԸ ԾԱԽՍԵՐ | G26: =G27 -> -89331.3
F27: ՈՉ ՖԻՆԱՆՍԱԿԱՆ ԱԿՏԻՎՆԵՐԻ ԳԾՈՎ ԾԱԽՍԵՐ | G27: =G28 -> -89331.3
F28: ՀԻՄՆԱԿԱՆ ՄԻՋՈՑՆԵՐ | G28: =G29 -> -89331.3
F29: ՇԵՆՔԵՐ ԵՎ ՇԻՆՈՒԹՅՈՒՆՆԵՐ | G29: =G30 -> -89331.3
F30: - Շենքերի և շինությունների շինարարություն | G30: ='1'!D18 -> -89331.3
E31: 31013 | F31: ='[1]1'!C26 -> Փոքր և միջին ջրամբարների կառուցման աշխատանքներ | G31: =G35 -> -14240
F32: այդ թվում` ըստ կատարողների
F33: ՀՀ տարածքային կառավարման և ենթակառուցվածքների նախարարության ջրային կոմիտե | G33: =G35 -> -14240
F34: այդ թվում` բյուջետային ծախսերի տնտեսագիտական դասակարգման հոդվածներ
F35: ԸՆԴԱՄԵՆԸ ԾԱԽՍԵՐ | G35: =G36 -> -14240
F36: ՈՉ ՖԻՆԱՆՍԱԿԱՆ ԱԿՏԻՎՆԵՐԻ ԳԾՈՎ ԾԱԽՍԵՐ | G36: =G37 -> -14240
F37: ԱՅԼ ՀԻՄՆԱԿԱՆ ՄԻՋՈՑՆԵՐ | G37: =G38 -> -14240
F38: - Նախագծահետազոտական ծախսեր | G38: -14240
A39: 11 | F39: ՀԻՄՆԱԿԱՆ ԲԱԺԻՆՆԵՐԻՆ ՉԴԱՍՎՈՂ ՊԱՀՈՒՍՏԱՅԻՆ ՖՈՆԴԵՐ | G39: =G41 -> 103571.3
F40: այդ թվում`
B41: 01 | F41: ՀՀ կառավարության և համայնքների պահուստային ֆոնդ | G41: =G43 -> 103571.3
...

Sheet 4
A1: Հավելված N 4
A2: ՀՀ կառավարության 2021 թվականի
A3: -ի N -Ն որոշման
A4: ՀԱՅԱՍՏԱՆԻ ՀԱՆՐԱՊԵՏՈՒԹՅԱՆ ԿԱՌԱՎԱՐՈՒԹՅԱՆ 2020 ԹՎԱԿԱՆԻ ԴԵԿՏԵՄԲԵՐԻ 30-Ի N 2215-Ն ՈՐՈՇՄԱՆ N 5 ՀԱՎԵԼՎԱԾԻ N 2 ԱՂՅՈՒՍԱԿՈՒՄ ԿԱՏԱՐՎՈՂ ՓՈՓՈԽՈՒԹՅՈՒՆՆԵՐԸ
D5: (հազ. դրամ)
A6: Ծրագրային դասիչ | C6: Բյուջետային գլխավոր կարգադրիչների, ծրագրերի, միջոցառումների, միջոցառումները կատարող պետական մարմինների և ուղղությունների անվանումները | D6: Ցուցանիշների փոփոխությունը (նվազեցումները նշված են փակագծերում)
D7: Տարի
A8: Ծրագիր | B8: Միջոցառում
C9: ԸՆԴԱՄԵՆԸ | D9: =D11 -> -103571.3
C10: այդ թվում՝
C11: ՀՀ ՏԱՐԱԾՔԱՅԻՆ ԿԱՌԱՎԱՐՄԱՆ ԵՎ ԵՆԹԱԿԱՌՈՒՑՎԱԾՔՆԵՐԻ ՆԱԽԱՐԱՐՈՒԹՅՈՒՆ | D11: =D13+D18 -> -103571.3
C12: այդ թվում`
A13: 1004 | B13: 31002 | C13: Ոռոգման համակարգերի հիմնանորոգում | D13: =D15 -> -89331.3
C14: այդ թվում` ըստ կատարողների
C15: ՀՀ տարածքային կառավարման և ենթակառուցվածքների նախարարության ջրային կոմիտե | D15: =D17 -> -89331.3
C16: այդ թվում` ըստ ուղղությունների
C17: ՀՀ Կոտայքի մարզիԳեղարդալճի ինքնահոս համակարգի չավարտված աշխատանքների իրականացում | D17: ='2'!E15 -> -89331.3
A18: 1004 | B18: 31013 | C18: Փոքր և միջին ջրամբարների կառուցման աշխատանքներ | D18: =D20 -> -14240
C19: այդ թվում` ըստ կատարողների
C20: ՀՀ տարածքային կառավարման և ենթակառուցվածքների նախարարության ջրային կոմիտե | D20: =D22+D23 -> -14240
C21: այդ թվում` ըստ ուղղությունների
C22: ՀՀ Գեղարքունիքի մարզի Արգիճիի ջրամբարի կառուցման նախագծանախահաշվային փաստաթղթերի ձեռքբերում | D22: -7320
C23: ՀՀ Գեղարքունիքի մարզի Աստղաձորի ջրամբարի կառուցման նախագծանախահաշվային փաստաթղթերի ձեռքբերում | D23: -6920

Sheet 5-1
C1: Հավելված N 5
C2: ՀՀ կառավարության 2021 թվականի
C3: -ի N -Ն որոշման
C4: Աղյուսակ 1
A5: ՀԱՅԱՍՏԱՆԻ ՀԱՆՐԱՊԵՏՈՒԹՅԱՆ ԿԱՌԱՎԱՐՈՒԹՅԱՆ 2020 ԹՎԱԿԱՆԻ ԴԵԿՏԵՄԲԵՐԻ 30-Ի N 2215-Ն ՈՐՈՇՄԱՆ N 9 ՀԱՎԵԼՎԱԾԻ N 9.8 ԵՎ N 9.47 ԱՂՅՈՒՍԱԿՆԵՐՈՒՄ ԿԱՏԱՐՎՈՂ ՓՈՓՈԽՈՒԹՅՈՒՆՆԵՐԸ
C7: Աղյուսակ 9.8
A8: ՀՀ տարածքային կառավարման և ենթակառուցվածքների նախարարություն
A10: ՄԱՍ 2. ՊԵՏԱԿԱՆ ՄԱՐՄՆԻ ԳԾՈՎ ԱՐԴՅՈՒՆՔԱՅԻՆ (ԿԱՏԱՐՈՂԱԿԱՆ) ՑՈՒՑԱՆԻՇՆԵՐԸ
A11: Ծրագրի դասիչը | B11: Ծրագրի անվանումը
A12: 1004 | B12: Ոռոգման համակարգի առողջացում
A13: Ծրագրի միջոցառումները
A15: Ծրագրի դասիչը` | B15: 1004 | C15: Ցուցանիշների փոփոխությունը (նվազեցումները նշված են փակագծերում)
A17: Միջոցառման դասիչը` | B17: 31002 | C17: Տարի
A18: Միջոցառման անվանումը` | B18: Ոռոգման համակարգերի հիմնանորոգում
A19: Նկարագրությունը` | B19: Ոռոգման համակարգերի հիմնանորոգում
A20: Միջոցառման տեսակը` | B20: Պետական մարմինների կողմից օգտագործվող ոչ ֆինանսական ակտիվների հետ գործառնություններ
A21: Ակտիվն օգտագործող կազմակերպության(ների) անվանում(ները)՛ | B21: ՀՀ ՏԿԵՆ ջրային կոմիտե
A22: Արդյունքի չափորոշիչներ
A23: Կառուցվող ջրագիծ,մ | C23: -1.925
A24: Միջոցառման վրա կատարվող ծախսը (հազար դրամ) | C24: ='1'!D18 -> -89331.3
A29: Ծրագրի դասիչը` | B29: 1004 | C29: Ցուցանիշների փոփոխությունը (նվազեցումները նշված են փակագծերում)
A30: Միջոցառման դասիչը` | B30: 31013 | C30: Տարի
A31: Միջոցառման անվանումը` | B31: Փոքր և միջին ջրամբարների կառուցման աշխատանքներ
A32: Նկարագրությունը` | B32: Փոքր և միջին ջրամբարների կառուցման նախագծերի և աշխատանքների ձեռքբերում
A33: Միջոցառման տեսակը` | B33: Պետական մարմինների կողմից օգտագործվող ոչ ֆինանսական ակտիվների հետ գործառնություններ
A34: Միջոցառումն իրականացնողի անվանումը | B34: ՀՀ ՏԿԵՆ ջրային կոմիտե
A35: Արդյունքի չափորոշիչներ
A36: Նախագծանախահաշվային փաստաթղթեր, հատ | C36: -2
A37: Նախագծվող Արգիճիի ջրամբարի ծավալը, մլն մ3 | C37: -6.5
A38: Նախագծվող Աստղաձորի ջրամբարի ծավալը, մլն մ3 | C38: -1.25
A39: Արգիճիի ջրամբարի նախագծման աշխատանքների իրականացման ժամկետ, ամիս | C39: -8
A40: Աստղաձորի ջրամբարի նախագծման աշխատանքների իրականացման ժամկետ, ամիս | C40: -8
A41: Միջոցառման վրա կատարվող ծախսը (հազար դրամ) | C41: ='1'!D24 -> -14240
C43: Աղյուսակ 9.47
A44: ՀՀ կառավարություն
A45: ՄԱՍ 2. ՊԵՏԱԿԱՆ ՄԱՐՄՆԻ ԳԾՈՎ ԱՐԴՅՈՒՆՔԱՅԻՆ (ԿԱՏԱՐՈՂԱԿԱՆ) ՑՈՒՑԱՆԻՇՆԵՐԸ
A47: Ծրագրի դասիչը | B47: Ծրագրի անվանումը
A48: 1139 | B48: ՀՀ կառավարության պահուստային ֆոնդ
A50: Ծրագրի միջոցառումները
A52: Ծրագրի դասիչը` | B52: 1139 | C52: Ցուցանիշների փոփոխությունը (ավելացումները նշված են դրական նշանով)
...

Sheet 5-2
C2: Աղյուսակ 2
A3: ՀԱՅԱՍՏԱՆԻ ՀԱՆՐԱՊԵՏՈՒԹՅԱՆ ԿԱՌԱՎԱՐՈՒԹՅԱՆ 2020 ԹՎԱԿԱՆԻ ԴԵԿՏԵՄԲԵՐԻ 30-Ի N 2215-Ն ՈՐՈՇՄԱՆ N 9.1 ՀԱՎԵԼՎԱԾԻ N 9.1.26 ԵՎ N 9.1.58 ԱՂՅՈՒՍԱԿՆԵՐՈՒՄ ԿԱՏԱՐՎՈՂ ՓՈՓՈԽՈՒԹՅՈՒՆՆԵՐԸ
C4: Աղյուսակ 9.1.26
A5: ՀՀ տարածքային կառավարման և ենթակառուցվածքների նախարարության ջրային կոմիտե
A8: ՄԱՍ 2. ՊԵՏԱԿԱՆ ՄԱՐՄՆԻ ԳԾՈՎ ԱՐԴՅՈՒՆՔԱՅԻՆ (ԿԱՏԱՐՈՂԱԿԱՆ) ՑՈՒՑԱՆԻՇՆԵՐԸ
A9: Ծրագրի դասիչը | B9: Ծրագրի անվանումը
A10: 1004 | B10: Ոռոգման համակարգի առողջացում
A11: Ծրագրի միջոցառումները
A13: Ծրագրի դասիչը` | B13: 1004 | C13: Ցուցանիշների փոփոխությունը (նվազեցումները նշված են փակագծերում)
A14: Միջոցառման դասիչը` | B14: ='5-1'!B17 -> 31002 | C14: Տարի
A15: Միջոցառման անվանումը` | B15: ='5-1'!B18 -> Ոռոգման համակարգերի հիմնանորոգում
A16: Նկարագրությունը` | B16: ='5-1'!B19 -> Ոռոգման համակարգերի հիմնանորոգում
A17: Միջոցառման տեսակը` | B17: ='5-1'!B20 -> Պետական մարմինների կողմից օգտագործվող ոչ ֆինանսական ակտիվների հետ գործառնություններ
A18: Ակտիվն օգտագործող կազմակերպության(ների) անվանում(ները)՛ | B18: ='5-1'!B21 -> ՀՀ ՏԿԵՆ ջրային կոմիտե
A19: Արդյունքի չափորոշիչներ
A20: Կառուցվող ջրագիծ,մ | C20: ='5-1'!C23 -> -1.925
A21: Միջոցառման վրա կատարվող ծախսը (հազար դրամ) | C21: ='5-1'!C24 -> -89331.3
A24: Ծրագրի դասիչը` | B24: 1004 | C24: Ցուցանիշների փոփոխությունը (նվազեցումները նշված են փակագծերում)
A25: Միջոցառման դասիչը` | B25: 31013 | C25: Տարի
A26: Միջոցառման անվանումը` | B26: Փոքր և միջին ջրամբարների կառուցման աշխատանքներ
A27: Նկարագրությունը` | B27: Փոքր և միջին ջրամբարների կառուցման նախագծերի և աշխատանքների ձեռքբերում
A28: Միջոցառման տեսակը` | B28: Պետական մարմինների կողմից օգտագործվող ոչ ֆինանսական ակտիվների հետ գործառնություններ
A29: Միջոցառումն իրականացնողի անվանումը | B29: ՀՀ ՏԿԵՆ ջրային կոմիտե
A30: Արդյունքի չափորոշիչներ
A31: Նախագծանախահաշվային փաստաթղթեր, հատ | C31: -2
A32: Նախագծվող Արգիճիի ջրամբարի ծավալը, մլն մ3 | C32: -6.5
A33: Նախագծվող Աստղաձորի ջրամբարի ծավալը, մլն մ3 | C33: -1.25
A34: Արգիճիի ջրամբարի նախագծման աշխատանքների իրականացման ժամկետ, ամիս | C34: -8
A35: Աստղաձորի ջրամբարի նախագծման աշխատանքների իրականացման ժամկետ, ամիս | C35: -8
A36: Միջոցառման վրա կատարվող ծախսը (հազար դրամ) | C36: ='5-1'!C41 -> -14240
C39: Աղյուսակ 9.1.58
A40: ՀՀ կառավարություն
A42: ՄԱՍ 2. ՊԵՏԱԿԱՆ ՄԱՐՄՆԻ ԳԾՈՎ ԱՐԴՅՈՒՆՔԱՅԻՆ (ԿԱՏԱՐՈՂԱԿԱՆ) ՑՈՒՑԱՆԻՇՆԵՐԸ
A44: Ծրագրի դասիչը | B44: Ծրագրի անվանումը
A45: 1139 | B45: ՀՀ կառավարության պահուստային ֆոնդ
A47: Ծրագրի միջոցառումները
A49: Ծրագրի դասիչը` | B49: 1139 | C49: Ցուցանիշների փոփոխությունը (ավելացումները նշված են դրական նշանով)
A50: Միջոցառման դասիչը` | B50: 11001 | C50: Տարի
A51: Միջոցառման անվանումը` | B51: ՀՀ կառավարության պահուստային ֆոնդ
A52: Նկարագրությունը` | B52: ՀՀ պետական բյուջեում նախատեսված ելքերի լրացուցիչ ֆինանսավորման՝ պետական բյուջեում չկանխատեսված ելքերի՝ ինչպես նաև բյուջետային երաշխիքների ապահովման ելքերի ֆինանսավորման ապահովում
...

Sheet 6
A2: Հավելված N 6
A3: ՀՀ կառավարության 2021 թվականի
A4: -ի N -Ն որոշման
A6: ՀԱՅԱՍՏԱՆԻ ՀԱՆՐԱՊԵՏՈՒԹՅԱՆ ԿԱՌԱՎԱՐՈՒԹՅԱՆ 2020 ԹՎԱԿԱՆԻ ԴԵԿՏԵՄԲԵՐԻ 30-Ի N 2215-Ն ՈՐՈՇՄԱՆ N 10 ՀԱՎԵԼՎԱԾՈՒՄ ԿԱՏԱՐՎՈՂ ՓՈՓՈԽՈՒԹՅՈՒՆՆԵՐԸ
A8: Կոդը | B8: Անվանումը | C8: Գնման ձևը | D8: Չափի միավորը | E8: Միավորի գինը | F8: Ցուցանիշների փոփոխությունը (նվազեցումները նշված են փակագծերում)
F9: քանակը | G9: գումարը (հազ. դրամ)
A10: ՀՀ տարածքային կառավարման և ենթակառուցվածքների նախարարության ջրային կոմիտե | G10: =G12+G18 -> -103571.3
A11: Բաժին N 04 | B11: Խումբ N 02 | C11: Դաս N 04 | D11: Ոռոգում
A12: 1004 31002 | B12: Ոռոգման համակարգերի հիմնանորոգում | G12: =G13+G15 -> -89331.3
B13: ՄԱՍ II ԱՇԽԱՏԱՆՔՆԵՐ | G13: =G14 -> -86533
A14: 45231126/1 | B14: ոռոգման խողովակաշարերի կառուցման աշխատանքներ | C14: ՀԲՄ | D14: դրամ | G14: =-86533 -> -86533
B15: ՄԱՍ III ԾԱՌԱՅՈՒԹՅՈՒՆՆԵՐ | G15: =G16+G17 -> -2798.3
A16: 71351540/10 | B16: Տեխնիկական հսկողության ծառայություններ | C16: ԳՀ | D16: դրամ | G16: -2200
A17: 98111140/2 | B17: Հեղինակային հսկողության ծառայություններ | C17: ՄԱ | D17: դրամ | G17: -598.3
A18: 1004 31013 | B18: Փոքր և միջին ջրամբարների կառուցման աշխատանքներ | G18: =G19 -> -14240
B19: ՄԱՍ III ԾԱՌԱՅՈՒԹՅՈՒՆՆԵՐ | G19: =SUM(G20:G21) -> -14240
A20: 71241200/502 | B20: նախագծերի պատրաստում, ծախսերի գնահատում | C20: ԳՀ | D20: դրամ | G20: -7320
A21: 71241200/503 | B21: նախագծերի պատրաստում, ծախսերի գնահատում | C21: ԳՀ | D21: դրամ | G21: -6920
