Workbook
Name AgencyCode: #REF!
Name AgencyCode: #REF!
Name AgencyCode: #REF!
Name AgencyName: #REF!
Name AgencyName: #REF!
Name Functional1: #REF!
Name Functional1: #REF!
Name PANature: #REF!
Name PANature: #REF!
Name PAType: #REF!
Name PAType: #REF!
Name Performance2: #REF!
Name Performance2: #REF!
Name PerformanceType: #REF!
Name PerformanceType: #REF!

Sheet 1
H1: Հավելված N1
H2: ՀՀ կառավարության 2022 թվականի
H3: ______________ ի ___Ն որոշման
A4: «ՀԱՅԱՍՏԱՆԻ ՀԱՆՐԱՊԵՏՈՒԹՅԱՆ 2022 ԹՎԱԿԱՆԻ ՊԵՏԱԿԱՆ ԲՅՈՒՋԵԻ ՄԱՍԻՆ» ՀԱՅԱՍՏԱՆԻ ՀԱՆՐԱՊԵՏՈՒԹՅԱՆ ՕՐԵՆՔԻ N 1 ՀԱՎԵԼՎԱԾԻ N 3 ԱՂՅՈՒՍԱԿՈՒՄ ԿԱՏԱՐՎՈՂ ՓՈՓՈԽՈՒԹՅՈՒՆՆԵՐԸ ԵՎ ԼՐԱՑՈՒՄՆԵՐԸ
G5: հազ. դրամ
A6: Ծրագրային դասիչ | C6: Բյուջետային գլխավոր կարգադրիչների, ծրագրերի, միջոցառումների և ուղղությունների անվանումները | D6: Ցուցանիշների փոփոխությունը (ավելացումները նշված են դրական նշանով, իսկ նվազեցումները` փակագծերում)
D7: Ընդամենը, | E7: այդ թվում՝
A8: Ծրագիր | B8: Միջոցառում | E8: Կառուցման աշխատանքներ | F8: Վերակառուցման, վերանորոգման և վերականգնման աշխատանքներ | G8: Նախագծահե- տազոտական, գեոդեզիա- քարտեզագրա- կան աշխա- տանքներ | H8: Ոչ ֆինանսական այլ ակտիվների ձեռքբերում
C9: ԸՆԴԱՄԵՆԸ | D9: =+E9+F9+G9+H9 -> -1.4551915e-09 | E9: =E11 -> 0 | F9: =F11 -> -521426.6 | G9: =G11 -> 521426.6 | H9: =H11 -> 0
C10: այդ թվում՝
C11: ՀՀ ՏԱՐԱԾՔԱՅԻՆ ԿԱՌԱՎԱՐՄԱՆ ԵՎ ԵՆԹԱԿԱՌՈՒՑՎԱԾՔՆԵՐԻ ՆԱԽԱՐԱՐՈՒԹՅՈՒՆ | D11: =+E11+F11+G11+H11 -> -1.4551915e-09 | E11: =+E13+E75 -> 0 | F11: =+F13+F75 -> -521426.6 | G11: =+G13+G75 -> 521426.6 | H11: =+H13+H75 -> 0
C12: այդ թվում`
A13: 1049 | B13: 21001 | C13: Պետական նշանակության ավտոճանապարհների հիմնանորոգում | D13: =+E13+F13+G13+H13 -> 11425620 | E13: =+E15+E36+E49 -> 0 | F13: =+F15+F36+F49 -> 10904193 | G13: =+G15+G36+G49 -> 521426.6 | H13: =+H15+H36+H49 -> 0 | I13: =+F13-'2'!J37 -> 0
C14: այդ թվում`
B15: 1 | C15: Միջպետական նշանակության ավտոճանապարհներ, այդ թվում | D15: =+E15+F15+G15+H15 -> 1511285.1 | E15: =SUM(E16:E35) -> 0 | F15: =SUM(F16:F35) -> 1247839.7 | G15: =SUM(G16:G35) -> 263445.4 | H15: =SUM(H16:H35) -> 0
C16: Մ-1, Երևան-Գյումրի-Վրաստանի սահման միջպետական նշանակության ավտոճանապարհի կմ113+200-կմ 118+900 հատվածի հիմնանորոգում | D16: =+E16+F16+G16+H16 -> 3215.4 | E16: 0 | F16: 0 | G16: =+'3'!G18 -> 3215.4 | H16: 0
C17: Մ-1, Երևան-Գյումրի-Վրաստանի սահման միջպետական նշանակության ավտոճանապարհի կմ 130+100-կմ134+500 հատվածի հիմնանորոգում | D17: =+E17+F17+G17+H17 -> 2482.1 | E17: 0 | F17: 0 | G17: =+'3'!G19 -> 2482.1 | H17: 0
C18: Մ-1, Երևան-Գյումրի-Վրաստանի սահման միջպետական նշանակության ավտոճանապարհի կմ 141+500-կմ143+300 հատվածի հիմնանորոգում | D18: =+E18+F18+G18+H18 -> 1015.4 | E18: 0 | F18: 0 | G18: =+'3'!G20 -> 1015.4 | H18: 0
C19: Մ-1, Երևան-Գյումրի-Վրաստանի սահման միջպետական նշանակության ավտոճանապարհի կմ 160+200-կմ171+700 հատվածի հիմնանորոգում | D19: =+E19+F19+G19+H19 -> 6487.2 | E19: 0 | F19: 0 | G19: =+'3'!G21 -> 6487.2 | H19: 0
C20: Մ-2, Երևան-Երասխ-Գորիս-Մեղրի-Իրանի սահման կմ53+150 - կմ65+350 հատվածի հիմնանորոգում | D20: =+E20+F20+G20+H20 -> 1247839.7 | E20: 0 | F20: =+'3'!G22 -> 1247839.7 | G20: 0 | H20: 0
C21: Մ-2, Երևան-Երասխ-Գորիս-Մեղրի-Իրանի սահման միջպետական նշանակության ավտոճանապարհի կմ77+350 - կմ82+000 հատվածի հիմնանորոգում | D21: =+E21+F21+G21+H21 -> 9470.5 | E21: 0 | F21: 0 | G21: =+'3'!G23 -> 9470.5 | H21: 0
C22: Մ-2, Երևան-Երասխ-Գորիս-Մեղրի-Իրանի սահման միջպետական նշանակության ավտոճանապարհի կմ91+600 - կմ98+000 հատվածի հիմնանորոգում | D22: =+E22+F22+G22+H22 -> 13034.6 | E22: 0 | F22: 0 | G22: =+'3'!G24 -> 13034.6 | H22: 0
C23: Մ-2, Երևան-Երասխ-Գորիս-Մեղրի-Իրանի սահման միջպետական նշանակության ավտոճանապարհի կմ131+500 - կմ139+000 հատվածի հիմնանորոգում | D23: =+E23+F23+G23+H23 -> 15274.9 | E23: 0 | F23: 0 | G23: =+'3'!G25 -> 15274.9 | H23: 0
C24: Մ-2, Երևան-Երասխ-Գորիս-Մեղրի-Իրանի սահման միջպետական նշանակության ավտոճանապարհի կմ142+000 - կմ150+700 հատվածի հիմնանորոգում | D24: =+E24+F24+G24+H24 -> 17718.9 | E24: 0 | F24: 0 | G24: =+'3'!G26 -> 17718.9 | H24: 0
C25: Մ-2, Երևան-Երասխ-Գորիս-Մեղրի-Իրանի սահման միջպետական նշանակության ավտոճանապարհի կմ182+532 - կմ190+000 հատվածի հիմնանորոգում | D25: =+E25+F25+G25+H25 -> 16665.7 | E25: 0 | F25: 0 | G25: =+'3'!G27 -> 16665.7 | H25: 0
C26: Մ-2, Երևան-Երասխ-Գորիս-Մեղրի-Իրանի սահման միջպետական նշանակության ավտոճանապարհի կմ235+000 - կմ248+000 հատվածի հիմնանորոգում | D26: =+E26+F26+G26+H26 -> 29010.9 | E26: 0 | F26: 0 | G26: =+'3'!G28 -> 29010.9 | H26: 0
C27: Մ-2, Երևան-Երասխ-Գորիս-Մեղրի-Իրանի սահման միջպետական նշանակության ավտոճանապարհի կմ297+800 - կմ311+250 հատվածի հիմնանորոգում | D27: =+E27+F27+G27+H27 -> 30015.1 | E27: 0 | F27: 0 | G27: =+'3'!G29 -> 30015.1 | H27: 0
C28: Մ-2, Երևան-Երասխ-Գորիս-Մեղրի-Իրանի սահման միջպետական նշանակության ավտոճանապարհի կմ329+820 - կմ338+100 հատվածի հիմնանորոգում | D28: =+E28+F28+G28+H28 -> 18388.5 | E28: 0 | F28: 0 | G28: =+'3'!G30 -> 18388.5 | H28: 0
C29: Մ-3, Թուրքիայի սահման-Մարգարա-Վանաձոր-Տաշիր-Վրաստանի սահման միջպետական նշանակության ավտոճանապարհի կմ39+500-կմ45+300 հատվածի հիմնանորոգում | D29: =+E29+F29+G29+H29 -> 10624.8 | E29: 0 | F29: 0 | G29: =+'3'!G31 -> 10624.8 | H29: 0
C30: Մ4, Երևան - Սևան - Իջևան – Ադրբեջանի Հանրապետության սահման միջպետական նշանակության ավտոճանապարհի կմ144+240-կմ148+200 հատվածի հիմնանորոգում | D30: =+E30+F30+G30+H30 -> 8826.2 | E30: 0 | F30: 0 | G30: =+'3'!G32 -> 8826.2 | H30: 0
C31: Մ-10, Սևան-Մարտունի-Գետափ միջպետական նշանակության ավտոճանապարհի կմ1+000-կմ17+000 հատվածի հիմնանորոգում (բացառությամբ կմ2+800-կմ5+300, կմ5+750-կմ5+886 և կմ6+850-կմ7+034 հատվածների) | D31: =+E31+F31+G31+H31 -> 29495.5 | E31: 0 | F31: 0 | G31: =+'3'!G33 -> 29495.5 | H31: 0
C32: Մ-11, Մարտունի - Վարդենիս - ԼՂՀ սահման միջպետական նշանակության ավտոճանապարհի կմ10+800-կմ25+500 հատվածի հիմնանորոգում | D32: =+E32+F32+G32+H32 -> 20212.5 | E32: 0 | F32: 0 | G32: =+'3'!G34 -> 20212.5 | H32: 0
... C35: Մ-16, /Մ-4/ - Ոսկեպար - Նոյեմբերյան - /Մ-6/ միջպետական նշանակության ավտոճանապարհի կմ0+070-կմ7+000 հատվածի հիմնանորոգում | D35: =+E35+F35+G35+H35 -> 14044.7 | E35: 0 | F35: 0 | G35: =+'3'!G37 -> 14044.7 | H35: 0
B36: 2 | C36: Հանրապետական նշանակության ավտոճանապարհներ, այդ թվում | D36: =+E36+F36+G36+H36 -> 3122352.2 | E36: =SUM(E37:E48) -> 0 | F36: =SUM(F37:F48) -> 3006960.1 | G36: =SUM(G37:G48) -> 115392.1 | H36: =SUM(H37:H48) -> 0
C37: Հ-5, /Հ-6/-Նոր Գեղի-Արգել-Արզական-Հրազդան հանրապետական նշանակության ավտոճանապարհի կմ 25+200 - կմ36+000 հատվածի հիմնանորոգում | D37: =+E37+F37+G37+H37 -> 738052.8 | E37: 0 | F37: 738052.8 | G37: 0 | H37: 0
C38: Հ-21, /Հ-75/ - Հոռոմ-Արթիկ-Ալագյազ հանրապետական նշանակության ավտոճանապարհի կմ19+000 - կմ23+900 հատվածի հիմնանորոգում | D38: =+E38+F38+G38+H38 -> 1072444.9 | E38: 0 | F38: 1072444.9 | G38: 0 | H38: 0
C39: Հ-22, /Մ-6/ - Դսեղ – /Հ-70/ հանրապետական նշանակության ավտոճանապարհի կմ 8+000-կմ 13+900 հատվածի հիմնանորոգում | D39: =+E39+F39+G39+H39 -> 7588.4 | E39: 0 | F39: 0 | G39: =+'3'!G41 -> 7588.4 | H39: 0
C40: Հ-30, Մոտեցում Գոշավանքին հանրապետական նշանակության ավտոճանապարհի կմ0+000-կմ 3+900 հատվածի հիմնանորոգում | D40: =+E40+F40+G40+H40 -> 291664.2 | E40: 0 | F40: 291664.2 | G40: 0 | H40: 0
C41: Հ-30, /Մ-4/ - Ճամբարակ - /Մ-14/ հանրապետական նշանակության ավտոճանապարհի կմ0+000-կմ11+000 հատվածի հիմնանորոգում | D41: =+E41+F41+G41+H41 -> 904798.2 | E41: 0 | F41: 904798.2 | G41: 0 | H41: 0
C42: Հ-30, /Մ-4/ - Ճամբարակ - /Մ-14/ հանրապետական նշանակության ավտոճանապարհի կմ 32+000-կմ 35+000 հատվածի հիմնանորոգում | D42: =+E42+F42+G42+H42 -> 5818.6 | E42: 0 | F42: 0 | G42: =+'3'!G44 -> 5818.6 | H42: 0
...

Sheet 2
A1: Հավելված N2
A2: ՀՀ կառավարության 2022 թվականի
A3: ______________ ի ___Ն որոշման
A5: ՀԱՅԱՍՏԱՆԻ ՀԱՆՐԱՊԵՏՈՒԹՅԱՆ ԿԱՌԱՎԱՐՈՒԹՅԱՆ 2021 ԹՎԱԿԱՆԻ ԴԵԿՏԵՄԲԵՐԻ 23-Ի N 2121-Ն ՈՐՈՇՄԱՆ N 3 ԵՎ N 4 ՀԱՎԵԼՎԱԾՆԵՐՈՒՄ ԿԱՏԱՐՎՈՂ ՓՈՓՈԽՈՒԹՅՈՒՆՆԵՐԸ ԵՎ ԼՐԱՑՈՒՄՆԵՐԸ
I7: հազ. դրամ
A8: Գործառական դասիչը | D8: Ծրագրային դասիչը | F8: Բյուջետային ծախսերի գործառական դասակարգման բաժինների, խմբերի և դասերի, բյուջետային հատկացումների գլխավոր կարգադրիչների, ծրագրերի, միջոցառումների և միջոցառումները կատարող պետական մարմինների անվանումները | G8: Ցուցանիշների փոփոխությունը (ավելացումները նշված են դրական նշանով, իսկ նվազեցումները` փակագծերում)
A9: Բաժին | B9: Խումբ | C9: Դաս | D9: Ծրագիր | E9: Միջոցա ռում | G9: Առաջին եռամսյակ | H9: Առաջին կիսամյակ | I9: Ինն ամիս | J9: Տարի
F10: ԸՆԴԱՄԵՆԸ ԾԱԽՍԵՐ | G10: =G12 -> 0 | H10: =H12 -> 0 | I10: =I12 -> 0 | J10: =J12 -> 0
F11: այդ թվում`
A12: 04 | F12: ՏՆՏԵՍԱԿԱՆ ՀԱՐԱԲԵՐՈՒԹՅՈՒՆՆԵՐ | G12: =G14 -> 0 | H12: =H14 -> 0 | I12: =I14 -> 0 | J12: =J14 -> 0
F13: այդ թվում`
B14: 05 | F14: Տրանսպորտ | G14: =G16 -> 0 | H14: =H16 -> 0 | I14: =I16 -> 0 | J14: =J16 -> 0
F15: այդ թվում`
C16: 01 | F16: Ճանապարհային տրանսպորտ | G16: =G18 -> 0 | H16: =H18 -> 0 | I16: =I18 -> 0 | J16: =J18 -> 0
F17: այդ թվում`
F18: ՀՀ ՏԱՐԱԾՔԱՅԻՆ ԿԱՌԱՎԱՐՄԱՆ ԵՎ ԵՆԹԱԿԱՌՈՒՑՎԱԾՔՆԵՐԻ ՆԱԽԱՐԱՐՈՒԹՅՈՒՆ | G18: =+G20 -> 0 | H18: =+H20 -> 0 | I18: =+I20 -> 0 | J18: =+J20 -> 0
F19: այդ թվում`
D20: 1049 | F20: Ճանապարհային ցանցի բարելավում | G20: =+G22 -> 0 | H20: =+H22 -> 0 | I20: =+I22 -> 0 | J20: =+J22 -> 0
F21: այդ թվում`
E22: 21001 | F22: Պետական նշանակության ավտոճանապարհների հիմնանորոգում | G22: =+G24+G31 -> 0 | H22: =+H24+H31 -> 0 | I22: =+I24+I31 -> 0 | J22: =+J24+J31 -> 0
F23: այդ թվում` ըստ կատարողների
F24: ՀՀ կառավարություն | G24: =+G26 -> -695005.9 | H24: =+H26 -> -5853447.4 | I24: =+I26 -> -8944085.3 | J24: =+J26 -> -11425620
F25: այդ թվում` բյուջետային ծախսերի տնտեսագիտական դասակարգման հոդվածների
F26: ԸՆԴԱՄԵՆԸ ԾԱԽՍԵՐ | G26: =+G27 -> -695005.9 | H26: =+H27 -> -5853447.4 | I26: =+I27 -> -8944085.3 | J26: =+J27 -> -11425620
F27: ՈՉ ՖԻՆԱՆՍԱԿԱՆ ԱԿՏԻՎՆԵՐԻ ԳԾՈՎ ԾԱԽՍԵՐ | G27: =+G28 -> -695005.9 | H27: =+H28 -> -5853447.4 | I27: =+I28 -> -8944085.3 | J27: =+J28 -> -11425620
F28: ՀԻՄՆԱԿԱՆ ՄԻՋՈՑՆԵՐ | G28: =+G29 -> -695005.9 | H28: =+H29 -> -5853447.4 | I28: =+I29 -> -8944085.3 | J28: =+J29 -> -11425620
F29: ՇԵՆՔԵՐ ԵՎ ՇԻՆՈՒԹՅՈՒՆՆԵՐ | G29: =+G30 -> -695005.9 | H29: =+H30 -> -5853447.4 | I29: =+I30 -> -8944085.3 | J29: =+J30 -> -11425620
F30: - Շենքերի և շինությունների կապիտալ վերանորոգում | G30: =-G31 -> -695005.9 | H30: =-H31 -> -5853447.4 | I30: =-I31 -> -8944085.3 | J30: =-J31 -> -11425620
F31: ՀՀ տարածքային կառավարման և ենթակառուցվածքների նախարարություն | G31: =+G33 -> 695005.9 | H31: =+H33 -> 5853447.4 | I31: =+I33 -> 8944085.3 | J31: =+J33 -> 11425620
F32: այդ թվում` բյուջետային ծախսերի տնտեսագիտական դասակարգման հոդվածների
F33: ԸՆԴԱՄԵՆԸ ԾԱԽՍԵՐ | G33: =+G34 -> 695005.9 | H33: =+H34 -> 5853447.4 | I33: =+I34 -> 8944085.3 | J33: =+J34 -> 11425620
F34: ՈՉ ՖԻՆԱՆՍԱԿԱՆ ԱԿՏԻՎՆԵՐԻ ԳԾՈՎ ԾԱԽՍԵՐ | G34: =+G35 -> 695005.9 | H34: =+H35 -> 5853447.4 | I34: =+I35 -> 8944085.3 | J34: =+J35 -> 11425620
F35: ՀԻՄՆԱԿԱՆ ՄԻՋՈՑՆԵՐ | G35: =+G36+G38 -> 695005.9 | H35: =+H36+H38 -> 5853447.4 | I35: =+I36+I38 -> 8944085.3 | J35: =+J36+J38 -> 11425620
F36: ՇԵՆՔԵՐ ԵՎ ՇԻՆՈՒԹՅՈՒՆՆԵՐ | G36: =+G37 -> 630236.4 | H36: =+H37 -> 5332020.8 | I36: =+I37 -> 8422658.7 | J36: =+J37 -> 10904193
F37: - Շենքերի և շինությունների կապիտալ վերանորոգում | G37: ='3'!D22+'3'!D39+'3'!D40+'3'!D42+'3'!D43+'3'!D61+'3'!D72 -> 630236.4 | H37: ='3'!E22+'3'!E39+'3'!E40+'3'!E42+'3'!E43+'3'!E61+'3'!E72 -> 5332020.8 | I37: ='3'!F22+'3'!F39+'3'!F40+'3'!F42+'3'!F43+'3'!F61+'3'!F72 -> 8422658.7 | J37: ='3'!G22+'3'!G39+'3'!G40+'3'!G42+'3'!G43+'3'!G61+'3'!G72 -> 10904193
F38: ԱՅԼ ՀԻՄՆԱԿԱՆ ՄԻՋՈՑՆԵՐ | G38: =+G39 -> 64769.5 | H38: =+H39 -> 521426.6 | I38: =+I39 -> 521426.6 | J38: =+J39 -> 521426.6
F39: - Նախագծահետազոտական ծախսեր | G39: 64769.5 | H39: 521426.6 | I39: 521426.6 | J39: 521426.6

Sheet 3
A1: Հավելված N3
A2: ՀՀ կառավարության 2022 թվականի
A3: ______________ ի ___Ն որոշման
A5: ՀԱՅԱՍՏԱՆԻ ՀԱՆՐԱՊԵՏՈՒԹՅԱՆ ԿԱՌԱՎԱՐՈՒԹՅԱՆ 2021 ԹՎԱԿԱՆԻ ԴԵԿՏԵՄԲԵՐԻ 23-Ի N 2121-Ն ՈՐՈՇՄԱՆ N 5 ՀԱՎԵԼՎԱԾԻ N 2 ԱՂՅՈՒՍԱԿՈՒՄ ԿԱՏԱՐՎՈՂ ՓՈՓՈԽՈՒԹՅՈՒՆՆԵՐԸ ԵՎ ԼՐԱՑՈՒՄՆԵՐԸ
F6: հազ. դրամ
A7: Ծրագրային դասիչ | C7: Բյուջետային գլխավոր կարգադրիչների, ծրագրերի, միջոցառումների և ուղղությունների անվանումները | D7: Ցուցանիշների փոփոխությունը (ավելացումները նշված են դրական նշանով, իսկ նվազեցումները` փակագծերում)
A8: Ծրագիր | B8: Միջոցառում | D8: Առաջին եռամսյակ | E8: Առաջին կիսամյակ | F8: Ինն ամիս | G8: Տարի
C9: ԸՆԴԱՄԵՆԸ | D9: =D11 -> 0 | E9: =E11 -> 0 | F9: =F11 -> 0 | G9: =G11 -> 0
C10: այդ թվում՝
C11: ՀՀ ՏԱՐԱԾՔԱՅԻՆ ԿԱՌԱՎԱՐՄԱՆ ԵՎ ԵՆԹԱԿԱՌՈՒՑՎԱԾՔՆԵՐԻ ՆԱԽԱՐԱՐՈՒԹՅՈՒՆ | D11: =+D13 -> 0 | E11: =+E13 -> 0 | F11: =+F13 -> 0 | G11: =+G13 -> 0
C12: այդ թվում`
A13: 1049 | B13: 21001 | C13: Պետական նշանակության ավտոճանապարհների հիմնանորոգում | D13: =+D15+D77 -> 0 | E13: =+E15+E77 -> 0 | F13: =+F15+F77 -> 0 | G13: =+G15+G77 -> 0
C14: այդ թվում` ըստ կատարողների
C15: ՀՀ տարածքային կառավարման և ենթակառուցվածքների նախարարություն | D15: =+D17+D38+D51 -> 695005.9 | E15: =+E17+E38+E51 -> 5853447.4 | F15: =+F17+F38+F51 -> 8944085.3 | G15: =+G17+G38+G51 -> 11425620
C16: այդ թվում՝ ըստ ուղղությունների
B17: 1 | C17: Միջպետական նշանակության ավտոճանապարհներ, այդ թվում | D17: =SUM(D18:D37) -> 0 | E17: =SUM(E18:E37) -> 513013.4 | F17: =SUM(F18:F37) -> 1261717.2 | G17: =SUM(G18:G37) -> 1511285.1
C18: Մ-1, Երևան-Գյումրի-Վրաստանի սահման միջպետական նշանակության ավտոճանապարհի կմ113+200-կմ 118+900 հատվածի հիմնանորոգում | D18: 0 | E18: 3215.4 | F18: 3215.4 | G18: 3215.4
C19: Մ-1, Երևան-Գյումրի-Վրաստանի սահման միջպետական նշանակության ավտոճանապարհի կմ 130+100-կմ134+500 հատվածի հիմնանորոգում | D19: 0 | E19: 2482.1 | F19: 2482.1 | G19: 2482.1
C20: Մ-1, Երևան-Գյումրի-Վրաստանի սահման միջպետական նշանակության ավտոճանապարհի կմ 141+500-կմ143+300 հատվածի հիմնանորոգում | D20: 0 | E20: 1015.4 | F20: 1015.4 | G20: 1015.4
C21: Մ-1, Երևան-Գյումրի-Վրաստանի սահման միջպետական նշանակության ավտոճանապարհի կմ 160+200-կմ171+700 հատվածի հիմնանորոգում | D21: 0 | E21: 6487.2 | F21: 6487.2 | G21: 6487.2
C22: Մ-2, Երևան-Երասխ-Գորիս-Մեղրի-Իրանի սահման կմ53+150 - կմ65+350 հատվածի հիմնանորոգում | D22: 0 | E22: 249568 | F22: 998271.8 | G22: 1247839.7
C23: Մ-2, Երևան-Երասխ-Գորիս-Մեղրի-Իրանի սահման միջպետական նշանակության ավտոճանապարհի կմ77+350 - կմ82+000 հատվածի հիմնանորոգում | D23: 0 | E23: 9470.5 | F23: 9470.5 | G23: 9470.5
C24: Մ-2, Երևան-Երասխ-Գորիս-Մեղրի-Իրանի սահման միջպետական նշանակության ավտոճանապարհի կմ91+600 - կմ98+000 հատվածի հիմնանորոգում | D24: 0 | E24: 13034.6 | F24: 13034.6 | G24: 13034.6
C25: Մ-2, Երևան-Երասխ-Գորիս-Մեղրի-Իրանի սահման միջպետական նշանակության ավտոճանապարհի կմ131+500 - կմ139+000 հատվածի հիմնանորոգում | D25: 0 | E25: 15274.9 | F25: 15274.9 | G25: 15274.9
C26: Մ-2, Երևան-Երասխ-Գորիս-Մեղրի-Իրանի սահման միջպետական նշանակության ավտոճանապարհի կմ142+000 - կմ150+700 հատվածի հիմնանորոգում | D26: 0 | E26: 17718.9 | F26: 17718.9 | G26: 17718.9
C27: Մ-2, Երևան-Երասխ-Գորիս-Մեղրի-Իրանի սահման միջպետական նշանակության ավտոճանապարհի կմ182+532 - կմ190+000 հատվածի հիմնանորոգում | D27: 0 | E27: 16665.7 | F27: 16665.7 | G27: 16665.7
C28: Մ-2, Երևան-Երասխ-Գորիս-Մեղրի-Իրանի սահման միջպետական նշանակության ավտոճանապարհի կմ235+000 - կմ248+000 հատվածի հիմնանորոգում | D28: 0 | E28: 29010.9 | F28: 29010.9 | G28: 29010.9
C29: Մ-2, Երևան-Երասխ-Գորիս-Մեղրի-Իրանի սահման միջպետական նշանակության ավտոճանապարհի կմ297+800 - կմ311+250 հատվածի հիմնանորոգում | D29: 0 | E29: 30015.1 | F29: 30015.1 | G29: 30015.1
... C37: Մ-16, /Մ-4/ - Ոսկեպար - Նոյեմբերյան - /Մ-6/ միջպետական նշանակության ավտոճանապարհի կմ0+070-կմ7+000 հատվածի հիմնանորոգում | D37: 0 | E37: 14044.7 | F37: 14044.7 | G37: 14044.7
B38: 2 | C38: Հանրապետական նշանակության ավտոճանապարհներ, այդ թվում | D38: =SUM(D39:D50) -> 2254.6 | E38: =SUM(E39:E50) -> 716784.3 | F38: =SUM(F39:F50) -> 2220264.4 | G38: =SUM(G39:G50) -> 3122352.2
C39: Հ-5, /Հ-6/-Նոր Գեղի-Արգել-Արզական-Հրազդան հանրապետական նշանակության ավտոճանապարհի կմ 25+200 - կմ36+000 հատվածի հիմնանորոգում | D39: 0 | E39: 147610.6 | F39: 516637 | G39: 738052.8
C40: Հ-21, /Հ-75/ - Հոռոմ-Արթիկ-Ալագյազ հանրապետական նշանակության ավտոճանապարհի կմ19+000 - կմ23+900 հատվածի հիմնանորոգում | D40: 0 | E40: 214489 | F40: 750711.5 | G40: 1072444.9
C41: Հ-22, /Մ-6/ - Դսեղ – /Հ-70/ հանրապետական նշանակության ավտոճանապարհի կմ 8+000-կմ 13+900 հատվածի հիմնանորոգում | D41: 0 | E41: 7588.4 | F41: 7588.4 | G41: 7588.4
C42: Հ-30, Մոտեցում Գոշավանքին հանրապետական նշանակության ավտոճանապարհի կմ0+000-կմ 3+900 հատվածի հիմնանորոգում | D42: 0 | E42: 58332.9 | F42: 204165 | G42: 291664.2
C43: Հ-30, /Մ-4/ - Ճամբարակ - /Մ-14/ հանրապետական նշանակության ավտոճանապարհի կմ0+000-կմ11+000 հատվածի հիմնանորոգում | D43: 0 | E43: 180959.7 | F43: 633358.8 | G43: 904798.2
C44: Հ-30, /Մ-4/ - Ճամբարակ - /Մ-14/ հանրապետական նշանակության ավտոճանապարհի կմ 32+000-կմ 35+000 հատվածի հիմնանորոգում | D44: 0 | E44: 5818.6 | F44: 5818.6 | G44: 5818.6
C45: Հ-30,Մոտեցում Արծվաշենին հանրապետական նշանակության ավտոճանապարհի կմ 0+000-կմ 5+000 հատվածի հիմնանորոգում | D45: 0 | E45: 9697.6 | F45: 9697.6 | G45: 9697.6
C46: Հ37,/Մ-4/ - Այգեհովիտ - Վազաշեն - Պառավաքար - Այգեպար հանրապետական նշանակության ավտոճանապարհի կմ 0+000-կմ 17+300 հատվածի հիմնանորոգում | D46: 0 | E46: 33417.6 | F46: 33417.6 | G46: 33417.6
C47: Հ38,/Հ-30/ (Թթուջուր) – /Հ-36/ (Նավուր) հանրապետական նշանակության ավտոճանապարհի կմ 0+000-կմ 15+100 հատվածի հիմնանորոգում | D47: 0 | E47: 29286.6 | F47: 29286.6 | G47: 29286.6
C48: Հ40,/Մ-2/ (Արենի) - Խաչիկ - Գնիշիկ - Եղեգնաձոր հանրապետական նշանակության ավտոճանապարհի կմ 58+000-կմ 70+000 հատվածի հիմնանորոգում | D48: 0 | E48: 21181.2 | F48: 21181.2 | G48: 21181.2
...

Sheet 4
F1: Հավելված N4
A2: ՀՀ կառավարության 2022 թվականի
A3: ______________ ի ___Ն որոշման
A4: ՀԱՅԱՍՏԱՆԻ ՀԱՆՐԱՊԵՏՈՒԹՅԱՆ ԿԱՌԱՎԱՐՈՒԹՅԱՆ 2021 ԹՎԱԿԱՆԻ ԴԵԿՏԵՄԲԵՐԻ 23-Ի N 2121-Ն ՈՐՈՇՄԱՆ N 9.1 ՀԱՎԵԼՎԱԾԻ NN 9.1.8 և 9.1.59 ԱՂՅՈՒՍԱԿՆԵՐՈՒՄ ԿԱՏԱՐՎՈՂ ՓՈՓՈԽՈՒԹՅՈՒՆՆԵՐԸ ԵՎ ԼՐԱՑՈՒՄՆԵՐԸ
F5: Աղյուսակ 9.1.8
A6: ՀՀ ՏԱՐԱԾՔԱՅԻՆ ԿԱՌԱՎԱՐՄԱՆ ԵՎ ԵՆԹԱԿԱՌՈՒՑՎԱԾՔՆԵՐԻ ՆԱԽԱՐԱՐՈՒԹՅՈՒՆ
A7: ՄԱՍ 1. ՊԵՏԱԿԱՆ ՄԱՐՄՆԻ ԳԾՈՎ ԱՐԴՅՈՒՆՔԱՅԻՆ (ԿԱՏԱՐՈՂԱԿԱՆ) ՑՈՒՑԱՆԻՇՆԵՐԸ
A8: Ծրագրի դասիչը | B8: Ծրագրի անվանումը
A9: 1049 | B9: Ճանապարհային ցանցի բարելավում
A11: Ծրագրի միջոցառումները
A13: Ծրագրի դասիչը` | B13: 1049 | C13: Ցուցանիշների փոփոխությունը (ավելացումները նշված են դրական նշանով)
A14: Միջոցառման դասիչը` | B14: 21001 | C14: Առաջին եռամսյակ | D14: Առաջին կիսամյակ | E14: Ինն ամիս | F14: Տարի
A15: Միջոցառման անվանումը` | B15: Պետական նշանակության ավտոճանապարհների հիմնանորոգում
A16: Նկարագրությունը` | B16: Միջպետական՝ հանրապետական և մարզային նշանակության ավտոճանապարհների քայքայված ծածկի վերանորոգում՝ մաշված ծածկի փոխարինում_x000D_
A17: Միջոցառման տեսակը` | B17: Հանրության կողմից անմիջականորեն օգտագործվող ակտիվների հետ կապված միջոցառումներ
A18: Արդյունքի չափորոշիչներ
A19: Հիմնանորոգվող ավտոճանապարհների երկարությունը/կիլոմետր/ այդ թվում՛ | C19: 0 | D19: 0 | E19: 0 | F19: =+F20+F21+F22 -> 66.7
A20: Միջպետական նշանակության ավտոճանապարհներ | C20: 0 | D20: 0 | E20: 0 | F20: 12.2
A21: Հանրապետական նշանակության ավտոճանապարհներ | C21: 0 | D21: 0 | E21: 0 | F21: 30.6
A22: Մարզային նշանակության ավտոճանապարհներ | C22: 0 | D22: 0 | E22: 0 | F22: 23.9
A23: Միջոցառման վրա կատարվող ծախսը (հազար դրամ) | C23: =+'3'!D15 -> 695005.9 | D23: =+'3'!E15 -> 5853447.4 | E23: =+'3'!F15 -> 8944085.3 | F23: =+'3'!G15 -> 11425620
F27: Աղյուսակ 9.1.59
A28: ՀՀ ԿԱՌԱՎԱՐՈՒԹՅՈՒՆ
A29: ՄԱՍ 1. ՊԵՏԱԿԱՆ ՄԱՐՄՆԻ ԳԾՈՎ ԱՐԴՅՈՒՆՔԱՅԻՆ (ԿԱՏԱՐՈՂԱԿԱՆ) ՑՈՒՑԱՆԻՇՆԵՐԸ
A30: Ծրագրի դասիչը | B30: Ծրագրի անվանումը
A31: 1049 | B31: Ճանապարհային ցանցի բարելավում
A33: Ծրագրի միջոցառումները
A35: Ծրագրի դասիչը` | B35: 1049 | C35: Ցուցանիշների փոփոխությունը (նվազեցումները նշված են փակագծերում)
A36: Միջոցառման դասիչը` | B36: 21001 | C36: Առաջին եռամսյակ | D36: Առաջին կիսամյակ | E36: Ինն ամիս | F36: Տարի
A37: Միջոցառման անվանումը` | B37: Պետական նշանակության ավտոճանապարհների հիմնանորոգում
A38: Նկարագրությունը` | B38: Միջպետական՝ հանրապետական և մարզային նշանակության ավտոճանապարհների քայքայված ծածկի վերանորոգում՝ մաշված ծածկի փոխարինում_x000D_
A39: Միջոցառման տեսակը` | B39: Հանրության կողմից անմիջականորեն օգտագործվող ակտիվների հետ կապված միջոցառումներ
A40: Արդյունքի չափորոշիչներ
A41: Հիմնանորոգվող ավտոճանապարհների երկարությունը/կիլոմետր/ այդ թվում՛ | C41: 0 | D41: 0 | E41: 0 | F41: =+F42+F43+F44 -> -66.7
A42: Միջպետական նշանակության ավտոճանապարհներ | C42: 0 | D42: 0 | E42: 0 | F42: -12.2
A43: Հանրապետական նշանակության ավտոճանապարհներ | C43: 0 | D43: 0 | E43: 0 | F43: -30.6
A44: Մարզային նշանակության ավտոճանապարհներ | C44: 0 | D44: 0 | E44: 0 | F44: -23.9
A45: Միջոցառման վրա կատարվող ծախսը (հազար դրամ) | C45: =+'2'!G30 -> -695005.9 | D45: =+'2'!H30 -> -5853447.4 | E45: =+'2'!I30 -> -8944085.3 | F45: =+'2'!J30 -> -11425620

Sheet 5
A1: Հավելված N5
A2: ՀՀ կառավարության 2021 թվականի
A3: ______________ ի ___Ն որոշման
A5: ՀԱՅԱՍՏԱՆԻ ՀԱՆՐԱՊԵՏՈՒԹՅԱՆ ԿԱՌԱՎԱՐՈՒԹՅԱՆ 2021 ԹՎԱԿԱՆԻ ԴԵԿՏԵՄԲԵՐԻ 23-Ի N 2121-Ն ՈՐՈՇՄԱՆ N 10 ՀԱՎԵԼՎԱԾՈՒՄ ԿԱՏԱՐՎՈՂ ԼՐԱՑՈՒՄՆԵՐԸ
A6: Կոդը | B6: Անվանումը | C6: Գնման ձևը | D6: Չափման միավորը | E6: Միավորի գինը | F6: Ցուցանիշների փոփոխությունը (ավելացումները նշված են դրական նշանով)
F7: Քանակը | G7: Գումարը (հազար դրամով)
A8: ՀՀ տարածքային կառավարման և ենթակառուցվածքների նախարարություն | G8: =+G9 -> 11374149
A9: Բաժին N 04 | B9: Խումբ N 05 | C9: Դաս N 01 | D9: Ճանապարհային տրանսպորտ | G9: =+G10 -> 11374149
A10: 1049 21001 | B10: Պետական նշանակության ավտոճանապարհների հիմնանորոգում | G10: =+G11+G19 -> 11374149
A11: ՄԱՍ II. ԱՇԽԱՏԱՆՔՆԵՐ | G11: =SUM(G12:G18) -> 10617384
A12: 45231177/570 | B12: ճանապարհների վերանորոգման աշխատանքներ | C12: ՀԲՄ | D12: դրամ | E12: 1192500000 | F12: 1 | G12: =+F12*E12/1000 -> 1192500
A13: 45231177/548 | B13: ճանապարհների վերանորոգման աշխատանքներ | C13: ՀԲՄ | D13: դրամ | E13: 716950000 | F13: 1 | G13: =+F13*E13/1000 -> 716950
A14: 45231177/545 | B14: ճանապարհների վերանորոգման աշխատանքներ | C14: ՀԲՄ | D14: դրամ | E14: 1045500000 | F14: 1 | G14: =+F14*E14/1000 -> 1045500
A15: 45231177/558 | B15: ճանապարհների վերանորոգման աշխատանքներ | C15: ՀԲՄ | D15: դրամ | E15: 285000000 | F15: 1 | G15: =+F15*E15/1000 -> 285000
A16: 45231177/568 | B16: ճանապարհների վերանորոգման աշխատանքներ | C16: ՀԲՄ | D16: դրամ | E16: 869000000 | F16: 1 | G16: =+F16*E16/1000 -> 869000
A17: 45231177/546 | B17: ճանապարհների վերանորոգման աշխատանքներ | C17: ՀԲՄ | D17: դրամ | E17: 338300000 | F17: 1 | G17: =+F17*E17/1000 -> 338300
A18: 45231177 | B18: ճանապարհների վերանորոգման աշխատանքներ | C18: ՀՄԱ | D18: դրամ | E18: 6170134126 | F18: 1 | G18: =+F18*E18/1000 -> 6170134.1
A19: ՄԱՍ III. ԾԱՌԱՅՈՒԹՅՈՒՆՆԵՐ | G19: =SUM(G20:G39) -> 756764.52
A20: 98111140 | B20: հեղինակային հսկողության ծառայություններ | C20: ՄԱ | D20: դրամ | E20: 11118860 | F20: 1 | G20: =+F20*E20/1000 -> 11118.86
A21: 98111140 | B21: հեղինակային հսկողության ծառայություններ | C21: ՄԱ | D21: դրամ | E21: 6951824 | F21: 1 | G21: =+F21*E21/1000 -> 6951.824
A22: 98111140 | B22: հեղինակային հսկողության ծառայություններ | C22: ՄԱ | D22: դրամ | E22: 8876360 | F22: 1 | G22: =+F22*E22/1000 -> 8876.36
A23: 98111140 | B23: հեղինակային հսկողության ծառայություններ | C23: ՄԱ | D23: դրամ | E23: 2195344 | F23: 1 | G23: =+F23*E23/1000 -> 2195.344
A24: 98111140 | B24: հեղինակային հսկողության ծառայություններ | C24: ՄԱ | D24: դրամ | E24: 7192580 | F24: 1 | G24: =+F24*E24/1000 -> 7192.58
A25: 98111140 | B25: հեղինակային հսկողության ծառայություններ | C25: ՄԱ | D25: դրամ | E25: 2875750 | F25: 1 | G25: =+F25*E25/1000 -> 2875.75
A26: 98111140 | B26: հեղինակային հսկողության ծառայություններ | C26: ՄԱ | D26: դրամ | E26: 52929400 | F26: 1 | G26: =+F26*E26/1000 -> 52929.4
A27: 71351540/532 | B27: տեխնիկական հսկողության ծառայություններ | C27: ՀԲՄ | D27: դրամ | E27: 72826416 | F27: 1 | G27: =+F27*E27/1000 -> 72826.416
A28: 71351540/528 | B28: տեխնիկական հսկողության ծառայություններ | C28: ՀԲՄ | D28: դրամ | E28: 42541990 | F28: 1 | G28: =+F28*E28/1000 -> 42541.99
A29: 71351540 | B29: տեխնիկական հսկողության ծառայություններ | C29: ՀՄԱ | D29: դրամ | E29: 79300000 | F29: 1 | G29: =+F29*E29/1000 -> 79300
A30: 71241200/546 | B30: Նախագծերի պատրաստում, ծախսերի գնահատում | C30: ՀԲՄ | D30: դրամ | E30: 19000000 | F30: 1 | G30: =+F30*E30/1000 -> 19000
A31: 71241200/547 | B31: Նախագծերի պատրաստում, ծախսերի գնահատում | C31: ՀԲՄ | D31: դրամ | E31: 76680000 | F31: 1 | G31: =+F31*E31/1000 -> 76680
A32: 71241200/549 | B32: Նախագծերի պատրաստում, ծախսերի գնահատում | C32: ՀԲՄ | D32: դրամ | E32: 49500000 | F32: 1 | G32: =+F32*E32/1000 -> 49500
A33: 71241200/550 | B33: Նախագծերի պատրաստում, ծախսերի գնահատում | C33: ՀԲՄ | D33: դրամ | E33: 94080000 | F33: 1 | G33: =+F33*E33/1000 -> 94080
A34: 71241200/548 | B34: Նախագծերի պատրաստում, ծախսերի գնահատում | C34: ՀԲՄ | D34: դրամ | E34: 74298000 | F34: 1 | G34: =+F34*E34/1000 -> 74298
A35: 71241200/551 | B35: Նախագծերի պատրաստում, ծախսերի գնահատում | C35: ՀԲՄ | D35: դրամ | E35: 13200000 | F35: 1 | G35: =+F35*E35/1000 -> 13200
A36: 71241200/553 | B36: Նախագծերի պատրաստում, ծախսերի գնահատում | C36: ՀԲՄ | D36: դրամ | E36: 46680000 | F36: 1 | G36: =+F36*E36/1000 -> 46680
A37: 71241200/555 | B37: Նախագծերի պատրաստում, ծախսերի գնահատում | C37: ՀԲՄ | D37: դրամ | E37: 36000000 | F37: 1 | G37: =+F37*E37/1000 -> 36000
A38: 71241200/556 | B38: Նախագծերի պատրաստում, ծախսերի գնահատում | C38: ՀԲՄ | D38: դրամ | E38: 46850000 | F38: 1 | G38: =+F38*E38/1000 -> 46850
A39: 71241200/559 | B39: Նախագծերի պատրաստում, ծախսերի գնահատում | C39: ՀԲՄ | D39: դրամ | E39: 13668000 | F39: 1 | G39: =+F39*E39/1000 -> 13668
