Workbook
Name _Hlk341707516: '1'!$B$11
Name _tab10: #REF!
Name _tab10: #REF!
Name _tab10: #REF!
Name _tab10: #REF!
Name _tab10: #REF!
Name _tab10: #REF!
Name _tab10: #REF!
Name _tab10: #REF!
Name _tab10: #REF!
Name _tab11: #REF!
Name _tab11: #REF!
Name _tab11: #REF!
Name _tab11: #REF!
Name _tab11: #REF!
Name _tab11: #REF!
Name _tab11: #REF!
Name _tab11: #REF!
Name _tab11: #REF!
Name _tab12: #REF!
Name _tab12: #REF!
Name _tab12: #REF!
Name _tab12: #REF!
Name _tab12: #REF!
Name _tab12: #REF!
Name _tab12: #REF!
Name _tab12: #REF!
Name _tab12: #REF!
Name _tab13: #REF!
Name _tab13: #REF!
Name _tab13: #REF!
Name _tab13: #REF!
Name _tab13: #REF!
Name _tab13: #REF!
Name _tab13: #REF!
Name _tab13: #REF!
Name _tab13: #REF!
Name _tab14: #REF!
Name _tab14: #REF!
Name _tab14: #REF!
Name _tab14: #REF!
Name _tab14: #REF!
Name _tab14: #REF!
Name _tab14: #REF!
Name _tab14: #REF!
Name _tab14: #REF!
Name _tab15: #REF!
Name _tab15: #REF!
Name _tab15: #REF!
Name _tab15: #REF!
Name _tab15: #REF!
Name _tab15: #REF!
Name _tab15: #REF!
Name _tab15: #REF!
Name _tab15: #REF!
Name _tab16: #REF!
Name _tab16: #REF!
Name _tab16: #REF!
Name _tab16: #REF!
Name _tab16: #REF!

Sheet 1
B1: Հավելված N 1
B2: ՀՀ կառավարության 2022 թվականի
B3: ______________ ի ___Ն որոշման
A5: «ՀԱՅԱՍՏԱՆԻ ՀԱՆՐԱՊԵՏՈՒԹՅԱՆ 2022 ԹՎԱԿԱՆԻ ՊԵՏԱԿԱՆ ԲՅՈՒՋԵԻ ՄԱՍԻՆ» ՀԱՅԱՍՏԱՆԻ ՀԱՆՐԱՊԵՏՈՒԹՅԱՆ ՕՐԵՆՔԻ 2-ՐԴ ՀՈԴՎԱԾԻ ԱՂՅՈՒՍԱԿՈՒՄ ԿԱՏԱՐՎՈՂ ՓՈՓՈԽՈՒԹՅՈՒՆԸ
B7: հազար դրամ
B8: Ցուցանիշների փոփոխությունը (ավելացումները նշված են դրական նշանով)
A9: Եկամուտների գծով | B9: =+'2'!E14 -> 10243811
A10: Ծախսերի գծով | B10: =+'6'!J30 -> 10243811
A11: Դեֆիցիտը (պակասուրդը) | B11: =+B10-B9 -> 0

Sheet 2
E1: Հավելված N 2
E2: ՀՀ կառավարության 2022 թվականի
E3: ______________ ի ___Ն որոշման
A6: «ՀԱՅԱՍՏԱՆԻ ՀԱՆՐԱՊԵՏՈՒԹՅԱՆ 2022 ԹՎԱԿԱՆԻ ՊԵՏԱԿԱՆ ԲՅՈՒՋԵԻ ՄԱՍԻՆ» ՀԱՅԱՍՏԱՆԻ ՀԱՆՐԱՊԵՏՈՒԹՅԱՆ ՕՐԵՆՔԻ 6-ՐԴ ՀՈԴՎԱԾԻ ԱՂՅՈՒՍԱԿՈՒՄ ԵՎ ՀԱՅԱՍՏԱՆԻ ՀԱՆՐԱՊԵՏՈՒԹՅԱՆ ԿԱՌԱՎԱՐՈՒԹՅԱՆ 2021 ԹՎԱԿԱՆԻ ԴԵԿՏԵՄԲԵՐԻ 23-Ի N 2121-Ն ՈՐՈՇՄԱՆ N 2 ՀԱՎԵԼՎԱԾՈՒՄ ԿԱՏԱՐՎՈՂ ՓՈՓՈԽՈՒԹՅՈՒՆԸ
E9: հազար դրամ
A10: Պետական բյուջեի եկամուտները | B10: Ցուցանիշների փոփոխությունը (ավելացումները նշված են դրական նշանով)
B11: Առաջին եռամսյակ | C11: Առաջին կիսամյակ | D11: Ինն ամիս | E11: Տարի
A12: Ընդամենը | B12: =+B14 -> 5121905.5 | C12: =+C14 -> 5121905.5 | D12: =+D14 -> 10243811 | E12: =+E14 -> 10243811
A13: այդ թվում՝
A14: Այլ եկամուտներ | B14: =+'5'!D13 -> 5121905.5 | C14: =+'5'!E13 -> 5121905.5 | D14: =+'5'!F13 -> 10243811 | E14: =+'5'!G13 -> 10243811

Sheet 3
G1: Հավելված N 3
G2: ՀՀ կառավարության 2022 թվականի
G3: ___________ ___-ի N _______ -Ն որոշման
A7: «ՀԱՅԱՍՏԱՆԻ ՀԱՆՐԱՊԵՏՈՒԹՅԱՆ 2022 ԹՎԱԿԱՆԻ ՊԵՏԱԿԱՆ ԲՅՈՒՋԵԻ ՄԱՍԻՆ» ՀԱՅԱՍՏԱՆԻ ՀԱՆՐԱՊԵՏՈՒԹՅԱՆ ՕՐԵՆՔԻ N 1 ՀԱՎԵԼՎԱԾԻ N 2 ԱՂՅՈՒՍԱԿՈՒՄ ԵՎ ՀԱՅԱՍՏԱՆԻ ՀԱՆՐԱՊԵՏՈՒԹՅԱՆ ԿԱՌԱՎԱՐՈՒԹՅԱՆ 2021 ԹՎԱԿԱՆԻ ԴԵԿՏԵՄԲԵՐԻ 23-Ի N 2121-Ն ՈՐՈՇՄԱՆ N 5 ՀԱՎԵԼՎԱԾԻ N 1 ԱՂՅՈՒՍԱԿՈՒՄ ԿԱՏԱՐՎՈՂ ՓՈՓՈԽՈՒԹՅՈՒՆՆԵՐԸ
G8: (հազ.դրամ)
A9: Ծրագրային դասիչը | C9: Բյուջետային հատկացումների գլխավոր կարգադրիչների, ծրագրերի և միջոցառումների անվանումները | D9: Ցուցանիշների փոփոխությունը (ավելացումները նշված են դրական նշանով)
D10: Առաջին եռամսյակ | E10: Առաջին կիսամյակ | F10: Ինն ամիս | G10: Տարի
A11: Ծրագիր | B11: Միջոցառում
C12: Ընդամենը | D12: =D13 -> 5121905.5 | E12: =E13 -> 5121905.5 | F12: =F13 -> 10243811 | G12: =G13 -> 10243811
C13: ՀՀ պաշտպանության նախարարություն | D13: =+D15 -> 5121905.5 | E13: =+E15 -> 5121905.5 | F13: =+F15 -> 10243811 | G13: =+G15 -> 10243811
C14: Ծրագրի անվանումը՝
A15: 1169 | C15: ՀՀ պաշտպանության ապահովում | D15: =D21 -> 5121905.5 | E15: =E21 -> 5121905.5 | F15: =F21 -> 10243811 | G15: =G21 -> 10243811
C16: Ծրագրի նպատակը՝
C17: ՀՀ ԶՈւ ռազմավարական ծավալումն ապահովող մարտական պատրաստականության պահպանում՝ արտաքին թշնամուց ՀՀ պետական սահմանների պաշտպանության ապահովում
C18: Վերջնական արդյունքի նկարագրությունը՝
C19: ՀՀ ԶՈւ ռազմավարական ծավալումն ապահովող մարտական պատրաստականության պահպանում
A20: Ծրագրի միջոցառումներ
B21: 31001 | C21: Միջոցառման անվանումը՝ | D21: =+'6'!G22 -> 5121905.5 | E21: =+'6'!H22 -> 5121905.5 | F21: =+'6'!I22 -> 10243811 | G21: =+'6'!J22 -> 10243811
C22: ՀՀ պաշտպանության նախարարության շենքային պայմանների բարելավում
C23: Միջոցառման նկարագրությունը՝
C24: Պաշտպանության կարիքների համար բնակելի, գրասենյակային և այլ նշանակության շենքերի և շինությունների կառուցում
C25: Միջոցառման տեսակը
C26: Պետական մարմինների կողմից օգտագործվող ոչ ֆինանսական ակտիվների հետ գործառնություններ

Sheet 4
H1: Հավելված N 4
H2: ՀՀ կառավարության 2022 թվականի
H3: ___________ ___-ի N _______ -Ն որոշման
A5: «ՀԱՅԱՍՏԱՆԻ ՀԱՆՐԱՊԵՏՈՒԹՅԱՆ 2022 ԹՎԱԿԱՆԻ ՊԵՏԱԿԱՆ ԲՅՈՒՋԵԻ ՄԱՍԻՆ» ՀԱՅԱՍՏԱՆԻ ՀԱՆՐԱՊԵՏՈՒԹՅԱՆ ՕՐԵՆՔԻ N 1 ՀԱՎԵԼՎԱԾԻ N 3 ԱՂՅՈՒՍԱԿՈՒՄ ԿԱՏԱՐՎՈՂ ՓՈՓՈԽՈՒԹՅՈՒՆՆԵՐԸ
G6: (հազ.դրամ)
A7: Ծրագրային դասիչ | C7: Բյուջետային գլխավոր կարգադրիչների, ծրագրերի, միջոցառումների և ուղղությունների անվանումները | D7: Ցուցանիշների փոփոխությունը (ավելացումները նշված են դրական նշանով)
D8: Ընդամենը, | E8: այդ թվում՝
A9: Ծրագիր | B9: Միջոցառում | E9: Կառուցման աշխատանքներ | F9: Վերակառուցման, վերանորոգման և վերականգնման աշխատանքներ | G9: Նախագծահե- տազոտական, գեոդեզիա- քարտեզագրա- կան աշխա- տանքներ | H9: Ոչ ֆինանսական այլ ակտիվների ձեռքբերում
C10: ԸՆԴԱՄԵՆԸ | D10: =+D12 -> 10243811 | E10: =+E12 -> 10243811
C11: այդ թվում՝
C12: ՀՀ ՊԱՇՏՊԱՆՈՒԹՅԱՆ ՆԱԽԱՐԱՐՈՒԹՅՈՒՆ | D12: =+D14 -> 10243811 | E12: =+E14 -> 10243811
C13: այդ թվում`
A14: 1169 | B14: 31001 | C14: ՀՀ պաշտպանության նախարարության շենքային պայմաններ բարելավում | D14: =SUM(E14:H14) -> 10243811 | E14: =+'6'!J22 -> 10243811

Sheet 5
G1: Հավելված N 5
C2: ՀՀ կառավարության 2021 թվականի
C3: ______________ ի ___Ն որոշման
A5: ՀԱՅԱՍՏԱՆԻ ՀԱՆՐԱՊԵՏՈՒԹՅԱՆ ԿԱՌԱՎԱՐՈՒԹՅԱՆ 2021 ԹՎԱԿԱՆԻ ԴԵԿՏԵՄԲԵՐԻ 23-Ի N 2121-Ն ՈՐՈՇՄԱՆ N 6 ՀԱՎԵԼՎԱԾՈՒՄ ԿԱՏԱՐՎՈՂ ՓՈՓՈԽՈՒԹՅՈՒՆԸ
G6: հազար դրամ
B7: Եկամտատեսակը | C7: Գանձման համար պատասխանատու պետական կառավարման մարմինը (մարմինները) | D7: Ցուցանիշների փոփոխությունը (ավելացումները նշված են դրական նշանով)
D8: Առաջին եռամսյակ | E8: Առաջին կիսամյակ | F8: Ինն ամիս | G8: Տարի
A9: Այլ եկամուտներ, ընդամենը | D9: =D11 -> 5121905.5 | E9: =E11 -> 5121905.5 | F9: =F11 -> 10243811 | G9: =G11 -> 10243811
B10: այդ թվում`
A11: 6 | B11: Օրենքով և այլ իրավական ակտերով սահմանված պետական բյուջե մուտքագրվող այլ եկամուտներ | D11: =D13 -> 5121905.5 | E11: =E13 -> 5121905.5 | F11: =F13 -> 10243811 | G11: =G13 -> 10243811
B12: այդ թվում`
A13: 6.7 | B13: Այլ եկամուտներ | C13: ՀՀ պետական կառավարման մարմիններ | D13: 5121905.5 | E13: 5121905.5 | F13: 10243811 | G13: 10243811

Sheet 6
J1: Հավելված N 6
F2: ՀՀ կառավարության 2022 թվականի
F3: ___________ ___-ի N _______ -Ն որոշման
A7: ՀԱՅԱՍՏԱՆԻ ՀԱՆՐԱՊԵՏՈՒԹՅԱՆ ԿԱՌԱՎԱՐՈՒԹՅԱՆ 2021 ԹՎԱԿԱՆԻ ԴԵԿՏԵՄԲԵՐԻ 23-Ի N 2121-Ն ՈՐՈՇՄԱՆ N 3 և 4 ՀԱՎԵԼՎԱԾՆԵՐՈՒՄ ԿԱՏԱՐՎՈՂ ՓՈՓՈԽՈՒԹՅՈՒՆՆԵՐԸ
J8: (հազ.դրամ)
A10: Գործառական դասիչը | D10: Ծրագրային դասիչը | F10: Բյուջետային ծախսերի գործառական դասակարգման բաժինների, խմբերի և դասերի, բյուջետային ծրագրերի միջոցառումների, բյուջետային հատկացումների գլխավոր կարգադրիչների անվանումները | G10: Ցուցանիշների փոփոխությունը (ավելացումները նշված են դրական նշանով)
G11: Առաջին եռամսյակ | H11: Առաջին կիսամյակ | I11: Ինն ամիս | J11: Տարի
A12: Բաժին | B12: Խումբ | C12: Դաս | D12: Ծրագիր | E12: Միջոցառում
F13: ԸՆԴԱՄԵՆԸ ԾԱԽՍԵՐ այդ թվում՝ | G13: =G14 -> 5121905.5 | H13: =H14 -> 5121905.5 | I13: =I14 -> 10243811 | J13: =J14 -> 10243811
A14: 02 | F14: ՊԱՇՏՊԱՆՈՒԹՅՈՒՆ | G14: =+G16 -> 5121905.5 | H14: =+H16 -> 5121905.5 | I14: =+I16 -> 10243811 | J14: =+J16 -> 10243811
F15: այդ թվում`
B16: 01 | F16: Ռազմական պաշտպանություն | G16: =+G18 -> 5121905.5 | H16: =+H18 -> 5121905.5 | I16: =+I18 -> 10243811 | J16: =+J18 -> 10243811
F17: այդ թվում`
C18: 01 | F18: Ռազմական պաշտպանություն | G18: =+G20 -> 5121905.5 | H18: =+H20 -> 5121905.5 | I18: =+I20 -> 10243811 | J18: =+J20 -> 10243811
F19: այդ թվում`
F20: ՀՀ պաշտպանության նախարարություն | G20: =+G21 -> 5121905.5 | H20: =+H21 -> 5121905.5 | I20: =+I21 -> 10243811 | J20: =+J21 -> 10243811
D21: 1169 | F21: ՀՀ պաշտպանության ապահովում | G21: =G22 -> 5121905.5 | H21: =H22 -> 5121905.5 | I21: =I22 -> 10243811 | J21: =J22 -> 10243811
E22: 31001 | F22: ՀՀ պաշտպանության նախարարության շենքային պայմանների բարելավում | G22: =+G24 -> 5121905.5 | H22: =+H24 -> 5121905.5 | I22: =+I24 -> 10243811 | J22: =+J24 -> 10243811
F23: այդ թվում` ըստ կատարողների
F24: ՀՀ պաշտպանության նախարարություն | G24: =+G26 -> 5121905.5 | H24: =+H26 -> 5121905.5 | I24: =+I26 -> 10243811 | J24: =+J26 -> 10243811
F25: այդ թվում` բյուջետային ծախսերի տնտեսագիտական դասակարգման հոդվածներ
F26: ԸՆԴԱՄԵՆԸ ԾԱԽՍԵՐ | G26: =+G27 -> 5121905.5 | H26: =+H27 -> 5121905.5 | I26: =+I27 -> 10243811 | J26: =+J27 -> 10243811
F27: ՈՉ ՖԻՆԱՆՍԱԿԱՆ ԱԿՏԻՎՆԵՐԻ ԳԾՈՎ ԾԱԽՍԵՐ | G27: =+G28 -> 5121905.5 | H27: =+H28 -> 5121905.5 | I27: =+I28 -> 10243811 | J27: =+J28 -> 10243811
F28: ՀԻՄՆԱԿԱՆ ՄԻՋՈՑՆԵՐ | G28: =G29 -> 5121905.5 | H28: =H29 -> 5121905.5 | I28: =I29 -> 10243811 | J28: =J29 -> 10243811
F29: ՇԵՆՔԵՐ ԵՎ ՇԻՆՈՒԹՅՈՒՆՆԵՐ | G29: =+G30 -> 5121905.5 | H29: =+H30 -> 5121905.5 | I29: =+I30 -> 10243811 | J29: =+J30 -> 10243811
F30: - Շենքերի և շինությունների շինարարություն | G30: 5121905.5 | H30: 5121905.5 | I30: 10243811 | J30: 10243811

Sheet 7
A1: Հավելված N 7
A2: ՀՀ կառավարության 2022 թվականի
A3: ______________ ի ___Ն որոշման
A5: ՀԱՅԱՍՏԱՆԻ ՀԱՆՐԱՊԵՏՈՒԹՅԱՆ ԿԱՌԱՎԱՐՈՒԹՅԱՆ 2021 ԹՎԱԿԱՆԻ ԴԵԿՏԵՄԲԵՐԻ 23-Ի N 2121-Ն ՈՐՈՇՄԱՆ N 5 ՀԱՎԵԼՎԱԾԻ N 2 ԱՂՅՈՒՍԱԿՈՒՄ ԿԱՏԱՐՎՈՂ ՓՈՓՈԽՈՒԹՅՈՒՆՆԵՐԸ
G6: (հազ.դրամ)
A7: Ծրագրային դասիչ | C7: Բյուջետային գլխավոր կարգադրիչների, ծրագրերի, միջոցառումների և ուղղությունների անվանումները | D7: Ցուցանիշների փոփոխությունը (ավելացումները նշված են դրական նշանով)
A8: Ծրագիր | B8: Միջոցառում | D8: Առաջին եռամսյակ | E8: Առաջին կիսամյակ | F8: Ինն ամիս | G8: Տարի
C10: ԸՆԴԱՄԵՆԸ | D10: =+D12 -> 5121905.5 | E10: =+E12 -> 5121905.5 | F10: =+F12 -> 10243811 | G10: =+G12 -> 10243811
C11: այդ թվում՝
C12: ՀՀ ՊԱՇՏՊԱՆՈՒԹՅԱՆ ՆԱԽԱՐԱՐՈՒԹՅՈՒՆ | D12: =+D14 -> 5121905.5 | E12: =+E14 -> 5121905.5 | F12: =+F14 -> 10243811 | G12: =+G14 -> 10243811
C13: այդ թվում`
A14: 1169 | B14: 31001 | C14: ՀՀ պաշտպանության նախարարության շենքային պայմանների բարելավում | D14: =D16 -> 5121905.5 | E14: =E16 -> 5121905.5 | F14: =F16 -> 10243811 | G14: =G16 -> 10243811
C15: այդ թվում` ըստ կատարողների
C16: ՀՀ պաշտպանության նախարարություն | D16: =+'6'!G22 -> 5121905.5 | E16: =+'6'!H22 -> 5121905.5 | F16: =+'6'!I22 -> 10243811 | G16: =+'6'!J22 -> 10243811

Sheet 8
F1: Հավելված N 8
B2: ՀՀ կառավարության 2022 թվականի
B3: ______________ ի ___Ն որոշման
A6: ՀԱՅԱՍՏԱՆԻ ՀԱՆՐԱՊԵՏՈՒԹՅԱՆ ԿԱՌԱՎԱՐՈՒԹՅԱՆ 2021 ԹՎԱԿԱՆԻ ԴԵԿՏԵՄԲԵՐԻ 23-Ի N 2121-Ն ՈՐՈՇՄԱՆ N 9 ՀԱՎԵԼՎԱԾԻ N 9.15 ԵՎ N 9.1 ՀԱՎԵԼՎԱԾԻ N 9.1.15 ԱՂՅՈՒՍԱԿՆԵՐՈՒՄ ԿԱՏԱՐՎՈՂ ՓՈՓՈԽՈՒԹՅՈՒՆՆԵՐ
A7: ՀՀ պաշտպանության նախարարություն
A9: Ծրագրի դասիչը | B9: Ծրագրի անվանումը
A10: 1169 | B10: ՀՀ պաշտպանության ապահովում
A12: Ծրագրի միջոցառումները
A13: Ծրագրի դասիչը` | B13: 1169 | C13: Ցուցանիշների փոփոխությունը (ավելացումները նշված են դրական նշանով)
A14: Միջոցառման դասիչը` | B14: 31001 | C14: Առաջին եռամսյակ | D14: Առաջին կիսամյակ | E14: Ինն ամիս | F14: Տարի
A15: Միջոցառման անվանումը` | B15: ՀՀ պաշտպանության նախարարության շենքային պայմանների բարելավում
A16: Նկարագրությունը` | B16: Պաշտպանության կարիքների համար բնակելի, գրասենյակային և այլ նշանակության շենքերի և շինությունների կառուցում
A17: Միջոցառման տեսակը` | B17: Պետական մարմինների կողմից օգտագործվող ոչ ֆինանսական ակտիվների հետ գործառնություններ
A18: Միջոցառումն իրականացնողի անվանումը | B18: ՀՀ պաշտպանության նախարարություն
A19: Արդյունքի չափորոշիչներ
A21: Միջոցառման վրա կատարվող ծախսը (հազար դրամ) | C21: =+'6'!G22 -> 5121905.5 | D21: =+'6'!H22 -> 5121905.5 | E21: =+'6'!I22 -> 10243811 | F21: =+'6'!J22 -> 10243811

Sheet Sheet1
A1: 4239 | B1: 20939.6
A2: 4252 | B2: 4001.2
A3: 4261 | B3: 24221.5
A4: 4264 | B4: 658398.2
A5: 4267 | B5: 51113.2
A6: 4269 | B6: 58135.2
A7: 5121 | B7: 34800
A8: 5122 | B8: 30780.6
A9: 5129 | B9: 165718.2
A10: 5132 | B10: 33.2
