Workbook
Name AgencyCode: #REF!
Name AgencyCode: #REF!
Name AgencyCode: #REF!
Name AgencyCode: #REF!
Name AgencyCode: #REF!
Name AgencyName: #REF!
Name AgencyName: #REF!
Name AgencyName: #REF!
Name AgencyName: #REF!
Name AgencyName: #REF!
Name alisa: #REF!
Name Functional1: #REF!
Name Functional1: #REF!
Name Functional1: #REF!
Name Functional1: #REF!
Name Functional1: #REF!
Name havelvac: #REF!
Name havelvac: #REF!
Name havelvac: #REF!
Name havelvac: #REF!
Name havelvac7: #REF!
Name PANature: #REF!
Name PANature: #REF!
Name PANature: #REF!
Name PANature: #REF!
Name PANature: #REF!
Name PAType: #REF!
Name PAType: #REF!
Name PAType: #REF!
Name PAType: #REF!
Name PAType: #REF!
Name Performance2: #REF!
Name Performance2: #REF!
Name Performance2: #REF!
Name Performance2: #REF!
Name Performance2: #REF!
Name PerformanceType: #REF!
Name PerformanceType: #REF!
Name PerformanceType: #REF!
Name PerformanceType: #REF!
Name PerformanceType: #REF!
Name sheet1: #REF!
Name sheet1: #REF!
Name sheet4: #REF!
Name sheet7: #REF!
Name գնումներ: #REF!
Name գնումներ: #REF!
Name հավ5: #REF!
Name հավ5: #REF!

Sheet 1
H1: Հավելված N 1
H2: ՀՀ կառավարության 2022 թվականի
H3: ___________ ___-ի N _______ -Ն որոշման
A5: «ՀԱՅԱUՏԱՆԻ ՀԱՆՐԱՊԵՏՈՒԹՅԱՆ 2022 ԹՎԱԿԱՆԻ ՊԵՏԱԿԱՆ ԲՅՈՒՋԵԻ ՄԱUԻՆ» ՀԱՅԱUՏԱՆԻ ՀԱՆՐԱՊԵՏՈՒԹՅԱՆ OՐԵՆՔԻ N 1 ՀԱՎԵԼՎԱԾԻ N 2 ԱՂՅՈՒՍԱԿՈՒՄ ԿԱՏԱՐՎՈՂ ՎԵՐԱԲԱՇԽՈՒՄԸ ԵՎ ՀԱՅԱՍՏԱՆԻ ՀԱՆՐԱՊԵՏՈՒԹՅԱՆ ԿԱՌԱՎԱՐՈՒԹՅԱՆ 2021ԹՎԱԿԱՆԻ ԴԵԿՏԵՄԲԵՐԻ 23-Ի N2121-Ն ՈՐՈՇՄԱՆ N5 ՀԱՎԵԼՎԱԾԻ N1 ԱՂՅՈՒՍԱԿՈՒՄ ԿԱՏԱՐՎՈՂ ՓՈՓՈԽՈՒԹՅՈՒՆՆԵՐԸ ԵՎ ԼՐԱՑՈՒՄՆԵՐԸ
A7: Ծրագրային դասիչը | C7: Բյուջետային հատկացումների գլխավոր կարգադրիչների, ծրագրերի և միջոցառումների անվանումները | D7: Ցուցանիշների փոփոխությունները (Ավելացումները նշված են դրական նշանով,իսկ նվազեցումները՝ փակագծերում)
A8: Ծրագիր | B8: Միջոցառում | D8: Առաջին եռամսյակ | E8: Առաջին կիսամյակ | F8: Ինն ամիս | G8: Տարի
C9: ԸՆԴԱՄԵՆԸ | D9: =+D18+D24 -> 0 | E9: =+E18+E24 -> 0 | F9: =+F18+F24 -> 0 | G9: =+G18+G24 -> 0
B10: ՀՀ արտակարգ իրավիճակների նախարարություն | D10: =+D11 -> 0 | E10: =+E11 -> 0 | F10: =+F11 -> 0 | G10: =+G11 -> 0
A11: 1090 | C11: Ծրագրի անվանումը` | D11: =+D18+D24 -> 0 | E11: =+E18+E24 -> 0 | F11: =+F18+F24 -> 0 | G11: =+G18+G24 -> 0
C12: Փրկարարական ծառայություններ
C13: Ծրագրի նպատակը`
C14: Արտակարգ իրավիճակների արդյունավետ արձագանք
C15: Վերջնական արդյունքի նկարագրությունը`
C16: Արտակարգ իրավիճակների հնարավոր դեպքերի կանխում՝ դրանց ժամանակին արձագանքում՝ հետևանքների նվազեցում և բնակչության պաշտպանություն
C17: Ծրագրի միջոցառումներ
B18: 11001 | C18: Միջոցառման անվանումը՝ | D18: =-D24 -> -9320.2 | E18: =-E24 -> -9320.2 | F18: =-F24 -> -9320.2 | G18: =-G24 -> -9320.2
C19: Փրկարարական ծառայություններ
C20: Միջոցառման նկարագրությունը՝
C21: Հրդեհաշիջման, հակահրդեհային քարոզչության, բնական և տեխնածին աղետների ժամանակ բնակչության և կառույցների պաշտպանություն
C22: Միջոցառման տեսակը՝
C23: Ծառայությունների մատուցում
B24: 31001 | C24: Միջոցառման անվանումը՝ | D24: 9320.2 | E24: 9320.2 | F24: 9320.2 | G24: 9320.2
C25: Փրկարար ծառայության տեխնիկական հագեցվածության բարելավում
C26: Միջոցառման նկարագրությունը՝
C27: Համակարգչային և գրասենյակային սարքավորումների ձեռքբերում
C28: Միջոցառման տեսակը՝
C29: Պետական մարմինների կողմից օգտագործվող ոչ ֆինանասական ակտիվների հետ գործառնություններ
A32: ՀԱՅԱՍՏԱՆԻ ՀԱՆՐԱՊԵՏՈՒԹՅԱՆ ՎԱՐՉԱՊԵՏԻ ԱՇԽԱՏԱԿԱԶՄԻ
A33: ՂԵԿԱՎԱՐ Ա. ՀԱՐՈՒԹՅՈՒՆՅԱՆ

Sheet 2
F1: Հավելված 2
D2: ՀՀ կառավարության 2022 թվականի
D3: ___________ ___-ի N _______ -Ն որոշման
A5: ՀԱՅԱՍՏԱՆԻ ՀԱՆՐԱՊԵՏՈՒԹՅԱՆ ԿԱՌԱՎԱՐՈՒԹՅԱՆ 2021 ԹՎԱԿԱՆԻ ԴԵԿՏԵՄԲԵՐԻ 23-Ի N 2121-Ն ՈՐՈՇՄԱՆ N 3 ԵՎ N 4 ՀԱՎԵԼՎԱԾՆԵՐՈՒՄ ԿԱՏԱՐՎՈՂ ՓՈՓՈԽՈՒԹՅՈՒՆՆԵՐԸ ԵՎ ԼՐԱՑՈՒՄՆԵՐԸ
J6: հազար դրամներով
A7: Գործառական դասիչը | D7: Ծրագրային դասիչը | F7: Բյուջետային ծախսերի գործառական դասակարգման բաժինների, խմբերի և դասերի, բյուջետային հատկացումների գլխավոր կարգադրիչների, ծրագրերի, միջոցառումների և միջոցառումները կատարող պետական մարմինների անվանումները | G7: Ցուցանիշների փոփոխությունները (Ավելացումները նշված են դրական նշանով,իսկ նվազեցումները՝ փակագծերում)
A8: Բաժին | B8: Խումբ | C8: Դաս | D8: Ծրագիր | E8: Միջոցառում | G8: Առաջին եռամսյակ | H8: Առաջին կիսամյակ | I8: Ինն ամիս | J8: Տարի
F9: Ընդամենը | G9: =+G10 -> 0 | H9: =+H10 -> 0 | I9: =+I10 -> 0 | J9: =+J10 -> 0
A10: 03 | F10: ՀԱՍԱՐԱԿԱԿԱՆ ԿԱՐԳ, ԱՆՎՏԱՆԳՈՒԹՅՈՒՆ ԵՎ ԴԱՏԱԿԱՆ ԳՈՐԾՈՒՆԵՈՒԹՅՈՒՆ | G10: =+G12 -> 0 | H10: =+H12 -> 0 | I10: =+I12 -> 0 | J10: =+J12 -> 0
F11: այդ թվում`
B12: 02 | F12: Փրկարար ծառայություն | G12: =+G14 -> 0 | H12: =+H14 -> 0 | I12: =+I14 -> 0 | J12: =+J14 -> 0
F13: այդ թվում`
C14: 01 | F14: Փրկարար ծառայություն | G14: =+G16 -> 0 | H14: =+H16 -> 0 | I14: =+I16 -> 0 | J14: =+J16 -> 0
F15: այդ թվում
D16: 1090 | F16: Փրկարարական ծառայություններ | G16: =+G18+G27 -> 0 | H16: =+H18+H27 -> 0 | I16: =+I18+I27 -> 0 | J16: =+J18+J27 -> 0
F17: այդ թվում`
E18: 11001 | F18: Փրկարարական ծառայություններ | G18: =+G20 -> -9320.2 | H18: =+H20 -> -9320.2 | I18: =+I20 -> -9320.2 | J18: =+J20 -> -9320.2
F19: այդ թվում` ըստ կատարողների
F20: ՀՀ արտակարգ իրավիճակների նախարարություն | G20: =+G22 -> -9320.2 | H20: =+H22 -> -9320.2 | I20: =+I22 -> -9320.2 | J20: =+J22 -> -9320.2
F21: այդ թվում` բյուջետային ծախսերի տնտեսագիտական դասակարգման հոդվածներ
F22: ԸՆԴԱՄԵՆԸ ԾԱԽՍԵՐ | G22: =+G23 -> -9320.2 | H22: =+H23 -> -9320.2 | I22: =+I23 -> -9320.2 | J22: =+J23 -> -9320.2
F23: ԸՆԹԱՑԻԿ ԾԱԽՍԵՐ | G23: =+G24 -> -9320.2 | H23: =+H24 -> -9320.2 | I23: =+I24 -> -9320.2 | J23: =+J24 -> -9320.2
F24: ԾԱՌԱՅՈՒԹՅՈՒՆՆԵՐԻ ԵՎ ԱՊՐԱՆՔՆԵՐԻ ՁԵՌՔԲԵՐՈՒՄ | G24: =+G25 -> -9320.2 | H24: =+H25 -> -9320.2 | I24: =+I25 -> -9320.2 | J24: =+J25 -> -9320.2
F25: Նյութեր (Ապրանքներ) | G25: =+G26 -> -9320.2 | H25: =+H26 -> -9320.2 | I25: =+I26 -> -9320.2 | J25: =+J26 -> -9320.2
F26: - Տրանսպորտային նյութեր | G26: =-G27 -> -9320.2 | H26: =-H27 -> -9320.2 | I26: =-I27 -> -9320.2 | J26: =-J27 -> -9320.2
E27: 31001 | F27: Փրկարար ծառայության տեխնիկական հագեցվածության բարելավում | G27: =+G29 -> 9320.2 | H27: =+H29 -> 9320.2 | I27: =+I29 -> 9320.2 | J27: =+J29 -> 9320.2
F28: այդ թվում` ըստ կատարողների
F29: ՀՀ արտակարգ իրավիճակների նախարարություն | G29: =+G31 -> 9320.2 | H29: =+H31 -> 9320.2 | I29: =+I31 -> 9320.2 | J29: =+J31 -> 9320.2
F30: այդ թվում` բյուջետային ծախսերի տնտեսագիտական դասակարգման հոդվածներ
F31: ԸՆԴԱՄԵՆԸ ԾԱԽՍԵՐ | G31: =+G32 -> 9320.2 | H31: =+H32 -> 9320.2 | I31: =+I32 -> 9320.2 | J31: =+J32 -> 9320.2
F32: ՈՉ ՖԻՆԱՆՍԱԿԱՆ ԱԿՏԻՎՆԵՐԻ ԳԾՈՎ ԾԱԽՍԵՐ | G32: =+G33 -> 9320.2 | H32: =+H33 -> 9320.2 | I32: =+I33 -> 9320.2 | J32: =+J33 -> 9320.2
F33: ՀԻՄՆԱԿԱՆ ՄԻՋՈՑՆԵՐ | G33: =+G34 -> 9320.2 | H33: =+H34 -> 9320.2 | I33: =+I34 -> 9320.2 | J33: =+J34 -> 9320.2
F34: ՄԵՔԵՆԱՆԵՐ ԵՎ ՍԱՐՔԱՎՈՐՈՒՄՆԵՐ | G34: =+G35 -> 9320.2 | H34: =+H35 -> 9320.2 | I34: =+I35 -> 9320.2 | J34: =+J35 -> 9320.2
F35: - Վարչական սարքավորումներ | G35: =+'1'!D24 -> 9320.2 | H35: =+'1'!E24 -> 9320.2 | I35: =+'1'!F24 -> 9320.2 | J35: =+'1'!G24 -> 9320.2
A37: ՀԱՅԱՍՏԱՆԻ ՀԱՆՐԱՊԵՏՈՒԹՅԱՆ ՎԱՐՉԱՊԵՏԻ ԱՇԽԱՏԱԿԱԶՄԻ
A38: ՂԵԿԱՎԱՐ Ա. ՀԱՐՈՒԹՅՈՒՆՅԱՆ

Sheet 3
B1: Հավելված N 3 ՀՀ կառավարության 2022 թվականի __________-ի ____-ի N _____-Ն որոշման
A5: ՀԱՅԱՍՏԱՆԻ ՀԱՆՐԱՊԵՏՈՒԹՅԱՆ ԿԱՌԱՎԱՐՈՒԹՅԱՆ 2021 ԹՎԱԿԱՆԻ ԴԵԿՏԵՄԲԵՐԻ 23-Ի N 2121-Ն ՈՐՈՇՄԱՆ N9 ՀԱՎԵԼՎԱԾԻ 9.18 ԱՂՅՈՒՍԱԿՈՒՄ ԿԱՏԱՐՎՈՂ ՓՈՓՈԽՈՒԹՅՈՒՆՆԵՐԸ ԵՎ ԼՐԱՑՈՒՄՆԵՐԸ
A7: ՀՀ արտակարգ իրավիճակների նախարարություն
A9: ՄԱՍ 2. ՊԵՏԱԿԱՆ ՄԱՐՄՆԻ ԳԾՈՎ ԱՐԴՅՈՒՆՔԱՅԻՆ (ԿԱՏԱՐՈՂԱԿԱՆ) ՑՈՒՑԱՆԻՇՆԵՐԸ
A10: Ծրագրի դասիչը | B10: Ծրագրի անվանումը
A11: 1090 | B11: Փրկարարական ծառայություններ
A12: Ծրագրի միջոցառումները
A13: Ծրագրի դասիչը՝ | B13: 1090 | C13: Ցուցանիշների փոփոխությունները (Ավելացումները նշված են դրական նշանով)
A14: Միջոցառման դասիչը՝ | B14: 11001 | C14: Առաջին եռամսյակ | D14: Առաջին կիսամյակ | E14: Ինն ամիս | F14: Տարի
A15: Միջոցառման անվանումը՝ | B15: Փրկարարական ծառայություններ
A16: Նկարագրությունը՝ | B16: Հրդեհաշիջման, հակահրդեհային քարոզչության, բնական և տեխնածին աղետների ժամանակ բնակչության և կառույցների պաշտպանություն
A17: Միջոցառման տեսակը՝ | B17: Ծառայությունների մատուցում
A18: Միջոցառումն իրականացնողի անվանումը` | B18: ՀՀ արտակարգ իրավիճակների նախարարություն
A19: Արդյունքի չափորոշիչներ
A20: Øß³ÏíáÕ ÝáñÙ³ïÇí Çñ³í³Ï³Ý ³Ïï»ñÇ Ý³Ë³·Í»ñÇ ù³Ý³Ï, Ñ³ï
A21: Ð³Ù³Ï³ñ·íáÕ, Çñ³Ï³Ý³óíáÕ ¨ í»ñ³ÑëÏÙ³Ý »ÝÃ³ñÏíáÕ ÙÇçáó³éáõÙÝ»ñÇ ù³Ý³Ï, Ñ³ï
A22: Միջոցառման վրա կատարվող ծախսը (հազար դրամ) | C22: =+'2'!G18 -> -9320.2 | D22: =+'2'!H18 -> -9320.2 | E22: =+'2'!I18 -> -9320.2 | F22: =+'2'!J18 -> -9320.2
A23: Ծրագրի դասիչը՝ | B23: 1090 | C23: Ցուցանիշների փոփոխությունները (Ավելացումները նշված են դրական նշանով)
A24: Միջոցառման դասիչը՝ | B24: 31001 | C24: Առաջին եռամսյակ | D24: Առաջին կիսամյակ | E24: Ինն ամիս | F24: Տարի
A25: Միջոցառման անվանումը՝ | B25: Փրկարար ծառայության տեխնիկական հագեցվածության բարելավում
A26: Նկարագրությունը՝ | B26: Համակարգչային և գրասենյակային սարքավորումների ձեռքբերում
A27: Միջոցառման տեսակը՝ | B27: Պետական մարմինների կողմից օգտագործվող ոչ ֆինանասական ակտիվների հետ գործառնություններ
A28: Միջոցառումն իրականացնողի անվանումը` | B28: ՀՀ արտակարգ իրավիճակների նախարարություն
A29: Արդյունքի չափորոշիչներ
A30: Øß³ÏíáÕ ÝáñÙ³ïÇí Çñ³í³Ï³Ý ³Ïï»ñÇ Ý³Ë³·Í»ñÇ ù³Ý³Ï, Ñ³ï
A31: Ð³Ù³Ï³ñ·íáÕ, Çñ³Ï³Ý³óíáÕ ¨ í»ñ³ÑëÏÙ³Ý »ÝÃ³ñÏíáÕ ÙÇçáó³éáõÙÝ»ñÇ ù³Ý³Ï, Ñ³ï
A32: Քանակական | B32: Համակարգչային սարքավորումների քանակ, հատ | C32: 7 | D32: 7 | E32: 7 | F32: 7
B33: Կապի և այլ և սարքավորումների քանակ, հատ | C33: 5 | D33: 5 | E33: 5 | F33: 5
A34: Ժամկետային | B34: Սարքավորումների ծառայության կանխատեսվող միջին ժամկետ, տարի | C34: 10 | D34: 10 | E34: 10 | F34: 10
A35: Միջոցառման վրա կատարվող ծախսը (հազար դրամ) | C35: =+'2'!G27 -> 9320.2 | D35: =+'2'!H27 -> 9320.2 | E35: =+'2'!I27 -> 9320.2 | F35: =+'2'!J27 -> 9320.2
A38: ՀԱՅԱՍՏԱՆԻ ՀԱՆՐԱՊԵՏՈՒԹՅԱՆ ՎԱՐՉԱՊԵՏԻ ԱՇԽԱՏԱԿԱԶՄԻ
A39: ՂԵԿԱՎԱՐ Ա. ՀԱՐՈՒԹՅՈՒՆՅԱՆ

Sheet 4
B1: Հավելված N 4 ՀՀ կառավարության 2022 թվականի __________-ի ____-ի N _____-Ն որոշման
A2: ՀԱՅԱՍՏԱՆԻ ՀԱՆՐԱՊԵՏՈՒԹՅԱՆ ԿԱՌԱՎԱՐՈՒԹՅԱՆ 2021ԹՎԱԿԱՆԻ ԴԵԿՏԵՄԲԵՐԻ 23-Ի N 2121-Ն ՈՐՈՇՄԱՆ N9.1 ՀԱՎԵԼՎԱԾԻ 9.1.19 ԱՂՅՈՒՍԱԿՈՒՄ ԿԱՏԱՐՎՈՂ ՓՈՓՈԽՈՒԹՅՈՒՆՆԵՐԸ
A3: ՀՀ արտակարգ իրավիճակների նախարարություն
A5: ՄԱՍ 1 ՊԵՏԱԿԱՆ ՄԱՐՄՆԻ ԳԾՈՎ ԱՐԴՅՈՒՆՔԱՅԻՆ (ԿԱՏԱՐՈՂԱԿԱՆ) ՑՈՒՑԱՆԻՇՆԵՐԸ
A6: Ծրագրի դասիչը | B6: Ծրագրի անվանումը
A7: 1090 | B7: Փրկարարական ծառայություններ
A8: Ծրագրի միջոցառումները
A9: Ծրագրի դասիչը՝ | B9: 1090 | C9: Ցուցանիշների փոփոխությունները (Ավելացումները նշված են դրական նշանով)
A10: Միջոցառման դասիչը՝ | B10: 11001 | C10: Առաջին եռամսյակ | D10: Առաջին կիսամյակ | E10: Ինն ամիս | F10: Տարի
A11: Միջոցառման անվանումը՝ | B11: Փրկարարական ծառայություններ
A12: Նկարագրությունը՝ | B12: Հրդեհաշիջման, հակահրդեհային քարոզչության, բնական և տեխնածին աղետների ժամանակ բնակչության և կառույցների պաշտպանություն
A13: Միջոցառման տեսակը՝ | B13: Ծառայությունների մատուցում
A14: Միջոցառումն իրականացնողի անվանումը` | B14: ՀՀ արտակարգ իրավիճակների նախարարություն
A15: Արդյունքի չափորոշիչներ
A16: Øß³ÏíáÕ ÝáñÙ³ïÇí Çñ³í³Ï³Ý ³Ïï»ñÇ Ý³Ë³·Í»ñÇ ù³Ý³Ï, Ñ³ï
A17: Ð³Ù³Ï³ñ·íáÕ, Çñ³Ï³Ý³óíáÕ ¨ í»ñ³ÑëÏÙ³Ý »ÝÃ³ñÏíáÕ ÙÇçáó³éáõÙÝ»ñÇ ù³Ý³Ï, Ñ³ï
A18: Միջոցառման վրա կատարվող ծախսը (հազար դրամ) | C18: =+'3'!C22 -> -9320.2 | D18: =+'3'!D22 -> -9320.2 | E18: =+'3'!E22 -> -9320.2 | F18: =+'3'!F22 -> -9320.2
A19: Ծրագրի դասիչը՝ | B19: 1090 | C19: Ցուցանիշների փոփոխությունները (Ավելացումները նշված են դրական նշանով)
A20: Միջոցառման դասիչը՝ | B20: 31001 | C20: Առաջին եռամսյակ | D20: Առաջին կիսամյակ | E20: Ինն ամիս | F20: Տարի
A21: Միջոցառման անվանումը՝ | B21: Փրկարար ծառայության տեխնիկական հագեցվածության բարելավում
A22: Նկարագրությունը՝ | B22: Համակարգչային և գրասենյակային սարքավորումների ձեռքբերում
A23: Միջոցառման տեսակը՝ | B23: Պետական մարմինների կողմից օգտագործվող ոչ ֆինանասական ակտիվների հետ գործառնություններ
A24: Միջոցառումն իրականացնողի անվանումը` | B24: ՀՀ արտակարգ իրավիճակների նախարարություն
A25: Արդյունքի չափորոշիչներ
A26: Øß³ÏíáÕ ÝáñÙ³ïÇí Çñ³í³Ï³Ý ³Ïï»ñÇ Ý³Ë³·Í»ñÇ ù³Ý³Ï, Ñ³ï
A27: Ð³Ù³Ï³ñ·íáÕ, Çñ³Ï³Ý³óíáÕ ¨ í»ñ³ÑëÏÙ³Ý »ÝÃ³ñÏíáÕ ÙÇçáó³éáõÙÝ»ñÇ ù³Ý³Ï, Ñ³ï
A28: Քանակական | B28: Համակարգչային սարքավորումների քանակ, հատ | C28: 7 | D28: 7 | E28: 7 | F28: 7
B29: Գրասենյակային գույքի և սարքավորումների քանակ, հատ | C29: 5 | D29: 5 | E29: 5 | F29: 5
A30: Ժամկետային | B30: Սարքավորումների ծառայության կանխատեսվող միջին ժամկետ, տարի | C30: 10 | D30: 10 | E30: 10 | F30: 10
A31: Միջոցառման վրա կատարվող ծախսը (հազար դրամ) | C31: =+'3'!C35 -> 9320.2 | D31: =+'3'!D35 -> 9320.2 | E31: =+'3'!E35 -> 9320.2 | F31: =+'3'!F35 -> 9320.2
A34: ՀԱՅԱՍՏԱՆԻ ՀԱՆՐԱՊԵՏՈՒԹՅԱՆ ՎԱՐՉԱՊԵՏԻ ԱՇԽԱՏԱԿԱԶՄԻ
A35: ՂԵԿԱՎԱՐ Ա. ՀԱՐՈՒԹՅՈՒՆՅԱՆ

Sheet 5
A1: Հավելված N5
F2: ՀՀ կառավարության 2022 թվականի -ի N -Ն որոշման
C3: «ՀԱՅԱՍՏԱՆԻ ՀԱՆՐԱՊԵՏՈՒԹՅԱՆ 2022 ԹՎԱԿԱՆԻ ՊԵՏԱԿԱՆ ԲՅՈՒՋԵԻ ՄԱՍԻՆ» ՀԱՅԱՍՏԱՆԻ ՀԱՆՐԱՊԵՏՈՒԹՅԱՆ ՕՐԵՆՔԻ N 1 ՀԱՎԵԼՎԱԾԻ N3 ԱՂՅՈՒՍԱԿՈՒՄ ԿԱՏԱՐՎՈՂ ՓՈՓՈԽՈՒԹՅՈՒՆՆԵՐԸ ԵՎ ԼՐԱՑՈՒՄՆԵՐԸ
G4: հազար դրամներով
A5: Ծրագրային դասիչ | C5: Բյուջետային գլխավոր կարգադրիչների, ծրագրերի, միջոցառումների և ուղղությունների անվանումները | D5: Ընդամենը, | E5: Ցուցանիշների փոփոխությունը (ավելացումները նշված են դրական նշանով)
A6: Ծրագիր | B6: Միջոցառում | E6: Կառուցման աշխատանքներ | F6: Վերակառուցման, վերանորոգման և վերականգնման աշխատանքներ | G6: Նախագծահե- տազոտական, գեոդեզիա- քարտեզագրա- կան աշխա- տանքներ | H6: Ոչ ֆինանսական այլ ակտիվների ձեռքբերում
C7: այդ թվում՝
C8: ՀՀ ԱՐՏԱԿԱՐԳ ԻՐԱՎԻՃԱԿՆԵՐԻ ՆԱԽԱՐԱՐՈՒԹՅՈՒՆ | D8: =+D10 -> 9320.2 | E8: =+E10 -> 0 | F8: =+F10 -> 0 | G8: =+G10 -> 0 | H8: =+H10 -> 9320.2
C9: այդ թվում`
A10: 1090 | B10: 31001 | C10: Փրկարար ծառայության տեխնիկական հագեցվածության բարելավում | D10: =+D12 -> 9320.2 | H10: =+H12 -> 9320.2
C11: այդ թվում ըստ կատարողների`
C12: ՀՀ արտակարգ իրավիճակների նախարարություն | D12: =+H12 -> 9320.2 | H12: =+'2'!J27 -> 9320.2
A16: ՀԱՅԱՍՏԱՆԻ ՀԱՆՐԱՊԵՏՈՒԹՅԱՆ ՎԱՐՉԱՊԵՏԻ ԱՇԽԱՏԱԿԱԶՄԻ
A17: ՂԵԿԱՎԱՐ Ա. ՀԱՐՈՒԹՅՈՒՆՅԱՆ

Sheet 6
H1: Հավելված N 6
H2: ՀՀ կառավարության 2022 թվականի
H3: ___________ ___-ի N _______ -Ն որոշման
A4: ՀԱՅԱՍՏԱՆԻ ՀԱՆՐԱՊԵՏՈՒԹՅԱՆ ԿԱՌԱՎԱՐՈՒԹՅԱՆ 2021 ԹՎԱԿԱՆԻ ԴԵԿՏԵՄԲԵՐԻ 23-Ի N 2121-Ն ՈՐՈՇՄԱՆ N 5 ՀԱՎԵԼՎԱԾԻ N 2 ԱՂՅՈՒՍԱԿՈՒՄ ԿԱՏԱՐՎՈՂ ՓՈՓՈԽՈՒԹՅՈՒՆՆԵՐԸ ԵՎ ԼՐԱՑՈՒՄՆԵՐԸ
A6: Ծրագրային դասիչ | C6: Բյուջետային գլխավոր կարգադրիչների, ծրագրերի, միջոցառումների, միջոցառումները կատարող պետական մարմինների և ուղղությունների անվանումները | D6: Ցուցանիշների փոփոխությունը (ավելացումները նշված են դրական նշանով)
A7: Ծրագիր | B7: Միջոցառում | D7: Առաջին եռամսյակ | E7: Առաջին կիսամյակ | F7: Ինն ամիս | G7: Տարի
C8: այդ թվում՝
C9: ՀՀ ԱՐՏԱԿԱՐԳ ԻՐԱՎԻՃԱԿՆԵՐԻ ՆԱԽԱՐԱՐՈՒԹՅՈՒՆ | D9: =+D11 -> 9320.2 | E9: =+E11 -> 9320.2 | F9: =+F11 -> 9320.2 | G9: =+G11 -> 9320.2
C10: այդ թվում`
A11: 1090 | B11: 31001 | C11: Փրկարար ծառայության տեխնիկական հագեցվածության բարելավում | D11: =+'2'!G27 -> 9320.2 | E11: =+'2'!H27 -> 9320.2 | F11: =+'2'!I27 -> 9320.2 | G11: =+'2'!J27 -> 9320.2
C12: այդ թվում` ըստ կատարողների
C13: ՀՀ արտակարգ իրավիճակների նախարարություն
A15: ՀԱՅԱՍՏԱՆԻ ՀԱՆՐԱՊԵՏՈՒԹՅԱՆ ՎԱՐՉԱՊԵՏԻ ԱՇԽԱՏԱԿԱԶՄԻ
A16: ՂԵԿԱՎԱՐ Ա. ՀԱՐՈՒԹՅՈՒՆՅԱՆ

Sheet 7
F1: Հավելված N 7
E2: ՀՀ կառավարության 2021 թվականի
E3: ______________ ի ___Ն որոշման
A4: ՀԱՅԱՍՏԱՆԻ ՀԱՆՐԱՊԵՏՈՒԹՅԱՆ ԿԱՌԱՎԱՐՈՒԹՅԱՆ 2021 ԹՎԱԿԱՆԻ ԴԵԿՏԵՄԲԵՐԻ 23-Ի N 2121-Ն ՈՐՈՇՄԱՆ N 10 ՀԱՎԵԼՎԱԾՈՒՄ ԿԱՏԱՐՎՈՂ ՓՈՓՈԽՈՒԹՅՈՒՆՆԵՐԸ ԵՎ ԼՐԱՑՈՒՄՆԵՐԸ
A5: Գնման առարկայի | G5: Գումարը (հազար դրամով) Ցուցանիշների փոփոխությունը (ավելացումները նշված են դրական նշանով)
A6: Կոդը | B6: Անվանումը | C6: Գնման ձև | D6: Չափման միավորը | E6: Միավորի գինը | F6: Քանակը
A8: ՀՀ արտակարգ իրավիճակների նախարարություն | G8: =+G9 -> -0.02
A9: Բաժին N 03 | B9: Խումբ N 02 | C9: Դաս N 01 | D9: Փրկարար ծառայություն | G9: =+G10+G13 -> -0.02
A10: 1090 11001 | B10: Փրկարարական ծառայություններ | G10: =+G11 -> -9320.22
A11: ՄԱՍI. ԱՊՐԱՆՔՆԵՐ | G11: =SUM(G12:G12) -> -9320.22
A12: 9132200/1 | B12: Բենզին, ռեգուլյար | C12: ԷԱՃ | D12: լիտր | E12: 390 | F12: -23898 | G12: =E12*F12/1000 -> -9320.22
A13: 1090 31001 | B13: Փրկարար ծառայության տեխնիկական հագեցվածության բարելավում | G13: =+G14 -> 9320.2
A14: ՄԱՍI. ԱՊՐԱՆՔՆԵՐ | G14: =SUM(G15:G22) -> 9320.2
A15: 32531100 | B15: Տեղեկատվության փոխանցման արբանյակային սարքեր | C15: ԳՀ | D15: հատ | E15: 3600000 | F15: 1 | G15: =E15*F15/1000 -> 3600
A16: 32551180 | B16: Արտակարգ իրավիճակների հեռախոսներ | C16: ԷԱՃ | D16: հատ | E16: 1200000 | F16: 1 | G16: =E16*F16/1000 -> 1200
A17: 30211290 | B17: Համակարգչային պլանշետ | C17: ԷԱՃ | D17: հատ | E17: 500000 | F17: 2 | G17: =E17*F17/1000 -> 1000
A18: 30211200 | B18: Դյուրակիր համակարգիչներ | C18: ԷԱՃ | D18: հատ | E18: 250000 | F18: 3 | G18: =E18*F18/1000 -> 750
A19: 30232130 | B19: Գունավոր տպիչներ | C19: ԷԱՃ | D19: հատ | E19: 101600 | F19: 2 | G19: =E19*F19/1000 -> 203.2
A20: 42911140 | B20: Ջրի զտման սարքավորումներ | C20: ԳՀ | D20: հատ | E20: 2392000 | F20: 1 | G20: =E20*F20/1000 -> 2392
A21: 31587100 | B21: Հոսանքի լարվածության կարգավորիչ | C21: ԷԱՃ | D21: հատ | E21: 135000 | F21: 1 | G21: =E21*F21/1000 -> 135
A22: 37411580 | B22: Դյուրակիր սառնարաններ | C22: ԳՀ | D22: հատ | E22: 40000 | F22: 1 | G22: =E22*F22/1000 -> 40
