Workbook
Name AgencyCode: #REF!
Name AgencyCode: #REF!
Name AgencyCode: #REF!
Name AgencyName: #REF!
Name AgencyName: #REF!
Name Functional1: #REF!
Name Functional1: #REF!
Name PANature: #REF!
Name PANature: #REF!
Name PAType: #REF!
Name PAType: #REF!
Name Performance2: #REF!
Name Performance2: #REF!
Name PerformanceType: #REF!
Name PerformanceType: #REF!

Sheet 1
H1: Հավելված N1
H2: ՀՀ կառավարության 2022 թվականի
H3: ______________ ի ___Ն որոշման
A4: «ՀԱՅԱՍՏԱՆԻ ՀԱՆՐԱՊԵՏՈՒԹՅԱՆ 2022 ԹՎԱԿԱՆԻ ՊԵՏԱԿԱՆ ԲՅՈՒՋԵԻ ՄԱՍԻՆ» ՀԱՅԱՍՏԱՆԻ ՀԱՆՐԱՊԵՏՈՒԹՅԱՆ ՕՐԵՆՔԻ N 1 ՀԱՎԵԼՎԱԾԻ N 3 ԱՂՅՈՒՍԱԿՈՒՄ ԿԱՏԱՐՎՈՂ ՓՈՓՈԽՈՒԹՅՈՒՆՆԵՐԸ ԵՎ ԼՐԱՑՈՒՄՆԵՐԸ
G5: հազ. դրամ
A6: Ծրագրային դասիչ | C6: Բյուջետային գլխավոր կարգադրիչների, ծրագրերի, միջոցառումների և ուղղությունների անվանումները | D6: Ցուցանիշների փոփոխությունը (ավելացումները նշված են դրական նշանով, իսկ նվազեցումները` փակագծերում)
D7: Ընդամենը, | E7: այդ թվում՝
A8: Ծրագիր | B8: Միջոցառում | E8: Կառուցման աշխատանքներ | F8: Վերակառուցման, վերանորոգման և վերականգնման աշխատանքներ | G8: Նախագծահե- տազոտական, գեոդեզիա- քարտեզագրա- կան աշխա- տանքներ | H8: Ոչ ֆինանսական այլ ակտիվների ձեռքբերում
C9: ԸՆԴԱՄԵՆԸ | D9: =+E9+F9+G9+H9 -> 0 | E9: =E11 -> 0 | F9: =F11 -> 0 | G9: =G11 -> 0 | H9: =H11 -> 0
C10: այդ թվում՝
C11: ՀՀ ՏԱՐԱԾՔԱՅԻՆ ԿԱՌԱՎԱՐՄԱՆ ԵՎ ԵՆԹԱԿԱՌՈՒՑՎԱԾՔՆԵՐԻ ՆԱԽԱՐԱՐՈՒԹՅՈՒՆ | D11: =+E11+F11+G11+H11 -> 0 | E11: =+E13+E42 -> 0 | F11: =+F13+F42 -> 0 | G11: =+G13+G42 -> 0 | H11: =+H13+H42 -> 0
C12: այդ թվում`
A13: 1049 | B13: 21001 | C13: Պետական նշանակության ավտոճանապարհների հիմնանորոգում | D13: =+E13+F13+G13+H13 -> 6210908.4 | E13: =+E15+E27+E33 -> 0 | F13: =+F15+F27+F33 -> 6215102.4 | G13: =+G15+G27+G33 -> -4194 | H13: =+H15+H27+H33 -> 0
C14: այդ թվում`
B15: 1 | C15: Միջպետական նշանակության ավտոճանապարհներ, այդ թվում | D15: =+E15+F15+G15+H15 -> 4230259.2 | E15: =SUM(E16:E26) -> 0 | F15: =SUM(F16:F26) -> 4230259.2 | G15: =SUM(G16:G26) -> 0 | H15: =SUM(H16:H26) -> 0
C16: Մ-1, Երևան-Գյումրի-Վրաստանի սահման կմ152+600-կմ156+700 հատվածի հիմնանորոգում | D16: =+E16+F16+G16+H16 -> 26450 | E16: 0 | F16: =+'3'!F19 -> 26450 | G16: 0 | H16: 0
C17: Մ-3, Թուրքիայի սահման-Մարգարա-Վանաձոր-Տաշիր-Վրաստանի սահման միջպետական նշանակության ավտոճանապարհի կմ97+020-կմ104+700 հատվածի հիմնանորոգման աշխատանքներ | D17: =+E17+F17+G17+H17 -> 1379104.9 | E17: 0 | F17: 1379104.9 | G17: 0 | H17: 0
C18: Մ-3, Թուրքիայի սահման-Մարգարա-Վանաձոր-Տաշիր-Վրաստանի սահման միջպետական նշանակության ավտոճանապարհի կմ130+400-կմ135+354 հատվածի հիմնանորոգում | D18: =+E18+F18+G18+H18 -> 29180.5 | E18: 0 | F18: 29180.5 | G18: 0 | H18: 0
C19: Մ-3, Թուրքիայի սահման-Մարգարա-Վանաձոր-Տաշիր-Վրաստանի սահման միջպետական նշանակության ավտոճանապարհի կմ154+000-կմ176+900 հատվածի հիմնանորոգում | D19: =+E19+F19+G19+H19 -> 2627714.8 | E19: 0 | F19: 2627714.8 | G19: 0 | H19: 0
C20: Մ-4, Երևան-Սևան-Իջևան-Ադրբեջանի սահման միջպետական նշանակության ավտոճանապարհի կմ67+500 փլուզված հատվածի վերականգնում | D20: =+E20+F20+G20+H20 -> 1212.3 | E20: 0 | F20: =+'3'!G23 -> 1212.3 | G20: 0 | H20: 0
C21: Մ-7, Մ-3-Սպիտակ-Գյումրի-Թուրքիայի սահման կմ48+000 - կմ52+000 հատվածի հիմնանորոգում | D21: =+E21+F21+G21+H21 -> 23300 | E21: 0 | F21: 23300 | G21: 0 | H21: 0
C22: Մ-9, Մ-1-Թալին-Քարակերտ-Թուրքիայի սահման միջպետական նշանակության ավտոճանապարհի կմ1+300 - կմ3+600 հատվածի հիմնանորոգում | D22: =+E22+F22+G22+H22 -> 22147.2 | E22: 0 | F22: 22147.2 | G22: 0 | H22: 0
C23: Մ-10, Սևան-Մարտունի-Գետափ միջպետական նշանակության ավտոճանապարհի կմ57+450-կմ59+450 հատվածի մայթերի կառուցում | D23: =+E23+F23+G23+H23 -> 3357.2 | E23: 0 | F23: 3357.2 | G23: 0 | H23: 0
C24: Մ-14, Մ-4-Շորժա-Վարդենիս միջպետական նշանակության ավտոճանապարհի կմ32+888-կմ33+628 և կմ52+970-կմ53+350 փլուզված հատվածներում գաբիոնային հենապատերի կառուցում | D24: =+E24+F24+G24+H24 -> 5858.6 | E24: 0 | F24: 5858.6 | G24: 0 | H24: 0
C25: Մ-14, Մ-4-Շորժա-Վարդենիս միջպետական նշանակության ավտոճանապարհի կմ39+400 - կմ60+300 հատվածի հիմնանորոգում | D25: =+E25+F25+G25+H25 -> 99760.5 | E25: 0 | F25: 99760.5 | G25: 0 | H25: 0
C26: Մ-16, Մ-4-Ոսկեպար-Նոյեմբերյան-Մ-6 միջպետական նշանակության ավտոճանապարհի կմ21+940-կմ24+700 հատվածի հիմնանորոգում | D26: =+E26+F26+G26+H26 -> 12173.2 | E26: 0 | F26: 12173.2 | G26: 0 | H26: 0
B27: 2 | C27: Հանրապետական նշանակության ավտոճանապարհներ, այդ թվում | D27: =+E27+F27+G27+H27 -> 1939891.7 | E27: =SUM(E28:E32) -> 0 | F27: =SUM(F28:F32) -> 1939891.7 | G27: =SUM(G28:G32) -> 0 | H27: =SUM(H28:H32) -> 0
C28: Հ-8, /Մ-2/-Այնթապ-Մխչյան-Արտաշատ-Այգևան-/Մ-2/ հանրապետական նշանակության ավտոճանապարհի կմ21+200 - կմ26+400 և կմ30+000-կմ33+500 հատվածների հիմնանորոգում | D28: =+E28+F28+G28+H28 -> 1733247 | E28: 0 | F28: =+'3'!G31 -> 1733247 | G28: 0 | H28: 0
C29: Հ8, Երևան-Արտաշատ-Այգեվան հանրապետական նշանակության ավտոճանապարհի կմ33+500 - կմ42+600 հատվածի հիմնանորոգում | D29: =+E29+F29+G29+H29 -> 54427.1 | E29: 0 | F29: =+'3'!G32 -> 54427.1 | G29: 0 | H29: 0
C30: Հ-46, Մ2-Տաթև-Աղվանի-Մ2 (Սյունիք) հանրապետական նշանակության ավտոճանապարհի կմ25+000-կմ37+500 հատվածի հիմնանորոգում | D30: =+E30+F30+G30+H30 -> 63389.3 | E30: 0 | F30: =+'3'!G33 -> 63389.3 | G30: 0 | H30: 0
C31: Հ-75, Մ-9-Իսահակյան-Գյումրի-Մ-7 հանրապետական նշանակության ավտոճանապարհի կմ68+300 - կմ70+800 հատվածի հիմնանորոգում | D31: =+E31+F31+G31+H31 -> 29696.9 | E31: 0 | F31: =+'3'!G34 -> 29696.9 | G31: 0 | H31: 0
C32: Հ-83, /Հ-21/ (Արթիկ)–Պեմզաշեն- /Մ-1/ հանրապետական նշանակության ավտոճանապարհի կմ0+000-կմ8+900 հատվածի հիմնանորոգում | D32: =+E32+F32+G32+H32 -> 59131.4 | E32: 0 | F32: =+'3'!G35 -> 59131.4 | G32: 0 | H32: 0
B33: 3 | C33: Մարզային նշանակության ավտոճանապարհներ, այդ թվում | D33: =+E33+F33+G33+H33 -> 40757.5 | E33: =SUM(E34:E41) -> 0 | F33: =SUM(F34:F41) -> 44951.5 | G33: =SUM(G34:G41) -> -4194 | H33: =SUM(H34:H41) -> 0
C34: Տ-1-39, /Մ-1/ - Կաթնաղբյուր - Շղարշիկ - Եղնիկ - (Տ-1-17) ավտոճանապարհի կմ 6+900 - կմ 10+800 հատվածի հիմնանորոգում | D34: =+E34+F34+G34+H34 -> 16124 | E34: 0 | F34: 16124 | G34: 0 | H34: 0
C35: Տ-7-52, /Հ-21/ (Արթիկ) – Անուշավան – Փանիկ (Տ-7-53) ավտոճանապարհի կմ0+000 - կմ3+000 հատվածի հիմնանորոգում | D35: =+E35+F35+G35+H35 -> 13108.3 | E35: 0 | F35: 13108.3 | G35: 0 | H35: 0
C36: Իջևան քաղաքի Սարիբեկ-Օհանյան փողոցի կմ0+000-կմ1+145 հատվածի հիմնանորոգում | D36: =+E36+F36+G36+H36 -> 15719.2 | E36: 0 | F36: 15719.2 | G36: 0 | H36: 0
C37: Տ-5-24,/Մ-3/ (Ստեփանավան) – Արմանիս – Ուրասար – Կաթնաղբյուր տեղական նշանակության ավտոճանապարհի կմ 6+600-կմ 15+200 հատվածի և Կաթնաղբյուր համայնքի 8-րդ և 9-րդ փողոցների հիմնանորոգում | D37: =+E37+F37+G37+H37 -> -4194 | E37: 0 | F37: 0 | G37: =+'3'!G40 -> -4194 | H37: 0
C38: Տ-8-49,/Տ-8-48/-Լծեն ավտոճանապարհի վերակառուցում | D38: =+E38+F38+G38+H38 -> -430 | E38: 0 | F38: 0 | G38: =+'3'!G41 -> -430 | H38: 0
C39: Որոտան-Խոտ ավտոճանապարհի վերակառուցում | D39: =+E39+F39+G39+H39 -> -645 | E39: 0 | F39: 0 | G39: =+'3'!G42 -> -645 | H39: 0
C40: Հ-46(Քաշունի գյուղի խաչմերուկից)-Բարձրավան ավտոճանապարհի կառուցում | D40: =+E40+F40+G40+H40 -> 325 | E40: 0 | F40: 0 | G40: =+'3'!G43 -> 325 | H40: 0
...

Sheet 2
A1: Հավելված N2
A2: ՀՀ կառավարության 2022 թվականի
A3: ______________ ի ___Ն որոշման
A5: ՀԱՅԱՍՏԱՆԻ ՀԱՆՐԱՊԵՏՈՒԹՅԱՆ ԿԱՌԱՎԱՐՈՒԹՅԱՆ 2021 ԹՎԱԿԱՆԻ ԴԵԿՏԵՄԲԵՐԻ 23-Ի N 2121-Ն ՈՐՈՇՄԱՆ N 3 ԵՎ N 4 ՀԱՎԵԼՎԱԾՆԵՐՈՒՄ ԿԱՏԱՐՎՈՂ ՓՈՓՈԽՈՒԹՅՈՒՆՆԵՐԸ ԵՎ ԼՐԱՑՈՒՄՆԵՐԸ
I7: հազ. դրամ
A8: Գործառական դասիչը | D8: Ծրագրային դասիչը | F8: Բյուջետային ծախսերի գործառական դասակարգման բաժինների, խմբերի և դասերի, բյուջետային հատկացումների գլխավոր կարգադրիչների, ծրագրերի, միջոցառումների և միջոցառումները կատարող պետական մարմինների անվանումները | G8: Ցուցանիշների փոփոխությունը (ավելացումները նշված են դրական նշանով, իսկ նվազեցումները` փակագծերում)
A9: Բաժին | B9: Խումբ | C9: Դաս | D9: Ծրագիր | E9: Միջոցառում | G9: Առաջին եռամսյակ | H9: Առաջին կիսամյակ | I9: Ինն ամիս | J9: Տարի
F10: ԸՆԴԱՄԵՆԸ ԾԱԽՍԵՐ | G10: =G12 -> 0 | H10: =H12 -> 0 | I10: =I12 -> 0 | J10: =J12 -> 0
F11: այդ թվում`
A12: 04 | F12: ՏՆՏԵՍԱԿԱՆ ՀԱՐԱԲԵՐՈՒԹՅՈՒՆՆԵՐ | G12: =G14 -> 0 | H12: =H14 -> 0 | I12: =I14 -> 0 | J12: =J14 -> 0
F13: այդ թվում`
B14: 05 | F14: Տրանսպորտ | G14: =G16 -> 0 | H14: =H16 -> 0 | I14: =I16 -> 0 | J14: =J16 -> 0
F15: այդ թվում`
C16: 01 | F16: Ճանապարհային տրանսպորտ | G16: =G18 -> 0 | H16: =H18 -> 0 | I16: =I18 -> 0 | J16: =J18 -> 0
F17: այդ թվում`
F18: ՀՀ ՏԱՐԱԾՔԱՅԻՆ ԿԱՌԱՎԱՐՄԱՆ ԵՎ ԵՆԹԱԿԱՌՈՒՑՎԱԾՔՆԵՐԻ ՆԱԽԱՐԱՐՈՒԹՅՈՒՆ | G18: =+G20 -> 0 | H18: =+H20 -> 0 | I18: =+I20 -> 0 | J18: =+J20 -> 0
F19: այդ թվում`
D20: 1049 | F20: Ճանապարհային ցանցի բարելավում | G20: =+G22+G40 -> 0 | H20: =+H22+H40 -> 0 | I20: =+I22+I40 -> 0 | J20: =+J22+J40 -> 0
F21: այդ թվում`
E22: 21001 | F22: Պետական նշանակության ավտոճանապարհների հիմնանորոգում | G22: =+G24+G31 -> 0 | H22: =+H24+H31 -> 0 | I22: =+I24+I31 -> 0 | J22: =+J24+J31 -> 0
F23: այդ թվում` ըստ կատարողների
F24: ՀՀ կառավարություն | G24: =+G26 -> 4194 | H24: =+H26 -> -757845.2 | I24: =+I26 -> -4674306.8 | J24: =+J26 -> -6210908.4
F25: այդ թվում` բյուջետային ծախսերի տնտեսագիտական դասակարգման հոդվածների
F26: ԸՆԴԱՄԵՆԸ ԾԱԽՍԵՐ | G26: =+G27 -> 4194 | H26: =+H27 -> -757845.2 | I26: =+I27 -> -4674306.8 | J26: =+J27 -> -6210908.4
F27: ՈՉ ՖԻՆԱՆՍԱԿԱՆ ԱԿՏԻՎՆԵՐԻ ԳԾՈՎ ԾԱԽՍԵՐ | G27: =+G28 -> 4194 | H27: =+H28 -> -757845.2 | I27: =+I28 -> -4674306.8 | J27: =+J28 -> -6210908.4
F28: ՀԻՄՆԱԿԱՆ ՄԻՋՈՑՆԵՐ | G28: =+G29 -> 4194 | H28: =+H29 -> -757845.2 | I28: =+I29 -> -4674306.8 | J28: =+J29 -> -6210908.4
F29: ՇԵՆՔԵՐ ԵՎ ՇԻՆՈՒԹՅՈՒՆՆԵՐ | G29: =+G30 -> 4194 | H29: =+H30 -> -757845.2 | I29: =+I30 -> -4674306.8 | J29: =+J30 -> -6210908.4
F30: - Շենքերի և շինությունների կապիտալ վերանորոգում | G30: =-G31 -> 4194 | H30: =-H31 -> -757845.2 | I30: =-I31 -> -4674306.8 | J30: =-J31 -> -6210908.4
F31: ՀՀ տարածքային կառավարման և ենթակառուցվածքների նախարարություն | G31: =+G33 -> -4194 | H31: =+H33 -> 757845.2 | I31: =+I33 -> 4674306.8 | J31: =+J33 -> 6210908.4
F32: այդ թվում` բյուջետային ծախսերի տնտեսագիտական դասակարգման հոդվածների
F33: ԸՆԴԱՄԵՆԸ ԾԱԽՍԵՐ | G33: =+G34 -> -4194 | H33: =+H34 -> 757845.2 | I33: =+I34 -> 4674306.8 | J33: =+J34 -> 6210908.4
F34: ՈՉ ՖԻՆԱՆՍԱԿԱՆ ԱԿՏԻՎՆԵՐԻ ԳԾՈՎ ԾԱԽՍԵՐ | G34: =+G35 -> -4194 | H34: =+H35 -> 757845.2 | I34: =+I35 -> 4674306.8 | J34: =+J35 -> 6210908.4
F35: ՀԻՄՆԱԿԱՆ ՄԻՋՈՑՆԵՐ | G35: =+G36+G38 -> -4194 | H35: =+H36+H38 -> 757845.2 | I35: =+I36+I38 -> 4674306.8 | J35: =+J36+J38 -> 6210908.4
F36: ՇԵՆՔԵՐ ԵՎ ՇԻՆՈՒԹՅՈՒՆՆԵՐ | G36: =+G37 -> 0 | H36: =+H37 -> 762039.2 | I36: =+I37 -> 4678500.8 | J36: =+J37 -> 6215102.4
F37: - Շենքերի և շինությունների կապիտալ վերանորոգում | G37: =+'3'!D39+'3'!D38+'3'!D37+'3'!D35+'3'!D34+'3'!D33+'3'!D32+'3'!D31+'3'!D29+'3'!D28+'3'!D27+'3'!D26+'3'!D25+'3'!D24+'3'!D23+'3'!D22+'3'!D21+'3'!D20+'3'!D19 -> 0 | H37: =+'3'!E39+'3'!E38+'3'!E37+'3'!E35+'3'!E34+'3'!E33+'3'!E32+'3'!E31+'3'!E29+'3'!E28+'3'!E27+'3'!E26+'3'!E25+'3'!E24+'3'!E23+'3'!E22+'3'!E21+'3'!E20+'3'!E19 -> 762039.2 | I37: =+'3'!F39+'3'!F38+'3'!F37+'3'!F35+'3'!F34+'3'!F33+'3'!F32+'3'!F31+'3'!F29+'3'!F28+'3'!F27+'3'!F26+'3'!F25+'3'!F24+'3'!F23+'3'!F22+'3'!F21+'3'!F20+'3'!F19 -> 4678500.8 | J37: =+'3'!G39+'3'!G38+'3'!G37+'3'!G35+'3'!G34+'3'!G33+'3'!G32+'3'!G31+'3'!G29+'3'!G28+'3'!G27+'3'!G26+'3'!G25+'3'!G24+'3'!G23+'3'!G22+'3'!G21+'3'!G20+'3'!G19 -> 6215102.4
F38: ԱՅԼ ՀԻՄՆԱԿԱՆ ՄԻՋՈՑՆԵՐ | G38: =+G39 -> -4194 | H38: =+H39 -> -4194 | I38: =+I39 -> -4194 | J38: =+J39 -> -4194
F39: - Նախագծահետազոտական ծախսեր | G39: =+'3'!D44+'3'!D43+'3'!D42+'3'!D41+'3'!D40 -> -4194 | H39: =+'3'!E44+'3'!E43+'3'!E42+'3'!E41+'3'!E40 -> -4194 | I39: =+'3'!F44+'3'!F43+'3'!F42+'3'!F41+'3'!F40 -> -4194 | J39: =+'3'!G44+'3'!G43+'3'!G42+'3'!G41+'3'!G40 -> -4194
E40: 21002 | F40: Տրանսպորտային օբյեկտների հիմնանորոգում | G40: =+G42+G49 -> 0 | H40: =+H42+H49 -> 0 | I40: =+I42+I49 -> 0 | J40: =+J42+J49 -> 0
F41: այդ թվում` ըստ կատարողների
F42: ՀՀ կառավարություն | G42: =+G44 -> 0 | H42: =+H44 -> -80173.3 | I42: =+I44 -> -89081.4 | J42: =+J44 -> -89081.4
...

Sheet 3
A1: Հավելված N3
A2: ՀՀ կառավարության 2022 թվականի
A3: ______________ ի ___Ն որոշման
A5: ՀԱՅԱՍՏԱՆԻ ՀԱՆՐԱՊԵՏՈՒԹՅԱՆ ԿԱՌԱՎԱՐՈՒԹՅԱՆ 2021 ԹՎԱԿԱՆԻ ԴԵԿՏԵՄԲԵՐԻ 23-Ի N 2121-Ն ՈՐՈՇՄԱՆ N 5 ՀԱՎԵԼՎԱԾԻ N 2 ԱՂՅՈՒՍԱԿՈՒՄ ԿԱՏԱՐՎՈՂ ՓՈՓՈԽՈՒԹՅՈՒՆՆԵՐԸ ԵՎ ԼՐԱՑՈՒՄՆԵՐԸ
F6: հազ. դրամ
A7: Ծրագրային դասիչ | C7: Բյուջետային գլխավոր կարգադրիչների, ծրագրերի, միջոցառումների և ուղղությունների անվանումները | D7: Ցուցանիշների փոփոխությունը (ավելացումները նշված են դրական նշանով, իսկ նվազեցումները` փակագծերում)
A8: Ծրագիր | B8: Միջոցառում | D8: Առաջին եռամսյակ | E8: Առաջին կիսամյակ | F8: Ինն ամիս | G8: Տարի
C9: ԸՆԴԱՄԵՆԸ | D9: =D11 -> 0 | E9: =E11 -> 0 | F9: =F11 -> 0 | G9: =G11 -> 0
C10: այդ թվում՝
C11: ՀՀ ՏԱՐԱԾՔԱՅԻՆ ԿԱՌԱՎԱՐՄԱՆ ԵՎ ԵՆԹԱԿԱՌՈՒՑՎԱԾՔՆԵՐԻ ՆԱԽԱՐԱՐՈՒԹՅՈՒՆ | D11: =+D13 -> 0 | E11: =+E13 -> 0 | F11: =+F13 -> 0 | G11: =+G13 -> 0
C12: այդ թվում`
A13: 1049 | B13: 21001 | C13: Պետական նշանակության ավտոճանապարհների հիմնանորոգում | D13: =+D15+D16 -> 0 | E13: =+E15+E16 -> 0 | F13: =+F15+F16 -> 0 | G13: =+G15+G16 -> 0
C14: այդ թվում` ըստ կատարողների
C15: ՀՀ կառավարություն | D15: =-D16 -> 4194 | E15: =-E16 -> -757845.2 | F15: =-F16 -> -4674306.8 | G15: =-G16 -> -6210908.4
C16: ՀՀ տարածքային կառավարման և ենթակառուցվածքների նախարարություն | D16: =+D18+D30+D36 -> -4194 | E16: =+E18+E30+E36 -> 757845.2 | F16: =+F18+F30+F36 -> 4674306.8 | G16: =+G18+G30+G36 -> 6210908.4
C17: այդ թվում՝ ըստ ուղղությունների
B18: 1 | C18: Միջպետական նշանակության ավտոճանապարհներ, այդ թվում | D18: =SUM(D19:D29) -> 0 | E18: =SUM(E19:E29) -> 423780.6 | F18: =SUM(F19:F29) -> 3560281.1 | G18: =SUM(G19:G29) -> 4230259.2
C19: Մ-1, Երևան-Գյումրի-Վրաստանի սահման կմ152+600-կմ156+700 հատվածի հիմնանորոգում | D19: 0 | E19: 26450 | F19: 26450 | G19: 26450
C20: Մ-3, Թուրքիայի սահման-Մարգարա-Վանաձոր-Տաշիր-Վրաստանի սահման միջպետական նշանակության ավտոճանապարհի կմ97+020-կմ104+700 հատվածի հիմնանորոգման աշխատանքներ | D20: 0 | E20: 68955.3 | F20: 1103284 | G20: 1379104.9
C21: Մ-3, Թուրքիայի սահման-Մարգարա-Վանաձոր-Տաշիր-Վրաստանի սահման միջպետական նշանակության ավտոճանապարհի կմ130+400-կմ135+354 հատվածի հիմնանորոգում | D21: 0 | E21: 29180.5 | F21: 29180.5 | G21: 29180.5
C22: Մ-3, Թուրքիայի սահման-Մարգարա-Վանաձոր-Տաշիր-Վրաստանի սահման միջպետական նշանակության ավտոճանապարհի կմ154+000-կմ176+900 հատվածի հիմնանորոգում | D22: 0 | E22: 131385.8 | F22: 2233557.6 | G22: 2627714.8
C23: Մ-4, Երևան-Սևան-Իջևան-Ադրբեջանի սահման միջպետական նշանակության ավտոճանապարհի կմ67+500 փլուզված հատվածի վերականգնում | D23: 0 | E23: 1212.3 | F23: 1212.3 | G23: 1212.3
C24: Մ-7, Մ-3-Սպիտակ-Գյումրի-Թուրքիայի սահման կմ48+000 - կմ52+000 հատվածի հիմնանորոգում | D24: 0 | E24: 23300 | F24: 23300 | G24: 23300
C25: Մ-9, Մ-1-Թալին-Քարակերտ-Թուրքիայի սահման միջպետական նշանակության ավտոճանապարհի կմ1+300 - կմ3+600 հատվածի հիմնանորոգում | D25: 0 | E25: 22147.2 | F25: 22147.2 | G25: 22147.2
C26: Մ-10, Սևան-Մարտունի-Գետափ միջպետական նշանակության ավտոճանապարհի կմ57+450-կմ59+450 հատվածի մայթերի կառուցում | D26: 0 | E26: 3357.2 | F26: 3357.2 | G26: 3357.2
C27: Մ-14, Մ-4-Շորժա-Վարդենիս միջպետական նշանակության ավտոճանապարհի կմ32+888-կմ33+628 և կմ52+970-կմ53+350 փլուզված հատվածներում գաբիոնային հենապատերի կառուցում | D27: 0 | E27: 5858.6 | F27: 5858.6 | G27: 5858.6
C28: Մ-14, Մ-4-Շորժա-Վարդենիս միջպետական նշանակության ավտոճանապարհի կմ39+400 - կմ60+300 հատվածի հիմնանորոգում | D28: 0 | E28: 99760.5 | F28: 99760.5 | G28: 99760.5
C29: Մ-16, Մ-4-Ոսկեպար-Նոյեմբերյան-Մ-6 միջպետական նշանակության ավտոճանապարհի կմ21+940-կմ24+700 հատվածի հիմնանորոգում | D29: 0 | E29: 12173.2 | F29: 12173.2 | G29: 12173.2
B30: 2 | C30: Հանրապետական նշանակության ավտոճանապարհներ, այդ թվում | D30: =SUM(D31:D35) -> 0 | E30: =SUM(E31:E35) -> 293307.1 | F30: =SUM(F31:F35) -> 1073268.2 | G30: =SUM(G31:G35) -> 1939891.7
C31: Հ-8, /Մ-2/-Այնթապ-Մխչյան-Արտաշատ-Այգևան-/Մ-2/ հանրապետական նշանակության ավտոճանապարհի կմ21+200 - կմ26+400 և կմ30+000-կմ33+500 հատվածների հիմնանորոգում | D31: 0 | E31: 86662.4 | F31: 866623.5 | G31: 1733247
C32: Հ8, Երևան-Արտաշատ-Այգեվան հանրապետական նշանակության ավտոճանապարհի կմ33+500 - կմ42+600 հատվածի հիմնանորոգում | D32: 0 | E32: 54427.1 | F32: 54427.1 | G32: 54427.1
C33: Հ-46, Մ2-Տաթև-Աղվանի-Մ2 (Սյունիք) հանրապետական նշանակության ավտոճանապարհի կմ25+000-կմ37+500 հատվածի հիմնանորոգում | D33: 0 | E33: 63389.3 | F33: 63389.3 | G33: 63389.3
C34: Հ-75, Մ-9-Իսահակյան-Գյումրի-Մ-7 հանրապետական նշանակության ավտոճանապարհի կմ68+300 - կմ70+800 հատվածի հիմնանորոգում | D34: 0 | E34: 29696.9 | F34: 29696.9 | G34: 29696.9
C35: Հ-83, /Հ-21/ (Արթիկ)–Պեմզաշեն- /Մ-1/ հանրապետական նշանակության ավտոճանապարհի կմ0+000-կմ8+900 հատվածի հիմնանորոգում | D35: 0 | E35: 59131.4 | F35: 59131.4 | G35: 59131.4
B36: 3 | C36: Մարզային նշանակության ավտոճանապարհներ, այդ թվում | D36: =SUM(D37:D44) -> -4194 | E36: =SUM(E37:E44) -> 40757.5 | F36: =SUM(F37:F44) -> 40757.5 | G36: =SUM(G37:G44) -> 40757.5
C37: Տ-1-39, /Մ-1/ - Կաթնաղբյուր - Շղարշիկ - Եղնիկ - (Տ-1-17) ավտոճանապարհի կմ 6+900 - կմ 10+800 հատվածի հիմնանորոգում | D37: 0 | E37: 16124 | F37: 16124 | G37: 16124
C38: Տ-7-52, /Հ-21/ (Արթիկ) – Անուշավան – Փանիկ (Տ-7-53) ավտոճանապարհի կմ0+000 - կմ3+000 հատվածի հիմնանորոգում | D38: 0 | E38: 13108.3 | F38: 13108.3 | G38: 13108.3
C39: Իջևան քաղաքի Սարիբեկ-Օհանյան փողոցի կմ0+000-կմ1+145 հատվածի հիմնանորոգում | D39: 0 | E39: 15719.2 | F39: 15719.2 | G39: 15719.2
C40: Տ-5-24,/Մ-3/ (Ստեփանավան) – Արմանիս – Ուրասար – Կաթնաղբյուր տեղական նշանակության ավտոճանապարհի կմ 6+600-կմ 15+200 հատվածի և Կաթնաղբյուր համայնքի 8-րդ և 9-րդ փողոցների հիմնանորոգում | D40: -4194 | E40: -4194 | F40: -4194 | G40: -4194
C41: Տ-8-49,/Տ-8-48/-Լծեն ավտոճանապարհի վերակառուցում | D41: -430 | E41: -430 | F41: -430 | G41: -430
...

Sheet 4
F1: Հավելված N4
A2: ՀՀ կառավարության 2022 թվականի
A3: ______________ ի ___Ն որոշման
A4: ՀԱՅԱՍՏԱՆԻ ՀԱՆՐԱՊԵՏՈՒԹՅԱՆ ԿԱՌԱՎԱՐՈՒԹՅԱՆ 2021 ԹՎԱԿԱՆԻ ԴԵԿՏԵՄԲԵՐԻ 23-Ի N 2121-Ն ՈՐՈՇՄԱՆ N 9.1 ՀԱՎԵԼՎԱԾԻ NN 9.1.8 և 9.1.59 ԱՂՅՈՒՍԱԿՆԵՐՈՒՄ ԿԱՏԱՐՎՈՂ ՓՈՓՈԽՈՒԹՅՈՒՆՆԵՐԸ ԵՎ ԼՐԱՑՈՒՄՆԵՐԸ
F5: Աղյուսակ 9.1.8
A6: ՀՀ ՏԱՐԱԾՔԱՅԻՆ ԿԱՌԱՎԱՐՄԱՆ ԵՎ ԵՆԹԱԿԱՌՈՒՑՎԱԾՔՆԵՐԻ ՆԱԽԱՐԱՐՈՒԹՅՈՒՆ
A7: ՄԱՍ 1. ՊԵՏԱԿԱՆ ՄԱՐՄՆԻ ԳԾՈՎ ԱՐԴՅՈՒՆՔԱՅԻՆ (ԿԱՏԱՐՈՂԱԿԱՆ) ՑՈՒՑԱՆԻՇՆԵՐԸ
A8: Ծրագրի դասիչը | B8: Ծրագրի անվանումը
A9: 1049 | B9: Ճանապարհային ցանցի բարելավում
A11: Ծրագրի միջոցառումները
A13: Ծրագրի դասիչը` | B13: 1049 | C13: Ցուցանիշների փոփոխությունը (ավելացումները նշված են դրական նշանով, իսկ նվազեցումները` փակագծերում)
A14: Միջոցառման դասիչը` | B14: 21001 | C14: Առաջին եռամսյակ | D14: Առաջին կիսամյակ | E14: Ինն ամիս | F14: Տարի
A15: Միջոցառման անվանումը` | B15: Պետական նշանակության ավտոճանապարհների հիմնանորոգում
A16: Նկարագրությունը` | B16: Միջպետական՝ հանրապետական և մարզային նշանակության ավտոճանապարհների քայքայված ծածկի վերանորոգում՝ մաշված ծածկի փոխարինում_x000D_
A17: Միջոցառման տեսակը` | B17: Հանրության կողմից անմիջականորեն օգտագործվող ակտիվների հետ կապված միջոցառումներ
A18: Միջոցառումն իրականացնողի անվանումը | B18: Մասնագիտացված միավոր
A19: Արդյունքի չափորոշիչներ
A20: Միջպետական նշանակության ավտոճանապարհներ | C20: =-C49 -> 0 | D20: =-D49 -> 0 | E20: =-E49 -> 0 | F20: =-F49 -> 17.4
A21: Հանրապետական նշանակության ավտոճանապարհներ | C21: 0 | D21: 0 | E21: 0 | F21: =-F50 -> 8.7
A22: Միջոցառման վրա կատարվող ծախսը (հազար դրամ) | C22: =+'3'!D16 -> -4194 | D22: =+'3'!E16 -> 757845.2 | E22: =+'3'!F16 -> 4674306.8 | F22: =+'3'!G16 -> 6210908.4
A24: Ծրագրի դասիչը` | B24: 1049 | C24: Ցուցանիշների փոփոխությունը (ավելացումները նշված են դրական նշանով, իսկ նվազեցումները` փակագծերում)
A25: Միջոցառման դասիչը` | B25: 21002 | C25: Առաջին եռամսյակ | D25: Առաջին կիսամյակ | E25: Ինն ամիս | F25: Տարի
A26: Միջոցառման անվանումը` | B26: Տրանսպորտային օբյեկտների հիմնանորոգում
A27: Նկարագրությունը` | B27: Ավտոմոբիլային ճանապարհների վրա գտնվող կամուրջների հիմնանորոգում
A28: Միջոցառման տեսակը` | B28: Հանրության կողմից անմիջականորեն օգտագործվող ակտիվների հետ կապված միջոցառումներ
A29: Միջոցառումն իրականացնողի անվանումը | B29: Մասնագիտացված միավոր
A30: Արդյունքի չափորոշիչներ
A31: Միջոցառման վրա կատարվող ծախսը (հազար դրամ) | C31: =+'3'!D50 -> 0 | D31: =+'3'!E50 -> 80173.3 | E31: =+'3'!F50 -> 89081.4 | F31: =+'3'!G50 -> 89081.4
F35: Աղյուսակ 9.1.59
A36: ՀՀ ԿԱՌԱՎԱՐՈՒԹՅՈՒՆ
A37: ՄԱՍ 1. ՊԵՏԱԿԱՆ ՄԱՐՄՆԻ ԳԾՈՎ ԱՐԴՅՈՒՆՔԱՅԻՆ (ԿԱՏԱՐՈՂԱԿԱՆ) ՑՈՒՑԱՆԻՇՆԵՐԸ
A38: Ծրագրի դասիչը | B38: Ծրագրի անվանումը
A39: 1049 | B39: Ճանապարհային ցանցի բարելավում
A41: Ծրագրի միջոցառումները
A43: Ծրագրի դասիչը` | B43: 1049 | C43: Ցուցանիշների փոփոխությունը (ավելացումները նշված են դրական նշանով, իսկ նվազեցումները` փակագծերում)
A44: Միջոցառման դասիչը` | B44: 21001 | C44: Առաջին եռամսյակ | D44: Առաջին կիսամյակ | E44: Ինն ամիս | F44: Տարի
A45: Միջոցառման անվանումը` | B45: Պետական նշանակության ավտոճանապարհների հիմնանորոգում
A46: Նկարագրությունը` | B46: Միջպետական՝ հանրապետական և մարզային նշանակության ավտոճանապարհների քայքայված ծածկի վերանորոգում՝ մաշված ծածկի փոխարինում_x000D_
A47: Միջոցառման տեսակը` | B47: Հանրության կողմից անմիջականորեն օգտագործվող ակտիվների հետ կապված միջոցառումներ
A48: Արդյունքի չափորոշիչներ
...

Sheet 5
A1: Հավելված N5
A2: ՀՀ կառավարության 2022 թվականի
A3: ______________ ի ___Ն որոշման
A5: ՀԱՅԱՍՏԱՆԻ ՀԱՆՐԱՊԵՏՈՒԹՅԱՆ ԿԱՌԱՎԱՐՈՒԹՅԱՆ 2021 ԹՎԱԿԱՆԻ ԴԵԿՏԵՄԲԵՐԻ 23-Ի N 2121-Ն ՈՐՈՇՄԱՆ N 10 ՀԱՎԵԼՎԱԾՈՒՄ ԿԱՏԱՐՎՈՂ ԼՐԱՑՈՒՄՆԵՐԸ
A6: Կոդը | B6: Անվանումը | C6: Գնման ձևը | D6: Չափման միավորը | E6: Միավորի գինը | F6: Ցուցանիշների փոփոխությունը (ավելացումները նշված են դրական նշանով)
F7: Քանակը | G7: Գումարը (հազար դրամով)
A8: ՀՀ տարածքային կառավարման և ենթակառուցվածքների նախարարություն | G8: =+G9 -> 5838876.8
A9: Բաժին N 04 | B9: Խումբ N 05 | C9: Դաս N 01 | D9: Ճանապարհային տրանսպորտ | G9: =+G10+G26 -> 5838876.8
A10: 1049 21001 | B10: Պետական նշանակության ավտոճանապարհների հիմնանորոգում | G10: =+G11+G15 -> 5749795.5
A11: ՄԱՍ II. ԱՇԽԱՏԱՆՔՆԵՐ | G11: =SUM(G12:G14) -> 5627139.7
A12: 45231177/578 | B12: ճանապարհների վերանորոգման աշխատանքներ | C12: ՀԲՄ | D12: դրամ | E12: 1348800000 | F12: 1 | G12: =+F12*E12/1000 -> 1348800
A13: 45231177 | B13: ճանապարհների վերանորոգման աշխատանքներ | C13: ՀԲՄ | D13: դրամ | E13: 2579339739 | F13: 1 | G13: =+F13*E13/1000 -> 2579339.7
A14: 45231177/569 | B14: ճանապարհների վերանորոգման աշխատանքներ | C14: ՀԲՄ | D14: դրամ | E14: 1699000000 | F14: 1 | G14: =+F14*E14/1000 -> 1699000
A15: ՄԱՍ III. ԾԱՌԱՅՈՒԹՅՈՒՆՆԵՐ | G15: =SUM(G16:G25) -> 122655.73
A16: 98111140/43 | B16: հեղինակային հսկողության ծառայություններ | C16: ՄԱ | D16: դրամ | E16: 11289700 | F16: 1 | G16: =+F16*E16/1000 -> 11289.7
A17: 98111140/39 | B17: հեղինակային հսկողության ծառայություններ | C17: ՄԱ | D17: դրամ | E17: 22792000 | F17: 1 | G17: =+F17*E17/1000 -> 22792
A18: 98111140/48 | B18: հեղինակային հսկողության ծառայություններ | C18: ՄԱ | D18: դրամ | E18: 12758300 | F18: 1 | G18: =+F18*E18/1000 -> 12758.3
A19: 98111140/26 | B19: հեղինակային հսկողության ծառայություններ | C19: ՄԱ | D19: դրամ | E19: 2306050 | F19: 1 | G19: =+F19*E19/1000 -> 2306.05
A20: 71351540 | B20: տեխնիկական հսկողության ծառայություններ | C20: ՀԲՄ | D20: դրամ | E20: 40503822 | F20: 1 | G20: =+F20*E20/1000 -> 40503.822
A21: 71351540 | B21: տեխնիկական հսկողության ծառայություններ | C21: ՀԲՄ | D21: դրամ | E21: 26350860 | F21: 1 | G21: =+F21*E21/1000 -> 26350.86
A22: 50531140/13 | B22: Փորձաքննության ծառայություններ | C22: ՀՄԱ | D22: դրամ | E22: 1530000 | F22: 1 | G22: =+F22*E22/1000 -> 1530
A23: 50531140/14 | B23: Փորձաքննության ծառայություններ | C23: ՀՄԱ | D23: դրամ | E23: 2175000 | F23: 1 | G23: =+F23*E23/1000 -> 2175
A24: 50531140/15 | B24: Փորձաքննության ծառայություններ | C24: ՀՄԱ | D24: դրամ | E24: 1850000 | F24: 1 | G24: =+F24*E24/1000 -> 1850
A25: 50531140/16 | B25: Փորձաքննության ծառայություններ | C25: ՀՄԱ | D25: դրամ | E25: 1100000 | F25: 1 | G25: =+F25*E25/1000 -> 1100
A26: 1049 21002 | B26: Տրանսպորտային օբյեկտների հիմնանորոգում | G26: =+G27+G29 -> 89081.329
A27: ՄԱՍ II. ԱՇԽԱՏԱՆՔՆԵՐ | G27: =SUM(G28:G28) -> 87199.669
A28: 45221117 | B28: կամուրջների վերանորոգման շինարարական աշխատանքներեր | C28: ՀԲՄ | D28: դրամ | E28: 87199669 | F28: 1 | G28: =+E28*F28/1000 -> 87199.669
A29: ՄԱՍ III. ԾԱՌԱՅՈՒԹՅՈՒՆՆԵՐ | G29: =SUM(G30:G31) -> 1881.66
A30: 98111140 | B30: հեղինակային հսկողության ծառայություններ | C30: ՄԱ | D30: դրամ | E30: 537800 | F30: 1 | G30: =+F30*E30/1000 -> 537.8
A31: 71351540 | B31: տեխնիկական հսկողության ծառայություններ | C31: ՀԲՄ | D31: դրամ | E31: 1343860 | F31: 1 | G31: =+F31*E31/1000 -> 1343.86
