Workbook
Name AgencyCode: #REF!
Name AgencyCode: #REF!
Name AgencyCode: #REF!
Name AgencyName: #REF!
Name AgencyName: #REF!
Name Functional1: #REF!
Name Functional1: #REF!
Name PANature: #REF!
Name PANature: #REF!
Name PAType: #REF!
Name PAType: #REF!
Name Performance2: #REF!
Name Performance2: #REF!
Name PerformanceType: #REF!
Name PerformanceType: #REF!

Sheet 1
H1: Հավելված N1
H2: ՀՀ կառավարության 2022 թվականի
H3: ______________ ի ___Ն որոշման
A4: «ՀԱՅԱՍՏԱՆԻ ՀԱՆՐԱՊԵՏՈՒԹՅԱՆ 2022 ԹՎԱԿԱՆԻ ՊԵՏԱԿԱՆ ԲՅՈՒՋԵԻ ՄԱՍԻՆ» ՀԱՅԱՍՏԱՆԻ ՀԱՆՐԱՊԵՏՈՒԹՅԱՆ ՕՐԵՆՔԻ N 1 ՀԱՎԵԼՎԱԾԻ N 3 ԱՂՅՈՒՍԱԿՈՒՄ ԿԱՏԱՐՎՈՂ ՓՈՓՈԽՈՒԹՅՈՒՆԸ ԵՎ ԼՐԱՑՈՒՄՆԵՐԸ
G5: հազ. դրամ
A6: Ծրագրային դասիչ | C6: Բյուջետային գլխավոր կարգադրիչների, ծրագրերի, միջոցառումների և ուղղությունների անվանումները | D6: Ցուցանիշների փոփոխությունը (ավելացումները նշված են դրական նշանով, իսկ նվազեցումները` փակագծերում)
D7: Ընդամենը, | E7: այդ թվում՝
A8: Ծրագիր | B8: Միջոցառում | E8: Կառուցման աշխատանքներ | F8: Վերակառուցման, վերանորոգման և վերականգնման աշխատանքներ | G8: Նախագծահե- տազոտական, գեոդեզիա- քարտեզագրա- կան աշխա- տանքներ | H8: Ոչ ֆինանսական այլ ակտիվների ձեռքբերում
C9: ԸՆԴԱՄԵՆԸ | D9: =+E9+F9+G9+H9 -> 0 | E9: =E11 -> 4231044.5 | F9: =F11 -> -4231044.5 | G9: =G11 -> 0 | H9: =H11 -> 0
C10: այդ թվում՝
C11: ՀՀ ՏԱՐԱԾՔԱՅԻՆ ԿԱՌԱՎԱՐՄԱՆ ԵՎ ԵՆԹԱԿԱՌՈՒՑՎԱԾՔՆԵՐԻ ՆԱԽԱՐԱՐՈՒԹՅՈՒՆ | D11: =+E11+F11+G11+H11 -> 0 | E11: =+E13+E20 -> 4231044.5 | F11: =+F13+F20 -> -4231044.5 | G11: =+G13+G20 -> 0 | H11: =+H13+H20 -> 0
C12: այդ թվում`
A13: 1049 | B13: 21001 | C13: Պետական նշանակության ավտոճանապարհների հիմնանորոգում | D13: =+E13+F13+G13+H13 -> 4231044.5 | E13: =+E15+E17 -> 4231044.5 | F13: =+F15+F17 -> 0 | G13: =+G15+G17 -> 0 | H13: =+H15+H17 -> 0
C14: այդ թվում`
B15: 1 | C15: Միջպետական նշանակության ավտոճանապարհներ, այդ թվում | D15: =+E15+F15+G15+H15 -> 1478174.3 | E15: =SUM(E16:E16) -> 1478174.3 | F15: =SUM(F16:F16) -> 0 | G15: =SUM(G16:G16) -> 0 | H15: =SUM(H16:H16) -> 0
C16: Մ-17, /Մ-2/(Կապան)-Ծավ-/Մ-2/ ավտոճանապարհի Կապան-Ճակատեն շրջանցիկ ճանապարհահատվածի կառուցում | D16: =+E16+F16+G16+H16 -> 1478174.3 | E16: 1478174.3 | F16: 0 | G16: 0 | H16: 0
B17: 3 | C17: Մարզային նշանակության ավտոճանապարհներ, այդ թվում | D17: =+E17+F17+G17+H17 -> 2752870.2 | E17: =SUM(E18:E19) -> 2752870.2 | F17: =SUM(F18:F19) -> 0 | G17: =SUM(G18:G19) -> 0 | H17: =SUM(H18:H19) -> 0
C18: Հ-46(Քաշունի գյուղի խաչմերուկից)-Բարձրավան ավտոճանապարհի կառուցում | D18: =+E18+F18+G18+H18 -> 1252745.5 | E18: 1252745.5 | F18: 0 | G18: 0 | H18: 0
C19: Տանձավեր-Շուռնուխ ավտոճանապարհի կառուցում | D19: =+E19+F19+G19+H19 -> 1500124.7 | E19: 1500124.7 | F19: 0 | G19: 0 | H19: 0
A20: 1049 | B20: 21001 | C20: Պետական նշանակության ավտոճանապարհների հիմնանորոգում | D20: =+E20+F20+G20+H20 -> -4231044.5 | E20: 0 | F20: -4231044.5 | G20: =-G13 -> 0 | H20: =-H13 -> 0

Sheet 2
A1: Հավելված N2
A2: ՀՀ կառավարության 2022 թվականի
A3: ______________ ի ___Ն որոշման
A5: ՀԱՅԱՍՏԱՆԻ ՀԱՆՐԱՊԵՏՈՒԹՅԱՆ ԿԱՌԱՎԱՐՈՒԹՅԱՆ 2021 ԹՎԱԿԱՆԻ ԴԵԿՏԵՄԲԵՐԻ 23-Ի N 2121-Ն ՈՐՈՇՄԱՆ N 3 ԵՎ N 4 ՀԱՎԵԼՎԱԾՆԵՐՈՒՄ ԿԱՏԱՐՎՈՂ ՓՈՓՈԽՈՒԹՅՈՒՆՆԵՐԸ ԵՎ ԼՐԱՑՈՒՄՆԵՐԸ
I7: հազ. դրամ
A8: Գործառական դասիչը | D8: Ծրագրային դասիչը | F8: Բյուջետային ծախսերի գործառական դասակարգման բաժինների, խմբերի և դասերի, բյուջետային հատկացումների գլխավոր կարգադրիչների, ծրագրերի, միջոցառումների և միջոցառումները կատարող պետական մարմինների անվանումները | G8: Ցուցանիշների փոփոխությունը (ավելացումները նշված են դրական նշանով, իսկ նվազեցումները` փակագծերում)
A9: Բաժին | B9: Խումբ | C9: Դաս | D9: Ծրագիր | E9: Միջոցառում | G9: Առաջին եռամսյակ | H9: Առաջին կիսամյակ | I9: Ինն ամիս | J9: Տարի
F10: ԸՆԴԱՄԵՆԸ ԾԱԽՍԵՐ | G10: =G12 -> 0 | H10: =H12 -> 0 | I10: =I12 -> 0 | J10: =J12 -> 0
F11: այդ թվում`
A12: 04 | F12: ՏՆՏԵՍԱԿԱՆ ՀԱՐԱԲԵՐՈՒԹՅՈՒՆՆԵՐ | G12: =G14 -> 0 | H12: =H14 -> 0 | I12: =I14 -> 0 | J12: =J14 -> 0
F13: այդ թվում`
B14: 05 | F14: Տրանսպորտ | G14: =G16 -> 0 | H14: =H16 -> 0 | I14: =I16 -> 0 | J14: =J16 -> 0
F15: այդ թվում`
C16: 01 | F16: Ճանապարհային տրանսպորտ | G16: =G18 -> 0 | H16: =H18 -> 0 | I16: =I18 -> 0 | J16: =J18 -> 0
F17: այդ թվում`
F18: ՀՀ ՏԱՐԱԾՔԱՅԻՆ ԿԱՌԱՎԱՐՄԱՆ ԵՎ ԵՆԹԱԿԱՌՈՒՑՎԱԾՔՆԵՐԻ ՆԱԽԱՐԱՐՈՒԹՅՈՒՆ | G18: =+G20 -> 0 | H18: =+H20 -> 0 | I18: =+I20 -> 0 | J18: =+J20 -> 0
F19: այդ թվում`
D20: 1049 | F20: Ճանապարհային ցանցի բարելավում | G20: =+G22 -> 0 | H20: =+H22 -> 0 | I20: =+I22 -> 0 | J20: =+J22 -> 0
F21: այդ թվում`
E22: 21001 | F22: Պետական նշանակության ավտոճանապարհների հիմնանորոգում | G22: =+G24+G31 -> 0 | H22: =+H24+H31 -> 0 | I22: =+I24+I31 -> 0 | J22: =+J24+J31 -> 0
F23: այդ թվում` ըստ կատարողների
F24: ՀՀ կառավարություն | G24: =+G26 -> -1795517.8 | H24: =+H26 -> -2390809.3 | I24: =+I26 -> -4231044.5 | J24: =+J26 -> -4231044.5
F25: այդ թվում` բյուջետային ծախսերի տնտեսագիտական դասակարգման հոդվածների
F26: ԸՆԴԱՄԵՆԸ ԾԱԽՍԵՐ | G26: =+G27 -> -1795517.8 | H26: =+H27 -> -2390809.3 | I26: =+I27 -> -4231044.5 | J26: =+J27 -> -4231044.5
F27: ՈՉ ՖԻՆԱՆՍԱԿԱՆ ԱԿՏԻՎՆԵՐԻ ԳԾՈՎ ԾԱԽՍԵՐ | G27: =+G28 -> -1795517.8 | H27: =+H28 -> -2390809.3 | I27: =+I28 -> -4231044.5 | J27: =+J28 -> -4231044.5
F28: ՀԻՄՆԱԿԱՆ ՄԻՋՈՑՆԵՐ | G28: =+G29 -> -1795517.8 | H28: =+H29 -> -2390809.3 | I28: =+I29 -> -4231044.5 | J28: =+J29 -> -4231044.5
F29: ՇԵՆՔԵՐ ԵՎ ՇԻՆՈՒԹՅՈՒՆՆԵՐ | G29: =+G30 -> -1795517.8 | H29: =+H30 -> -2390809.3 | I29: =+I30 -> -4231044.5 | J29: =+J30 -> -4231044.5
F30: - Շենքերի և շինությունների կապիտալ վերանորոգում | G30: =-G31 -> -1795517.8 | H30: =-H31 -> -2390809.3 | I30: =-I31 -> -4231044.5 | J30: =-J31 -> -4231044.5
F31: ՀՀ տարածքային կառավարման և ենթակառուցվածքների նախարարություն | G31: =+G33 -> 1795517.8 | H31: =+H33 -> 2390809.3 | I31: =+I33 -> 4231044.5 | J31: =+J33 -> 4231044.5
F32: այդ թվում` բյուջետային ծախսերի տնտեսագիտական դասակարգման հոդվածների
F33: ԸՆԴԱՄԵՆԸ ԾԱԽՍԵՐ | G33: =+G34 -> 1795517.8 | H33: =+H34 -> 2390809.3 | I33: =+I34 -> 4231044.5 | J33: =+J34 -> 4231044.5
F34: ՈՉ ՖԻՆԱՆՍԱԿԱՆ ԱԿՏԻՎՆԵՐԻ ԳԾՈՎ ԾԱԽՍԵՐ | G34: =+G35 -> 1795517.8 | H34: =+H35 -> 2390809.3 | I34: =+I35 -> 4231044.5 | J34: =+J35 -> 4231044.5
F35: ՀԻՄՆԱԿԱՆ ՄԻՋՈՑՆԵՐ | G35: =+G36 -> 1795517.8 | H35: =+H36 -> 2390809.3 | I35: =+I36 -> 4231044.5 | J35: =+J36 -> 4231044.5
F36: ՇԵՆՔԵՐ ԵՎ ՇԻՆՈՒԹՅՈՒՆՆԵՐ | G36: =+G37 -> 1795517.8 | H36: =+H37 -> 2390809.3 | I36: =+I37 -> 4231044.5 | J36: =+J37 -> 4231044.5
F37: - Շենքերի և շինությունների շինարարություն | G37: =+'3'!D16 -> 1795517.8 | H37: =+'3'!E16 -> 2390809.3 | I37: =+'3'!F16 -> 4231044.5 | J37: =+'3'!G16 -> 4231044.5

Sheet 3
A1: Հավելված N3
A2: ՀՀ կառավարության 2022 թվականի
A3: ______________ ի ___Ն որոշման
A5: ՀԱՅԱՍՏԱՆԻ ՀԱՆՐԱՊԵՏՈՒԹՅԱՆ ԿԱՌԱՎԱՐՈՒԹՅԱՆ 2021 ԹՎԱԿԱՆԻ ԴԵԿՏԵՄԲԵՐԻ 23-Ի N 2121-Ն ՈՐՈՇՄԱՆ N 5 ՀԱՎԵԼՎԱԾԻ N 2 ԱՂՅՈՒՍԱԿՈՒՄ ԿԱՏԱՐՎՈՂ ՓՈՓՈԽՈՒԹՅՈՒՆՆԵՐԸ ԵՎ ԼՐԱՑՈՒՄՆԵՐԸ
F6: հազ. դրամ
A7: Ծրագրային դասիչ | C7: Բյուջետային գլխավոր կարգադրիչների, ծրագրերի, միջոցառումների և ուղղությունների անվանումները | D7: Ցուցանիշների փոփոխությունը (ավելացումները նշված են դրական նշանով, իսկ նվազեցումները` փակագծերում)
A8: Ծրագիր | B8: Միջոցառում | D8: Առաջին եռամսյակ | E8: Առաջին կիսամյակ | F8: Ինն ամիս | G8: Տարի
C9: ԸՆԴԱՄԵՆԸ | D9: =D11 -> 0 | E9: =E11 -> 0 | F9: =F11 -> 0 | G9: =G11 -> 0
C10: այդ թվում՝
C11: ՀՀ ՏԱՐԱԾՔԱՅԻՆ ԿԱՌԱՎԱՐՄԱՆ ԵՎ ԵՆԹԱԿԱՌՈՒՑՎԱԾՔՆԵՐԻ ՆԱԽԱՐԱՐՈՒԹՅՈՒՆ | D11: =+D13 -> 0 | E11: =+E13 -> 0 | F11: =+F13 -> 0 | G11: =+G13 -> 0
C12: այդ թվում`
A13: 1049 | B13: 21001 | C13: Պետական նշանակության ավտոճանապարհների հիմնանորոգում | D13: =+D15+D16 -> 0 | E13: =+E15+E16 -> 0 | F13: =+F15+F16 -> 0 | G13: =+G15+G16 -> 0
C14: այդ թվում` ըստ կատարողների
C15: ՀՀ կառավարություն | D15: =-D16 -> -1795517.8 | E15: =-E16 -> -2390809.3 | F15: =-F16 -> -4231044.5 | G15: =-G16 -> -4231044.5
C16: ՀՀ տարածքային կառավարման և ենթակառուցվածքների նախարարություն | D16: =+D18+D20 -> 1795517.8 | E16: =+E18+E20 -> 2390809.3 | F16: =+F18+F20 -> 4231044.5 | G16: =+G18+G20 -> 4231044.5
C17: այդ թվում՝ ըստ ուղղությունների
B18: 1 | C18: Միջպետական նշանակության ավտոճանապարհներ, այդ թվում | D18: =SUM(D19:D19) -> 591269.7 | E18: =SUM(E19:E19) -> 739087.2 | F18: =SUM(F19:F19) -> 1478174.3 | G18: =SUM(G19:G19) -> 1478174.3
C19: Մ-17, /Մ-2/(Կապան)-Ծավ-/Մ-2/ ավտոճանապարհի Կապան-Ճակատեն շրջանցիկ ճանապարհահատվածի կառուցում | D19: 591269.7 | E19: 739087.2 | F19: 1478174.3 | G19: 1478174.3
B20: 3 | C20: Մարզային նշանակության ավտոճանապարհներ, այդ թվում | D20: =SUM(D21:D22) -> 1204248.1 | E20: =SUM(E21:E22) -> 1651722.1 | F20: =SUM(F21:F22) -> 2752870.2 | G20: =SUM(G21:G22) -> 2752870.2
C21: Հ-46(Քաշունի գյուղի խաչմերուկից)-Բարձրավան ավտոճանապարհի կառուցում | D21: =501098.2+103100 -> 604198.2 | E21: 751647.3 | F21: 1252745.5 | G21: 1252745.5
C22: Տանձավեր-Շուռնուխ ավտոճանապարհի կառուցում | D22: 600049.9 | E22: 900074.8 | F22: 1500124.7 | G22: 1500124.7

Sheet 4
F1: Հավելված N4
A2: ՀՀ կառավարության 2022 թվականի
A3: ______________ ի ___Ն որոշման
A4: ՀԱՅԱՍՏԱՆԻ ՀԱՆՐԱՊԵՏՈՒԹՅԱՆ ԿԱՌԱՎԱՐՈՒԹՅԱՆ 2021 ԹՎԱԿԱՆԻ ԴԵԿՏԵՄԲԵՐԻ 23-Ի N 2121-Ն ՈՐՈՇՄԱՆ N 9.1 ՀԱՎԵԼՎԱԾԻ NN 9.1.8 և 9.1.59 ԱՂՅՈՒՍԱԿՆԵՐՈՒՄ ԿԱՏԱՐՎՈՂ ՓՈՓՈԽՈՒԹՅՈՒՆՆԵՐԸ ԵՎ ԼՐԱՑՈՒՄՆԵՐԸ
F5: Աղյուսակ 9.1.8
A6: ՀՀ ՏԱՐԱԾՔԱՅԻՆ ԿԱՌԱՎԱՐՄԱՆ ԵՎ ԵՆԹԱԿԱՌՈՒՑՎԱԾՔՆԵՐԻ ՆԱԽԱՐԱՐՈՒԹՅՈՒՆ
A7: ՄԱՍ 1. ՊԵՏԱԿԱՆ ՄԱՐՄՆԻ ԳԾՈՎ ԱՐԴՅՈՒՆՔԱՅԻՆ (ԿԱՏԱՐՈՂԱԿԱՆ) ՑՈՒՑԱՆԻՇՆԵՐԸ
A8: Ծրագրի դասիչը | B8: Ծրագրի անվանումը
A9: 1049 | B9: Ճանապարհային ցանցի բարելավում
A11: Ծրագրի միջոցառումները
A13: Ծրագրի դասիչը` | B13: 1049 | C13: Ցուցանիշների փոփոխությունը (ավելացումները նշված են դրական նշանով)
A14: Միջոցառման դասիչը` | B14: 21001 | C14: Առաջին եռամսյակ | D14: Առաջին կիսամյակ | E14: Ինն ամիս | F14: Տարի
A15: Միջոցառման անվանումը` | B15: Պետական նշանակության ավտոճանապարհների հիմնանորոգում
A16: Նկարագրությունը` | B16: Միջպետական՝ հանրապետական և մարզային նշանակության ավտոճանապարհների քայքայված ծածկի վերանորոգում՝ մաշված ծածկի փոխարինում_x000D_
A17: Միջոցառման տեսակը` | B17: Հանրության կողմից անմիջականորեն օգտագործվող ակտիվների հետ կապված միջոցառումներ
A18: Միջոցառումն իրականացնողի անվանումը | B18: Մասնագիտացված միավոր
A19: Արդյունքի չափորոշիչներ
A20: Միջպետական նշանակության ավտոճանապարհներ | C20: =-C39 -> 0 | D20: =-D39 -> 0 | E20: =-E39 -> 7.5 | F20: =-F39 -> 7.5
A21: Մարզային նշանակության ավտոճանապարհներ | C21: =-C40 -> 0 | D21: =-D40 -> 0 | E21: =-E40 -> 21.4 | F21: =-F40 -> 21.4
A22: Միջոցառման վրա կատարվող ծախսը (հազար դրամ) | C22: =+'3'!D16 -> 1795517.8 | D22: =+'3'!E16 -> 2390809.3 | E22: =+'3'!F16 -> 4231044.5 | F22: =+'3'!G16 -> 4231044.5
F25: Աղյուսակ 9.1.59
A26: ՀՀ ԿԱՌԱՎԱՐՈՒԹՅՈՒՆ
A27: ՄԱՍ 1. ՊԵՏԱԿԱՆ ՄԱՐՄՆԻ ԳԾՈՎ ԱՐԴՅՈՒՆՔԱՅԻՆ (ԿԱՏԱՐՈՂԱԿԱՆ) ՑՈՒՑԱՆԻՇՆԵՐԸ
A28: Ծրագրի դասիչը | B28: Ծրագրի անվանումը
A29: 1049 | B29: Ճանապարհային ցանցի բարելավում
A31: Ծրագրի միջոցառումները
A33: Ծրագրի դասիչը` | B33: 1049 | C33: Ցուցանիշների փոփոխությունը (նվազեցումները նշված են փակագծերում)
A34: Միջոցառման դասիչը` | B34: 21001 | C34: Առաջին եռամսյակ | D34: Առաջին կիսամյակ | E34: Ինն ամիս | F34: Տարի
A35: Միջոցառման անվանումը` | B35: Պետական նշանակության ավտոճանապարհների հիմնանորոգում
A36: Նկարագրությունը` | B36: Միջպետական՝ հանրապետական և մարզային նշանակության ավտոճանապարհների քայքայված ծածկի վերանորոգում՝ մաշված ծածկի փոխարինում_x000D_
A37: Միջոցառման տեսակը` | B37: Հանրության կողմից անմիջականորեն օգտագործվող ակտիվների հետ կապված միջոցառումներ
A38: Արդյունքի չափորոշիչներ
A39: Միջպետական նշանակության ավտոճանապարհներ | C39: 0 | D39: 0 | E39: -7.5 | F39: =+E39 -> -7.5
A40: Մարզային նշանակության ավտոճանապարհներ | C40: 0 | D40: 0 | E40: -21.4 | F40: -21.4
A41: Միջոցառման վրա կատարվող ծախսը (հազար դրամ) | C41: =-C22 -> -1795517.8 | D41: =-D22 -> -2390809.3 | E41: =-E22 -> -4231044.5 | F41: =-F22 -> -4231044.5

Sheet 5
A1: Հավելված N5
A2: ՀՀ կառավարության 2022 թվականի
A3: ______________ ի ___Ն որոշման
A5: ՀԱՅԱՍՏԱՆԻ ՀԱՆՐԱՊԵՏՈՒԹՅԱՆ ԿԱՌԱՎԱՐՈՒԹՅԱՆ 2021 ԹՎԱԿԱՆԻ ԴԵԿՏԵՄԲԵՐԻ 23-Ի N 2121-Ն ՈՐՈՇՄԱՆ N 10 ՀԱՎԵԼՎԱԾՈՒՄ ԿԱՏԱՐՎՈՂ ԼՐԱՑՈՒՄՆԵՐԸ
A6: Կոդը | B6: Անվանումը | C6: Գնման ձևը | D6: Չափման միավորը | E6: Միավորի գինը | F6: Ցուցանիշների փոփոխությունը (ավելացումները նշված են դրական նշանով)
F7: Քանակը | G7: Գումարը (հազար դրամով)
A8: ՀՀ տարածքային կառավարման և ենթակառուցվածքների նախարարություն | G8: =+G9 -> 4231044.3
A9: Բաժին N 04 | B9: Խումբ N 05 | C9: Դաս N 01 | D9: Ճանապարհային տրանսպորտ | G9: =+G10 -> 4231044.3
A10: 1049 21001 | B10: Պետական նշանակության ավտոճանապարհների հիմնանորոգում | G10: =+G11+G15 -> 4231044.3
A11: ՄԱՍ II. ԱՇԽԱՏԱՆՔՆԵՐ | G11: =SUM(G12:G14) -> 4163362.7
A12: 45231177 | B12: ճանապարհների վերանորոգման աշխատանքներ | C12: ՀՄԱ | D12: դրամ | E12: 1454519424 | F12: 1 | G12: =+F12*E12/1000 -> 1454519.4
A13: 45231177 | B13: ճանապարհների վերանորոգման աշխատանքներ | C13: ՀՄԱ | D13: դրամ | E13: 1232723922 | F13: 1 | G13: =+F13*E13/1000 -> 1232723.9
A14: 45231177 | B14: ճանապարհների վերանորոգման աշխատանքներ | C14: ՀՄԱ | D14: դրամ | E14: 1476119316 | F14: 1 | G14: =+F14*E14/1000 -> 1476119.3
A15: ՄԱՍ III. ԾԱՌԱՅՈՒԹՅՈՒՆՆԵՐ | G15: =SUM(G16:G21) -> 67681.6
A16: 98111140 | B16: հեղինակային հսկողության ծառայություններ | C16: ՄԱ | D16: դրամ | E16: 9464800 | F16: 1 | G16: =+F16*E16/1000 -> 9464.8
A17: 98111140 | B17: հեղինակային հսկողության ծառայություններ | C17: ՄԱ | D17: դրամ | E17: 8021500 | F17: 1 | G17: =+F17*E17/1000 -> 8021.5
A18: 98111140 | B18: հեղինակային հսկողության ծառայություններ | C18: ՄԱ | D18: դրամ | E18: 9605300 | F18: 1 | G18: =+F18*E18/1000 -> 9605.3
A19: 71351540 | B19: տեխնիկական հսկողության ծառայություններ | C19: ՀՄԱ | D19: դրամ | E19: 14190000 | F19: 1 | G19: =+F19*E19/1000 -> 14190
A20: 71351540 | B20: տեխնիկական հսկողության ծառայություններ | C20: ՀՄԱ | D20: դրամ | E20: 12000000 | F20: 1 | G20: =+F20*E20/1000 -> 12000
A21: 71351540 | B21: տեխնիկական հսկողության ծառայություններ | C21: ՀՄԱ | D21: դրամ | E21: 14400000 | F21: 1 | G21: =+F21*E21/1000 -> 14400
