Workbook
Name AgencyCode: #REF!
Name AgencyCode: #REF!
Name AgencyCode: #REF!
Name AgencyCode: #REF!
Name AgencyName: #REF!
Name AgencyName: #REF!
Name AgencyName: #REF!
Name AgencyName: #REF!
Name åû: #REF!
Name davit: #REF!
Name Functional1: #REF!
Name Functional1: #REF!
Name Functional1: #REF!
Name Functional1: #REF!
Name ggg: #REF!
Name mas: #REF!
Name mass: #REF!
Name PANature: #REF!
Name PANature: #REF!
Name PANature: #REF!
Name PANature: #REF!
Name PAType: #REF!
Name PAType: #REF!
Name PAType: #REF!
Name PAType: #REF!
Name Performance2: #REF!
Name Performance2: #REF!
Name Performance2: #REF!
Name Performance2: #REF!
Name PerformanceType: #REF!
Name PerformanceType: #REF!
Name PerformanceType: #REF!
Name PerformanceType: #REF!
Name x: #REF!
Name Հավելված: #REF!
Name Մաս: #REF!
Name շախմատիստ: #REF!

Sheet 1
G1: Հավելված N 1
G2: ՀՀ կառավարության 2022 թվականի
G3: ______________ ի ___Ն որոշման
A5: «ՀԱՅԱUՏԱՆԻ ՀԱՆՐԱՊԵՏՈՒԹՅԱՆ 2022 ԹՎԱԿԱՆԻ ՊԵՏԱԿԱՆ ԲՅՈՒՋԵԻ ՄԱUԻՆ» OՐԵՆՔԻ N 1 ՀԱՎԵԼՎԱԾԻ N 2 ԱՂՅՈՒՍԱԿՈՒՄ ԿԱՏԱՐՎՈՂ ՎԵՐԱԲԱՇԽՈՒՄԸ ԵՎ ՀԱՅԱՍՏԱՆԻ ՀԱՆՐԱՊԵՏՈՒԹՅԱՆ ԿԱՌԱՎԱՐՈՒԹՅԱՆ 2021 ԹՎԱԿԱՆԻ ԴԵԿՏԵՄԲԵՐԻ 23-Ի N 2121-Ն ՈՐՈՇՄԱՆ N 5 ՀԱՎԵԼՎԱԾԻ N 1 ԱՂՅՈՒՍԱԿՈՒՄ ԿԱՏԱՐՎՈՂ ՓՈՓՈԽՈՒԹՅՈՒՆՆԵՐԸ ԵՎ ԼՐԱՑՈՒՄՆԵՐԸ
G7: հազար դրամներով
A8: Ծրագրային դասիչը | C8: Բյուջետային հատկացումների գլխավոր կարգադրիչների, ծրագրերի և միջոցառումների անվանումները | D8: Ցուցանիշների փոփոխությունը (ավելացումները նշված են դրական նշանով, իսկ նվազեցումները` փակագծերում)
A9: Ծրագիր | B9: Միջոցառում | D9: Առաջին եռամսյակ | E9: Առաջին կիսամյակ | F9: Ինն ամիս | G9: Տարի
C10: ԸՆԴԱՄԵՆԸ | D10: =+D12+D39 -> 0 | E10: =+E12+E39 -> 0 | F10: =+F12+F39 -> 0 | G10: =+G12+G39 -> 0
C11: այդ թվում
B12: ՀՀ տարածքային կառավարման և ենթակառուցվածքների նախարարություն | D12: =+D27+D14 -> 0 | E12: =+E27+E14 -> 0 | F12: =+F27+F14 -> 0 | G12: =+G27+G14 -> 0
A13: 1004 | C13: Ծրագրի անվանումը`
C14: Ոռոգման համակարգի առողջացում | D14: =+D21 -> -12961.8 | E14: =+E21 -> -12961.8 | F14: =+F21 -> -12961.8 | G14: =+G21 -> -12961.8
C15: Ծրագրի նպատակը`
C16: Ոռոգման ծառայությունների հասանելիության և մատչելիության ապահովում
C17: Վերջնական արդյունքի նկարագրությունը`
C18: Ոռոգման ջրի մատակարարման արդյունավետության և հասանելիության բարելավում, կորուստների կրճատում
C19: Ծրագրի միջոցառումներ
B20: 31013 | C20: Միջոցառման անվանումը`
C21: Փոքր և միջին ջրամբարների կառուցում | D21: =-D27 -> -12961.8 | E21: =-E27 -> -12961.8 | F21: =-F27 -> -12961.8 | G21: =-G27 -> -12961.8
C22: Միջոցառման նկարագրությունը`
C23: Փոքր և միջին ջրամբարների կառուցման աշխատանքներ
C24: Միջոցառման տեսակը
C25: Պետական մարմինների կողմից օգտագործվող ոչ ֆինանսական ակտիվների հետ գործառնություններ
A26: 1077 | C26: Ծրագրի անվանումը`
C27: Երկաթուղային ցանցի զարգացում | D27: =+D34 -> 12961.8 | E27: =+E34 -> 12961.8 | F27: =+F34 -> 12961.8 | G27: =+G34 -> 12961.8
C28: Ծրագրի նպատակը`
C29: Երկաթուղային ցանցի զարգացում
C30: Վերջնական արդյունքի նկարագրությունը`
C31: Երկաթուղու աշխատանքի որակի բարելավում
C32: Ծրագրի միջոցառումներ
B33: 21001 | C33: Միջոցառման անվանումը`
C34: ՀՀ տարածքով անցնող երկաթգծերի վերականգնում | D34: =-D53 -> 12961.8 | E34: =-E53 -> 12961.8 | F34: =-F53 -> 12961.8 | G34: =-G53 -> 12961.8
C35: Միջոցառման նկարագրությունը`
C36: ՀՀ տարածքով անցնող երկաթգծի հատվածի վերականգնման նախագծի նախնական առաջադրանքի կազմման համար ինժեներական, գեոդեզիական և լաբորատոր ծառայությունների ձեռքբերում
C37: Միջոցառման տեսակը
C38: Տրանսֆերտների տրամադրում
B39: ՀՀ կառավարություն | C39: ՀՀ կառավարություն | D39: =+D41 -> 0 | E39: =+E41 -> 0 | F39: =+F41 -> 0 | G39: =+G41 -> 0
A40: 1139 | C40: Ծրագրի անվանումը`
C41: ՀՀ կառավարության պահուստային ֆոնդ | D41: =+D47+D53 -> 0 | E41: =+E47+E53 -> 0 | F41: =+F47+F53 -> 0 | G41: =+G47+G53 -> 0
C42: Ծրագրի նպատակը`
C43: Պետական բյուջեում չկանխատեսված, ինչպես նաև բյուջետային երաշխիքների ապահովման ծախսերի ֆինանսավորման ապահովում
C44: Վերջնական արդյունքի նկարագրությունը`
C45: Պահուստային ֆոնդի կառավարման արդյունավետության և թափանցիկության ապահովում
B46: 11001 | C46: Միջոցառման անվանումը`
C47: ՀՀ կառավարության պահուստային ֆոնդ | D47: 12961.8 | E47: 12961.8 | F47: 12961.8 | G47: 12961.8
C48: Միջոցառման նկարագրությունը`
C49: ՀՀ պետական բյուջեում նախատեսված ելքերի լրացուցիչ ֆինանսավորման՝ պետական բյուջեում չկանխատեսված ելքերի, ինչպես նաև բյուջետային երաշխիքների ապահովման ելքերի ֆինանսավորման ապահովում
C50: Միջոցառման տեսակը
C51: Ծառայությունների մատուցում
B52: 11001 | C52: Միջոցառման անվանումը`
C53: ՀՀ կառավարության պահուստային ֆոնդ | D53: =-D47 -> -12961.8 | E53: =-E47 -> -12961.8 | F53: =-F47 -> -12961.8 | G53: =-G47 -> -12961.8
C54: Միջոցառման նկարագրությունը`
C55: ՀՀ պետական բյուջեում նախատեսված ելքերի լրացուցիչ ֆինանսավորման՝ պետական բյուջեում չկանխատեսված ելքերի, ինչպես նաև բյուջետային երաշխիքների ապահովման ելքերի ֆինանսավորման ապահովում
C56: Միջոցառման տեսակը
C57: Ծառայությունների մատուցում

Sheet 2
H1: Հավելված N2
H2: ՀՀ կառավարության 2022 թվականի
H3: ______________ ի ___Ն որոշման
A4: «ՀԱՅԱՍՏԱՆԻ ՀԱՆՐԱՊԵՏՈՒԹՅԱՆ 2022 ԹՎԱԿԱՆԻ ՊԵՏԱԿԱՆ ԲՅՈՒՋԵԻ ՄԱՍԻՆ» ՀԱՅԱՍՏԱՆԻ ՀԱՆՐԱՊԵՏՈՒԹՅԱՆ ՕՐԵՆՔԻ N 1 ՀԱՎԵԼՎԱԾԻ N 3 ԱՂՅՈՒՍԱԿՈՒՄ ԿԱՏԱՐՎՈՂ ՓՈՓՈԽՈՒԹՅՈՒՆԸ ԵՎ ԼՐԱՑՈՒՄԸ
G5: հազ. դրամ
A6: Ծրագրային դասիչ | C6: Բյուջետային գլխավոր կարգադրիչների, ծրագրերի, միջոցառումների և ուղղությունների անվանումները | D6: Ցուցանիշների փոփոխությունը (նվազեցումները նշված են փակագծերում)
D7: Ընդամենը, | E7: այդ թվում՝
A8: Ծրագիր | B8: Միջոցառում | E8: Կառուցման աշխատանքներ | F8: Վերակառուցման, վերանորոգման և վերականգնման աշխատանքներ | G8: Նախագծահե- տազոտական, գեոդեզիա- քարտեզագրա- կան աշխա- տանքներ | H8: Ոչ ֆինանսական այլ ակտիվների ձեռքբերում
C9: ԸՆԴԱՄԵՆԸ | D9: =+E9+F9+G9+H9 -> 0 | E9: =E11 -> 0 | F9: =F11 -> 0 | G9: =G11 -> 0 | H9: =H11 -> 0
C10: այդ թվում՝
C11: ՀՀ ՏԱՐԱԾՔԱՅԻՆ ԿԱՌԱՎԱՐՄԱՆ ԵՎ ԵՆԹԱԿԱՌՈՒՑՎԱԾՔՆԵՐԻ ՆԱԽԱՐԱՐՈՒԹՅՈՒՆ | D11: =+E11+F11+G11+H11 -> 0 | E11: =+E13+E14 -> 0 | F11: =+F13+F14 -> 0 | G11: =+G13+G14 -> 0 | H11: =+H13+H14 -> 0
C12: այդ թվում`
A13: 1004 | B13: 31013 | C13: Փոքր և միջին ջրամբարների կառուցում | D13: =+E13+F13+G13+H13 -> -12961.8 | E13: 0 | F13: 0 | G13: =+'4'!D18 -> -12961.8 | H13: 0
A14: 1077 | B14: 21001 | C14: =+'1'!C34 -> ՀՀ տարածքով անցնող երկաթգծերի վերականգնում | D14: =+E14+F14+G14+H14 -> 12961.8 | E14: 0 | F14: 0 | G14: =+'1'!G34 -> 12961.8 | H14: 0

Sheet 3
J1: Հավելված N 3
J2: ՀՀ կառավարության 2022 թվականի
J3: ______________ ի ___Ն որոշման
A5: ՀԱՅԱՍՏԱՆԻ ՀԱՆՐԱՊԵՏՈՒԹՅԱՆ ԿԱՌԱՎԱՐՈՒԹՅԱՆ 2021 ԹՎԱԿԱՆԻ ԴԵԿՏԵՄԲԵՐԻ 23-Ի N 2121-Ն ՈՐՈՇՄԱՆ N 3 ԵՎ N 4 ՀԱՎԵԼՎԱԾՆԵՐՈՒՄ ԿԱՏԱՐՎՈՂ ՓՈՓՈԽՈՒԹՅՈՒՆՆԵՐԸ ԵՎ ԼՐԱՑՈՒՄՆԵՐԸ
J7: հազար դրամներով
A8: Գործառական դասիչը | D8: Ծրագրային դասիչը | F8: Բյուջետային հատկացումների գլխավոր կարգադրիչների, ծրագրերի, միջոցառումների և միջոցառումները կատարող պետական մարմինների անվանումները | G8: Ցուցանիշների փոփոխությունը (ավելացումները նշված են դրական նշանով, իսկ նվազեցումները` փակագծերում)
A9: Բաժին | B9: Խումբ | C9: Դաս | D9: Ծրագիր | E9: Միջոցառում | G9: Առաջին եռամսյակ | H9: Առաջին կիսամյակ | I9: Ինն ամիս | J9: Տարի
F10: ԸՆԴԱՄԵՆԸ | G10: =+G12+G51 -> 0 | H10: =+H12+H51 -> 0 | I10: =+I12+I51 -> 0 | J10: =+J12+J51 -> 0
F11: այդ թվում
F12: ՀՀ տարածքային կառավարման և ենթակառուցվածքների նախարարություն | G12: =+G13+G32 -> 0 | H12: =+H13+H32 -> 0 | I12: =+I13+I32 -> 0 | J12: =+J13+J32 -> 0
A13: 04 | F13: ՏՆՏԵՍԱԿԱՆ ՀԱՐԱԲԵՐՈՒԹՅՈՒՆՆԵՐ | G13: =G15 -> 12961.8 | H13: =H15 -> 12961.8 | I13: =I15 -> 12961.8 | J13: =J15 -> 12961.8
F14: այդ թվում`
B15: 05 | F15: Տրանսպորտ | G15: =G17 -> 12961.8 | H15: =H17 -> 12961.8 | I15: =I17 -> 12961.8 | J15: =J17 -> 12961.8
F16: այդ թվում`
C17: 03 | F17: Երկաթուղային տրանսպորտ | G17: =+G19 -> 12961.8 | H17: =+H19 -> 12961.8 | I17: =+I19 -> 12961.8 | J17: =+J19 -> 12961.8
F18: այդ թվում`
F19: ՀՀ տարածքային կառավարման և ենթակառուցվածքների նախարարություն | G19: =+G21 -> 12961.8 | H19: =+H21 -> 12961.8 | I19: =+I21 -> 12961.8 | J19: =+J21 -> 12961.8
F20: այդ թվում`
D21: 1077 | F21: Երկաթուղային ցանցի զարգացում | G21: =+G23 -> 12961.8 | H21: =+H23 -> 12961.8 | I21: =+I23 -> 12961.8 | J21: =+J23 -> 12961.8
F22: այդ թվում`
E23: 21001 | F23: =+'1'!C34 -> ՀՀ տարածքով անցնող երկաթգծերի վերականգնում | G23: =+G25 -> 12961.8 | H23: =+H25 -> 12961.8 | I23: =+I25 -> 12961.8 | J23: =+J25 -> 12961.8
F24: այդ թվում` ըստ կատարողների
F25: ՀՀ տարածքային կառավարման և ենթակառուցվածքների նախարարություն | G25: =G27 -> 12961.8 | H25: =H27 -> 12961.8 | I25: =I27 -> 12961.8 | J25: =J27 -> 12961.8
F26: այդ թվում` բյուջետային ծախսերի տնտեսագիտական դասակարգման հոդվածներ
F27: ԸՆԴԱՄԵՆԸ ԾԱԽՍԵՐ | G27: =+G28 -> 12961.8 | H27: =+H28 -> 12961.8 | I27: =+I28 -> 12961.8 | J27: =+J28 -> 12961.8
F28: ՈՉ ՖԻՆԱՆՍԱԿԱՆ ԱԿՏԻՎՆԵՐԻ ԳԾՈՎ ԾԱԽՍԵՐ | G28: =G29 -> 12961.8 | H28: =H29 -> 12961.8 | I28: =I29 -> 12961.8 | J28: =J29 -> 12961.8
F29: ՀԻՄՆԱԿԱՆ ՄԻՋՈՑՆԵՐ | G29: =G30 -> 12961.8 | H29: =H30 -> 12961.8 | I29: =I30 -> 12961.8 | J29: =J30 -> 12961.8
F30: ԱՅԼ ՀԻՄՆԱԿԱՆ ՄԻՋՈՑՆԵՐ | G30: =G31 -> 12961.8 | H30: =H31 -> 12961.8 | I30: =I31 -> 12961.8 | J30: =J31 -> 12961.8
F31: - Գեոդեզիական քարտեզագրական ծախսեր | G31: =+G64 -> 12961.8 | H31: =+H64 -> 12961.8 | I31: =+I64 -> 12961.8 | J31: =+J64 -> 12961.8
A32: 04 | F32: ՏՆՏԵՍԱԿԱՆ ՀԱՐԱԲԵՐՈՒԹՅՈՒՆՆԵՐ | G32: =+G34 -> -12961.8 | H32: =+H34 -> -12961.8 | I32: =+I34 -> -12961.8 | J32: =+J34 -> -12961.8
F33: այդ թվում`
B34: 02 | F34: Գյուղատնտեսություն, անտառային տնտեսություն, ձկնորսություն և որսորդություն | G34: =+G36 -> -12961.8 | H34: =+H36 -> -12961.8 | I34: =+I36 -> -12961.8 | J34: =+J36 -> -12961.8
F35: այդ թվում`
C36: 04 | F36: Ոռոգում | G36: =+G38 -> -12961.8 | H36: =+H38 -> -12961.8 | I36: =+I38 -> -12961.8 | J36: =+J38 -> -12961.8
F37: այդ թվում`
F38: ՀՀ տարածքային կառավարման և ենթակառուցվածքների նախարարություն | G38: =+G40 -> -12961.8 | H38: =+H40 -> -12961.8 | I38: =+I40 -> -12961.8 | J38: =+J40 -> -12961.8
F39: այդ թվում`
D40: 1004 | F40: Ոռոգման համակարգի առողջացում | G40: =+G42 -> -12961.8 | H40: =+H42 -> -12961.8 | I40: =+I42 -> -12961.8 | J40: =+J42 -> -12961.8
F41: այդ թվում`
E42: 31013 | F42: Փոքր և միջին ջրամբարների կառուցում | G42: =+G44 -> -12961.8 | H42: =+H44 -> -12961.8 | I42: =+I44 -> -12961.8 | J42: =+J44 -> -12961.8
F43: այդ թվում` ըստ կատարողների
F44: ՀՀ տարածքային կառավարման և ենթակառուցվածքների նախարարության ջրային կոմիտե | G44: =+G46 -> -12961.8 | H44: =+H46 -> -12961.8 | I44: =+I46 -> -12961.8 | J44: =+J46 -> -12961.8
F45: այդ թվում` բյուջետային ծախսերի տնտեսագիտական դասակարգման հոդվածներ
F46: ԸՆԴԱՄԵՆԸ ԾԱԽՍԵՐ | G46: =+G47 -> -12961.8 | H46: =+H47 -> -12961.8 | I46: =+I47 -> -12961.8 | J46: =+J47 -> -12961.8
F47: ՈՉ ՖԻՆԱՆՍԱԿԱՆ ԱԿՏԻՎՆԵՐԻ ԳԾՈՎ ԾԱԽՍԵՐ | G47: =+G48 -> -12961.8 | H47: =+H48 -> -12961.8 | I47: =+I48 -> -12961.8 | J47: =+J48 -> -12961.8
F48: ՀԻՄՆԱԿԱՆ ՄԻՋՈՑՆԵՐ | G48: =+G49 -> -12961.8 | H48: =+H49 -> -12961.8 | I48: =+I49 -> -12961.8 | J48: =+J49 -> -12961.8
F49: ԱՅԼ ՀԻՄՆԱԿԱՆ ՄԻՋՈՑՆԵՐ | G49: =+G50 -> -12961.8 | H49: =+H50 -> -12961.8 | I49: =+I50 -> -12961.8 | J49: =+J50 -> -12961.8
F50: - Նախագծահետազոտական ծախսեր | G50: =-G31 -> -12961.8 | H50: =-H31 -> -12961.8 | I50: =-I31 -> -12961.8 | J50: =-J31 -> -12961.8
A51: 11 | F51: ՀՀ կառավարություն | G51: =+G52 -> 0 | H51: =+H52 -> 0 | I51: =+I52 -> 0 | J51: =+J52 -> 0
F52: ՀԻՄՆԱԿԱՆ ԲԱԺԻՆՆԵՐԻՆ ՉԴԱՍՎՈՂ ՊԱՀՈՒՍՏԱՅԻՆ ՖՈՆԴԵՐ | G52: =+G54 -> 0 | H52: =+H54 -> 0 | I52: =+I54 -> 0 | J52: =+J54 -> 0
B53: 01 | F53: այդ թվում`
F54: ՀՀ կառավարության և համայնքների պահուստային ֆոնդ | G54: =+G56 -> 0 | H54: =+H56 -> 0 | I54: =+I56 -> 0 | J54: =+J56 -> 0
C55: 01 | F55: այդ թվում`
F56: ՀՀ կառավարության պահուստային ֆոնդ | G56: =+G58 -> 0 | H56: =+H58 -> 0 | I56: =+I58 -> 0 | J56: =+J58 -> 0
F57: այդ թվում`
F58: ՀՀ կառավարություն | G58: =+G60 -> 0 | H58: =+H60 -> 0 | I58: =+I60 -> 0 | J58: =+J60 -> 0
F59: այդ թվում`
D60: 1139 | F60: ՀՀ կառավարության պահուստային ֆոնդ | G60: =+G62 -> 0 | H60: =+H62 -> 0 | I60: =+I62 -> 0 | J60: =+J62 -> 0
F61: այդ թվում`
E62: 11001 | F62: ՀՀ կառավարության պահուստային ֆոնդ | G62: =+G64+G70 -> 0 | H62: =+H64+H70 -> 0 | I62: =+I64+I70 -> 0 | J62: =+J64+J70 -> 0
F63: այդ թվում` ըստ կատարողների
F64: ՀՀ կառավարություն | G64: =+G66 -> 12961.8 | H64: =+H66 -> 12961.8 | I64: =+I66 -> 12961.8 | J64: =+J66 -> 12961.8
F65: այդ թվում` բյուջետային ծախսերի տնտեսագիտական դասակարգման հոդվածներ
F66: ԸՆԴԱՄԵՆԸ ԾԱԽՍԵՐ | G66: =+G67 -> 12961.8 | H66: =+H67 -> 12961.8 | I66: =+I67 -> 12961.8 | J66: =+J67 -> 12961.8
F67: ԸՆԹԱՑԻԿ ԾԱԽՍԵՐ | G67: =+G68 -> 12961.8 | H67: =+H68 -> 12961.8 | I67: =+I68 -> 12961.8 | J67: =+J68 -> 12961.8
F68: ԱՅԼ ԾԱԽՍԵՐ | G68: =+G69 -> 12961.8 | H68: =+H69 -> 12961.8 | I68: =+I69 -> 12961.8 | J68: =+J69 -> 12961.8
F69: Պահուստային միջոցներ | G69: =+'1'!D34 -> 12961.8 | H69: =+'1'!E34 -> 12961.8 | I69: =+'1'!F34 -> 12961.8 | J69: =+'1'!G34 -> 12961.8
F70: ՀՀ կառավարություն | G70: =+G72 -> -12961.8 | H70: =+H72 -> -12961.8 | I70: =+I72 -> -12961.8 | J70: =+J72 -> -12961.8
F71: այդ թվում` բյուջետային ծախսերի տնտեսագիտական դասակարգման հոդվածներ
F72: ԸՆԴԱՄԵՆԸ ԾԱԽՍԵՐ | G72: =+G73 -> -12961.8 | H72: =+H73 -> -12961.8 | I72: =+I73 -> -12961.8 | J72: =+J73 -> -12961.8
F73: ԸՆԹԱՑԻԿ ԾԱԽՍԵՐ | G73: =+G74 -> -12961.8 | H73: =+H74 -> -12961.8 | I73: =+I74 -> -12961.8 | J73: =+J74 -> -12961.8
F74: ԱՅԼ ԾԱԽՍԵՐ | G74: =+G75 -> -12961.8 | H74: =+H75 -> -12961.8 | I74: =+I75 -> -12961.8 | J74: =+J75 -> -12961.8
F75: Պահուստային միջոցներ | G75: =-G69 -> -12961.8 | H75: =-H69 -> -12961.8 | I75: =-I69 -> -12961.8 | J75: =-J69 -> -12961.8

Sheet 4
A1: Հավելված N4
A2: ՀՀ կառավարության 2022 թվականի
A3: ______________ ի ___Ն որոշման
A5: ՀԱՅԱՍՏԱՆԻ ՀԱՆՐԱՊԵՏՈՒԹՅԱՆ ԿԱՌԱՎԱՐՈՒԹՅԱՆ 2021 ԹՎԱԿԱՆԻ ԴԵԿՏԵՄԲԵՐԻ 23-Ի N 2121-Ն ՈՐՈՇՄԱՆ N 5 ՀԱՎԵԼՎԱԾԻ N 2 ԱՂՅՈՒՍԱԿՈՒՄ ԿԱՏԱՐՎՈՂ ՓՈՓՈԽՈՒԹՅՈՒՆԸ
F6: հազ. դրամ
A7: Ծրագրային դասիչ | C7: Բյուջետային գլխավոր կարգադրիչների, ծրագրերի, միջոցառումների և ուղղությունների անվանումները | D7: Ցուցանիշների փոփոխությունը (նվազեցումները նշվա են փակագծերում)
A8: Ծրագիր | B8: Միջոցառում | D8: Առաջին եռամսյակ | E8: Առաջին կիսամյակ | F8: Ինն ամիս | G8: Տարի
C9: ԸՆԴԱՄԵՆԸ | D9: =D11 -> 0 | E9: =E11 -> 0 | F9: =F11 -> 0 | G9: =G11 -> 0
C10: այդ թվում՝
C11: ՀՀ ՏԱՐԱԾՔԱՅԻՆ ԿԱՌԱՎԱՐՄԱՆ ԵՎ ԵՆԹԱԿԱՌՈՒՑՎԱԾՔՆԵՐԻ ՆԱԽԱՐԱՐՈՒԹՅՈՒՆ | D11: =+D16+D13 -> 0 | E11: =+E16+E13 -> 0 | F11: =+F16+F13 -> 0 | G11: =+G16+G13 -> 0
C12: այդ թվում`
A13: =+'2'!A14 -> 1077 | B13: =+'2'!B14 -> 21001 | C13: =+'2'!C14 -> ՀՀ տարածքով անցնող երկաթգծերի վերականգնում | D13: =D15 -> 12961.8 | E13: =E15 -> 12961.8 | F13: =F15 -> 12961.8 | G13: =G15 -> 12961.8
C14: այդ թվում` ըստ կատարողների
C15: ՀՀ տարածքային կառավարման և ենթակառուցվածքների նախարարության | D15: =+'3'!G31 -> 12961.8 | E15: =+'3'!H31 -> 12961.8 | F15: =+'3'!I31 -> 12961.8 | G15: =+'3'!J31 -> 12961.8
A16: 1004 | B16: 31013 | C16: Փոքր և միջին ջրամբարների կառուցում | D16: =D18 -> -12961.8 | E16: =E18 -> -12961.8 | F16: =F18 -> -12961.8 | G16: =G18 -> -12961.8
C17: այդ թվում` ըստ կատարողների
C18: ՀՀ տարածքային կառավարման և ենթակառուցվածքների նախարարության ջրային կոմիտե | D18: =+'3'!G34 -> -12961.8 | E18: =+'3'!H34 -> -12961.8 | F18: =+'3'!I34 -> -12961.8 | G18: =+'3'!J34 -> -12961.8

Sheet 5
H1: Հավելված N 5
H2: ՀՀ կառավարության 2022 թվականի
H3: ______________ ի ___Ն որոշման
A5: ՀԱՅԱՍՏԱՆԻ ՀԱՆՐԱՊԵՏՈՒԹՅԱՆ ԿԱՌԱՎԱՐՈՒԹՅԱՆ 2021 ԹՎԱԿԱՆԻ ԴԵԿՏԵՄԲԵՐԻ 23-Ի N 2121-Ն ՈՐՈՇՄԱՆ N 5 ՀԱՎԵԼՎԱԾԻ N 7 ԱՂՅՈՒՍԱԿՈՒՄ ԿԱՏԱՐՎՈՂ ԼՐԱՑՈՒՄՆԵՐԸ
H7: հազար դրամներով
B8: Ծրագրային դասիչ | D8: Բյուջետային հատկացումների գլխավոր կարգադրիչների, ծրագրերի, միջոցառումների, ծախսային ուղղությունների անվանումները | G8: Միջոցառումները կատարող պետական մարմինների և դրամաշնորհ ստացող տնտեսվարող սուբյեկտների անվանումները | H8: Տարի
B9: Ծրագիր | C9: Միջոցառում
B10: 1 | C10: 2 | D10: 3 | G10: 4 | H10: 5
B11: ԸՆԴԱՄԵՆԸ | H11: 12961.8
B12: =+[1]Հ2!F12 -> ՀՀ տարածքային կառավարման և ենթակառուցվածքների նախարարություն | H12: 12961.8
B13: =+[1]Հ2!D21 -> 1077 | C13: =+[1]Հ2!F21 -> Երկաթուղային ցանցի զարգացում | H13: 12961.8
C14: 21001 | D14: =+'4'!C13 -> ՀՀ տարածքով անցնող երկաթգծերի վերականգնում | G14: =+B12 -> ՀՀ տարածքային կառավարման և ենթակառուցվածքների նախարարություն | H14: 12961.8
G15: «Ճարտարապետության և շինարարության Հայաստանի ազգային համալսարան» հիմնադրամ | H15: 12961.8

Sheet 6
G1: Հավելված N 6
G2: ՀՀ կառավարության 2022 թվականի
G3: ______________ ի ___Ն որոշման
B6: ՀԱՅԱՍՏԱՆԻ ՀԱՆՐԱՊԵՏՈՒԹՅԱՆ ԿԱՌԱՎԱՐՈՒԹՅԱՆ 2021 ԹՎԱԿԱՆԻ ԴԵԿՏԵՄԲԵՐԻ 23-Ի N 2121-Ն ՈՐՈՇՄԱՆ N 9 ՀԱՎԵԼՎԱԾԻ NN 9.7 ԵՎ 9.47 ԱՂՅՈՒՍԱԿՆԵՐՈՒՄ ԿԱՏԱՐՎՈՂ ՓՈՓՈԽՈՒԹՅՈՒՆՆԵՐԸ ԵՎ ԼՐԱՑՈՒՄՆԵՐԸ
F8: Աղյուսակ 9.7
B9: ՀՀ տարածքային կառավարման և ենթակառուցվածքների նախարարություն
B11: ՄԱՍ 2. ՊԵՏԱԿԱՆ ՄԱՐՄՆԻ ԳԾՈՎ ԱՐԴՅՈՒՆՔԱՅԻՆ (ԿԱՏԱՐՈՂԱԿԱՆ) ՑՈՒՑԱՆԻՇՆԵՐԸ
B13: Ծրագրի դասիչը | C13: Ծրագրի անվանումը
B14: 1004 | C14: Ոռոգման համակարգի առողջացում
B16: Ծրագրի միջոցառումները
B18: Ծրագրի դասիչը` | C18: 1004 | D18: Ցուցանիշների փոփոխությունը (նվազեցումները նշված են փակագծերում)
B19: Միջոցառման դասիչը` | C19: 31013 | D19: Առաջին եռամսյակ | E19: Առաջին կիսամյակ | F19: Ինն ամիս | G19: Տարի
B20: Միջոցառման անվանումը` | C20: Փոքր և միջին ջրամբարների կառուցում
B21: Նկարագրությունը` | C21: Փոքր և միջին ջրամբարների կառուցման աշխատանքներ
B22: Միջոցառման տեսակը` | C22: Պետական մարմինների կողմից օգտագործվող ոչ ֆինանսական ակտիվների հետ գործառնություններ
B23: Ակտիվն օգտագործող կազմակերպության(ների) անվանում(ները)՛ | C23: ՀՀ ՏԿԵՆ ջրային կոմիտե
B24: Արդյունքի չափորոշիչներ
B25: Միջոցառման վրա կատարվող ծախսը (հազար դրամ) | D25: =-D42 -> -12961.8 | E25: =-E42 -> -12961.8 | F25: =-F42 -> -12961.8 | G25: =-G42 -> -12961.8
B28: Ծրագրի դասիչը | C28: Ծրագրի անվանումը
B29: =+'5'!B13 -> 1077 | C29: =+'5'!C13 -> Երկաթուղային ցանցի զարգացում
B31: Ծրագրի միջոցառումները
B32: Ծրագրի դասիչը` | C32: =+B29 -> 1077 | D32: Ցուցանիշների փոփոխությունը (ավելացումները նշված են դրական նշանով)
B33: Միջոցառման դասիչը` | C33: =+'5'!C14 -> 21001 | D33: Առաջին եռամսյակ | E33: Առաջին կիսամյակ | F33: Ինն ամիս | G33: Տարի
B34: Միջոցառման անվանումը` | C34: =+'1'!C34 -> ՀՀ տարածքով անցնող երկաթգծերի վերականգնում
B35: Նկարագրությունը` | C35: =+'1'!C36 -> ՀՀ տարածքով անցնող երկաթգծի հատվածի վերականգնման նախագծի նախնական առաջադրանքի կազմման համար ինժեներական, գեոդեզիական և լաբորատոր ծառայությունների ձեռքբերում
B36: Միջոցառման տեսակը` | C36: Տրանսֆերտների տրամադրում
B37: Շահառուների ընտրության չափանիշները` | C37: Մասնագիտացված միավոր
B38: Արդյունքի չափորոշիչներ
B39: Ակնադիտական և գործիքային հետազոտման հաշվետվություն ենթակառուցվածքների վիճակի վերաբերյալ, հատ | D39: 1 | E39: 1 | F39: 1 | G39: 1
B40: Գեոդեզիական հանութագրման արդյունքներ և բացատրագիր, հատ | D40: 1 | E40: 1 | F40: 1 | G40: 1
B41: Լաբորատոր հետազոտության եզրակացություն, հատ | D41: 1 | E41: 1 | F41: 1 | G41: 1
B42: Միջոցառման վրա կատարվող ծախսը (հազար դրամ) | D42: =+'1'!D34 -> 12961.8 | E42: =+'1'!E34 -> 12961.8 | F42: =+'1'!F34 -> 12961.8 | G42: =+'1'!G34 -> 12961.8
F45: Աղյուսակ 9.47
C46: ՀՀ կառավարություն
B47: ՄԱՍ 2. ՊԵՏԱԿԱՆ ՄԱՐՄՆԻ ԳԾՈՎ ԱՐԴՅՈՒՆՔԱՅԻՆ (ԿԱՏԱՐՈՂԱԿԱՆ) ՑՈՒՑԱՆԻՇՆԵՐԸ
B49: Ծրագրի դասիչը | C49: Ծրագրի անվանումը
B50: 1139 | C50: ՀՀ կառավարության պահուստային ֆոնդ
B52: Ծրագրի միջոցառումները
B53: Ծրագրի դասիչը՝ | C53: 1139 | D53: Ցուցանիշների փոփոխությունը (ավելացումները նշված են դրական նշանով)
B54: Միջոցառման դասիչը՝ | C54: 11001 | D54: Առաջին եռամսյակ | E54: Առաջին կիսամյակ | F54: Ինն ամիս | G54: Տարի
B55: Միջոցառման անվանումը՝ | C55: ՀՀ կառավարության պահուստային ֆոնդ
B56: Նկարագրությունը՝ | C56: ՀՀ պետական բյուջեում նախատեսված ելքերի լրացուցիչ ֆինանսավորման՝ պետական բյուջեում չկանխատեսված ելքերի, ինչպես նաև բյուջետային երաշխիքների ապահովման ելքերի ֆինանսավորման ապահովում
B57: Միջոցառման տեսակը՝ | C57: Ծառայությունների մատուցում
B58: Միջոցառումն իրականացնողի անվանումը | C58: ՀՀ կառավարություն
C59: Արդյունքի չափորոշիչներ
B60: Միջոցառման վրա կատարվող ծախսը (հազար դրամ) | D60: =D42 -> 12961.8 | E60: =E42 -> 12961.8 | F60: =F42 -> 12961.8 | G60: =G42 -> 12961.8
B62: Ծրագրի դասիչը՝ | C62: 1139 | D62: Ցուցանիշների փոփոխությունը (նվազեցումները նշված են փակագծերում)
B63: Միջոցառման դասիչը՝ | C63: 11001 | D63: Առաջին եռամսյակ | E63: Առաջին կիսամյակ | F63: Ինն ամիս | G63: Տարի
B64: Միջոցառման անվանումը՝ | C64: ՀՀ կառավարության պահուստային ֆոնդ
B65: Նկարագրությունը՝ | C65: ՀՀ պետական բյուջեում նախատեսված ելքերի լրացուցիչ ֆինանսավորման՝ պետական բյուջեում չկանխատեսված ելքերի, ինչպես նաև բյուջետային երաշխիքների ապահովման ելքերի ֆինանսավորման ապահովում
B66: Միջոցառման տեսակը՝ | C66: Ծառայությունների մատուցում
B67: Միջոցառումն իրականացնողի անվանումը | C67: ՀՀ կառավարություն
C68: Արդյունքի չափորոշիչներ
B69: Միջոցառման վրա կատարվող ծախսը (հազար դրամ) | D69: =-D60 -> -12961.8 | E69: =-E60 -> -12961.8 | F69: =-F60 -> -12961.8 | G69: =-G60 -> -12961.8

Sheet 7
G1: Հավելված N 7
G2: ՀՀ կառավարության 2022 թվականի
G3: ______________ ի ___Ն որոշման
B5: ՀԱՅԱՍՏԱՆԻ ՀԱՆՐԱՊԵՏՈՒԹՅԱՆ ԿԱՌԱՎԱՐՈՒԹՅԱՆ 2021 ԹՎԱԿԱՆԻ ԴԵԿՏԵՄԲԵՐԻ 23-Ի N 2121-Ն ՈՐՈՇՄԱՆ N 9.1 ՀԱՎԵԼՎԱԾԻ NN 9.1.26, 9.1.8 ԵՎ 9.1.59 ԱՂՅՈՒՍԱԿՆԵՐՈՒՄ ԿԱՏԱՐՎՈՂ ՓՈՓՈԽՈՒԹՅՈՒՆՆԵՐԸ ԵՎ ԼՐԱՑՈՒՄՆԵՐԸ
G7: Աղյուսակ 9.1.26
B8: ՀՀ տարածքային կառավարման և ենթակառուցվածքների նախարարության ջրային կոմիտե
B9: ՄԱՍ 1. ՊԵՏԱԿԱՆ ՄԱՐՄՆԻ ԳԾՈՎ ԱՐԴՅՈՒՆՔԱՅԻՆ (ԿԱՏԱՐՈՂԱԿԱՆ) ՑՈՒՑԱՆԻՇՆԵՐԸ
B11: Ծրագրի դասիչը | C11: Ծրագրի անվանումը
B12: =+'6'!B14 -> 1004 | C12: =+'6'!C14 -> Ոռոգման համակարգի առողջացում
B14: Ծրագրի միջոցառումները
B15: =+'6'!B18 -> Ծրագրի դասիչը` | C15: =+'6'!C18 -> 1004 | D15: Ցուցանիշների փոփոխությունը (նվազեցումները նշված են փակագծերում)
B16: =+'6'!B19 -> Միջոցառման դասիչը` | C16: =+'6'!C19 -> 31013 | D16: Առաջին եռամսյակ | E16: Առաջին կիսամյակ | F16: Ինն ամիս | G16: Տարի
B17: =+'6'!B20 -> Միջոցառման անվանումը` | C17: =+'6'!C20 -> Փոքր և միջին ջրամբարների կառուցում
B18: =+'6'!B21 -> Նկարագրությունը` | C18: =+'6'!C21 -> Փոքր և միջին ջրամբարների կառուցման աշխատանքներ
B19: =+'6'!B22 -> Միջոցառման տեսակը` | C19: =+'6'!C22 -> Պետական մարմինների կողմից օգտագործվող ոչ ֆինանսական ակտիվների հետ գործառնություններ
B20: =+'6'!B23 -> Ակտիվն օգտագործող կազմակերպության(ների) անվանում(ները)՛ | C20: =+'6'!C23 -> ՀՀ ՏԿԵՆ ջրային կոմիտե
B21: Արդյունքի չափորոշիչներ
B22: Միջոցառման վրա կատարվող ծախսը (հազար դրամ) | D22: =+'6'!D25 -> -12961.8 | E22: =+'6'!E25 -> -12961.8 | F22: =+'6'!F25 -> -12961.8 | G22: =+'6'!G25 -> -12961.8
G24: Աղյուսակ 9.1.8
B25: ՀՀ տարածքային կառավարման և ենթակառուցվածքների նախարարություն
B26: ՄԱՍ 1. ՊԵՏԱԿԱՆ ՄԱՐՄՆԻ ԳԾՈՎ ԱՐԴՅՈՒՆՔԱՅԻՆ (ԿԱՏԱՐՈՂԱԿԱՆ) ՑՈՒՑԱՆԻՇՆԵՐԸ
B28: Ծրագրի դասիչը | C28: Ծրագրի անվանումը
B29: =+'6'!B29 -> 1077 | C29: =+'6'!C29 -> Երկաթուղային ցանցի զարգացում
B31: Ծրագրի միջոցառումները
B32: Ծրագրի դասիչը` | C32: =+'6'!C32 -> 1077 | D32: Ցուցանիշների փոփոխությունը (ավելացումները նշված են դրական նշանով)
B33: Միջոցառման դասիչը` | C33: =+'6'!C33 -> 21001 | D33: Առաջին եռամսյակ | E33: Առաջին կիսամյակ | F33: Ինն ամիս | G33: Տարի
B34: Միջոցառման անվանումը` | C34: =+'6'!C34 -> ՀՀ տարածքով անցնող երկաթգծերի վերականգնում
B35: Նկարագրությունը` | C35: =+'6'!C35 -> ՀՀ տարածքով անցնող երկաթգծի հատվածի վերականգնման նախագծի նախնական առաջադրանքի կազմման համար ինժեներական, գեոդեզիական և լաբորատոր ծառայությունների ձեռքբերում
B36: Միջոցառման տեսակը` | C36: =+'6'!C36 -> Տրանսֆերտների տրամադրում
B37: Շահառուների ընտրության չափանիշները` | C37: =+'6'!C37 -> Մասնագիտացված միավոր
B38: Արդյունքի չափորոշիչներ
B39: =+'6'!B39:C39 -> Ակնադիտական և գործիքային հետազոտման հաշվետվություն ենթակառուցվածքների վիճակի վերաբերյալ, հատ | D39: 1 | E39: 1 | F39: 1 | G39: 1
B40: =+'6'!B40:C40 -> Գեոդեզիական հանութագրման արդյունքներ և բացատրագիր, հատ | D40: 1 | E40: 1 | F40: 1 | G40: 1
B41: =+'6'!B41:C41 -> Լաբորատոր հետազոտության եզրակացություն, հատ | D41: 1 | E41: 1 | F41: 1 | G41: 1
B42: Միջոցառման վրա կատարվող ծախսը (հազար դրամ) | D42: =+'3'!G31 -> 12961.8 | E42: =+'3'!H31 -> 12961.8 | F42: =+'3'!I31 -> 12961.8 | G42: =+'3'!J31 -> 12961.8
G45: Աղյուսակ 9.1.59
C46: ՀՀ կառավարություն
B47: ՄԱՍ 1. ՊԵՏԱԿԱՆ ՄԱՐՄՆԻ ԳԾՈՎ ԱՐԴՅՈՒՆՔԱՅԻՆ (ԿԱՏԱՐՈՂԱԿԱՆ) ՑՈՒՑԱՆԻՇՆԵՐԸ
B49: Ծրագրի դասիչը | C49: Ծրագրի անվանումը
B50: 1139 | C50: ՀՀ կառավարության պահուստային ֆոնդ
B52: Ծրագրի դասիչը՝ | C52: 1139 | D52: Ցուցանիշների փոփոխությունը (ավելացումները նշված են դրական նշանով)
B53: Միջոցառման դասիչը՝ | C53: 11001 | D53: Առաջին եռամսյակ | E53: Առաջին կիսամյակ | F53: Ինն ամիս | G53: Տարի
B54: Միջոցառման անվանումը՝ | C54: ՀՀ կառավարության պահուստային ֆոնդ
B55: Նկարագրությունը՝ | C55: ՀՀ պետական բյուջեում նախատեսված ելքերի լրացուցիչ ֆինանսավորման՝ պետական բյուջեում չկանխատեսված ելքերի, ինչպես նաև բյուջետային երաշխիքների ապահովման ելքերի ֆինանսավորման ապահովում
B56: Միջոցառման տեսակը՝ | C56: Ծառայությունների մատուցում
B57: Միջոցառումն իրականացնողի անվանումը | C57: ՀՀ կառավարություն
C58: Արդյունքի չափորոշիչներ
B59: Միջոցառման վրա կատարվող ծախսը (հազար դրամ) | D59: =+G59 -> 12961.8 | E59: =+G59 -> 12961.8 | F59: =+G59 -> 12961.8 | G59: =+'6'!D60 -> 12961.8
B61: Ծրագրի դասիչը՝ | C61: 1139 | D61: Ցուցանիշների փոփոխությունը (նվազեցումները նշված են փակագծերում)
B62: Միջոցառման դասիչը՝ | C62: 11001 | D62: Առաջին եռամսյակ | E62: Առաջին կիսամյակ | F62: Ինն ամիս | G62: Տարի
B63: Միջոցառման անվանումը՝ | C63: ՀՀ կառավարության պահուստային ֆոնդ
B64: Նկարագրությունը՝ | C64: ՀՀ պետական բյուջեում նախատեսված ելքերի լրացուցիչ ֆինանսավորման՝ պետական բյուջեում չկանխատեսված ելքերի, ինչպես նաև բյուջետային երաշխիքների ապահովման ելքերի ֆինանսավորման ապահովում
B65: Միջոցառման տեսակը՝ | C65: Ծառայությունների մատուցում
B66: Միջոցառումն իրականացնողի անվանումը | C66: ՀՀ կառավարություն
C67: Արդյունքի չափորոշիչներ
B68: Միջոցառման վրա կատարվող ծախսը (հազար դրամ) | D68: =+G68 -> -12961.8 | E68: =+G68 -> -12961.8 | F68: =+G68 -> -12961.8 | G68: =+'6'!D69 -> -12961.8

Sheet 8
A1: Հավելված N8
A2: ՀՀ կառավարության 2022 թվականի
A3: ______________ ի ___Ն որոշման
A5: ՀԱՅԱՍՏԱՆԻ ՀԱՆՐԱՊԵՏՈՒԹՅԱՆ ԿԱՌԱՎԱՐՈՒԹՅԱՆ 2021 ԹՎԱԿԱՆԻ ԴԵԿՏԵՄԲԵՐԻ 23-Ի N 2121-Ն ՈՐՈՇՄԱՆ N 10 ՀԱՎԵԼՎԱԾՈՒՄ ԿԱՏԱՐՎՈՂ ՓՈՓՈԽՈՒԹՅՈՒՆԸ
A6: Կոդը | B6: Անվանումը | C6: Գնման ձևը | D6: Չափման միավորը | E6: Միավորի գինը | F6: Ցուցանիշների փոփոխությունը (ավելացումները նշված են դրական նշանով)
F7: Քանակը | G7: Գումարը (հազար դրամով)
B8: ԸՆԴԱՄԵՆԸ | G8: =+G9+G14 -> 0
A9: =+'3'!F44 -> ՀՀ տարածքային կառավարման և ենթակառուցվածքների նախարարության ջրային կոմիտե | G9: =+G10 -> -12961.8
A10: Բաժին N 04 | B10: Խումբ N 02 | C10: Դաս N 04 | D10: Ոռոգում | G10: =+G11 -> -12961.8
A11: 1004 31013 | B11: =+'2'!C13 -> Փոքր և միջին ջրամբարների կառուցում | G11: =+G12 -> -12961.8
A12: ՄԱՍ III. ԾԱՌԱՅՈՒԹՅՈՒՆՆԵՐ | G12: =SUM(G13:G13) -> -12961.8
A13: 71241200-1 | B13: Նախագծերի պատրաստում, ծախսերի գնահատում | C13: ԲՄ | D13: դրամ | G13: =+'7'!G22 -> -12961.8
A14: =+'3'!F19 -> ՀՀ տարածքային կառավարման և ենթակառուցվածքների նախարարություն | G14: =+G15 -> 12961.8
A15: Բաժին N 04 | B15: Խումբ N 05 | C15: Դաս N 03 | D15: Երկաթուղային տրանսպորտ | G15: =+G16 -> 12961.8
A16: 1077 21001 | B16: =+'1'!C34 -> ՀՀ տարածքով անցնող երկաթգծերի վերականգնում | G16: =+G17 -> 12961.8
A17: ՄԱՍ III. ԾԱՌԱՅՈՒԹՅՈՒՆՆԵՐ | G17: =SUM(G18:G18) -> 12961.8
A18: 71311150-1 | B18: Երկաթգծերի նախագծման և կառուցման ինժեներական ծառայություններ | C18: ՀՄԱ | D18: դրամ | E18: =+'1'!D34*1000 -> 12961800 | F18: 1 | G18: =+E18*F18/1000 -> 12961.8
