Workbook
Name AgencyCode: #REF!
Name AgencyName: #REF!
Name Functional1: #REF!
Name PANature: #REF!
Name PAType: #REF!
Name Performance2: #REF!
Name PerformanceType: #REF!

Sheet Հավելված 1
G1: Հավելված 1
G2: ՀՀ կառավարության 2022 թվականի
G3: ______________ ի ___Ն որոշման
A5: «ՀԱՅԱUՏԱՆԻ ՀԱՆՐԱՊԵՏՈՒԹՅԱՆ 2022 ԹՎԱԿԱՆԻ ՊԵՏԱԿԱՆ ԲՅՈՒՋԵԻ ՄԱUԻՆ» ՀԱՅԱUՏԱՆԻ ՀԱՆՐԱՊԵՏՈՒԹՅԱՆ OՐԵՆՔԻ N 1 ՀԱՎԵԼՎԱԾԻ N 2 ԱՂՅՈՒՍԱԿՈՒՄ ԿԱՏԱՐՎՈՂ ՎԵՐԱԲԱՇԽՈՒՄԸ ԵՎ ՀԱՅԱՍՏԱՆԻ ՀԱՆՐԱՊԵՏՈՒԹՅԱՆ ԿԱՌԱՎԱՐՈՒԹՅԱՆ 2021 ԹՎԱԿԱՆԻ ԴԵԿՏԵՄԲԵՐԻ 23-Ի N 2121-Ն ՈՐՈՇՄԱՆ N 5 ՀԱՎԵԼՎԱԾԻ N 1 ԱՂՅՈՒՍԱԿՈՒՄ ԿԱՏԱՐՎՈՂ ՓՈՓՈԽՈՒԹՅՈՒՆՆԵՐԸ
G7: հազ. դրամներով
A8: Ծրագրային դասիչը | C8: Բյուջետային հատկացումների գլխավոր կարգադրիչների, ծրագրերի և միջոցառումների անվանումները | D8: Ցուցանիշների փոփոխությունները (ավելացումները նշված են դրական նշանով, իսկ նվազեցումները` փակագծերում)
A9: Ծրագիր | B9: Միջոցառում | D9: առաջին եռամսյակ | E9: կիսամյակ | F9: ինն ամիս | G9: Տարի
C10: ԸՆԴԱՄԵՆԸ | D10: =D12+D25+D38 -> 0 | E10: =E12+E25+E38 -> 0 | F10: =F12+F25+F38 -> 0 | G10: =G12+G25+G38 -> 0
C11: ՀՀ ֆինանսների նախարարություն
A12: 1031 | C12: Ծրագրի անվանումը` | D12: =+D19 -> -500 | E12: =+E19 -> -1000 | F12: =+F19 -> -1500 | G12: =+G19 -> -2495.6
C13: Հանրային հատվածի ֆինանսական ոլորտի մասնագետների վերապատրաստում
C14: Ծրագրի նպատակը`
C15: Հանրային հատվածի ֆինանսական ոլորտի մասնագետների աշխատանքի արդյունավետության բարելավում, հանրային ֆինանսների կառավարման նոր գիտելիքների և փորձի յուրացում
C16: Վերջնական արդյունքի նկարագրությունը`
C17: Հանրային հատվածի ֆինանսական ոլորտի մասնագետների գիտելիքների և կարողությունների բարելավում
C18: Ծրագրի միջոցառումներ
B19: 11001 | C19: Միջոցառման անվանումը` | D19: =+'Հավելված 2'!G48 -> -500 | E19: =+'Հավելված 2'!H48 -> -1000 | F19: =+'Հավելված 2'!I48 -> -1500 | G19: =+'Հավելված 2'!J48 -> -2495.6
C20: Հանրային հատվածի ֆինանսական ոլորտի մասնագետների վերապատրաստում
C21: Միջոցառման նկարագրությունը`
C22: Հանրային հատվածի որակավորված գնումների համակարգողների և ներքին աուդիտորների շարունակական մասնագիտական վերապատրաստում, հանրային ծրագրերի ֆինանսական և ծրագրային պատասխանատուների ԾԲ կարողությունների բարելավման դասընթացների կազմակերպում
C23: Միջոցառման տեսակը
C24: Ծառայությունների մատուցում
A25: 1108 | C25: Ծրագրի անվանումը` | D25: =D32 -> 2450 | E25: =E32 -> 4900 | F25: =F32 -> 7350 | G25: =G32 -> 10295.6
C26: Հանրային ֆինանսների կառավարման բնագավառում պետական քաղաքականության մշակում, ծրագրերի համակարգում և մոնիտորինգ
C27: Ծրագրի նպատակը`
C28: Հարկաբյուջետային քաղաքականության մշակում և իրականացման ապահովում, հանրային ֆինանսների արդյունավետ կառավարում
C29: Վերջնական արդյունքի նկարագրությունը`
C30: Հանրային ֆինանսների ձևավորման, բաշխման և օգտագործման արդյունավետության աճ, ֆինանսական կարգապահության բարելավում
C31: Ծրագրի միջոցառումներ
B32: 11001 | C32: Միջոցառման անվանումը` | D32: =+'Հավելված 2'!G20 -> 2450 | E32: =+'Հավելված 2'!H20 -> 4900 | F32: =+'Հավելված 2'!I20 -> 7350 | G32: =+'Հավելված 2'!J20 -> 10295.6
C33: Պլանավորում, բյուջետավորում, գանձապետական ծառայություններ, պետական պարտքի կառավարում, տնտեսական և հարկաբյուջետային քաղաքականության մշակում և մոնիտորինգ
C34: Միջոցառման նկարագրությունը`
C35: Քաղաքականության մշակման և դրա կատարման համակարգման, պետական ծրագրերի պլանավորման, մշակման, իրականացման և մոնիտորինգի (վերահսկման) ծառայություններ
C36: Միջոցառման տեսակը
C37: Ծառայությունների մատուցում
A38: 1137 | C38: Ծրագրի անվանումը` | D38: =+D45 -> -1950 | E38: =+E45 -> -3900 | F38: =+F45 -> -5850 | G38: =+G45 -> -7800
C39: Գնումների գործընթացի կարգավորում և համակարգում
C40: Ծրագրի նպատակը`
C41: Հանրային միջոցների ծախսման արդյունավետության բարձրացում և կոռուպցիոն ռիսկերի նվազեցում
C42: Վերջնական արդյունքի նկարագրությունը`
C43: Պետական գնումների գործընթացի թափանցիկության, հրապարակայնությն և մրցակցության աստիճանի բարձրացում
A44: Ծրագրի միջոցառումներ
B45: 11003 | C45: Միջոցառման անվանումը` | D45: =+'Հավելված 2'!G31 -> -1950 | E45: =+'Հավելված 2'!H31 -> -3900 | F45: =+'Հավելված 2'!I31 -> -5850 | G45: =+'Հավելված 2'!J31 -> -7800
C46: Գնումների պլանների կազմման, էլեկտրոնային մրցույթների անցկացման, պայմանագրերի կատարման և գնումների հաշվետվողականության` միմյանց ինտեգրված մոդուլների տեխնիկական սպասարկում
C47: Միջոցառման նկարագրությունը`
C48: Armeps.am և Armeps.am/ppcm գնումների համակարգերի սպասարկում:
C49: Միջոցառման տեսակը
C50: Ծառայությունների մատուցում

Sheet Հավելված 2
J1: Հավելված 2
J2: ՀՀ կառավարության 2022 թվականի
J3: ______________ ի ___Ն որոշման
A5: ՀԱՅԱՍՏԱՆԻ ՀԱՆՐԱՊԵՏՈՒԹՅԱՆ ԿԱՌԱՎԱՐՈՒԹՅԱՆ 2021 ԹՎԱԿԱՆԻ ԴԵԿՏԵՄԲԵՐԻ 23-Ի N 2121-Ն ՈՐՈՇՄԱՆ N 3 ԵՎ N 4 ՀԱՎԵԼՎԱԾՆԵՐՈՒՄ ԿԱՏԱՐՎՈՂ ՓՈՓՈԽՈՒԹՅՈՒՆՆԵՐԸ
J7: հազ. դրամներով
A8: Գործառական դասիչը | D8: Ծրագրային դասիչը | F8: Բյուջետային հատկացումների գլխավոր կարգադրիչների, ծրագրերի, միջոցառումների և միջոցառումները կատարող պետական մարմինների անվանումները | G8: Ցուցանիշների փոփոխությունները (ավելացումները նշված են դրական նշանով, իսկ նվազեցումները` փակագծերում)
A9: Բաժին | B9: Խումբ | C9: Դաս | D9: Ծրագիր | E9: Միջոցառում | G9: առաջին եռամսյակ | H9: կիսամյակ | I9: ինն ամիս | J9: Տարի
F10: ԸՆԴԱՄԵՆԸ ԾԱԽՍԵՐ | G10: =+G12+G39 -> 0 | H10: =+H12+H39 -> 0 | I10: =+I12+I39 -> 0 | J10: =+J12+J39 -> 0
F11: այդ թվում`
A12: 01 | F12: ԸՆԴՀԱՆՈՒՐ ԲՆՈՒՅԹԻ ՀԱՆՐԱՅԻՆ ԾԱՌԱՅՈՒԹՅՈՒՆՆԵՐ | G12: =+G14 -> 500 | H12: =+H14 -> 1000 | I12: =+I14 -> 1500 | J12: =+J14 -> 2495.6
F13: այդ թվում`
B14: 01 | F14: Օրենսդիր և գործադիր մարմիններ, պետական կառավարում, ֆինանսական և հարկաբյուջետային հարաբերություններ, արտաքին հարաբերություններ | G14: =+G16 -> 500 | H14: =+H16 -> 1000 | I14: =+I16 -> 1500 | J14: =+J16 -> 2495.6
F15: այդ թվում`
C16: 02 | F16: Ֆինանսական և հարկաբյուջետային հարաբերություններ | G16: =+G17 -> 500 | H16: =+H17 -> 1000 | I16: =+I17 -> 1500 | J16: =+J17 -> 2495.6
F17: ՀՀ ֆինանսների նախարարություն | G17: =+G18+G29 -> 500 | H17: =+H18+H29 -> 1000 | I17: =+I18+I29 -> 1500 | J17: =+J18+J29 -> 2495.6
D18: 1108 | F18: Հանրային ֆինանսների կառավարման բնագավառում պետական քաղաքականության մշակում՝ ծրագրերի համակարգում և մոնիտորինգ | G18: =+G20 -> 2450 | H18: =+H20 -> 4900 | I18: =+I20 -> 7350 | J18: =+J20 -> 10295.6
F19: այդ թվում`
E20: 11001 | F20: Պլանավորում՝ բյուջետավորում՝ գանձապետական ծառայություններ՝ պետական պարտքի կառավարում՝ տնտեսական և հարկաբյուջետային քաղաքականության մշակում և մոնիտորինգ | G20: =+G22 -> 2450 | H20: =+H22 -> 4900 | I20: =+I22 -> 7350 | J20: =+J22 -> 10295.6
F21: այդ թվում` ըստ կատարողների
F22: ՀՀ ֆինանսների նախարարություն | G22: =+G24 -> 2450 | H22: =+H24 -> 4900 | I22: =+I24 -> 7350 | J22: =+J24 -> 10295.6
F23: այդ թվում` բյուջետային ծախսերի տնտեսագիտական դասակարգման հոդվածներ
F24: ԸՆԴԱՄԵՆԸ ԾԱԽՍԵՐ | G24: =+G25 -> 2450 | H24: =+H25 -> 4900 | I24: =+I25 -> 7350 | J24: =+J25 -> 10295.6
F25: ԸՆԹԱՑԻԿ ԾԱԽՍԵՐ | G25: =+G26 -> 2450 | H25: =+H26 -> 4900 | I25: =+I26 -> 7350 | J25: =+J26 -> 10295.6
F26: ԱՇԽԱՏԱՆՔԻ ՎԱՐՁԱՏՐՈՒԹՅՈՒՆ | G26: =+G27 -> 2450 | H26: =+H27 -> 4900 | I26: =+I27 -> 7350 | J26: =+J27 -> 10295.6
F27: Դրամով վճարվող աշխատավարձեր և հավելավճարներ | G27: =SUM(G28:G28) -> 2450 | H27: =SUM(H28:H28) -> 4900 | I27: =SUM(I28:I28) -> 7350 | J27: =SUM(J28:J28) -> 10295.6
F28: - Աշխատողների աշխատավարձեր և հավելավճարներ | G28: 2450 | H28: 4900 | I28: 7350 | J28: 10295.6
D29: 1137 | F29: Գնումների գործընթացի կարգավորում և համակարգում | G29: =+G31 -> -1950 | H29: =+H31 -> -3900 | I29: =+I31 -> -5850 | J29: =+J31 -> -7800
F30: այդ թվում`
E31: 11003 | F31: Գնումների պլանների կազմման, էլեկտրոնային մրցույթների անցկացման, պայմանագրերի կատարման և գնումների հաշվետվողականության` միմյանց ինտեգրված մոդուլների տեխնիկական սպասարկում | G31: =+G33 -> -1950 | H31: =+H33 -> -3900 | I31: =+I33 -> -5850 | J31: =+J33 -> -7800
F32: այդ թվում` ըստ կատարողների
F33: ՀՀ ֆինանսների նախարարություն | G33: =+G35 -> -1950 | H33: =+H35 -> -3900 | I33: =+I35 -> -5850 | J33: =+J35 -> -7800
F34: այդ թվում` բյուջետային ծախսերի տնտեսագիտական դասակարգման հոդվածներ
F35: ԸՆԴԱՄԵՆԸ ԾԱԽՍԵՐ | G35: =+G36 -> -1950 | H35: =+H36 -> -3900 | I35: =+I36 -> -5850 | J35: =+J36 -> -7800
F36: ԸՆԹԱՑԻԿ ԾԱԽՍԵՐ | G36: =+G37 -> -1950 | H36: =+H37 -> -3900 | I36: =+I37 -> -5850 | J36: =+J37 -> -7800
F37: ԱՅԼ ԾԱԽՍԵՐ | G37: =+G38 -> -1950 | H37: =+H38 -> -3900 | I37: =+I38 -> -5850 | J37: =+J38 -> -7800
F38: Այլ ծախսեր | G38: -1950 | H38: -3900 | I38: -5850 | J38: -7800
A39: 09 | F39: ԿՐԹՈՒԹՅՈՒՆ | G39: =+G41 -> -500 | H39: =+H41 -> -1000 | I39: =+I41 -> -1500 | J39: =+J41 -> -2495.6
F40: այդ թվում`
B41: 05 | F41: Ըստ մակարդակների չդասակարգվող կրթություն | G41: =+G43 -> -500 | H41: =+H43 -> -1000 | I41: =+I43 -> -1500 | J41: =+J43 -> -2495.6
F42: այդ թվում`
C43: 02 | F43: Լրացուցիչ կրթություն | G43: =+G45 -> -500 | H43: =+H45 -> -1000 | I43: =+I45 -> -1500 | J43: =+J45 -> -2495.6
F44: այդ թվում`
F45: ՀՀ ֆինանսների նախարարություն | G45: =+G46 -> -500 | H45: =+H46 -> -1000 | I45: =+I46 -> -1500 | J45: =+J46 -> -2495.6
D46: 1031 | F46: Հանրային հատվածի ֆինանսական ոլորտի մասնագետների վերապատրաստում | G46: =+G48 -> -500 | H46: =+H48 -> -1000 | I46: =+I48 -> -1500 | J46: =+J48 -> -2495.6
F47: այդ թվում`
E48: 11001 | F48: Հանրային հատվածի ֆինանսական ոլորտի մասնագետների վերապատրաստում | G48: =+G50 -> -500 | H48: =+H50 -> -1000 | I48: =+I50 -> -1500 | J48: =+J50 -> -2495.6
F49: այդ թվում` ըստ կատարողների
F50: ՀՀ ֆինանսների նախարարություն | G50: =+G52 -> -500 | H50: =+H52 -> -1000 | I50: =+I52 -> -1500 | J50: =+J52 -> -2495.6
F51: այդ թվում` բյուջետային ծախսերի տնտեսագիտական դասակարգման հոդվածներ
F52: ԸՆԴԱՄԵՆԸ ԾԱԽՍԵՐ | G52: =+G53 -> -500 | H52: =+H53 -> -1000 | I52: =+I53 -> -1500 | J52: =+J53 -> -2495.6
F53: ԸՆԹԱՑԻԿ ԾԱԽՍԵՐ | G53: =+G54 -> -500 | H53: =+H54 -> -1000 | I53: =+I54 -> -1500 | J53: =+J54 -> -2495.6
F54: ԾԱՌԱՅՈՒԹՅՈՒՆՆԵՐԻ ԵՎ ԱՊՐԱՆՔՆԵՐԻ ՁԵՌՔԲԵՐՈՒՄ | G54: =+G55 -> -500 | H54: =+H55 -> -1000 | I54: =+I55 -> -1500 | J54: =+J55 -> -2495.6
F55: Պայմանագրային այլ ծառայությունների ձեռքբերում | G55: =+G56 -> -500 | H55: =+H56 -> -1000 | I55: =+I56 -> -1500 | J55: =+J56 -> -2495.6
F56: - Ընդհանուր բնույթի այլ ծառայություններ | G56: -500 | H56: -1000 | I56: -1500 | J56: -2495.6

Sheet Հավելված3
H1: Հավելված 3
H2: ՀՀ կառավարության 2022 թվականի
H3: ______________ ի ___Ն որոշման
A5: ՀԱՅԱՍՏԱՆԻ ՀԱՆՐԱՊԵՏՈՒԹՅԱՆ ԿԱՌԱՎԱՐՈՒԹՅԱՆ 2021 ԹՎԱԿԱՆԻ ԴԵԿՏԵՄԲԵՐԻ 23-Ի N 2121-Ն ՈՐՈՇՄԱՆ N 9 ՀԱՎԵԼՎԱԾԻ N 9.17 ԱՂՅՈՒՍԱԿՈՒՄ ԿԱՏԱՐՎՈՂ ՓՈՓՈԽՈՒԹՅՈՒՆՆԵՐԸ
F6: Աղյուսակ 9.17
B7: ՀՀ ֆինանսների նախարարություն
B9: ՄԱՍ 2. ՊԵՏԱԿԱՆ ՄԱՐՄՆԻ ԳԾՈՎ ԱՐԴՅՈՒՆՔԱՅԻՆ (ԿԱՏԱՐՈՂԱԿԱՆ) ՑՈՒՑԱՆԻՇՆԵՐԸ
B11: Ծրագրի դասիչը | C11: Ծրագրի անվանումը
B12: 1031 | C12: Հանրային հատվածի ֆինանսական ոլորտի մասնագետների վերապատրաստում
B13: Ծրագրի միջոցառումները
B15: Ծրագրի դասիչը` | C15: 1031 | D15: Ցուցանիշների փոփոխությունը (նվազեցումները նշված են փակագծերում)
B16: Միջոցառման դասիչը` | C16: 11001 | D16: Առաջին եռամսյակ | E16: Առաջին կիսամյակ | F16: Ինն ամիս | G16: Տարի
B17: Միջոցառման անվանումը` | C17: Հանրային հատվածի ֆինանսական ոլորտի մասնագետների վերապատրաստում
B18: Նկարագրությունը` | C18: Հանրային հատվածի որակավորված գնումների համակարգողների և ներքին աուդիտորների շարունակական մասնագիտական վերապատրաստում, հանրային ծրագրերի ֆինանսական և ծրագրային պատասխանատուների ԾԲ կարողությունների բարելավման դասընթացների կազմակերպում
B19: Միջոցառման տեսակը` | C19: Ծառայությունների մատուցում
B20: Ծառայությունը մատուցող կազմակերպության(ների) անվանում(ներ)ը | C20: «Գնումների մասին» ՀՀ օրենքի համաձայն ընտրված կազմակերպություն
B21: Արդյունքի չափորոշիչներ
B22: Գնումների համակարգողների շարունակական մասնագիտական վերապատրաստման դասընթացներին մասնակցած անձանց թվաքանակ, մարդ | D22: 0 | E22: -110 | F22: -220 | G22: -376
B23: Գնումների համակարգողների շարունակական մասնագիտական վերապատրաստման դասընթացներին մասնակցած անձանց կին-տղամարդ հարաբերակցություն, տոկոս | D23: (74/26) | E23: (74/26) | F23: (74/26) | G23: (74/26)
B24: Գնումների համակարգողների շարունակական մասնագիտական վերապատրաստման դասընթացների թվաքանակ, հատ | D24: 0 | E24: -5 | F24: -10 | G24: -17
B25: Գնումների համակարգողների շարունակական մասնագիտական վերապատրաստման դասընթացների արդյունավետության գնահատական 1-5 բալային համակարգում | D25: 0 | E25: -5 | F25: -5 | G25: -5
B26: Գնումների համակարգողների շարունակական մասնագիտական վերապատրաստման մեկ դասընթացի միջին տևողություն, ժամ | D26: 0 | E26: -12 | F26: -12 | G26: -12
B27: Միջոցառման վրա կատարվող ծախսը (հազար դրամ) | D27: =+'Հավելված 2'!G56 -> -500 | E27: =+'Հավելված 2'!H56 -> -1000 | F27: =+'Հավելված 2'!I56 -> -1500 | G27: =+'Հավելված 2'!J56 -> -2495.6
B30: Ծրագրի դասիչը | C30: Ծրագրի անվանումը
B31: 1108 | C31: Հանրային ֆինանսների կառավարման բնագավառում պետական քաղաքականության մշակում, ծրագրերի համակարգում և մոնիտորինգ
B32: Ծրագրի միջոցառումները
B33: Ծրագրի դասիչը` | C33: 1108 | D33: Ցուցանիշների փոփոխությունը (ավելացումները նշված են դրական նշանով)
B34: Միջոցառման դասիչը` | C34: 11001 | D34: Առաջին եռամսյակ | E34: Առաջին կիսամյակ | F34: Ինն ամիս | G34: Տարի
B35: Միջոցառման անվանումը` | C35: Պլանավորում, բյուջետավորում, գանձապետական ծառայություններ, պետական պարտքի կառավարում, տնտեսական և հարկաբյուջետային քաղաքականության մշակում և մոնիտորինգ
B36: Նկարագրությունը` | C36: Քաղաքականության մշակման և դրա կատարման համակարգման, պետական ծրագրերի պլանավորման, մշակման, իրականացման և մոնիտորինգի (վերահսկման) ծառայություններ
B37: Միջոցառման տեսակը` | C37: Ծառայությունների մատուցում
B38: Ծառայությունը մատուցող կազմակերպության(ների) անվանում(ներ)ը | C38: ՀՀ ֆինանսների նախարարության
B39: Արդյունքի չափորոշիչներ
B40: Միջոցառման վրա կատարվող ծախսը (հազար դրամ) | D40: =+'Հավելված 2'!G28 -> 2450 | E40: =+'Հավելված 2'!H28 -> 4900 | F40: =+'Հավելված 2'!I28 -> 7350 | G40: =+'Հավելված 2'!J28 -> 10295.6
B43: Ծրագրի դասիչը | C43: Ծրագրի անվանումը
B44: 1137 | C44: Գնումների գործընթացի կարգավորում և համակարգում
B46: Ծրագրի միջոցառումները
B47: Ծրագրի դասիչը` | C47: 1137 | D47: Ցուցանիշների փոփոխությունը (նվազեցումները նշված են փակագծերում)
B48: Միջոցառման դասիչը` | C48: 11003 | D48: Առաջին եռամսյակ | E48: Առաջին կիսամյակ | F48: Ինն ամիս | G48: Տարի
B49: Միջոցառման անվանումը` | C49: Գնումների պլանների կազմման, էլեկտրոնային մրցույթների անցկացման, պայմանագրերի կատարման և գնումների հաշվետվողականության` միմյանց ինտեգրված մոդուլների տեխնիկական սպասարկում
B50: Նկարագրությունը` | C50: Armeps.am և Armeps.am/ppcm գնումների համակարգերի սպասարկում:
B51: Միջոցառման տեսակը` | C51: Ծառայությունների մատուցում
B52: Ծառայությունը մատուցող կազմակերպության(ների) անվանում(ներ)ը | C52: Պետական գնումների սահմանված կարգով մրցույթում հաղթող ճանաչված կազմակերպություն
B53: Արդյունքի չափորոշիչներ
B54: Էլեկտրոնային աճուրդի ընթացակարգերի իրականացում էլեկտրոնային աճուրդի համակարգի միջոցով, տոկոս | D54: -100 | E54: -100 | F54: -100 | G54: -100
B55: Տեխնիկական խնդիրների լուծում, ծրագրային ուղղումների ներդրում, ցանցային/տեխնիկական խնդիրների հայտնաբերում, սխալների վերացում, բարդ իրավիճակների վերարտադրում, ծրագրային ապահովման ուղղումների ներդրման փաթեթների ստեղծում, հատ | D55: -1 | E55: -1 | F55: -1 | G55: -1
B56: Էլեկտրոնային աճուրդի համակարգի կողմից սխալների կարգաբերում, տոկոս | D56: -100 | E56: -100 | F56: -100 | G56: -100
B57: Միջոցառման վրա կատարվող ծախսը (հազար դրամ) | D57: =+'Հավելված 2'!G33 -> -1950 | E57: =+'Հավելված 2'!H33 -> -3900 | F57: =+'Հավելված 2'!I33 -> -5850 | G57: =+'Հավելված 2'!J33 -> -7800

Sheet Հավելված 4
I1: Հավելված 4
I2: ՀՀ կառավարության 2022 թվականի
I3: ______________ ի ___Ն որոշման
A5: ՀԱՅԱՍՏԱՆԻ ՀԱՆՐԱՊԵՏՈՒԹՅԱՆ ԿԱՌԱՎԱՐՈՒԹՅԱՆ 2021 ԹՎԱԿԱՆԻ ԴԵԿՏԵՄԲԵՐԻ 23-Ի N 2121-Ն ՈՐՈՇՄԱՆ N 9.1 ՀԱՎԵԼՎԱԾԻ N 9.1.18 ԱՂՅՈՒՍԱԿՈՒՄ ԿԱՏԱՐՎՈՂ ՓՈՓՈԽՈՒԹՅՈՒՆՆԵՐԸ
F6: Աղյուսակ 9.1.18
B7: ՀՀ ֆինանսների նախարարություն
B9: ՄԱՍ 1. ՊԵՏԱԿԱՆ ՄԱՐՄՆԻ ԳԾՈՎ ԱՐԴՅՈՒՆՔԱՅԻՆ (ԿԱՏԱՐՈՂԱԿԱՆ) ՑՈՒՑԱՆԻՇՆԵՐԸ
B12: Ծրագրի դասիչը | C12: Ծրագրի անվանումը
B13: 1031 | C13: Հանրային հատվածի ֆինանսական ոլորտի մասնագետների վերապատրաստում
B15: Ծրագրի միջոցառումները
B17: Ծրագրի դասիչը` | C17: 1031 | D17: Ցուցանիշների փոփոխությունը (նվազեցումները նշված են փակագծերում)
B18: Միջոցառման դասիչը` | C18: 11001 | D18: Առաջին եռամսյակ | E18: Առաջին կիսամյակ | F18: Ինն ամիս | G18: Տարի
B19: Միջոցառման անվանումը` | C19: Հանրային հատվածի ֆինանսական ոլորտի մասնագետների վերապատրաստում
B20: Նկարագրությունը` | C20: Հանրային հատվածի որակավորված գնումների համակարգողների և ներքին աուդիտորների շարունակական մասնագիտական վերապատրաստում, հանրային ծրագրերի ֆինանսական և ծրագրային պատասխանատուների ԾԲ կարողությունների բարելավման դասընթացների կազմակերպում
B21: Միջոցառման տեսակը` | C21: Ծառայությունների մատուցում
B22: Ծառայությունը մատուցող կազմակերպության(ների) անվանում(ներ)ը | C22: «Գնումների մասին» ՀՀ օրենքի համաձայն ընտրված կազմակերպություն
B23: Արդյունքի չափորոշիչներ
B24: Գնումների համակարգողների շարունակական մասնագիտական վերապատրաստման դասընթացներին մասնակցած անձանց թվաքանակ, մարդ | D24: 0 | E24: -110 | F24: -220 | G24: -376
B25: Գնումների համակարգողների շարունակական մասնագիտական վերապատրաստման դասընթացներին մասնակցած անձանց կին-տղամարդ հարաբերակցություն, տոկոս | D25: (74/26) | E25: (74/26) | F25: (74/26) | G25: (74/26)
B26: Գնումների համակարգողների շարունակական մասնագիտական վերապատրաստման դասընթացների թվաքանակ, հատ | D26: 0 | E26: -5 | F26: -10 | G26: -17
B27: Գնումների համակարգողների շարունակական մասնագիտական վերապատրաստման դասընթացների արդյունավետության գնահատական 1-5 բալային համակարգում | D27: 0 | E27: -5 | F27: -5 | G27: -5
B28: Գնումների համակարգողների շարունակական մասնագիտական վերապատրաստման մեկ դասընթացի միջին տևողություն, ժամ | D28: 0 | E28: -12 | F28: -12 | G28: -12
B29: Միջոցառման վրա կատարվող ծախսը (հազար դրամ) | D29: =+Հավելված3!D27 -> -500 | E29: =+Հավելված3!E27 -> -1000 | F29: =+Հավելված3!F27 -> -1500 | G29: =+Հավելված3!G27 -> -2495.6
B32: Ծրագրի դասիչը | C32: Ծրագրի անվանումը
B33: 1108 | C33: Հանրային ֆինանսների կառավարման բնագավառում պետական քաղաքականության մշակում, ծրագրերի համակարգում և մոնիտորինգ
B35: Ծրագրի միջոցառումները
B36: Ծրագրի դասիչը` | C36: 1108 | D36: Ցուցանիշների փոփոխությունը (ավելացումները նշված են դրական նշանով)
B37: Միջոցառման դասիչը` | C37: 11001 | D37: Առաջին եռամսյակ | E37: Առաջին կիսամյակ | F37: Ինն ամիս | G37: Տարի
B38: Միջոցառման անվանումը` | C38: Պլանավորում, բյուջետավորում, գանձապետական ծառայություններ, պետական պարտքի կառավարում, տնտեսական և հարկաբյուջետային քաղաքականության մշակում և մոնիտորինգ
B39: Նկարագրությունը` | C39: Քաղաքականության մշակման և դրա կատարման համակարգման, պետական ծրագրերի պլանավորման, մշակման, իրականացման և մոնիտորինգի (վերահսկման) ծառայություններ
B40: Միջոցառման տեսակը` | C40: Ծառայությունների մատուցում
B41: Ծառայությունը մատուցող կազմակերպության(ների) անվանում(ներ)ը | C41: ՀՀ ֆինանսների նախարարության
B42: Արդյունքի չափորոշիչներ
B43: Միջոցառման վրա կատարվող ծախսը (հազար դրամ) | D43: =+Հավելված3!D40 -> 2450 | E43: =+Հավելված3!E40 -> 4900 | F43: =+Հավելված3!F40 -> 7350 | G43: =+Հավելված3!G40 -> 10295.6
B46: Ծրագրի դասիչը | C46: Ծրագրի անվանումը
B47: 1137 | C47: Գնումների գործընթացի կարգավորում և համակարգում
B49: Ծրագրի միջոցառումները
B50: Ծրագրի դասիչը` | C50: 1137 | D50: Ցուցանիշների փոփոխությունը (նվազեցումները նշված են փակագծերում)
B51: Միջոցառման դասիչը` | C51: 11003 | D51: Առաջին եռամսյակ | E51: Առաջին կիսամյակ | F51: Ինն ամիս | G51: Տարի
B52: Միջոցառման անվանումը` | C52: Գնումների պլանների կազմման, էլեկտրոնային մրցույթների անցկացման, պայմանագրերի կատարման և գնումների հաշվետվողականության` միմյանց ինտեգրված մոդուլների տեխնիկական սպասարկում
B53: Նկարագրությունը` | C53: Armeps.am և Armeps.am/ppcm գնումների համակարգերի սպասարկում:
B54: Միջոցառման տեսակը` | C54: Ծառայությունների մատուցում
B55: Ծառայությունը մատուցող կազմակերպության(ների) անվանում(ներ)ը | C55: Պետական գնումների սահմանված կարգով մրցույթում հաղթող ճանաչված կազմակերպություն
B56: Արդյունքի չափորոշիչներ
B57: Էլեկտրոնային աճուրդի ընթացակարգերի իրականացում էլեկտրոնային աճուրդի համակարգի միջոցով, տոկոս | D57: -100 | E57: -100 | F57: -100 | G57: -100
B58: Տեխնիկական խնդիրների լուծում, ծրագրային ուղղումների ներդրում, ցանցային/տեխնիկական խնդիրների հայտնաբերում, սխալների վերացում, բարդ իրավիճակների վերարտադրում, ծրագրային ապահովման ուղղումների ներդրման փաթեթների ստեղծում, հատ | D58: -1 | E58: -1 | F58: -1 | G58: -1
B59: Էլեկտրոնային աճուրդի համակարգի կողմից սխալների կարգաբերում, տոկոս | D59: -100 | E59: -100 | F59: -100 | G59: -100
B60: Միջոցառման վրա կատարվող ծախսը (հազար դրամ) | D60: =+Հավելված3!D57 -> -1950 | E60: =+Հավելված3!E57 -> -3900 | F60: =+Հավելված3!F57 -> -5850 | G60: =+Հավելված3!G57 -> -7800

Sheet Հավելված 5
H1: Հավելված 5
H2: ՀՀ կառավարության 2022 թվականի
H3: ______________ ի ___Ն որոշման
A4: ՀԱՅԱՍՏԱՆԻ ՀԱՆՐԱՊԵՏՈՒԹՅԱՆ ԿԱՌԱՎԱՐՈՒԹՅԱՆ 2021 ԹՎԱԿԱՆԻ ԴԵԿՏԵՄԲԵՐԻ 23-Ի N 2121-Ն ՈՐՈՇՄԱՆ N 10 ՀԱՎԵԼՎԱԾԻ ՑՈՒՑԱՆԻՇՆԵՐՈՒՄ ԿԱՏԱՐՎՈՂ ՓՈՓՈԽՈՒԹՅՈՒՆՆԵՐԸ
A6: Կոդը | B6: Անվանումը | C6: Գնման ձևը | D6: Չափման միավորը | E6: Մեկ միավորի գինը | F6: Քանակը | G6: Գումարը (հազար դրամով)
B7: ՀՀ ֆինանսների նախարարություն | G7: =++G8+G13 -> -10295.6
B8: Բաժին N 01 Խումբ N 01 Դաս N 02 Ֆինանսական և հարկաբյուջետային հարաբերություններ | G8: =+G9 -> -7800
A9: 1137 11003 | B9: Գնումների պլանների կազմման, էլեկտրոնային մրցույթների անցկացման, պայմանագրերի կատարման և գնումների հաշվետվողականության` միմյանց ինտեգրված մոդուլների տեխնիկական սպասարկում | G9: =+G10 -> -7800
B10: ՄԱՍ III. ԾԱՌԱՅՈՒԹՅՈՒՆՆԵՐ | G10: =SUM(G11:G11) -> -7800
A11: 72261160-1 | B11: ծրագրային ապահովման սպասարկման ծառայություններ | C11: ԷԱՃ | D11: դրամ | E11: -7800000 | F11: 1 | G11: =F11*E11/1000 -> -7800
B12: Բաժին N 09 Խումբ N 05 Դաս N 02 Ֆինանսական և հարկաբյուջետային հարաբերություններ | G12: =+G13 -> -2495.6
A13: 1031 11001 | B13: Հանրային հատվածի ֆինանսական ոլորտի մասնագետների վերապատրաստում | G13: =+G14 -> -2495.6
B14: ՄԱՍ III. ԾԱՌԱՅՈՒԹՅՈՒՆՆԵՐ | G14: =+G15 -> -2495.6
A15: 79631200-3 | B15: աշխատակիցների վերապատրաստման ծառայություններ | C15: ԷԱՃ | D15: դրամ | E15: -2495600 | F15: 1 | G15: =F15*E15/1000 -> -2495.6
