Workbook
Name _ftn1: '2'!#REF!
Name _ftn1: 'Հավելված 1'!#REF!
Name _ftn10: '2'!#REF!
Name _ftn10: 'Հավելված 1'!#REF!
Name _ftn11: '2'!#REF!
Name _ftn11: 'Հավելված 1'!#REF!
Name _ftn12: '2'!#REF!
Name _ftn12: 'Հավելված 1'!#REF!
Name _ftn13: '2'!#REF!
Name _ftn13: 'Հավելված 1'!#REF!
Name _ftn14: '2'!#REF!
Name _ftn14: 'Հավելված 1'!#REF!
Name _ftn15: '2'!#REF!
Name _ftn15: 'Հավելված 1'!#REF!
Name _ftn16: '2'!#REF!
Name _ftn16: 'Հավելված 1'!#REF!
Name _ftn17: '2'!#REF!
Name _ftn17: 'Հավելված 1'!#REF!
Name _ftn18: '2'!#REF!
Name _ftn18: 'Հավելված 1'!#REF!
Name _ftn19: '2'!#REF!
Name _ftn19: 'Հավելված 1'!#REF!
Name _ftn2: '2'!#REF!
Name _ftn2: 'Հավելված 1'!#REF!
Name _ftn20: '2'!#REF!
Name _ftn20: 'Հավելված 1'!#REF!
Name _ftn21: '2'!#REF!
Name _ftn21: 'Հավելված 1'!#REF!
Name _ftn22: '2'!#REF!
Name _ftn22: 'Հավելված 1'!#REF!
Name _ftn3: '2'!#REF!
Name _ftn3: 'Հավելված 1'!#REF!
Name _ftn4: '2'!#REF!
Name _ftn4: 'Հավելված 1'!#REF!
Name _ftn5: '2'!#REF!
Name _ftn5: 'Հավելված 1'!#REF!
Name _ftn6: '2'!#REF!
Name _ftn6: 'Հավելված 1'!#REF!
Name _ftn7: '2'!#REF!
Name _ftn7: 'Հավելված 1'!#REF!
Name _ftn8: '2'!#REF!
Name _ftn8: 'Հավելված 1'!#REF!
Name _ftn9: '2'!#REF!
Name _ftn9: 'Հավելված 1'!#REF!
Name _ftnref1: '2'!#REF!
Name _ftnref1: 'Հավելված 1'!#REF!
Name _ftnref10: '2'!#REF!
Name _ftnref10: 'Հավելված 1'!#REF!
Name _ftnref11: '2'!#REF!
Name _ftnref11: 'Հավելված 1'!#REF!
Name _ftnref12: '2'!#REF!
Name _ftnref12: 'Հավելված 1'!#REF!
Name _ftnref13: '2'!#REF!
Name _ftnref13: 'Հավելված 1'!#REF!
Name _ftnref14: '2'!#REF!
Name _ftnref14: 'Հավելված 1'!#REF!
Name _ftnref15: '2'!#REF!
Name _ftnref15: 'Հավելված 1'!#REF!
Name _ftnref16: '2'!#REF!
Name _ftnref16: 'Հավելված 1'!#REF!

Sheet Հավելված 1
H1: ՀԱՎԵԼՎԱԾ N 1
H2: ՀՀ կառավարության 2022 թվականի
H3: N որոշման
B5: «ՀԱՅԱUՏԱՆԻ ՀԱՆՐԱՊԵՏՈՒԹՅԱՆ 2022 ԹՎԱԿԱՆԻ ՊԵՏԱԿԱՆ ԲՅՈՒՋԵԻ ՄԱUԻՆ» OՐԵՆՔԻ N 1 ՀԱՎԵԼՎԱԾԻ N 2 ԱՂՅՈՒՍԱԿՈՒՄ ԿԱՏԱՐՎՈՂ ՎԵՐԱԲԱՇԽՈՒՄԸ ԵՎ ՀԱՅԱՍՏԱՆԻ ՀԱՆՐԱՊԵՏՈՒԹՅԱՆ ԿԱՌԱՎԱՐՈՒԹՅԱՆ 2021 ԹՎԱԿԱՆԻ ԴԵԿՏԵՄԲԵՐԻ 23-Ի N 2121-Ն ՈՐՈՇՄԱՆ N 5 ՀԱՎԵԼՎԱԾԻ N 1 ԱՂՅՈՒՍԱԿՈՒՄ ԿԱՏԱՐՎՈՂ ՓՈՓՈԽՈՒԹՅՈՒՆՆԵՐԸ ԵՎ ԼՐԱՑՈՒՄՆԵՐԸ
H7: հազար դրամ
B8: Ծրագրային դասիչը | D8: Բյուջետային ծախսերի գործառական դասակարգման բաժինների, խմբերի և դասերի, բյուջետային ծրագրերի միջոցառումների, բյուջետային հատկացումների գլխավոր կարգադրիչների անվանումները | E8: Ցուցանիշների փոփոխությունը (ավելացումները նշված են դրական նշանով, իսկ նվազեցումները՝ փակագծերում)
B9: Ծրագիր | C9: Միջոցառում | E9: Առաջին եռամսյակ | F9: Առաջին կիսամյակ | G9: Ինն ամիս | H9: Տարի
D10: ԸՆԴԱՄԵՆԸ | E10: 10069 | F10: 10069 | G10: 10069 | H10: 10069
D11: այդ թվում
C12: ՀՀ տարածքային կառավարման և ենթակառուցվածքների նախարարություն | E12: =+E14 -> 10069 | F12: =+F14 -> 10069 | G12: =+G14 -> 10069 | H12: =+H14 -> 10069
B13: 1212 | D13: Ծրագրի անվանումը`
D14: Տարածքային զարգացում | E14: 10069 | F14: 10069 | G14: 10069 | H14: 10069
D15: Ծրագրի նպատակը`
D16: Տարածքային համաչափ զարգացման խթանում
D17: Վերջնական արդյունքի նկարագրությունը`
D18: ՀՀ համայնքների կառավարման արդյունավետության բարձրացում և տնտեսական գործունեության խթանում
D19: Ծրագրի միջոցառումներ
C20: 12025 | D20: Միջոցառման անվանումը` | E20: 10069 | F20: 10069 | G20: 10069 | H20: 10069
D21: Մարզերում առաջնահերթ լուծում պահանջող հիմնախնդիրների լուծում
D22: Միջոցառման նկարագրությունը`
D23: Մարզերում առաջնահերթ լուծում պահանջող ծրագրերի իրականացում, որի արդյունքում լուծում կտրվի բնակչության և համայնքների սոցիալական նշանակություն ունեցող հիմնախնդիրներին:
D24: Միջոցառման տեսակը
D25: Տրանսֆերտների տրամադրում
D26: ՀՀ կառավարություն | E26: =+E28 -> -10069 | F26: =+F28 -> -10069 | G26: =+G28 -> -10069 | H26: =+H28 -> -10069
B27: 1139 | D27: Ծրագրի անվանումը`
D28: ՀՀ կառավարության պահուստային ֆոնդ | E28: =+E34 -> -10069 | F28: =+F34 -> -10069 | G28: =+G34 -> -10069 | H28: =+H34 -> -10069
D29: Ծրագրի նպատակը`
D30: Պետական բյուջեում չկանխատեսված, ինչպես նաև բյուջետային երաշխիքների ապահովման ծախսերի ֆինանսավորման ապահովում
D31: Վերջնական արդյունքի նկարագրությունը`
D32: Պահուստային ֆոնդի կառավարման արդյունավետության և թափանցիկության ապահովում
C33: 11001 | D33: Միջոցառման անվանումը`
D34: ՀՀ կառավարության պահուստային ֆոնդ | E34: -10069 | F34: -10069 | G34: -10069 | H34: -10069
D35: Միջոցառման նկարագրությունը`
D36: ՀՀ պետական բյուջեում նախատեսված ելքերի լրացուցիչ ֆինանսավորման՝ պետական բյուջեում չկանխատեսված ելքերի, ինչպես նաև բյուջետային երաշխիքների ապահովման ելքերի ֆինանսավորման ապահովում
D37: Միջոցառման տեսակը
D38: Ծառայությունների մատուցում

Sheet 2
J1: ՀԱՎԵԼՎԱԾ N 2
J2: ՀՀ կառավարության 2022 թվականի
J3: N որոշման
A5: ՀԱՅԱՍՏԱՆԻ ՀԱՆՐԱՊԵՏՈՒԹՅԱՆ ԿԱՌԱՎԱՐՈՒԹՅԱՆ 2021 ԹՎԱԿԱՆԻ ԴԵԿՏԵՄԲԵՐԻ 23-Ի N 2121-Ն ՈՐՈՇՄԱՆ N 3 ԵՎ N 4 ՀԱՎԵԼՎԱԾՆԵՐՈՒՄ ԿԱՏԱՐՎՈՂ ՓՈՓՈԽՈՒԹՅՈՒՆՆԵՐԸ ԵՎ ԼՐԱՑՈՒՄՆԵՐԸ
J7: հազար դրամ
A8: Գործառական դասիչը | D8: Ծրագրային դասիչը | F8: Բյուջետային ծախսերի գործառական դասակարգման բաժինների, խմբերի և դասերի, բյուջետային ծրագրերի միջոցառումների, բյուջետային հատկացումների գլխավոր կարգադրիչների և միջոցառումները կատարող պետական մարմինների անվանումները | G8: Ցուցանիշների փոփոխությունը (ավելացումները նշված են դրական նշանով, իսկ նվազեցումները՝ փակագծերում)
A9: Բաժին | B9: Խումբ | C9: Դաս | D9: Ծրագիր | E9: Միջոցառում | G9: Առաջին եռամսյակ | H9: Առաջին կիսամյակ | I9: Ինն ամիս | J9: Տարի
F10: ԸՆԴԱՄԵՆԸ ԾԱԽՍԵՐ | G10: 0 | H10: 0 | I10: 0 | J10: 0
F11: այդ թվում`
F12: ՀՀ տարածքային կառավարման և ենթակառուցվածքների նախարարություն | G12: =+G13 -> 10069 | H12: =+H13 -> 10069 | I12: =+I13 -> 10069 | J12: =+J13 -> 10069
A13: 01 | F13: ԸՆԴՀԱՆՈՒՐ ԲՆՈՒՅԹԻ ՀԱՆՐԱՅԻՆ ԾԱՌԱՅՈՒԹՅՈՒՆՆԵՐ | G13: 10069 | H13: 10069 | I13: 10069 | J13: 10069
F14: այդ թվում`
B15: 08 | F15: Կառավարության տարբեր մակարդակների միջև իրականացվող ընդհանուր բնույթի տրանսֆերտներ | G15: 10069 | H15: 10069 | I15: 10069 | J15: 10069
F16: այդ թվում`
C17: 01 | F17: Կառավարության տարբեր մակարդակների միջև իրականացվող ընդհանուր բնույթի տրանսֆերտներ | G17: 10069 | H17: 10069 | I17: 10069 | J17: 10069
F18: այդ թվում`
F19: ՀՀ տարածքային կառավարման և ենթակառուցվածքների նախարարություն | G19: 10069 | H19: 10069 | I19: 10069 | J19: 10069
F20: այդ թվում`
D21: 1212 | F21: Տարածքային զարգացում | G21: 10069 | H21: 10069 | I21: 10069 | J21: 10069
F22: այդ թվում`
E23: 12025 | F23: Մարզերում առաջնահերթ լուծում պահանջող հիմնախնդիրների լուծում | G23: 10069 | H23: 10069 | I23: 10069 | J23: 10069
F24: այդ թվում` ըստ կատարողների
F25: ՀՀ Շիրակի մարզպետարան | G25: 10069 | H25: 10069 | I25: 10069 | J25: 10069
F26: այդ թվում` բյուջետային ծախսերի տնտեսագիտական դասակարգման հոդվածներ
F27: ԸՆԴԱՄԵՆԸ ԾԱԽՍԵՐ | G27: 10069 | H27: 10069 | I27: 10069 | J27: 10069
F28: ԸՆԹԱՑԻԿ ԾԱԽՍԵՐ | G28: 10069 | H28: 10069 | I28: 10069 | J28: 10069
F29: ԴՐԱՄԱՇՆՈՐՀՆԵՐ | G29: 10069 | H29: 10069 | I29: 10069 | J29: 10069
F30: ԿԱՊԻՏԱԼԴՐԱՄԱՇՆՈՐՀՆԵՐ ՊԵՏԱԿԱՆ ՀԱՏՎԱԾԻ ԱՅԼ ՄԱԿԱՐԴԱԿՆԵՐԻՆ | G30: 10069 | H30: 10069 | I30: 10069 | J30: 10069
F31: Կապիտալ դրամաշնորհներ պետական և համայնքային ոչ առևտրային կազմակերպություններին | G31: 10069 | H31: 10069 | I31: 10069 | J31: 10069
F32: ՀՀ կառավարություն | G32: =+G33 -> -10069 | H32: =+H33 -> -10069 | I32: =+I33 -> -10069 | J32: =+J33 -> -10069
A33: 11 | F33: ՀԻՄՆԱԿԱՆ ԲԱԺԻՆՆԵՐԻՆ ՉԴԱՍՎՈՂ ՊԱՀՈՒՍՏԱՅԻՆ ՖՈՆԴԵՐ | G33: -10069 | H33: -10069 | I33: -10069 | J33: -10069
F34: այդ թվում`
B35: 01 | F35: ՀՀ կառավարության և համայնքների պահուստային ֆոնդ | G35: -10069 | H35: -10069 | I35: -10069 | J35: -10069
F36: այդ թվում`
C37: 01 | F37: ՀՀ կառավարության պահուստային ֆոնդ | G37: -10069 | H37: -10069 | I37: -10069 | J37: -10069
F38: այդ թվում`
F39: ՀՀ կառավարություն | G39: -10069 | H39: -10069 | I39: -10069 | J39: -10069
F40: այդ թվում`
D41: 1139 | F41: ՀՀ կառավարության պահուստային ֆոնդ | G41: =+G43 -> -10069 | H41: =+H43 -> -10069 | I41: =+I43 -> -10069 | J41: =+J43 -> -10069
F42: այդ թվում`
E43: 11001 | F43: ՀՀ կառավարության պահուստային ֆոնդ | G43: -10069 | H43: -10069 | I43: -10069 | J43: -10069
F44: այդ թվում` ըստ կատարողների
F45: ՀՀ կառավարություն | G45: -10069 | H45: -10069 | I45: -10069 | J45: -10069
F46: այդ թվում` բյուջետային ծախսերի տնտեսագիտական դասակարգման հոդվածներ
F47: ԸՆԴԱՄԵՆԸ ԾԱԽՍԵՐ | G47: -10069 | H47: -10069 | I47: -10069 | J47: -10069
F48: ԸՆԹԱՑԻԿ ԾԱԽՍԵՐ | G48: -10069 | H48: -10069 | I48: -10069 | J48: -10069
F49: ԱՅԼ ԾԱԽՍԵՐ | G49: -10069 | H49: -10069 | I49: -10069 | J49: -10069
F50: Պահուստային միջոցներ | G50: -10069 | H50: -10069 | I50: -10069 | J50: -10069

Sheet 3
H1: ՀԱՎԵԼՎԱԾ N3
H2: ՀՀ կառավարության 2022 թվականի
H3: ______________ ի ___Ն որոշման
A5: ՀԱՅԱՍՏԱՆԻ ՀԱՆՐԱՊԵՏՈՒԹՅԱՆ ԿԱՌԱՎԱՐՈՒԹՅԱՆ 2021 ԹՎԱԿԱՆԻ ԴԵԿՏԵՄԲԵՐԻ 23-Ի N 2121-Ն ՈՐՈՇՄԱՆ N 5 ՀԱՎԵԼՎԱԾԻ N 7 ԱՂՅՈՒՍԱԿՈՒՄ ԿԱՏԱՐՎՈՂ ԼՐԱՑՈՒՄՆԵՐԸ
H7: հազար դրամներով
B8: Ծրագրային դասիչ | D8: Բյուջետային հատկացումների գլխավոր կարգադրիչների, ծրագրերի, միջոցառումների, ծախսային ուղղությունների անվանումները | G8: Միջոցառումները կատարող պետական մարմինների և դրամաշնորհ ստացող տնտեսվարող սուբյեկտների անվանումները | H8: Տարի
B9: Ծրագիր | C9: Միջոցառում
B10: 1 | C10: 2 | D10: 3 | G10: 4 | H10: 5
B11: ԸՆԴԱՄԵՆԸ | H11: =H12+H36+H596+H609+H613+H629+H708+H728+H744+H752+H777+H829+H833+H837 -> 10069
B12: ՀՀ տարածքային կառավարման և ենթակառուցվածքների նախարարություն | H12: =H13+H16+H21+H30+H33 -> 10069
B13: 1212 | C13: Տարածքային զարգացում | H13: =+H14 -> 10069
C14: =+'Հավելված 1'!C20 -> 12025 | D14: =+'Հավելված 1'!D21 -> Մարզերում առաջնահերթ լուծում պահանջող հիմնախնդիրների լուծում | G14: =+'2'!F25 -> ՀՀ Շիրակի մարզպետարան | H14: =H15 -> 10069
G15: «Արթիկի թիվ 1 հիմնական դպրոց» ՊՈԱԿ | H15: =+'2'!J31 -> 10069

Sheet 4
G1: ՀԱՎԵԼՎԱԾ N 4
G2: ՀՀ կառավարության 2022 թվականի
G3: N որոշման
B5: ՀԱՅԱՍՏԱՆԻ ՀԱՆՐԱՊԵՏՈՒԹՅԱՆ ԿԱՌԱՎԱՐՈՒԹՅԱՆ 2021 ԹՎԱԿԱՆԻ ԴԵԿՏԵՄԲԵՐԻ 23-Ի N 2121-Ն ՈՐՈՇՄԱՆ N 9 ՀԱՎԵԼՎԱԾԻ NN 9.7 ԵՎ 9.47 ԱՂՅՈՒՍԱԿՆԵՐՈՒՄ ԿԱՏԱՐՎՈՂ ՓՈՓՈԽՈՒԹՅՈՒՆՆԵՐԸ ԵՎ ԼՐԱՑՈՒՄՆԵՐԸ
F7: Աղյուսակ 9.7
B8: ՀՀ տարածքային կառավարման և ենթակառուցվածքների նախարարություն
B10: ՄԱՍ 2. ՊԵՏԱԿԱՆ ՄԱՐՄՆԻ ԳԾՈՎ ԱՐԴՅՈՒՆՔԱՅԻՆ (ԿԱՏԱՐՈՂԱԿԱՆ) ՑՈՒՑԱՆԻՇՆԵՐԸ
B13: Ծրագրի դասիչը | C13: Ծրագրի անվանումը
B14: 1212 | C14: Տարածքային զարգացում
B16: Ծրագրի դասիչը` | C16: 1212 | D16: Ցուցանիշների փոփոխությունը (ավելացումները նշված են դրական նշանով)
B17: Միջոցառման դասիչը` | C17: 12025 | D17: Առաջին եռամսյակ | E17: Առաջին կիսամյակ | F17: Ինն ամիս | G17: Տարի
B18: Միջոցառման անվանումը` | C18: Մարզերում առաջնահերթ լուծում պահանջող հիմնախնդիրների լուծում
B19: Նկարագրությունը` | C19: Մարզերում առաջնահերթ լուծում պահանջող ծրագրերի իրականացում, որի արդյունքում լուծում կտրվի բնակչության և համայնքների սոցիալական նշանակություն ունեցող հիմնախնդիրներին:
B20: Միջոցառման տեսակը` | C20: Տրանսֆերտների տրամադրում
C21: Արդյունքի չափորոշիչներ
B22: Համայնքների թիվը, հատ | D22: 1 | E22: 1 | F22: 1 | G22: 1
B23: Դպրոցների թիվը, հատ | D23: 1 | E23: 1 | F23: 1 | G23: 1
B24: Շահառուների թիվը, մարդ | D24: 572 | E24: 572 | F24: 572 | G24: 572
B25: Միջոցառման վրա կատարվող ծախսը (հազար դրամ) | D25: 10069 | E25: 10069 | F25: 10069 | G25: 10069
F28: Աղյուսակ 9.47
C29: ՀՀ կառավարություն
B30: ՄԱՍ 2. ՊԵՏԱԿԱՆ ՄԱՐՄՆԻ ԳԾՈՎ ԱՐԴՅՈՒՆՔԱՅԻՆ (ԿԱՏԱՐՈՂԱԿԱՆ) ՑՈՒՑԱՆԻՇՆԵՐԸ
B32: Ծրագրի դասիչը | C32: Ծրագրի անվանումը
B33: 1139 | C33: ՀՀ կառավարության պահուստային ֆոնդ
B35: Ծրագրի դասիչը՝ | C35: 1139 | D35: Ցուցանիշների փոփոխությունը (նվազեցումները նշված են փակագծերում)
B36: Միջոցառման դասիչը՝ | C36: 11001 | D36: Առաջին եռամսյակ | E36: Առաջին կիսամյակ | F36: Ինն ամիս | G36: Տարի
B37: Միջոցառման անվանումը՝ | C37: ՀՀ կառավարության պահուստային ֆոնդ
B38: Նկարագրությունը՝ | C38: ՀՀ պետական բյուջեում նախատեսված ելքերի լրացուցիչ ֆինանսավորման՝ պետական բյուջեում չկանխատեսված ելքերի, ինչպես նաև բյուջետային երաշխիքների ապահովման ելքերի ֆինանսավորման ապահովում
B39: Միջոցառման տեսակը՝ | C39: Ծառայությունների մատուցում
B40: Միջոցառումն իրականացնողի անվանումը | C40: ՀՀ կառավարություն
C41: Արդյունքի չափորոշիչներ
B42: Միջոցառման վրա կատարվող ծախսը (հազար դրամ) | D42: -10069 | E42: -10069 | F42: -10069 | G42: -10069

Sheet 5
G1: ՀԱՎԵԼՎԱԾ N 5
G2: ՀՀ կառավարության 2022 թվականի
G3: N որոշման
B6: ՀԱՅԱՍՏԱՆԻ ՀԱՆՐԱՊԵՏՈՒԹՅԱՆ ԿԱՌԱՎԱՐՈՒԹՅԱՆ 2021 ԹՎԱԿԱՆԻ ԴԵԿՏԵՄԲԵՐԻ 23-Ի N 2121-Ն ՈՐՈՇՄԱՆ N 9.1 ՀԱՎԵԼՎԱԾԻ NN 9.1.55 ԵՎ 9.1.59 ԱՂՅՈՒՍԱԿՆԵՐՈՒՄ ԿԱՏԱՐՎՈՂ ՓՈՓՈԽՈՒԹՅՈՒՆՆԵՐԸ ԵՎ ԼՐԱՑՈՒՄՆԵՐԸ
G8: Աղյուսակ 9.1.55
C9: ՀՀ Շիրակի մարզպետարան
B10: ՄԱՍ 1. ՊԵՏԱԿԱՆ ՄԱՐՄՆԻ ԳԾՈՎ ԱՐԴՅՈՒՆՔԱՅԻՆ (ԿԱՏԱՐՈՂԱԿԱՆ) ՑՈՒՑԱՆԻՇՆԵՐԸ
B12: Ծրագրի դասիչը | C12: Ծրագրի անվանումը
B13: 1212 | C13: Տարածքային զարգացում
B15: Ծրագրի դասիչը` | C15: 1212 | D15: Ցուցանիշների փոփոխությունը (ավելացումները նշված են դրական նշանով)
B16: Միջոցառման դասիչը` | C16: 12025 | D16: Առաջին եռամսյակ | E16: Առաջին կիսամյակ | F16: Ինն ամիս | G16: Տարի
B17: Միջոցառման անվանումը` | C17: Մարզերում առաջնահերթ լուծում պահանջող հիմնախնդիրների լուծում
B18: Նկարագրությունը` | C18: Մարզերում առաջնահերթ լուծում պահանջող ծրագրերի իրականացում, որի արդյունքում լուծում կտրվի բնակչության և համայնքների սոցիալական նշանակություն ունեցող հիմնախնդիրներին:
B19: Միջոցառման տեսակը` | C19: Տրանսֆերտների տրամադրում
C20: Արդյունքի չափորոշիչներ
B21: Համայնքների թիվ, հատ | D21: 1 | E21: 1 | F21: 1 | G21: 1
B22: Դպրոցների թիվ, հատ | D22: 1 | E22: 1 | F22: 1 | G22: 1
B23: Շահառուների թիվը, մարդ | D23: =540+32 -> 572 | E23: =540+32 -> 572 | F23: =540+32 -> 572 | G23: =540+32 -> 572
B24: Միջոցառման վրա կատարվող ծախսը (հազար դրամ) | D24: =+'4'!D25 -> 10069 | E24: =+'4'!E25 -> 10069 | F24: =+'4'!F25 -> 10069 | G24: =+'4'!G25 -> 10069
G27: Աղյուսակ 9.1.59
C28: ՀՀ կառավարություն
B29: ՄԱՍ 1. ՊԵՏԱԿԱՆ ՄԱՐՄՆԻ ԳԾՈՎ ԱՐԴՅՈՒՆՔԱՅԻՆ (ԿԱՏԱՐՈՂԱԿԱՆ) ՑՈՒՑԱՆԻՇՆԵՐԸ
B31: Ծրագրի դասիչը | C31: Ծրագրի անվանումը
B32: 1139 | C32: ՀՀ կառավարության պահուստային ֆոնդ
B34: Ծրագրի դասիչը՝ | C34: 1139 | D34: Ցուցանիշների փոփոխությունը (նվազեցումները նշված են փակագծերում)
B35: Միջոցառման դասիչը՝ | C35: 11001 | D35: Առաջին եռամսյակ | E35: Առաջին կիսամյակ | F35: Ինն ամիս | G35: Տարի
B36: Միջոցառման անվանումը՝ | C36: ՀՀ կառավարության պահուստային ֆոնդ
B37: Նկարագրությունը՝ | C37: ՀՀ պետական բյուջեում նախատեսված ելքերի լրացուցիչ ֆինանսավորման՝ պետական բյուջեում չկանխատեսված ելքերի, ինչպես նաև բյուջետային երաշխիքների ապահովման ելքերի ֆինանսավորման ապահովում
B38: Միջոցառման տեսակը՝ | C38: Ծառայությունների մատուցում
B39: Միջոցառումն իրականացնողի անվանումը | C39: ՀՀ կառավարություն
C40: Արդյունքի չափորոշիչներ
B41: Միջոցառման վրա կատարվող ծախսը (հազար դրամ) | D41: =-D24 -> -10069 | E41: =-E24 -> -10069 | F41: =-F24 -> -10069 | G41: =-G24 -> -10069
