Workbook
Name _tab10: #REF!
Name _tab10: #REF!
Name _tab11: #REF!
Name _tab11: #REF!
Name _tab12: #REF!
Name _tab12: #REF!
Name _tab13: #REF!
Name _tab13: #REF!
Name _tab14: #REF!
Name _tab14: #REF!
Name _tab15: #REF!
Name _tab15: #REF!
Name _tab16: #REF!
Name _tab16: #REF!
Name _tab17: #REF!
Name _tab17: #REF!
Name _tab18: #REF!
Name _tab18: #REF!
Name _tab19: #REF!
Name _tab19: #REF!
Name _tab20: #REF!
Name _tab20: #REF!
Name _tab21: #REF!
Name _tab21: #REF!
Name _tab22: #REF!
Name _tab22: #REF!
Name _tab23: #REF!
Name _tab23: #REF!
Name _tab24: #REF!
Name _tab24: #REF!
Name _tab5: #REF!
Name _tab5: #REF!
Name _tab6: #REF!
Name _tab6: #REF!
Name _tab7: #REF!
Name _tab7: #REF!
Name _tab8: #REF!
Name _tab8: #REF!
Name _tab9: #REF!
Name _tab9: #REF!
Name par_count: #REF!,#REF!,#REF!,#REF!,#REF!,#REF!,#REF!,#REF!,#REF!,#REF!,#REF!,#REF!,#REF!,#REF!,#REF!
Name par_count: #REF!,#REF!,#REF!,#REF!,#REF!,#REF!,#REF!,#REF!,#REF!,#REF!,#REF!,#REF!,#REF!,#REF!,#REF!
Name par_qual: #REF!,#REF!,#REF!,#REF!,#REF!
Name par_qual: #REF!,#REF!,#REF!,#REF!,#REF!
Name par_time: #REF!,#REF!,#REF!,#REF!
Name par_time: #REF!,#REF!,#REF!,#REF!
Name par2.12s: #REF!
Name par2.12s: #REF!
Name par2.4s: #REF!,#REF!,#REF!,#REF!,#REF!,#REF!,#REF!,#REF!,#REF!,#REF!,#REF!,#REF!,#REF!,#REF!,#REF!,#REF!
Name par2.4s: #REF!,#REF!,#REF!,#REF!,#REF!,#REF!,#REF!,#REF!,#REF!,#REF!,#REF!,#REF!,#REF!,#REF!,#REF!,#REF!
Name par2.5s: #REF!,#REF!
Name par2.5s: #REF!,#REF!
Name par2.6s: #REF!,#REF!,#REF!,#REF!
Name par2.6s: #REF!,#REF!,#REF!,#REF!
Name par2.7s: #REF!,#REF!
Name par2.7s: #REF!,#REF!
Name par2.9s: #REF!,#REF!,#REF!,#REF!,#REF!,#REF!,#REF!,#REF!,#REF!,#REF!,#REF!,#REF!,#REF!,#REF!,#REF!,#REF!
Name par2.9s: #REF!,#REF!,#REF!,#REF!,#REF!,#REF!,#REF!,#REF!,#REF!,#REF!,#REF!,#REF!,#REF!,#REF!,#REF!,#REF!
Name par4.10s: #REF!,#REF!
Name par4.10s: #REF!,#REF!

Sheet 1
G1: Հավելված № 1
G2: ՀՀ կառավարության 2022 թվականի
G3: -------------- ի № ---- -Ն որոշման
A5: «ՀԱՅԱՍՏԱՆԻ ՀԱՆՐԱՊԵՏՈՒԹՅԱՆ 2022 ԹՎԱԿԱՆԻ ՊԵՏԱԿԱՆ ԲՅՈՒՋԵԻ ՄԱՍԻՆ» ՕՐԵՆՔԻ N 1 ՀԱՎԵԼՎԱԾԻ N 7 ԱՂՅՈՒՍԱԿՈՒՄ ԵՎ ՀԱՅԱՍՏԱՆԻ ՀԱՆՐԱՊԵՏՈՒԹՅԱՆ ԿԱՌԱՎԱՐՈՒԹՅԱՆ 2021 ԹՎԱԿԱՆԻ ԴԵԿՏԵՄԲԵՐԻ 23-Ի N 2121-Ն ՈՐՈՇՄԱՆ N 5 ՀԱՎԵԼՎԱԾԻ N 6 ԱՂՅՈՒՍԱԿՈՒՄ ԿԱՏԱՐՎՈՂ ՓՈՓՈԽՈՒԹՅՈՒՆԸ ԵՎ ԼՐԱՑՈՒՄՆԵՐԸ
G6: հազար դրամ
A7: Ծրագրային դասիչը | C7: Բյուջետային հատկացումների գլխավոր կարգադրիչների, ծրագրերի, միջոցառումների և միջոցառումները կատարող պետական մարմինների անվանումները | D7: Ցուցանիշների փոփոխությունը (ավելացումները նշված են դրական նշանով, իսկ նվազեցումները` փակագծերում)
A8: Ծրագիր | B8: Միջոցառում | D8: Առաջին եռամսյակ | E8: Առաջին կիսամյակ | F8: Ինն ամիս | G8: Տարի
C9: ԸՆԴԱՄԵՆԸ | D9: =+D11 -> 0 | E9: =+E11 -> 0 | F9: =+F11 -> 0 | G9: =+G11 -> 0
C10: այդ թվում
C11: Կապիտալ սուբվենցիաներ համայնքներին | D11: =+D13 -> 0 | E11: =+E13 -> 0 | F11: =+F13 -> 0 | G11: =+G13 -> 0
C12: այդ թվում`
C13: ՀՀ տարածքային կառավարման և ենթակառուցվածքների նախարարություն | D13: =+D15 -> 0 | E13: =+E15 -> 0 | F13: =+F15 -> 0 | G13: =+G15 -> 0
C14: այդ թվում`
A15: 1212 | C15: Տարածքային զարգացում | D15: =+D17 -> 0 | E15: =+E17 -> 0 | F15: =+F17 -> 0 | G15: =+G17 -> 0
C16: այդ թվում`
B17: 12007 | C17: ՀՀ մարզերին սուբվենցիաների տրամադրում՝ ենթակառուցվածքների զարգացման նպատակով | D17: 0 | E17: 0 | F17: 0 | G17: 0
C18: այդ թվում` ըստ կատարողների
C19: ՀՀ կառավարություն | D19: =-(D20+D33+D55+D64+D81+D88+D97+D101+D109) -> -944228.9 | E19: =-(E20+E33+E55+E64+E81+E88+E97+E101+E109) -> -944228.9 | F19: =-(F20+F33+F55+F64+F81+F88+F97+F101+F109) -> -944228.9 | G19: =-(G20+G33+G55+G64+G81+G88+G97+G101+G109) -> -944228.9
C20: ՀՀ Արագածոտնի մարզպետարան | D20: =SUM(D22:D32) -> 124105.7 | E20: =SUM(E22:E32) -> 124105.7 | F20: =SUM(F22:F32) -> 124105.7 | G20: =SUM(G22:G32) -> 124105.7
C21: այդ թվում` ըստ ուղղությունների
C22: Իրինդ համայնքի 1-ին, 5-րդ, 6-րդ, 7-րդ, 8-րդ, 9-րդ, 15-րդ, 18-րդ, 22-րդ, 23-րդ, 24-րդ փողոցների և 6-րդ փողոցի 1-ին փակուղու գազիֆիկացման աշխատանքներ | D22: 3815.4 | E22: 3815.4 | F22: 3815.4 | G22: 3815.4
C23: Օշական համայնքի թիվ 2 խորքային հորի պոմպի և մղման խողովակաշարի վերականգնում | D23: 15832.2 | E23: 15832.2 | F23: 15832.2 | G23: 15832.2
C24: Ոսկեհատ համայնքի խորքային հորի վերականգնում | D24: 3942.2 | E24: 3942.2 | F24: 3942.2 | G24: 3942.2
C25: Մաստարա համայնքի 6-րդ փող 2-րդ փակուղու, 5-րդ փող․ 3-րդ նրբ․, 14-րդ փող 1-ին նրբ․, 12-րդ փող․, 4-րդ փող 1-ին նրբ լուսավորության ցանցի աշխատանքներ | D25: 6261.8 | E25: 6261.8 | F25: 6261.8 | G25: 6261.8
C26: Նոր Եդեսիա համայնքի ջրամատակարարման արտաքին համակարգի վերակառուցում | D26: 23172.2 | E26: 23172.2 | F26: 23172.2 | G26: 23172.2
C27: Ղազարավան համայնքում խմելու ջրագծի վերանորոգման 2-րդ փուլի աշխատանքներ | D27: 2827.5 | E27: 2827.5 | F27: 2827.5 | G27: 2827.5
C28: Կարբի համայնքի ներհամայնքային փողոցների ասֆալտբետոնե ծածկույթի իրականացում և ասֆալտբետոնե ծածկույթի վերանորոգում | D28: 21601.2 | E28: 21601.2 | F28: 21601.2 | G28: 21601.2
C29: Բյուրական համայնքի խմելու ջրի ջրագծի ցանցի հիմնանորոգում և քայքայված հատվածների փոխարինում | D29: 4654.7 | E29: 4654.7 | F29: 4654.7 | G29: 4654.7
C30: Դավթաշեն համայնքի կարիքների համար վարչական շենքի /համայնքային կենտրոնի/ վերանորոգում | D30: 5143.6 | E30: 5143.6 | F30: 5143.6 | G30: 5143.6
C31: Կոշ համայնք 16, 17, 19 փողոցների ասֆալտապատման աշխատանքներ | D31: 8743.8 | E31: 8743.8 | F31: 8743.8 | G31: 8743.8
C32: Ծաղկահովիտ համայնքի ավտոկայանատեղիի հիմնանորոգման աշխատանքներ | D32: 28111.1 | E32: 28111.1 | F32: 28111.1 | G32: 28111.1
C33: ՀՀ Արարատի մարզպետարան | D33: =SUM(D35:D54) -> 70566.1 | E33: =SUM(E35:E54) -> 70566.1 | F33: =SUM(F35:F54) -> 70566.1 | G33: =SUM(G35:G54) -> 70566.1
C34: այդ թվում` ըստ ուղղությունների
C35: Բուրաստան համայնքի ոռոգման ջրագծի կառուցման և գործող ոռոգման ջրագծի վերակառուցման աշխատանքներ | D35: 99 | E35: 99 | F35: 99 | G35: 99
C36: Գեղանիստ համայնքի ոռոգման համակարգի կառուցում | D36: 583.8 | E36: 583.8 | F36: 583.8 | G36: 583.8
C37: Գեղանիստ համայնքի 4-րդ փողոցի ասֆալտապատման աշխատանքներ | D37: 295.6 | E37: 295.6 | F37: 295.6 | G37: 295.6
C38: Բաղրամյան համայնքի ոռոգման ցանցի վերակառուցում | D38: 517 | E38: 517 | F38: 517 | G38: 517
C39: Լանջառ համայնքի խմելու ջրի մատակարարման աշխատանքներ | D39: 508.2 | E39: 508.2 | F39: 508.2 | G39: 508.2
C40: Այնթապ համայնքի փողոցների հիմնանորոգման և հարթեցման աշխատանքներ 4կմ | D40: 16588.9 | E40: 16588.9 | F40: 16588.9 | G40: 16588.9
C41: Վեդի քաղաքային համայնքի Արարատյան 36, 38, 40, 42, Գայի 5, 7, 9, և Կասյան 26/14, 26/15 ԲԲՇ-ների բակերի ասֆալտապատում և բարեկարգում | D41: 24205.5 | E41: 24205.5 | F41: 24205.5 | G41: 24205.5
C42: Նորաբաց համայնքի Երևանյան փողոցի ասֆալտապատման աշխատանքներ | D42: 567 | E42: 567 | F42: 567 | G42: 567
C43: Ոսկետափ համայնքի Մուսա Լեռան փողոցի ասֆալտապատում | D43: 223.5 | E43: 223.5 | F43: 223.5 | G43: 223.5
C44: Արարատ քաղաքային համայնքի զբոսայգու կապիտալ վերակառուցում | D44: 7060.5 | E44: 7060.5 | F44: 7060.5 | G44: 7060.5
C45: Նորամարգ համայնքի մանկապարտեզի կարիքների համար 15,6 ԿՎՏ արևային ֆոտովոլտային կայանի կառուցում | D45: 2911.9 | E45: 2911.9 | F45: 2911.9 | G45: 2911.9
C46: Դալար համայնքի մանկապարտեզի 20 կվտ հզորությամբ ֆոտովոլտային կայանի կառուցում | D46: 183.8 | E46: 183.8 | F46: 183.8 | G46: 183.8
... C54: Այնթապ համայնքի ներհամայնքային փողոցների լուսավորության անցկացման աշխատանքներ | D54: 570 | E54: 570 | F54: 570 | G54: 570
C55: ՀՀ Արմավիրի մարզպետարան | D55: =SUM(D57:D63) -> 102418.1 | E55: =SUM(E57:E63) -> 102418.1 | F55: =SUM(F57:F63) -> 102418.1 | G55: =SUM(G57:G63) -> 102418.1
C56: այդ թվում` ըստ ուղղությունների
C57: Արաքս (էջմ.) համայնքի մանկապարտեզի շենքի վերանորոգում | D57: 41744.7 | E57: 41744.7 | F57: 41744.7 | G57: 41744.7
C58: Ջրառատ համայնքում Մեծամորի խճուղու հիմնանորոգում | D58: 17228.6 | E58: 17228.6 | F58: 17228.6 | G58: 17228.6
C59: Բաղրամյան (էջմ․) համայնքի ջրամատակարարման բաշխիչ ցանց | D59: 18013.7 | E59: 18013.7 | F59: 18013.7 | G59: 18013.7
C60: Մարգարա համայնքի փողոցների արտաքին լուսավորության վերակառուցում և ընդլայնում | D60: 5332 | E60: 5332 | F60: 5332 | G60: 5332
C61: Արտիմետ համայնքի ոռոգման ցանցի կառուցում | D61: 2458.6 | E61: 2458.6 | F61: 2458.6 | G61: 2458.6
C62: Խորոնք համայնքի Վ.Վարդանյան, Արարատյան, Թումանյան, Մանուկյան, Մանուկյան 1 փակ. Պ.Սևակ, Գ.Նժդեհի, Գայ և Տերյան փողոցների մասնակի արտաքին լուսավորության ցանցի կառուցում | D62: 2715.8 | E62: 2715.8 | F62: 2715.8 | G62: 2715.8
C63: Հովտամեջ համայնքի Երևանյան փողոցի մայթերի և Հ Բաղրամյան փողոցների բարեկարգում | D63: 14924.7 | E63: 14924.7 | F63: 14924.7 | G63: 14924.7
C64: ՀՀ Գեղարքունիքի մարզպետարան | D64: =SUM(D66:D80) -> 128029.8 | E64: =SUM(E66:E80) -> 128029.8 | F64: =SUM(F66:F80) -> 128029.8 | G64: =SUM(G66:G80) -> 128029.8
C65: այդ թվում` ըստ ուղղությունների
C66: Վարդենիկ համայնքի թիվ12 և Կ. Շահինյան փողոցների նորոգում՝ ասֆալտապատմամբ | D66: 1500 | E66: 1500 | F66: 1500 | G66: 1500
C67: · Մարտունի համայնքի Նարեկացի փողոցի երթևեկելի հատվածի ասֆալտապատում և մայթերի կառուցում | D67: 2394 | E67: 2394 | F67: 2394 | G67: 2394
C68: Մարտունի համայնքի Վ․ Մամիկոնյան փողոցի մայթային հատվածի և հարակից տարածքի վերակառուցում | D68: 7236.7 | E68: 7236.7 | F68: 7236.7 | G68: 7236.7
C69: Վարդենիկ համայնքի թիվ 2,5,12 և Կ․ Շահինյան փողոցների ոռոգման առուների կառուցման աշխատանքներ | D69: 2025 | E69: 2025 | F69: 2025 | G69: 2025
C70: Լճափ համայնքի Կենտրոնական 1-ին փողոցի և Ազատամարտիկների փողոցի ասֆալտապատում | D70: 1031.7 | E70: 1031.7 | F70: 1031.7 | G70: 1031.7
C71: Վաղաշեն համայնքի խմելու ջրի բաշխիչ ցանցի բարելավում և ջրաքանակի ավելացում | D71: 4440.1 | E71: 4440.1 | F71: 4440.1 | G71: 4440.1
C72: Գավառ համայնքի Գավառ քաղաքի Բուռնազյան փողոցի կապիտալ վերանորոգման աշխատանքներ | D72: 13186.9 | E72: 13186.9 | F72: 13186.9 | G72: 13186.9
C73: Գավառ համայնքի Գավառի համայնքապետարանի վարչական շենքի, մշակույթի տան շենքի մարզադպրոցի շենքի տանիքներին արևային ֆոտովոլտային կայանների տեղադրում | D73: 55611.6 | E73: 55611.6 | F73: 55611.6 | G73: 55611.6
C74: Խաչաղբյուր համայնքի ոռոգման ցանցի վերականգնման և կառուցման աշխատանքներ | D74: 9428.7 | E74: 9428.7 | F74: 9428.7 | G74: 9428.7
C75: Խաչաղբյուր համայնքի փողոցների լուսավորության ցանցի կառուցում | D75: 691.1 | E75: 691.1 | F75: 691.1 | G75: 691.1
C76: Խաչաղբյուր համայնքի ոռոգման ցանցի վերանորոգում և կառուցում | D76: 1108.9 | E76: 1108.9 | F76: 1108.9 | G76: 1108.9
C77: Գանձակ համայնքի կենտրոնական հրապարակի բարեկարգում | D77: 547.6 | E77: 547.6 | F77: 547.6 | G77: 547.6
... C80: Լճաշեն համայնքի ներհամայնքային փողոցների լուսավորության ցանցի ընդլայնում՝ | D80: 11820.4 | E80: 11820.4 | F80: 11820.4 | G80: 11820.4
C81: ՀՀ Լոռու մարզպետարան | D81: =SUM(D83:D87) -> 63980.6 | E81: =SUM(E83:E87) -> 63980.6 | F81: =SUM(F83:F87) -> 63980.6 | G81: =SUM(G83:G87) -> 63980.6
C82: այդ թվում` ըստ ուղղությունների
C83: Քարաձոր համայնքի կիսակառույց ժամանցի կենտրոնի շենքի վերանորոգում | D83: 5740.8 | E83: 5740.8 | F83: 5740.8 | G83: 5740.8
C84: Լեռնանցք համայնքի խմելու ջրագծի վերակառուցում/4-րդ, 5-րդ, 6-րդ և 7-րդ փողոցներ/ | D84: 8166.7 | E84: 8166.7 | F84: 8166.7 | G84: 8166.7
C85: Մեծավան համայնքի Միխայլովկա բնակավայրի ջրագծի ներքին ցանցի վերանորոգում | D85: 3866.6 | E85: 3866.6 | F85: 3866.6 | G85: 3866.6
C86: Սպիտակ համայնքի 3 ԲԲՇ-ի /Ավետիսյան 17, Ալեք Մանուկյան 14, Թորոսյան 21/ էներգախնայողության և էներգաարդյունավետության բարձրացում | D86: 21265.2 | E86: 21265.2 | F86: 21265.2 | G86: 21265.2
C87: Ստեփանավան քաղաքի Ե․ Չարենց 179, Մեղապարտ 8, Բաղրամյան 103, Բաղրամյան 172 ԲԲՇների տանիքների վերանորոգում | D87: 24941.3 | E87: 24941.3 | F87: 24941.3 | G87: 24941.3
C88: ՀՀ Կոտայքի մարզպետարան | D88: =SUM(D90:D96) -> 85195.5 | E88: =SUM(E90:E96) -> 85195.5 | F88: =SUM(F90:F96) -> 85195.5 | G88: =SUM(G90:G96) -> 85195.5
C89: այդ թվում` ըստ ուղղությունների
C90: Մեղրաձոր համայնքի Աղավնաձոր գյուղի 1-ին և 2րդ փողոցների հիմնանորոգում | D90: 14411.3 | E90: 14411.3 | F90: 14411.3 | G90: 14411.3
C91: Մեղրաձոր համայնքի Աղավնաձոր բնակավայրի մանկապարտեզի գույքի ձեռքբերում | D91: 2707.7 | E91: 2707.7 | F91: 2707.7 | G91: 2707.7
C92: Քանաքեռավան համայնքի գիշերային լուսավորության ցանցի ավելացում | D92: 9113 | E92: 9113 | F92: 9113 | G92: 9113
C93: Քանաքեռավան համայնքի 9-րդ, 10-րդ փողոցների որոշ հատվածների ներփողոցայաին ջրագծերի և Արագիլ ԱՍԿթաղամասի կենտրոնական խմելու ջրատարի անցկացում | D93: 27142.5 | E93: 27142.5 | F93: 27142.5 | G93: 27142.5
C94: Քասախ համայնքի փողոցների ասֆալտապատման աշխատանքներ | D94: 12171.2 | E94: 12171.2 | F94: 12171.2 | G94: 12171.2
C95: Արամուս համայնքի 1-ին և 2-րդ փողոցների լուսավորության անցկացում | D95: 5117.2 | E95: 5117.2 | F95: 5117.2 | G95: 5117.2
C96: Ծաղկաձոր համայնքի Փողոցային լուսավորության համակարգի վերատեղափոխում և ավտոմատ պահուստային գծի տեղադրում | D96: 14532.6 | E96: 14532.6 | F96: 14532.6 | G96: 14532.6
C97: ՀՀ Շիրակի մարզպետարան | D97: =SUM(D99:D100) -> 23068.1 | E97: =SUM(E99:E100) -> 23068.1 | F97: =SUM(F99:F100) -> 23068.1 | G97: =SUM(G99:G100) -> 23068.1
C98: այդ թվում` ըստ ուղղությունների
C99: Մեծ Մանթաշ համայնքի գիշերային լուսավորության ցանցի կառուցում և հին մալուխների փոխարինում | D99: 10029.5 | E99: 10029.5 | F99: 10029.5 | G99: 10029.5
C100: Մեծ Մանթաշ համայնքի մի շարք փողոցների գազիֆիկացում | D100: 13038.6 | E100: 13038.6 | F100: 13038.6 | G100: 13038.6
C101: ՀՀ Սյունիքի մարզպետարան | D101: =SUM(D103:D108) -> 141953.6 | E101: =SUM(E103:E108) -> 141953.6 | F101: =SUM(F103:F108) -> 141953.6 | G101: =SUM(G103:G108) -> 141953.6
C102: այդ թվում` ըստ ուղղությունների
C103: Տեղ համայնքի «Խոզնավար և Խնածախ բնակավայրերի ոռոգման ներքին ցանցի կառուցում և վերանորոգում»: | D103: 16909.5 | E103: 16909.5 | F103: 16909.5 | G103: 16909.5
C104: · Տաթև համայնքի «Շինուհայր բնակավայրի 23փող ՆՈՒՀ-ի շենքի մի հատվածի վերանորոգում», | D104: 7694.7 | E104: 7694.7 | F104: 7694.7 | G104: 7694.7
C105: Գորիս համայնքի Արզումանյան փողոցի Սևյան նրբանցքի և Ավանգարդ 4-րդ փողոցի հիմնանորոգման աշխատանքներ | D105: 2057.1 | E105: 2057.1 | F105: 2057.1 | G105: 2057.1
C106: Կապան համայնքի «Հասարակական շենքերի (արվեստի թանգարան, Ձորք թաղամասի ակումբ, գրադարան, ՔԿԱԳ գրասենյակ) նորոգում» | D106: 85601.7 | E106: 85601.7 | F106: 85601.7 | G106: 85601.7
C107: Կապան համայնքի «Կապան քաղաքի թիվ 8 և Դավիթ Բեկ բնակավայրի ՆՈՒՀ-երի շենքերի վերանորոգում և Վարդավանք բնակավայրում այլընտրանքային ՆՈՒՀ-ի համար նախատեսվող շենքի վերանորոգում» | D107: 22037.8 | E107: 22037.8 | F107: 22037.8 | G107: 22037.8
C108: Գորիս համայնքի Ակներ և Վերիշեն գյուղերի կարիքների Ակներ գյուղի Մթնաձոր և «Բաբուռի քերծ» անվանյալ տարածքներում ջրհավաքների և սնուցող ջրագծի կառուցում | D108: 7652.8 | E108: 7652.8 | F108: 7652.8 | G108: 7652.8
C109: ՀՀ Վայոց ձորի մարզպետարան | D109: =SUM(D111:D116) -> 204911.4 | E109: =SUM(E111:E118) -> 204911.4 | F109: =SUM(F111:F118) -> 204911.4 | G109: =SUM(G111:G118) -> 204911.4
C110: այդ թվում` ըստ ուղղությունների
...

Sheet 2
J1: Հավելված № 2
J2: ՀՀ կառավարության 2022 թվականի
J3: -------------- ի № ---- -Ն որոշման
A5: ՀԱՅԱՍՏԱՆԻ ՀԱՆՐԱՊԵՏՈՒԹՅԱՆ ԿԱՌԱՎԱՐՈՒԹՅԱՆ 2021 ԹՎԱԿԱՆԻ ԴԵԿՏԵՄԲԵՐԻ 23-Ի № 2121-Ն ՈՐՈՇՄԱՆ №№ 3 և 4 ՀԱՎԵԼՎԱԾՆԵՐՈՒՄ ԿԱՏԱՐՎՈՂ ՓՈՓՈԽՈՒԹՅՈՒՆՆԵՐԸ ԵՎ ԼՐԱՑՈՒՄՆԵՐԸ
J6: հազար դրամ
A7: Գործառական դասիչը | D7: Ծրագրային դասիչը | F7: Բյուջետային հատկացումների գլխավոր կարգադրիչների, ծրագրերի, միջոցառումների և միջոցառումները կատարող պետական մարմինների անվանումները | G7: Ցուցանիշների փոփոխությունները (ավելացումները նշված են դրական նշանով իսկ նվազեցումները` փակագծերում)
A8: բաժին | B8: խումբ | C8: դաս | D8: Ծրագիր | E8: Միջոցառում | G8: Առաջին եռամսյակ | H8: Առաջին կիսամյակ | I8: Ինն ամիս | J8: Տարի
A9: ԸՆԴԱՄԵՆԸ ԾԱԽՍԵՐ | G9: =+G10 -> 0 | H9: =+H10 -> 0 | I9: =+I10 -> 0 | J9: =+J10 -> 0
A10: 01 | F10: ԸՆԴՀԱՆՈՒՐ ԲՆՈՒՅԹԻ ՀԱՆՐԱՅԻՆ ԾԱՌԱՅՈՒԹՅՈՒՆՆԵՐ | G10: =+G12 -> 0 | H10: =+H12 -> 0 | I10: =+I12 -> 0 | J10: =+J12 -> 0
F11: այդ թվում՝
B12: 08 | F12: Կառավարության տարբեր մակարդակների միջև իրականացվող ընդհանուր բնույթի տրանսֆերտներ | G12: =+G14 -> 0 | H12: =+H14 -> 0 | I12: =+I14 -> 0 | J12: =+J14 -> 0
F13: այդ թվում՝
C14: 01 | F14: Կառավարության տարբեր մակարդակների միջև իրականացվող ընդհանուր բնույթի տրանսֆերտներ | G14: =+G16 -> 0 | H14: =+H16 -> 0 | I14: =+I16 -> 0 | J14: =+J16 -> 0
F15: այդ թվում՝
F16: ՀՀ տարածքային կառավարման և ենթակառուցվածքների նախարարություն | G16: =+G18 -> 0 | H16: =+H18 -> 0 | I16: =+I18 -> 0 | J16: =+J18 -> 0
F17: այդ թվում՝
D18: 1212 | F18: Տարածքային զարգացում | G18: =+G20 -> 0 | H18: =+H20 -> 0 | I18: =+I20 -> 0 | J18: =+J20 -> 0
F19: այդ թվում`
E20: 12007 | F20: ՀՀ մարզերին սուբվենցիաների տրամադրում՛ ենթակառուցվածքների զարգացման նպատակով_x000D_ | G20: 0 | H20: 0 | I20: 0 | J20: 0
F21: այդ թվում` ըստ կատարողների
F22: ՀՀ կառավարություն | G22: ='1'!D19 -> -944228.9 | H22: =G22 -> -944228.9 | I22: ='1'!F19 -> -944228.9 | J22: ='1'!G19 -> -944228.9
F23: այդ թվում` բյուջետային ծախսերի տնտեսագիտական դասակարգման հոդվածներ
F24: ԸՆԴԱՄԵՆԸ ԾԱԽՍԵՐ | G24: =G25 -> -944228.9 | H24: ='1'!D19 -> -944228.9 | I24: ='1'!E19 -> -944228.9 | J24: ='1'!F19 -> -944228.9
F25: ԸՆԹԱՑԻԿ ԾԱԽՍԵՐ | G25: =G26 -> -944228.9 | H25: =H24 -> -944228.9 | I25: =I24 -> -944228.9 | J25: =J24 -> -944228.9
F26: ԴՐԱՄԱՇՆՈՐՀՆԵՐ | G26: =G28 -> -944228.9 | H26: =H25 -> -944228.9 | I26: =I25 -> -944228.9 | J26: =J25 -> -944228.9
F27: Կապիտալ դրամաշնորհներ պետական հատվածի այլ մակարդակներին
F28: - Կապիտալ սուբվենցիաներ համայնքներին | G28: ='1'!D19 -> -944228.9 | H28: ='1'!E19 -> -944228.9 | I28: ='1'!F19 -> -944228.9 | J28: ='1'!G19 -> -944228.9
F29: ՀՀ Արագածոտնի մարզպետարան | G29: =G35 -> 124105.7 | H29: =H35 -> 124105.7 | I29: =I35 -> 124105.7 | J29: =J35 -> 124105.7
F30: այդ թվում` բյուջետային ծախսերի տնտեսագիտական դասակարգման հոդվածներ
F31: ԸՆԴԱՄԵՆԸ ԾԱԽՍԵՐ | G31: =G35 -> 124105.7 | H31: =H35 -> 124105.7 | I31: =I33 -> 124105.7 | J31: =J33 -> 124105.7
F32: ԸՆԹԱՑԻԿ ԾԱԽՍԵՐ | G32: =G35 -> 124105.7 | H32: =H35 -> 124105.7 | I32: =I33 -> 124105.7 | J32: =J33 -> 124105.7
F33: ԴՐԱՄԱՇՆՈՐՀՆԵՐ | G33: =G35 -> 124105.7 | H33: =H35 -> 124105.7 | I33: =I34 -> 124105.7 | J33: =J34 -> 124105.7
F34: Կապիտալ դրամաշնորհներ պետական հատվածի այլ մակարդակներին | G34: =G35 -> 124105.7 | H34: =H35 -> 124105.7 | I34: =+I35 -> 124105.7 | J34: =+J35 -> 124105.7
F35: - Կապիտալ սուբվենցիաներ համայնքներին | G35: ='1'!D20 -> 124105.7 | H35: ='1'!E20 -> 124105.7 | I35: ='1'!F20 -> 124105.7 | J35: ='1'!G20 -> 124105.7
F36: ՀՀ Արարատի մարզպետարան | G36: ='1'!D33 -> 70566.1 | H36: ='1'!E33 -> 70566.1 | I36: ='1'!F33 -> 70566.1 | J36: ='1'!G33 -> 70566.1
F37: այդ թվում` բյուջետային ծախսերի տնտեսագիտական դասակարգման հոդվածներ
F38: ԸՆԴԱՄԵՆԸ ԾԱԽՍԵՐ | G38: =G42 -> 70566.1 | H38: =H42 -> 70566.1 | I38: =I40 -> 70566.1 | J38: =J40 -> 70566.1
F39: ԸՆԹԱՑԻԿ ԾԱԽՍԵՐ | G39: =G42 -> 70566.1 | H39: =H42 -> 70566.1 | I39: =I40 -> 70566.1 | J39: =J40 -> 70566.1
F40: ԴՐԱՄԱՇՆՈՐՀՆԵՐ | G40: =G42 -> 70566.1 | H40: =H42 -> 70566.1 | I40: =I41 -> 70566.1 | J40: =J41 -> 70566.1
F41: Կապիտալ դրամաշնորհներ պետական հատվածի այլ մակարդակներին | G41: =G42 -> 70566.1 | H41: =H42 -> 70566.1 | I41: =+I42 -> 70566.1 | J41: =+J42 -> 70566.1
F42: - Կապիտալ սուբվենցիաներ համայնքներին | G42: ='1'!D33 -> 70566.1 | H42: ='1'!D33 -> 70566.1 | I42: ='1'!D33 -> 70566.1 | J42: ='1'!D33 -> 70566.1
F43: ՀՀ Արմավիրի մարզպետարան | G43: ='1'!D55 -> 102418.1 | H43: ='1'!E55 -> 102418.1 | I43: ='1'!F55 -> 102418.1 | J43: ='1'!G55 -> 102418.1
F44: այդ թվում` բյուջետային ծախսերի տնտեսագիտական դասակարգման հոդվածներ
F45: ԸՆԴԱՄԵՆԸ ԾԱԽՍԵՐ | G45: =G43 -> 102418.1 | H45: =H43 -> 102418.1 | I45: =I43 -> 102418.1 | J45: =J43 -> 102418.1
F46: ԸՆԹԱՑԻԿ ԾԱԽՍԵՐ | G46: =G45 -> 102418.1 | H46: =H45 -> 102418.1 | I46: =I45 -> 102418.1 | J46: =J45 -> 102418.1
F47: ԴՐԱՄԱՇՆՈՐՀՆԵՐ | G47: =G46 -> 102418.1 | H47: =H46 -> 102418.1 | I47: =I46 -> 102418.1 | J47: =J46 -> 102418.1
F48: Կապիտալ դրամաշնորհներ պետական հատվածի այլ մակարդակներին | G48: =G47 -> 102418.1 | H48: =H47 -> 102418.1 | I48: =I47 -> 102418.1 | J48: =J47 -> 102418.1
F49: - Կապիտալ սուբվենցիաներ համայնքներին | G49: =G48 -> 102418.1 | H49: =H48 -> 102418.1 | I49: =I48 -> 102418.1 | J49: =J48 -> 102418.1
F50: ՀՀ Գեղարքունիքի մարզպետարան | G50: ='1'!D64 -> 128029.8 | H50: ='1'!E64 -> 128029.8 | I50: ='1'!F64 -> 128029.8 | J50: ='1'!G64 -> 128029.8
F51: այդ թվում` բյուջետային ծախսերի տնտեսագիտական դասակարգման հոդվածներ
F52: ԸՆԴԱՄԵՆԸ ԾԱԽՍԵՐ | G52: =G50 -> 128029.8 | H52: =H56 -> 128029.8 | I52: =I54 -> 128029.8 | J52: =J54 -> 128029.8
F53: ԸՆԹԱՑԻԿ ԾԱԽՍԵՐ | G53: =G52 -> 128029.8 | H53: =H56 -> 128029.8 | I53: =I54 -> 128029.8 | J53: =J54 -> 128029.8
F54: ԴՐԱՄԱՇՆՈՐՀՆԵՐ | G54: =G52 -> 128029.8 | H54: =H56 -> 128029.8 | I54: =I55 -> 128029.8 | J54: =J55 -> 128029.8
F55: Կապիտալ դրամաշնորհներ պետական հատվածի այլ մակարդակներին | G55: =G53 -> 128029.8 | H55: =H56 -> 128029.8 | I55: =+I56 -> 128029.8 | J55: =+J56 -> 128029.8
F56: - Կապիտալ սուբվենցիաներ համայնքներին | G56: ='1'!D64 -> 128029.8 | H56: ='1'!E64 -> 128029.8 | I56: ='1'!F64 -> 128029.8 | J56: ='1'!G64 -> 128029.8
F57: ՀՀ Լոռու մարզպետարան | G57: ='1'!D81 -> 63980.6 | H57: ='1'!E81 -> 63980.6 | I57: ='1'!F81 -> 63980.6 | J57: ='1'!G81 -> 63980.6
F58: այդ թվում` բյուջետային ծախսերի տնտեսագիտական դասակարգման հոդվածներ
F59: ԸՆԴԱՄԵՆԸ ԾԱԽՍԵՐ | G59: =G57 -> 63980.6 | H59: =H57 -> 63980.6 | I59: =I57 -> 63980.6 | J59: =J57 -> 63980.6
F60: ԸՆԹԱՑԻԿ ԾԱԽՍԵՐ | G60: =G59 -> 63980.6 | H60: =H59 -> 63980.6 | I60: =I59 -> 63980.6 | J60: =J59 -> 63980.6
F61: ԴՐԱՄԱՇՆՈՐՀՆԵՐ | G61: =G60 -> 63980.6 | H61: =H60 -> 63980.6 | I61: =I60 -> 63980.6 | J61: =J60 -> 63980.6
F62: Կապիտալ դրամաշնորհներ պետական հատվածի այլ մակարդակներին | G62: =G61 -> 63980.6 | H62: =H61 -> 63980.6 | I62: =I61 -> 63980.6 | J62: =J61 -> 63980.6
F63: - Կապիտալ սուբվենցիաներ համայնքներին | G63: =G62 -> 63980.6 | H63: =H62 -> 63980.6 | I63: =I62 -> 63980.6 | J63: =J62 -> 63980.6
F64: ՀՀ Կոտայքի մարզպետարան | G64: ='1'!D88 -> 85195.5 | H64: ='1'!E88 -> 85195.5 | I64: ='1'!F88 -> 85195.5 | J64: ='1'!G88 -> 85195.5
F65: այդ թվում` բյուջետային ծախսերի տնտեսագիտական դասակարգման հոդվածներ
F66: ԸՆԴԱՄԵՆԸ ԾԱԽՍԵՐ | G66: =G64 -> 85195.5 | H66: =H64 -> 85195.5 | I66: =I64 -> 85195.5 | J66: =J64 -> 85195.5
F67: ԸՆԹԱՑԻԿ ԾԱԽՍԵՐ | G67: =G66 -> 85195.5 | H67: =H66 -> 85195.5 | I67: =I66 -> 85195.5 | J67: =J66 -> 85195.5
F68: ԴՐԱՄԱՇՆՈՐՀՆԵՐ | G68: =G66 -> 85195.5 | H68: =H66 -> 85195.5 | I68: =I66 -> 85195.5 | J68: =J66 -> 85195.5
F69: Կապիտալ դրամաշնորհներ պետական հատվածի այլ մակարդակներին | G69: =G68 -> 85195.5 | H69: =H68 -> 85195.5 | I69: =I68 -> 85195.5 | J69: =J68 -> 85195.5
F70: - Կապիտալ սուբվենցիաներ համայնքներին | G70: =G69 -> 85195.5 | H70: =H69 -> 85195.5 | I70: =I69 -> 85195.5 | J70: =J69 -> 85195.5
F71: ՀՀ Շիրակի մարզպետարան | G71: ='1'!D97 -> 23068.1 | H71: ='1'!E97 -> 23068.1 | I71: =+I73 -> 23068.1 | J71: =+J73 -> 23068.1
F72: այդ թվում` բյուջետային ծախսերի տնտեսագիտական դասակարգման հոդվածներ
F73: ԸՆԴԱՄԵՆԸ ԾԱԽՍԵՐ | G73: =G74 -> 23068.1 | H73: =H74 -> 23068.1 | I73: =I75 -> 23068.1 | J73: =J75 -> 23068.1
F74: ԸՆԹԱՑԻԿ ԾԱԽՍԵՐ | G74: =G75 -> 23068.1 | H74: =H75 -> 23068.1 | I74: =I75 -> 23068.1 | J74: =J75 -> 23068.1
F75: ԴՐԱՄԱՇՆՈՐՀՆԵՐ | G75: =G76 -> 23068.1 | H75: =H76 -> 23068.1 | I75: =I76 -> 23068.1 | J75: =J76 -> 23068.1
F76: Կապիտալ դրամաշնորհներ պետական հատվածի այլ մակարդակներին | G76: =G77 -> 23068.1 | H76: =H77 -> 23068.1 | I76: =+I77 -> 23068.1 | J76: =+J77 -> 23068.1
F77: - Կապիտալ սուբվենցիաներ համայնքներին | G77: ='1'!D97 -> 23068.1 | H77: ='1'!E97 -> 23068.1 | I77: =+'1'!F97 -> 23068.1 | J77: =+'1'!G97 -> 23068.1
F78: ՀՀ Սյունիքի մարզպետարան | G78: ='1'!D101 -> 141953.6 | H78: ='1'!E101 -> 141953.6 | I78: ='1'!F101 -> 141953.6 | J78: ='1'!G101 -> 141953.6
F79: այդ թվում` բյուջետային ծախսերի տնտեսագիտական դասակարգման հոդվածներ
F80: ԸՆԴԱՄԵՆԸ ԾԱԽՍԵՐ | G80: =G81 -> 141953.6 | H80: =H81 -> 141953.6 | I80: =I81 -> 141953.6 | J80: =J81 -> 141953.6
F81: ԸՆԹԱՑԻԿ ԾԱԽՍԵՐ | G81: =G82 -> 141953.6 | H81: =H82 -> 141953.6 | I81: =I82 -> 141953.6 | J81: =J82 -> 141953.6
F82: ԴՐԱՄԱՇՆՈՐՀՆԵՐ | G82: =G83 -> 141953.6 | H82: =H83 -> 141953.6 | I82: =I83 -> 141953.6 | J82: =J83 -> 141953.6
F83: Կապիտալ դրամաշնորհներ պետական հատվածի այլ մակարդակներին | G83: =G84 -> 141953.6 | H83: =H84 -> 141953.6 | I83: =I84 -> 141953.6 | J83: =J84 -> 141953.6
F84: - Կապիտալ սուբվենցիաներ համայնքներին | G84: ='1'!D101 -> 141953.6 | H84: ='1'!E101 -> 141953.6 | I84: ='1'!F101 -> 141953.6 | J84: ='1'!G101 -> 141953.6
F85: ՀՀ Վայոց ձորի մարզպետարան | G85: ='1'!D109 -> 204911.4 | H85: ='1'!E109 -> 204911.4 | I85: ='1'!F109 -> 204911.4 | J85: ='1'!G109 -> 204911.4
F86: այդ թվում` բյուջետային ծախսերի տնտեսագիտական դասակարգման հոդվածներ
F87: ԸՆԴԱՄԵՆԸ ԾԱԽՍԵՐ | G87: =G85 -> 204911.4 | H87: =H85 -> 204911.4 | I87: =I85 -> 204911.4 | J87: =J85 -> 204911.4
F88: ԸՆԹԱՑԻԿ ԾԱԽՍԵՐ | G88: =G87 -> 204911.4 | H88: =H87 -> 204911.4 | I88: =I87 -> 204911.4 | J88: =J87 -> 204911.4
F89: ԴՐԱՄԱՇՆՈՐՀՆԵՐ | G89: =G88 -> 204911.4 | H89: =H88 -> 204911.4 | I89: =I88 -> 204911.4 | J89: =J88 -> 204911.4
F90: Կապիտալ դրամաշնորհներ պետական հատվածի այլ մակարդակներին | G90: =G89 -> 204911.4 | H90: =H89 -> 204911.4 | I90: =I89 -> 204911.4 | J90: =J89 -> 204911.4
F91: - Կապիտալ սուբվենցիաներ համայնքներին | G91: =G90 -> 204911.4 | H91: =H90 -> 204911.4 | I91: =I90 -> 204911.4 | J91: =J90 -> 204911.4

Sheet 3
D1: Հավելված № 3
D2: ՀՀ կառավարության 2022 թվականի
D3: -------------- ի № ---- -Ն որոշման
A5: ՀԱՅԱՍՏԱՆԻ ՀԱՆՐԱՊԵՏՈՒԹՅԱՆ ԿԱՌԱՎԱՐՈՒԹՅԱՆ 2021 ԹՎԱԿԱՆԻ ԴԵԿՏԵՄԲԵՐԻ 23-Ի № 2121-Ն ՈՐՈՇՄԱՆ № 9 ՀԱՎԵԼՎԱԾԻ № 9.7 ԱՂՅՈՒՍԱԿՈՒՄ ԿԱՏԱՐՎՈՂ ԼՐԱՑՈՒՄԸ
A6: ՀՀ տարածքային կառավարման և ենթակառուցվածքների նախարարություն
A9: Ծրագրի դասիչը | B9: Ծրագրի անվանումը
A10: 1212 | B10: Տարածքային զարգացում
A12: Ծրագրի միջոցառումները
A14: Ծրագրի դասիչը` | B14: 1212 | C14: Ցուցանիշների փոփոխությունները (ավելացումները նշված են դրական նշանով)
A15: Միջոցառման դասիչը` | B15: 12007 | C15: Առաջին եռամսյակ | D15: Առաջին կիսամյակ | E15: Ինն ամիս | F15: Տարի
A16: Միջոցառման անվանումը` | B16: ՀՀ մարզերին սուբվենցիաների տրամադրում` ենթակառուցվածքների զարգացման նպատակով_x000D_
A17: Նկարագրությունը` | B17: ՀՀ մարզերին սուբվենցիաների տրամադրում` ենթակառուցվածքների զարգացման նպատակով
A18: Միջոցառման տեսակը` | B18: Տրանսֆերտների տրամադրում
A19: Միջոցառումն իրականացնողի անվանումը | B19: ՀՀ համայնքներ
A20: Արդյունքի չափորոշիչներ
A21: ՀՀ համայնքների թիվ, հատ | C21: 63 | D21: 63 | E21: 63 | F21: 63
A22: Միջոցառման վրա կատարվող ծախսը (հազար դրամ) | C22: ='[1]2'!G20 -> 0 | D22: ='[1]2'!H20 -> 0 | E22: 0 | F22: 0

Sheet 4
D1: Հավելված № 4
D2: ՀՀ կառավարության 2022 թվականի
D3: -------------- ի № ---- -Ն որոշման
A6: ՀԱՅԱՍՏԱՆԻ ՀԱՆՐԱՊԵՏՈՒԹՅԱՆ ԿԱՌԱՎԱՐՈՒԹՅԱՆ 2021 ԹՎԱԿԱՆԻ ԴԵԿՏԵՄԲԵՐԻ 23-Ի № 2121-Ն ՈՐՈՇՄԱՆ № 9.1 ՀԱՎԵԼՎԱԾԻ № 9.1.49, 9.1.50, 9.1.52, 9.1.53, 9.1.55, 9.1.56 ԵՎ 9.1.59 ԱՂՅՈՒՍԱԿՆԵՐՈՒՄ ԿԱՏԱՐՎՈՂ ՓՈՓՈԽՈՒԹՅՈՒՆԸ ԵՎ ԼՐԱՑՈՒՄՆԵՐԸ
E7: Աղյուսակ 9.1.49
A8: ՀՀ Արագածոտնի մարզպետարան
A10: ՄԱՍ 1. ՊԵՏԱԿԱՆ ՄԱՐՄՆԻ ԳԾՈՎ ԱՐԴՅՈՒՆՔԱՅԻՆ (ԿԱՏԱՐՈՂԱԿԱՆ) ՑՈՒՑԱՆԻՇՆԵՐԸ
A12: Ծրագրի դասիչը | B12: Ծրագրի անվանումը
A13: 1212 | B13: Տարածքային զարգացում
A15: Ծրագրի միջոցառումները
A17: Ծրագրի դասիչը` | B17: 1212 | C17: Ցուցանիշների փոփոխությունները (ավելացումները նշված են դրական նշանով)
A18: Միջոցառման դասիչը` | B18: 12007 | C18: Առաջին եռամսյակ | D18: Առաջին կիսամյակ | E18: Ինն ամիս | F18: Տարի
A19: Միջոցառման անվանումը` | B19: ՀՀ մարզերին սուբվենցիաների տրամադրում` ենթակառուցվածքների զարգացման նպատակով_x000D_
A20: Նկարագրությունը` | B20: ՀՀ մարզերին սուբվենցիաների տրամադրում` ենթակառուցվածքների զարգացման նպատակով
A21: Միջոցառման տեսակը` | B21: Տրանսֆերտների տրամադրում
A22: Միջոցառումն իրականացնողի անվանումը | B22: ՀՀ համայնքներ
A23: Արդյունքի չափորոշիչներ
A24: ՀՀ համայնքների թիվ, հատ | C24: 11 | D24: 11 | E24: 11 | F24: 11
A25: Միջոցառման վրա կատարվող ծախսը (հազար դրամ) | C25: ='1'!D20 -> 124105.7 | D25: =C25 -> 124105.7 | E25: =D25 -> 124105.7 | F25: =E25 -> 124105.7
E28: Աղյուսակ 9.1.50
A29: ՀՀ Արարատի մարզպետարան
A31: ՄԱՍ 1. ՊԵՏԱԿԱՆ ՄԱՐՄՆԻ ԳԾՈՎ ԱՐԴՅՈՒՆՔԱՅԻՆ (ԿԱՏԱՐՈՂԱԿԱՆ) ՑՈՒՑԱՆԻՇՆԵՐԸ
A33: Ծրագրի դասիչը | B33: Ծրագրի անվանումը
A34: 1212 | B34: Տարածքային զարգացում
A36: Ծրագրի միջոցառումները
A38: Ծրագրի դասիչը` | B38: 1212 | C38: Ցուցանիշների փոփոխությունները (ավելացումները նշված են դրական նշանով)
A39: Միջոցառման դասիչը` | B39: 12007 | C39: Առաջին եռամսյակ | D39: Առաջին կիսամյակ | E39: Ինն ամիս | F39: Տարի
A40: Միջոցառման անվանումը` | B40: ՀՀ մարզերին սուբվենցիաների տրամադրում` ենթակառուցվածքների զարգացման նպատակով_x000D_
A41: Նկարագրությունը` | B41: ՀՀ մարզերին սուբվենցիաների տրամադրում` ենթակառուցվածքների զարգացման նպատակով
A42: Միջոցառման տեսակը` | B42: Տրանսֆերտների տրամադրում
A43: Միջոցառումն իրականացնողի անվանումը | B43: ՀՀ համայնքներ
A44: Արդյունքի չափորոշիչներ
A45: ՀՀ համայնքների թիվ, հատ | C45: 17 | D45: 17 | E45: 17 | F45: 17
A46: Միջոցառման վրա կատարվող ծախսը (հազար դրամ) | C46: ='1'!D33 -> 70566.1 | D46: =C46 -> 70566.1 | E46: =D46 -> 70566.1 | F46: =E46 -> 70566.1
E48: Աղյուսակ 9.1.51
A49: ՀՀ Արմավիրի մարզպետարան
A51: ՄԱՍ 1. ՊԵՏԱԿԱՆ ՄԱՐՄՆԻ ԳԾՈՎ ԱՐԴՅՈՒՆՔԱՅԻՆ (ԿԱՏԱՐՈՂԱԿԱՆ) ՑՈՒՑԱՆԻՇՆԵՐԸ
A53: Ծրագրի դասիչը | B53: Ծրագրի անվանումը
A54: 1212 | B54: Տարածքային զարգացում
A56: Ծրագրի միջոցառումները
A58: Ծրագրի դասիչը` | B58: 1212 | C58: Ցուցանիշների փոփոխությունները (ավելացումները նշված են դրական նշանով)
A59: Միջոցառման դասիչը` | B59: 12007 | C59: Առաջին եռամսյակ | D59: Առաջին կիսամյակ | E59: Ինն ամիս | F59: Տարի
A60: Միջոցառման անվանումը` | B60: ՀՀ մարզերին սուբվենցիաների տրամադրում` ենթակառուցվածքների զարգացման նպատակով_x000D_
A61: Նկարագրությունը` | B61: ՀՀ մարզերին սուբվենցիաների տրամադրում` ենթակառուցվածքների զարգացման նպատակով
A62: Միջոցառման տեսակը` | B62: Տրանսֆերտների տրամադրում
A63: Միջոցառումն իրականացնողի անվանումը | B63: ՀՀ համայնքներ
A64: Արդյունքի չափորոշիչներ
A65: ՀՀ համայնքների թիվ, հատ | C65: 7 | D65: 7 | E65: 7 | F65: 7
A66: Միջոցառման վրա կատարվող ծախսը (հազար դրամ) | C66: ='2'!G43 -> 102418.1 | D66: =C66 -> 102418.1 | E66: =D66 -> 102418.1 | F66: =E66 -> 102418.1
E68: Աղյուսակ 9.1.52
A69: ՀՀ Գեղարքունիքի մարզպետարան
A71: ՄԱՍ 1. ՊԵՏԱԿԱՆ ՄԱՐՄՆԻ ԳԾՈՎ ԱՐԴՅՈՒՆՔԱՅԻՆ (ԿԱՏԱՐՈՂԱԿԱՆ) ՑՈՒՑԱՆԻՇՆԵՐԸ
A73: Ծրագրի դասիչը | B73: Ծրագրի անվանումը
A74: 1212 | B74: Տարածքային զարգացում
A76: Ծրագրի միջոցառումները
A78: Ծրագրի դասիչը` | B78: 1212 | C78: Ցուցանիշների փոփոխությունները (ավելացումները նշված են դրական նշանով)
A79: Միջոցառման դասիչը` | B79: 12007 | C79: Առաջին եռամսյակ | D79: Առաջին կիսամյակ | E79: Ինն ամիս | F79: Տարի
A80: Միջոցառման անվանումը` | B80: ՀՀ մարզերին սուբվենցիաների տրամադրում` ենթակառուցվածքների զարգացման նպատակով_x000D_
A81: Նկարագրությունը` | B81: ՀՀ մարզերին սուբվենցիաների տրամադրում` ենթակառուցվածքների զարգացման նպատակով
A82: Միջոցառման տեսակը` | B82: Տրանսֆերտների տրամադրում
A83: Միջոցառումն իրականացնողի անվանումը | B83: ՀՀ համայնքներ
A84: Արդյունքի չափորոշիչներ
A85: ՀՀ համայնքների թիվ, հատ | C85: 10 | D85: 10 | E85: 10 | F85: 10
A86: Միջոցառման վրա կատարվող ծախսը (հազար դրամ) | C86: ='2'!G50 -> 128029.8 | D86: =C86 -> 128029.8 | E86: =D86 -> 128029.8 | F86: =E86 -> 128029.8
E89: Աղյուսակ 9.1.53
A90: ՀՀ Լոռու մարզպետարան
A92: ՄԱՍ 1. ՊԵՏԱԿԱՆ ՄԱՐՄՆԻ ԳԾՈՎ ԱՐԴՅՈՒՆՔԱՅԻՆ (ԿԱՏԱՐՈՂԱԿԱՆ) ՑՈՒՑԱՆԻՇՆԵՐԸ
A94: Ծրագրի դասիչը | B94: Ծրագրի անվանումը
A95: 1212 | B95: Տարածքային զարգացում
A97: Ծրագրի միջոցառումները
A99: Ծրագրի դասիչը` | B99: 1212 | C99: Ցուցանիշների փոփոխությունները (ավելացումները նշված են դրական նշանով)
A100: Միջոցառման դասիչը` | B100: 12007 | C100: Առաջին եռամսյակ | D100: Առաջին կիսամյակ | E100: Ինն ամիս | F100: Տարի
A101: Միջոցառման անվանումը` | B101: ՀՀ մարզերին սուբվենցիաների տրամադրում` ենթակառուցվածքների զարգացման նպատակով_x000D_
A102: Նկարագրությունը` | B102: ՀՀ մարզերին սուբվենցիաների տրամադրում` ենթակառուցվածքների զարգացման նպատակով
A103: Միջոցառման տեսակը` | B103: Տրանսֆերտների տրամադրում
A104: Միջոցառումն իրականացնողի անվանումը | B104: ՀՀ համայնքներ
A105: Արդյունքի չափորոշիչներ
A106: ՀՀ համայնքների թիվ, հատ | C106: 5 | D106: 5 | E106: 5 | F106: 5
A107: Միջոցառման վրա կատարվող ծախսը (հազար դրամ) | C107: ='1'!D81 -> 63980.6 | D107: ='1'!E81 -> 63980.6 | E107: ='1'!F81 -> 63980.6 | F107: ='1'!G81 -> 63980.6
E109: Աղյուսակ 9.1.54
A110: ՀՀ Կոտայքի մարզպետարան
A112: ՄԱՍ 1. ՊԵՏԱԿԱՆ ՄԱՐՄՆԻ ԳԾՈՎ ԱՐԴՅՈՒՆՔԱՅԻՆ (ԿԱՏԱՐՈՂԱԿԱՆ) ՑՈՒՑԱՆԻՇՆԵՐԸ
A114: Ծրագրի դասիչը | B114: Ծրագրի անվանումը
A115: 1212 | B115: Տարածքային զարգացում
A117: Ծրագրի միջոցառումները
A119: Ծրագրի դասիչը` | B119: 1212 | C119: Ցուցանիշների փոփոխությունները (ավելացումները նշված են դրական նշանով)
A120: Միջոցառման դասիչը` | B120: 12007 | C120: Առաջին եռամսյակ | D120: Առաջին կիսամյակ | E120: Ինն ամիս | F120: Տարի
A121: Միջոցառման անվանումը` | B121: ՀՀ մարզերին սուբվենցիաների տրամադրում` ենթակառուցվածքների զարգացման նպատակով_x000D_
A122: Նկարագրությունը` | B122: ՀՀ մարզերին սուբվենցիաների տրամադրում` ենթակառուցվածքների զարգացման նպատակով
A123: Միջոցառման տեսակը` | B123: Տրանսֆերտների տրամադրում
A124: Միջոցառումն իրականացնողի անվանումը | B124: ՀՀ համայնքներ
A125: Արդյունքի չափորոշիչներ
A126: ՀՀ համայնքների թիվ, հատ | C126: 5 | D126: 5 | E126: 5 | F126: 5
A127: Միջոցառման վրա կատարվող ծախսը (հազար դրամ) | C127: ='2'!G64 -> 85195.5 | D127: ='2'!H64 -> 85195.5 | E127: ='2'!I64 -> 85195.5 | F127: ='2'!J64 -> 85195.5
E129: Աղյուսակ 9.1.55
A130: ՀՀ Շիրակի մարզպետարան
A132: ՄԱՍ 1. ՊԵՏԱԿԱՆ ՄԱՐՄՆԻ ԳԾՈՎ ԱՐԴՅՈՒՆՔԱՅԻՆ (ԿԱՏԱՐՈՂԱԿԱՆ) ՑՈՒՑԱՆԻՇՆԵՐԸ
A134: Ծրագրի դասիչը | B134: Ծրագրի անվանումը
A135: 1212 | B135: Տարածքային զարգացում
A137: Ծրագրի միջոցառումները
...
