Workbook
Name _tab10: #REF!
Name _tab10: #REF!
Name _tab11: #REF!
Name _tab11: #REF!
Name _tab12: #REF!
Name _tab12: #REF!
Name _tab13: #REF!
Name _tab13: #REF!
Name _tab14: #REF!
Name _tab14: #REF!
Name _tab15: #REF!
Name _tab15: #REF!
Name _tab16: #REF!
Name _tab16: #REF!
Name _tab17: #REF!
Name _tab17: #REF!
Name _tab18: #REF!
Name _tab18: #REF!
Name _tab19: #REF!
Name _tab19: #REF!
Name _tab20: #REF!
Name _tab20: #REF!
Name _tab21: #REF!
Name _tab21: #REF!
Name _tab22: #REF!
Name _tab22: #REF!
Name _tab23: #REF!
Name _tab23: #REF!
Name _tab24: #REF!
Name _tab24: #REF!
Name _tab5: #REF!
Name _tab5: #REF!
Name _tab6: #REF!
Name _tab6: #REF!
Name _tab7: #REF!
Name _tab7: #REF!
Name _tab8: #REF!
Name _tab8: #REF!
Name _tab9: #REF!
Name _tab9: #REF!
Name par_count: #REF!,#REF!,#REF!,#REF!,#REF!,#REF!,#REF!,#REF!,#REF!,#REF!,#REF!,#REF!,#REF!,#REF!,#REF!
Name par_count: #REF!,#REF!,#REF!,#REF!,#REF!,#REF!,#REF!,#REF!,#REF!,#REF!,#REF!,#REF!,#REF!,#REF!,#REF!
Name par_qual: #REF!,#REF!,#REF!,#REF!,#REF!
Name par_qual: #REF!,#REF!,#REF!,#REF!,#REF!
Name par_time: #REF!,#REF!,#REF!,#REF!
Name par_time: #REF!,#REF!,#REF!,#REF!
Name par2.12s: #REF!
Name par2.12s: #REF!
Name par2.4s: #REF!,#REF!,#REF!,#REF!,#REF!,#REF!,#REF!,#REF!,#REF!,#REF!,#REF!,#REF!,#REF!,#REF!,#REF!,#REF!
Name par2.4s: #REF!,#REF!,#REF!,#REF!,#REF!,#REF!,#REF!,#REF!,#REF!,#REF!,#REF!,#REF!,#REF!,#REF!,#REF!,#REF!
Name par2.5s: #REF!,#REF!
Name par2.5s: #REF!,#REF!
Name par2.6s: #REF!,#REF!,#REF!,#REF!
Name par2.6s: #REF!,#REF!,#REF!,#REF!
Name par2.7s: #REF!,#REF!
Name par2.7s: #REF!,#REF!
Name par2.9s: #REF!,#REF!,#REF!,#REF!,#REF!,#REF!,#REF!,#REF!,#REF!,#REF!,#REF!,#REF!,#REF!,#REF!,#REF!,#REF!
Name par2.9s: #REF!,#REF!,#REF!,#REF!,#REF!,#REF!,#REF!,#REF!,#REF!,#REF!,#REF!,#REF!,#REF!,#REF!,#REF!,#REF!
Name par4.10s: #REF!,#REF!
Name par4.10s: #REF!,#REF!

Sheet 1
G1: Հավելված № 1
G2: ՀՀ կառավարության 2022 թվականի
G3: -------------- ի № ---- -Ն որոշման
A5: «ՀԱՅԱՍՏԱՆԻ ՀԱՆՐԱՊԵՏՈՒԹՅԱՆ 2022 ԹՎԱԿԱՆԻ ՊԵՏԱԿԱՆ ԲՅՈՒՋԵԻ ՄԱՍԻՆ» ՕՐԵՆՔԻ N 1 ՀԱՎԵԼՎԱԾԻ N 7 ԱՂՅՈՒՍԱԿՈՒՄ ԵՎ ՀԱՅԱՍՏԱՆԻ ՀԱՆՐԱՊԵՏՈՒԹՅԱՆ ԿԱՌԱՎԱՐՈՒԹՅԱՆ 2021 ԹՎԱԿԱՆԻ ԴԵԿՏԵՄԲԵՐԻ 23-Ի N 2121-Ն ՈՐՈՇՄԱՆ N 5 ՀԱՎԵԼՎԱԾԻ N 6 ԱՂՅՈՒՍԱԿՈՒՄ ԿԱՏԱՐՎՈՂ ՓՈՓՈԽՈՒԹՅՈՒՆԸ ԵՎ ԼՐԱՑՈՒՄՆԵՐԸ
G6: հազար դրամ
A7: Ծրագրային դասիչը | C7: Բյուջետային հատկացումների գլխավոր կարգադրիչների, ծրագրերի, միջոցառումների և միջոցառումները կատարող պետական մարմինների անվանումները | D7: Ցուցանիշների փոփոխությունը (ավելացումները նշված են դրական նշանով, իսկ նվազեցումները` փակագծերում)
A8: Ծրագիր | B8: Միջոցառում | D8: Առաջին եռամսյակ | E8: Առաջին կիսամյակ | F8: Ինն ամիս | G8: Տարի
C9: ԸՆԴԱՄԵՆԸ | D9: =+D11 -> 0 | E9: =+E11 -> 0 | F9: =+F11 -> 0 | G9: =+G11 -> 0
C10: այդ թվում
C11: Կապիտալ սուբվենցիաներ համայնքներին | D11: =+D13 -> 0 | E11: =+E13 -> 0 | F11: =+F13 -> 0 | G11: =+G13 -> 0
C12: այդ թվում`
C13: ՀՀ տարածքային կառավարման և ենթակառուցվածքների նախարարություն | D13: =+D15 -> 0 | E13: =+E15 -> 0 | F13: =+F15 -> 0 | G13: =+G15 -> 0
C14: այդ թվում`
A15: 1212 | C15: Տարածքային զարգացում | D15: =+D17 -> 0 | E15: =+E17 -> 0 | F15: =+F17 -> 0 | G15: =+G17 -> 0
C16: այդ թվում`
B17: 12007 | C17: ՀՀ մարզերին սուբվենցիաների տրամադրում՝ ենթակառուցվածքների զարգացման նպատակով | D17: 0 | E17: 0 | F17: 0 | G17: 0
C18: այդ թվում` ըստ կատարողների
C19: ՀՀ կառավարություն | D19: =-(D20+D33+D55+D64+D81+D88+D97+D101+D109) -> -944228.9 | E19: =-(E20+E33+E55+E64+E81+E88+E97+E101+E109) -> -944228.9 | F19: =-(F20+F33+F55+F64+F81+F88+F97+F101+F109) -> -944228.9 | G19: =-(G20+G33+G55+G64+G81+G88+G97+G101+G109) -> -944228.9
C20: ՀՀ Արագածոտնի մարզպետարան | D20: =SUM(D22:D32) -> 124105.7 | E20: =SUM(E22:E32) -> 124105.7 | F20: =SUM(F22:F32) -> 124105.7 | G20: =SUM(G22:G32) -> 124105.7
C21: այդ թվում` ըստ ուղղությունների
C22: Իրինդ համայնքի 1-ին, 5-րդ, 6-րդ, 7-րդ, 8-րդ, 9-րդ, 15-րդ, 18-րդ, 22-րդ, 23-րդ, 24-րդ փողոցների և 6-րդ փողոցի 1-ին փակուղու գազիֆիկացման աշխատանքներ | D22: 3815.4 | E22: 3815.4 | F22: 3815.4 | G22: 3815.4
C23: Օշական համայնքի թիվ 2 խորքային հորի պոմպի և մղման խողովակաշարի վերականգնում | D23: 15832.2 | E23: 15832.2 | F23: 15832.2 | G23: 15832.2
C24: Ոսկեհատ համայնքի խորքային հորի վերականգնում | D24: 3942.2 | E24: 3942.2 | F24: 3942.2 | G24: 3942.2
C25: Մաստարա համայնքի 6-րդ փող 2-րդ փակուղու, 5-րդ փող․ 3-րդ նրբ․, 14-րդ փող 1-ին նրբ․, 12-րդ փող․, 4-րդ փող 1-ին նրբ լուսավորության ցանցի աշխատանքներ | D25: 6261.8 | E25: 6261.8 | F25: 6261.8 | G25: 6261.8
C26: Նոր Եդեսիա համայնքի ջրամատակարարման արտաքին համակարգի վերակառուցում | D26: 23172.2 | E26: 23172.2 | F26: 23172.2 | G26: 23172.2
C27: Ղազարավան համայնքում խմելու ջրագծի վերանորոգման 2-րդ փուլի աշխատանքներ | D27: 2827.5 | E27: 2827.5 | F27: 2827.5 | G27: 2827.5
C28: Կարբի համայնքի ներհամայնքային փողոցների ասֆալտբետոնե ծածկույթի իրականացում և ասֆալտբետոնե ծածկույթի վերանորոգում | D28: 21601.2 | E28: 21601.2 | F28: 21601.2 | G28: 21601.2
C29: Բյուրական համայնքի խմելու ջրի ջրագծի ցանցի հիմնանորոգում և քայքայված հատվածների փոխարինում | D29: 4654.7 | E29: 4654.7 | F29: 4654.7 | G29: 4654.7
C30: Դավթաշեն համայնքի կարիքների համար վարչական շենքի /համայնքային կենտրոնի/ վերանորոգում | D30: 5143.6 | E30: 5143.6 | F30: 5143.6 | G30: 5143.6
C31: Կոշ համայնք 16, 17, 19 փողոցների ասֆալտապատման աշխատանքներ | D31: 8743.8 | E31: 8743.8 | F31: 8743.8 | G31: 8743.8
C32: Ծաղկահովիտ համայնքի ավտոկայանատեղիի հիմնանորոգման աշխատանքներ | D32: 28111.1 | E32: 28111.1 | F32: 28111.1 | G32: 28111.1
C33: ՀՀ Արարատի մարզպետարան | D33: =SUM(D35:D54) -> 70566.1 | E33: =SUM(E35:E54) -> 70566.1 | F33: =SUM(F35:F54) -> 70566.1 | G33: =SUM(G35:G54) -> 70566.1
C34: այդ թվում` ըստ ուղղությունների
C35: Բուրաստան համայնքի ոռոգման ջրագծի կառուցման և գործող ոռոգման ջրագծի վերակառուցման աշխատանքներ | D35: 99 | E35: 99 | F35: 99 | G35: 99
C36: Գեղանիստ համայնքի ոռոգման համակարգի կառուցում | D36: 583.8 | E36: 583.8 | F36: 583.8 | G36: 583.8
C37: Գեղանիստ համայնքի 4-րդ փողոցի ասֆալտապատման աշխատանքներ | D37: 295.6 | E37: 295.6 | F37: 295.6 | G37: 295.6
C38: Բաղրամյան համայնքի ոռոգման ցանցի վերակառուցում | D38: 517 | E38: 517 | F38: 517 | G38: 517
C39: Լանջառ համայնքի խմելու ջրի մատակարարման աշխատանքներ | D39: 508.2 | E39: 508.2 | F39: 508.2 | G39: 508.2
C40: Այնթապ համայնքի փողոցների հիմնանորոգման և հարթեցման աշխատանքներ 4կմ | D40: 16588.9 | E40: 16588.9 | F40: 16588.9 | G40: 16588.9
C41: Վեդի քաղաքային համայնքի Արարատյան 36, 38, 40, 42, Գայի 5, 7, 9, և Կասյան 26/14, 26/15 ԲԲՇ-ների բակերի ասֆալտապատում և բարեկարգում | D41: 24205.5 | E41: 24205.5 | F41: 24205.5 | G41: 24205.5
...

Sheet 2
J1: Հավելված № 2
J2: ՀՀ կառավարության 2022 թվականի
J3: -------------- ի № ---- -Ն որոշման
A5: ՀԱՅԱՍՏԱՆԻ ՀԱՆՐԱՊԵՏՈՒԹՅԱՆ ԿԱՌԱՎԱՐՈՒԹՅԱՆ 2021 ԹՎԱԿԱՆԻ ԴԵԿՏԵՄԲԵՐԻ 23-Ի № 2121-Ն ՈՐՈՇՄԱՆ №№ 3 և 4 ՀԱՎԵԼՎԱԾՆԵՐՈՒՄ ԿԱՏԱՐՎՈՂ ՓՈՓՈԽՈՒԹՅՈՒՆՆԵՐԸ ԵՎ ԼՐԱՑՈՒՄՆԵՐԸ
J6: հազար դրամ
A7: Գործառական դասիչը | D7: Ծրագրային դասիչը | F7: Բյուջետային հատկացումների գլխավոր կարգադրիչների, ծրագրերի, միջոցառումների և միջոցառումները կատարող պետական մարմինների անվանումները | G7: Ցուցանիշների փոփոխությունները (ավելացումները նշված են դրական նշանով իսկ նվազեցումները` փակագծերում)
A8: բաժին | B8: խումբ | C8: դաս | D8: Ծրագիր | E8: Միջոցառում | G8: Առաջին եռամսյակ | H8: Առաջին կիսամյակ | I8: Ինն ամիս | J8: Տարի
A9: ԸՆԴԱՄԵՆԸ ԾԱԽՍԵՐ | G9: =+G10 -> 0 | H9: =+H10 -> 0 | I9: =+I10 -> 0 | J9: =+J10 -> 0
A10: 01 | F10: ԸՆԴՀԱՆՈՒՐ ԲՆՈՒՅԹԻ ՀԱՆՐԱՅԻՆ ԾԱՌԱՅՈՒԹՅՈՒՆՆԵՐ | G10: =+G12 -> 0 | H10: =+H12 -> 0 | I10: =+I12 -> 0 | J10: =+J12 -> 0
F11: այդ թվում՝
B12: 08 | F12: Կառավարության տարբեր մակարդակների միջև իրականացվող ընդհանուր բնույթի տրանսֆերտներ | G12: =+G14 -> 0 | H12: =+H14 -> 0 | I12: =+I14 -> 0 | J12: =+J14 -> 0
F13: այդ թվում՝
C14: 01 | F14: Կառավարության տարբեր մակարդակների միջև իրականացվող ընդհանուր բնույթի տրանսֆերտներ | G14: =+G16 -> 0 | H14: =+H16 -> 0 | I14: =+I16 -> 0 | J14: =+J16 -> 0
F15: այդ թվում՝
F16: ՀՀ տարածքային կառավարման և ենթակառուցվածքների նախարարություն | G16: =+G18 -> 0 | H16: =+H18 -> 0 | I16: =+I18 -> 0 | J16: =+J18 -> 0
F17: այդ թվում՝
D18: 1212 | F18: Տարածքային զարգացում | G18: =+G20 -> 0 | H18: =+H20 -> 0 | I18: =+I20 -> 0 | J18: =+J20 -> 0
F19: այդ թվում`
E20: 12007 | F20: ՀՀ մարզերին սուբվենցիաների տրամադրում՛ ենթակառուցվածքների զարգացման նպատակով_x000D_ | G20: 0 | H20: 0 | I20: 0 | J20: 0
F21: այդ թվում` ըստ կատարողների
F22: ՀՀ կառավարություն | G22: ='1'!D19 -> -944228.9 | H22: =G22 -> -944228.9 | I22: ='1'!F19 -> -944228.9 | J22: ='1'!G19 -> -944228.9
F23: այդ թվում` բյուջետային ծախսերի տնտեսագիտական դասակարգման հոդվածներ
F24: ԸՆԴԱՄԵՆԸ ԾԱԽՍԵՐ | G24: =G25 -> -944228.9 | H24: ='1'!D19 -> -944228.9 | I24: ='1'!E19 -> -944228.9 | J24: ='1'!F19 -> -944228.9
F25: ԸՆԹԱՑԻԿ ԾԱԽՍԵՐ | G25: =G26 -> -944228.9 | H25: =H24 -> -944228.9 | I25: =I24 -> -944228.9 | J25: =J24 -> -944228.9
F26: ԴՐԱՄԱՇՆՈՐՀՆԵՐ | G26: =G28 -> -944228.9 | H26: =H25 -> -944228.9 | I26: =I25 -> -944228.9 | J26: =J25 -> -944228.9
F27: Կապիտալ դրամաշնորհներ պետական հատվածի այլ մակարդակներին
F28: - Կապիտալ սուբվենցիաներ համայնքներին | G28: ='1'!D19 -> -944228.9 | H28: ='1'!E19 -> -944228.9 | I28: ='1'!F19 -> -944228.9 | J28: ='1'!G19 -> -944228.9
F29: ՀՀ Արագածոտնի մարզպետարան | G29: =G35 -> 124105.7 | H29: =H35 -> 124105.7 | I29: =I35 -> 124105.7 | J29: =J35 -> 124105.7
F30: այդ թվում` բյուջետային ծախսերի տնտեսագիտական դասակարգման հոդվածներ
F31: ԸՆԴԱՄԵՆԸ ԾԱԽՍԵՐ | G31: =G35 -> 124105.7 | H31: =H35 -> 124105.7 | I31: =I33 -> 124105.7 | J31: =J33 -> 124105.7
F32: ԸՆԹԱՑԻԿ ԾԱԽՍԵՐ | G32: =G35 -> 124105.7 | H32: =H35 -> 124105.7 | I32: =I33 -> 124105.7 | J32: =J33 -> 124105.7
F33: ԴՐԱՄԱՇՆՈՐՀՆԵՐ | G33: =G35 -> 124105.7 | H33: =H35 -> 124105.7 | I33: =I34 -> 124105.7 | J33: =J34 -> 124105.7
F34: Կապիտալ դրամաշնորհներ պետական հատվածի այլ մակարդակներին | G34: =G35 -> 124105.7 | H34: =H35 -> 124105.7 | I34: =+I35 -> 124105.7 | J34: =+J35 -> 124105.7
F35: - Կապիտալ սուբվենցիաներ համայնքներին | G35: ='1'!D20 -> 124105.7 | H35: ='1'!E20 -> 124105.7 | I35: ='1'!F20 -> 124105.7 | J35: ='1'!G20 -> 124105.7
F36: ՀՀ Արարատի մարզպետարան | G36: ='1'!D33 -> 70566.1 | H36: ='1'!E33 -> 70566.1 | I36: ='1'!F33 -> 70566.1 | J36: ='1'!G33 -> 70566.1
F37: այդ թվում` բյուջետային ծախսերի տնտեսագիտական դասակարգման հոդվածներ
F38: ԸՆԴԱՄԵՆԸ ԾԱԽՍԵՐ | G38: =G42 -> 70566.1 | H38: =H42 -> 70566.1 | I38: =I40 -> 70566.1 | J38: =J40 -> 70566.1
F39: ԸՆԹԱՑԻԿ ԾԱԽՍԵՐ | G39: =G42 -> 70566.1 | H39: =H42 -> 70566.1 | I39: =I40 -> 70566.1 | J39: =J40 -> 70566.1
F40: ԴՐԱՄԱՇՆՈՐՀՆԵՐ | G40: =G42 -> 70566.1 | H40: =H42 -> 70566.1 | I40: =I41 -> 70566.1 | J40: =J41 -> 70566.1
F41: Կապիտալ դրամաշնորհներ պետական հատվածի այլ մակարդակներին | G41: =G42 -> 70566.1 | H41: =H42 -> 70566.1 | I41: =+I42 -> 70566.1 | J41: =+J42 -> 70566.1
...

Sheet 3
D1: Հավելված № 3
D2: ՀՀ կառավարության 2022 թվականի
D3: -------------- ի № ---- -Ն որոշման
A5: ՀԱՅԱՍՏԱՆԻ ՀԱՆՐԱՊԵՏՈՒԹՅԱՆ ԿԱՌԱՎԱՐՈՒԹՅԱՆ 2021 ԹՎԱԿԱՆԻ ԴԵԿՏԵՄԲԵՐԻ 23-Ի № 2121-Ն ՈՐՈՇՄԱՆ № 9 ՀԱՎԵԼՎԱԾԻ № 9.7 ԱՂՅՈՒՍԱԿՈՒՄ ԿԱՏԱՐՎՈՂ ԼՐԱՑՈՒՄԸ
A6: ՀՀ տարածքային կառավարման և ենթակառուցվածքների նախարարություն
A9: Ծրագրի դասիչը | B9: Ծրագրի անվանումը
A10: 1212 | B10: Տարածքային զարգացում
A12: Ծրագրի միջոցառումները
A14: Ծրագրի դասիչը` | B14: 1212 | C14: Ցուցանիշների փոփոխությունները (ավելացումները նշված են դրական նշանով)
A15: Միջոցառման դասիչը` | B15: 12007 | C15: Առաջին եռամսյակ | D15: Առաջին կիսամյակ | E15: Ինն ամիս | F15: Տարի
A16: Միջոցառման անվանումը` | B16: ՀՀ մարզերին սուբվենցիաների տրամադրում` ենթակառուցվածքների զարգացման նպատակով_x000D_
A17: Նկարագրությունը` | B17: ՀՀ մարզերին սուբվենցիաների տրամադրում` ենթակառուցվածքների զարգացման նպատակով
A18: Միջոցառման տեսակը` | B18: Տրանսֆերտների տրամադրում
A19: Միջոցառումն իրականացնողի անվանումը | B19: ՀՀ համայնքներ
A20: Արդյունքի չափորոշիչներ
A21: ՀՀ համայնքների թիվ, հատ | C21: 63 | D21: 63 | E21: 63 | F21: 63
A22: Միջոցառման վրա կատարվող ծախսը (հազար դրամ) | C22: ='[1]2'!G20 -> 0 | D22: ='[1]2'!H20 -> 0 | E22: 0 | F22: 0

Sheet 4
D1: Հավելված № 4
D2: ՀՀ կառավարության 2022 թվականի
D3: -------------- ի № ---- -Ն որոշման
A6: ՀԱՅԱՍՏԱՆԻ ՀԱՆՐԱՊԵՏՈՒԹՅԱՆ ԿԱՌԱՎԱՐՈՒԹՅԱՆ 2021 ԹՎԱԿԱՆԻ ԴԵԿՏԵՄԲԵՐԻ 23-Ի № 2121-Ն ՈՐՈՇՄԱՆ № 9.1 ՀԱՎԵԼՎԱԾԻ № 9.1.49, 9.1.50, 9.1.52, 9.1.53, 9.1.55, 9.1.56 ԵՎ 9.1.59 ԱՂՅՈՒՍԱԿՆԵՐՈՒՄ ԿԱՏԱՐՎՈՂ ՓՈՓՈԽՈՒԹՅՈՒՆԸ ԵՎ ԼՐԱՑՈՒՄՆԵՐԸ
E7: Աղյուսակ 9.1.49
A8: ՀՀ Արագածոտնի մարզպետարան
A10: ՄԱՍ 1. ՊԵՏԱԿԱՆ ՄԱՐՄՆԻ ԳԾՈՎ ԱՐԴՅՈՒՆՔԱՅԻՆ (ԿԱՏԱՐՈՂԱԿԱՆ) ՑՈՒՑԱՆԻՇՆԵՐԸ
A12: Ծրագրի դասիչը | B12: Ծրագրի անվանումը
A13: 1212 | B13: Տարածքային զարգացում
A15: Ծրագրի միջոցառումները
A17: Ծրագրի դասիչը` | B17: 1212 | C17: Ցուցանիշների փոփոխությունները (ավելացումները նշված են դրական նշանով)
A18: Միջոցառման դասիչը` | B18: 12007 | C18: Առաջին եռամսյակ | D18: Առաջին կիսամյակ | E18: Ինն ամիս | F18: Տարի
A19: Միջոցառման անվանումը` | B19: ՀՀ մարզերին սուբվենցիաների տրամադրում` ենթակառուցվածքների զարգացման նպատակով_x000D_
A20: Նկարագրությունը` | B20: ՀՀ մարզերին սուբվենցիաների տրամադրում` ենթակառուցվածքների զարգացման նպատակով
A21: Միջոցառման տեսակը` | B21: Տրանսֆերտների տրամադրում
A22: Միջոցառումն իրականացնողի անվանումը | B22: ՀՀ համայնքներ
A23: Արդյունքի չափորոշիչներ
A24: ՀՀ համայնքների թիվ, հատ | C24: 11 | D24: 11 | E24: 11 | F24: 11
A25: Միջոցառման վրա կատարվող ծախսը (հազար դրամ) | C25: ='1'!D20 -> 124105.7 | D25: =C25 -> 124105.7 | E25: =D25 -> 124105.7 | F25: =E25 -> 124105.7
E28: Աղյուսակ 9.1.50
A29: ՀՀ Արարատի մարզպետարան
A31: ՄԱՍ 1. ՊԵՏԱԿԱՆ ՄԱՐՄՆԻ ԳԾՈՎ ԱՐԴՅՈՒՆՔԱՅԻՆ (ԿԱՏԱՐՈՂԱԿԱՆ) ՑՈՒՑԱՆԻՇՆԵՐԸ
A33: Ծրագրի դասիչը | B33: Ծրագրի անվանումը
A34: 1212 | B34: Տարածքային զարգացում
A36: Ծրագրի միջոցառումները
A38: Ծրագրի դասիչը` | B38: 1212 | C38: Ցուցանիշների փոփոխությունները (ավելացումները նշված են դրական նշանով)
A39: Միջոցառման դասիչը` | B39: 12007 | C39: Առաջին եռամսյակ | D39: Առաջին կիսամյակ | E39: Ինն ամիս | F39: Տարի
A40: Միջոցառման անվանումը` | B40: ՀՀ մարզերին սուբվենցիաների տրամադրում` ենթակառուցվածքների զարգացման նպատակով_x000D_
A41: Նկարագրությունը` | B41: ՀՀ մարզերին սուբվենցիաների տրամադրում` ենթակառուցվածքների զարգացման նպատակով
A42: Միջոցառման տեսակը` | B42: Տրանսֆերտների տրամադրում
A43: Միջոցառումն իրականացնողի անվանումը | B43: ՀՀ համայնքներ
A44: Արդյունքի չափորոշիչներ
A45: ՀՀ համայնքների թիվ, հատ | C45: 17 | D45: 17 | E45: 17 | F45: 17
A46: Միջոցառման վրա կատարվող ծախսը (հազար դրամ) | C46: ='1'!D33 -> 70566.1 | D46: =C46 -> 70566.1 | E46: =D46 -> 70566.1 | F46: =E46 -> 70566.1
E48: Աղյուսակ 9.1.51
A49: ՀՀ Արմավիրի մարզպետարան
A51: ՄԱՍ 1. ՊԵՏԱԿԱՆ ՄԱՐՄՆԻ ԳԾՈՎ ԱՐԴՅՈՒՆՔԱՅԻՆ (ԿԱՏԱՐՈՂԱԿԱՆ) ՑՈՒՑԱՆԻՇՆԵՐԸ
A53: Ծրագրի դասիչը | B53: Ծրագրի անվանումը
A54: 1212 | B54: Տարածքային զարգացում
A56: Ծրագրի միջոցառումները
...
