Workbook

Sheet 1
H1: Հավելված № 1
H2: ՀՀ կառավարության 2022 թվականի ----------
H3: № ---------- որոշման
A6: ՀԱՅԱՍՏԱՆԻ ՀԱՆՐԱՊԵՏՈՒԹՅԱՆ 2022 ԹՎԱԿԱՆԻ ՊԵՏԱԿԱՆ ԲՅՈՒՋԵԻ ՄԱՍԻՆ ՕՐԵՆՔԻ N 1 ՀԱՎԵԼՎԱԾԻ N 3 ԱՂՅՈՒՍԱԿՈՒՄ ԿԱՏԱՐՎՈՂ ՓՈՓՈԽՈՒԹՅՈՒՆՆԵՐԸ
G7: հազար դրամ
A8: Ծրագրային դասիչը | C8: Բյուջետային գլխավոր կարգադրիչների, ծրագրերի և միջոցառումների և ուղղությունների անվանումները | D8: Ընդամենը | E8: Ցուցանիշների փոփոխությունը (ավելացումները նշված են դրական նշանով, իսկ նվազեցումները` փակագծերում)
E9: այդ թվում
A10: Ծրագիր | B10: Միջոցառում | E10: Կառուցման աշխատանքներ | F10: Վերակառուցման, վերանորոգման և վերականգնման աշխատանքներ | G10: Նախագծահե- տազոտական, գեոդեզիա- քարտեզագրա- կան աշխա- տանքներ | H10: Ոչ ֆինանսական այլ ակտիվների ձեռքբերում
C11: Ընդամենը | D11: =+D13 -> 0 | E11: =+E13 -> -384738.3 | F11: =+F13 -> 349786.3 | G11: =+G13 -> 34952 | H11: =+H13 -> 0
C12: այդ թվում`
C13: ՀՀ արդարադատության նախարարություն | D13: =D15+D19 -> 0 | E13: =E15+E19 -> -384738.3 | F13: =F15+F19 -> 349786.3 | G13: =G15+G19 -> 34952 | H13: =H15+H19 -> 0
C14: այդ թվում՝
A15: 1228 | B15: 31001 | C15: Հակակոռուպցիոն կոմիտեի շենքային պայմանների ապահովում | D15: =E15+F15+G15+H15 -> 0 | E15: =E17+E18 -> -10462 | F15: =F17+F18 -> 0 | G15: =G17+G18 -> 10462 | H15: =H17+H18 -> 0
C16: այդ թվում՝
C17: Աջափնյակ վարչական շրջանի «Սպանդարյան» կայարանի երկաթգծին հարակից 15 հեկտար մակերեսով հողատարածքում Հակակոռուպցիոն կոմիտեի գործունեության համար անհրաժեշտ շենքային պայմանների ապահովում | D17: =E17+F17+G17+H17 -> -10462 | E17: -10462
C18: Աջափնյակ վարչական շրջանի «Սպանդարյան» կայարանի երկաթգծին հարակից 15 հեկտար մակերեսով հողատարածքում երկրաբանական հետազոտական ծառայություններ | D18: =E18+F18+G18+H18 -> 10462 | E18: 0 | G18: 10462
A19: 1228 | B19: 31002 | C19: Հակակոռուպցիոն դատարանի շենքային պայմանների ապահովում | D19: =D21+D22+D23+D25+D24 -> 0 | E19: =E21+E22+E23+E25+E24 -> -374276.3 | F19: =F21+F22+F23+F25+F24 -> 349786.3 | G19: =G21+G22+G23+G25+G24 -> 24490 | H19: =H21+H22+H23+H25+H24 -> 0 | I19: =E19+F19+G19 -> 0
C20: այդ թվում՝
C21: Աջափնյակ վարչական շրջանի «Սպանդարյան» կայարանի երկաթգծին հարակից 15 հեկտար մակերեսով հողատարածքում Հակակոռուպցիոն դատարանի գործունեության համար անհրաժեշտ շենքային պայմանների ապահովում | D21: =E21+F21+G21+H21 -> 0 | E21: -14690 | G21: 14690
C22: Աջափնյակ վարչական շրջանի «Սպանդարյան» կայարանի երկաթգծին հարակից 15 հեկտար մակերեսով հողատարածքում Հակակոռուպցիոն դատարանի գործունեության համար անհրաժեշտ շենքային պայմանների ապահովում | D22: =E22+F22+G22+H22 -> -374276.3 | E22: -359586.3 | F22: 0 | G22: -14690
C23: Երևանի Աջափնյակ համայնքի Արա Սարգսյան 5/1 հասցեում տեղակայված շենքի վերակառուցում | D23: =E23+F23+G23+H23 -> 349786.3 | E23: =0 -> 0 | F23: 349786.3
C24: Երևանի Աջափնյակ համայնքի Արա Սարգսյան 5/1 հասցեում տեղակայված շենքի վերակառուցման նախագծանախահաշվային փաստաթղթերի կազմման խորհրդատվական ծառայություններ | D24: =E24+F24+G24+H24 -> 4800 | E24: 0 | F24: 0 | G24: 4800
C25: Երևանի Աջափնյակ Սիլիկյան թաղամաս 12-րդ փողոց, 86 հասցեում տեղակայված տարածքում Հակակոռուպցիոն մասնագիտացված դատարանի շենքի կառուցման նախագծանախահաշվային փաստաթղթերի կազմման խորհրդատվական ծառայություններ | D25: =E25+F25+G25+H25 -> 19690 | E25: 0 | F25: 0 | G25: =5000+14690 -> 19690

Sheet 2
J1: Հավելված № 2
J2: ՀՀ կառավարության 2022 թվականի
J3: ___________ ___-ի N _______ որոշման
A6: ՀԱՅԱՍՏԱՆԻ ՀԱՆՐԱՊԵՏՈՒԹՅԱՆ ԿԱՌԱՎԱՐՈՒԹՅԱՆ 2021 ԹՎԱԿԱՆԻ ԴԵԿՏԵՄԲԵՐԻ 23-Ի N 2121-Ն ՈՐՈՇՄԱՆ N 3 և N 4 ՀԱՎԵԼՎԱԾՆԵՐՈՒՄ ԿԱՏԱՐՎՈՂ ՓՈՓՈԽՈՒԹՅՈՒՆՆԵՐԸ ԵՎ ԼՐԱՑՈՒՄՆԵՐԸ
I7: հազար դրամ
A8: Գործառական դասիչը | D8: Ծրագրային դասիչը | F8: Բյուջետային ծախսերի գործառական դասակարգման բաժինների, խմբերի և դասերի, բյուջետային ծրագրերի, միջոցառումների բյուջետային հատկացումնեյի գլխավոր կարկադրիչների անվանումները | G8: Ցուցանիշների փոփոխությունը (ավելացումները նշված են դրական նշանով, իսկ նվազեցումները` փակագծերում)
A9: Բաժին | B9: Խումբ | C9: Դաս | D9: Ծրագիր | E9: Միջոցառում | G9: Առաջին եռամսյակ | H9: Առաջին կիսամյակ | I9: Ինն ամիս | J9: Տարի
F10: ԸՆԴԱՄԵՆԸ | G10: =G12 -> 0 | H10: =H12 -> 0 | I10: =I12 -> 0 | J10: =J12 -> 0
F11: այդ թվում`
A12: 03 | F12: ՀԱՍԱՐԱԿԱԿԱՆ ԿԱՐԳ, ԱՆՎՏԱՆԳՈՒԹՅՈՒՆ ԵՎ ԴԱՏԱԿԱՆ ԳՈՐԾՈՒՆԵՈՒԹՅՈՒՆ | G12: =G14+G33 -> 0 | H12: =H14+H33 -> 0 | I12: =I14+I33 -> 0 | J12: =J14+J33 -> 0
F13: այդ թվում`
B14: 03 | F14: Դատական գործունեություն և իրավական պաշտպանություն | G14: =G16 -> 0 | H14: =H16 -> 0 | I14: =I16 -> 0 | J14: =J16 -> 0
F15: այդ թվում`
C16: 01 | F16: Դատարաններ | G16: =G18 -> 0 | H16: =H18 -> 0 | I16: =I18 -> 0 | J16: =J18 -> 0
F17: այդ թվում`
F18: ՀՀ արդարադատության նախարարություն | G18: =G20 -> 0 | H18: =H20 -> 0 | I18: =I20 -> 0 | J18: =J20 -> 0
F19: այդ թվում`
D20: 1228 | F20: Հակակոռուպցիոն քաղաքականության մշակում,ծրագրերի համակարգում և մոնիտորինգի իրականացում | G20: =G21 -> 0 | H20: =H21 -> 0 | I20: =I21 -> 0 | J20: =J21 -> 0 | N20: 1
E21: 31002 | F21: Հակակոռուպցիոն դատարանի շենքային պայմանների ապահովում | G21: =G23 -> 0 | H21: =H23 -> 0 | I21: =I23 -> 0 | J21: =J23 -> 0
F22: այդ թվում` ըստ կատարողների
F23: ՀՀ քաղաքաշինության կոմիտե | G23: =G25 -> 0 | H23: =H25 -> 0 | I23: =I25 -> 0 | J23: =J25 -> 0
F24: այդ թվում` բյուջետային ծախսերի տնտեսագիտական դասակարգման հոդվածներ
F25: ԸՆԴԱՄԵՆԸ ԾԱԽՍԵՐ | G25: =G26 -> 0 | H25: =H26 -> 0 | I25: =I26 -> 0 | J25: =J26 -> 0
F26: ՈՉ ՖԻՆԱՆՍԱԿԱՆ ԱԿՏԻՎՆԵՐԻ ԳԾՈՎ ԾԱԽՍԵՐ | G26: =G27 -> 0 | H26: =H27 -> 0 | I26: =I27 -> 0 | J26: =J27 -> 0
F27: ՀԻՄՆԱԿԱՆ ՄԻՋՈՑՆԵՐ | G27: =G28+G31 -> 0 | H27: =H28+H31 -> 0 | I27: =I28+I31 -> 0 | J27: =J28+J31 -> 0
F28: ՇԵՆՔԵՐ և ՇԻՆՈՒԹՅՈՒՆՆԵՐ | G28: =G29+G30 -> 0 | H28: =H29+H30 -> -9800 | I28: =I29+I30 -> -9800 | J28: =J29+J30 -> -9800
F29: - Շենքերի և շինությունների շինարարություն | H29: -69824.6 | I29: -263948 | J29: -359586.3
F30: - Շենքերի և շինությունների կապիտալ վերանորոգում | H30: 60024.6 | I30: 254148 | J30: 349786.3
F31: ԱՅԼ ՀԻՄՆԱԿԱՆ ՄԻՋՈՑՆԵՐ | G31: =G32 -> 0 | H31: =H32 -> 9800 | I31: =I32 -> 9800 | J31: =J32 -> 9800
F32: - Նախագծահետազոտական ծախսեր | H32: 9800 | I32: 9800 | J32: 9800
B33: 07 | F33: Նախաքննություն | G33: =G35 -> 0 | H33: =H35 -> 0 | I33: =I35 -> 0 | J33: =J35 -> 0
F34: այդ թվում`
C35: 01 | F35: Նախաքննություն | G35: =G37 -> 0 | H35: =H37 -> 0 | I35: =I37 -> 0 | J35: =J37 -> 0
F36: այդ թվում`
F37: ՀՀ արդարադատության նախարարություն | G37: =G39 -> 0 | H37: =H39 -> 0 | I37: =I39 -> 0 | J37: =J39 -> 0
F38: այդ թվում`
D39: 1228 | F39: Հակակոռուպցիոն քաղաքականության մշակում,ծրագրերի համակարգում և մոնիտորինգի իրականացում | G39: =G40 -> 0 | H39: =H40 -> 0 | I39: =I40 -> 0 | J39: =J40 -> 0 | N39: 1
E40: 31001 | F40: Հակակոռուպցիոն կոմիտեի շենքային պայմանների ապահովում_x000D_ | G40: =G42 -> 0 | H40: =H42 -> 0 | I40: =I42 -> 0 | J40: =J42 -> 0
F41: այդ թվում` ըստ կատարողների
F42: ՀՀ քաղաքաշինության կոմիտե | G42: =G44 -> 0 | H42: =H44 -> 0 | I42: =I44 -> 0 | J42: =J44 -> 0
F43: այդ թվում` բյուջետային ծախսերի տնտեսագիտական դասակարգման հոդվածներ
F44: ԸՆԴԱՄԵՆԸ ԾԱԽՍԵՐ | G44: =G45 -> 0 | H44: =H45 -> 0 | I44: =I45 -> 0 | J44: =J45 -> 0
F45: ՈՉ ՖԻՆԱՆՍԱԿԱՆ ԱԿՏԻՎՆԵՐԻ ԳԾՈՎ ԾԱԽՍԵՐ | G45: =G46 -> 0 | H45: =H46 -> 0 | I45: =I46 -> 0 | J45: =J46 -> 0
F46: ՀԻՄՆԱԿԱՆ ՄԻՋՈՑՆԵՐ | G46: =G47+G49 -> 0 | H46: =H47+H49 -> 0 | I46: =I47+I49 -> 0 | J46: =J47+J49 -> 0
F47: ՇԵՆՔԵՐ և ՇԻՆՈՒԹՅՈՒՆՆԵՐ | G47: =G48 -> 0 | H47: =H48 -> -10462 | I47: =I48 -> -10462 | J47: =J48 -> -10462
F48: - Շենքերի և շինությունների շինարարություն | H48: -10462 | I48: -10462 | J48: -10462
F49: ԱՅԼ ՀԻՄՆԱԿԱՆ ՄԻՋՈՑՆԵՐ | G49: =G50 -> 0 | H49: =H50 -> 10462 | I49: =I50 -> 10462 | J49: =J50 -> 10462
F50: - Նախագծահետազոտական ծախսեր | H50: 10462 | I50: 10462 | J50: 10462

Sheet 3
G1: Հավելված № 3
C2: ՀՀ կառավարության 2022 թվականի
C3: ______________ ի ___Ն որոշման
A5: ՀԱՅԱՍՏԱՆԻ ՀԱՆՐԱՊԵՏՈՒԹՅԱՆ ԿԱՌԱՎԱՐՈՒԹՅԱՆ 2021 ԹՎԱԿԱՆԻ ԴԵԿՏԵՄԲԵՐԻ 23-Ի N 2121-Ն ՈՐՈՇՄԱՆ N5 ՀԱՎԵԼՎԱԾԻ N2 ԱՂՅՈՒՍԱԿՈՒՄ ԿԱՏԱՐՎՈՂ ՓՈՓՈԽՈՒԹՅՈՒՆՆԵՐԸ
G7: հազար դրամ
A8: Ծրագրային դասիչ | C8: Բյուջետային գլխավոր կարգադրիչների, ծրագրերի, միջոցառումների, միջոցառումները կատարող պետական մարմինների և ուղղությունների անվանումները | D8: Ցուցանիշների փոփոխությունը (ավելացումները նշված են դրական նշանով, իսկ նվազեցումները` փակագծերում)
A9: Ծրագիր | B9: Միջոցառում | D9: Առաջին եռամսյակ | E9: Առաջին կիսամյակ | F9: Ինն ամիս | G9: Տարի
C10: ԸՆԴԱՄԵՆԸ | D10: =D11 -> 0 | E10: =E11 -> 0 | F10: =F11 -> 0 | G10: =G11 -> 0
C11: ՀՀ ԱՐԴԱՐԱԴԱՏՈՒԹՅԱՆ ՆԱԽԱՐԱՐՈՒԹՅՈՒՆ | D11: =D13+D19 -> 0 | E11: =E13+E19 -> 0 | F11: =F13+F19 -> 0 | G11: =G13+G19 -> 0
C12: այդ թվում`
A13: 1228 | B13: 31001 | C13: Հակակոռուպցիոն կոմիտեի շենքային պայմանների ապահովում | D13: =D15 -> 0 | E13: =E15 -> 0 | F13: =F15 -> 0 | G13: =G15 -> 0
C14: այդ թվում` ըստ կատարողների
C15: ՀՀ քաղաքաշինության կոմիտե | D15: =D17+D18 -> 0 | E15: =E17+E18 -> 0 | F15: =F17+F18 -> 0 | G15: =G17+G18 -> 0
C16: այդ թվում` ըստ ուղղությունների
C17: Աջափնյակ վարչական շրջանի «Սպանդարյան» կայարանի երկաթգծին հարակից 15 հեկտար մակերեսով հողատարածքում Հակակոռուպցիոն կոմիտեի գործունեության համար անհրաժեշտ շենքային պայմանների ապահովում | D17: ='2'!G48 -> 0 | E17: ='2'!H48 -> -10462 | F17: ='2'!I48 -> -10462 | G17: ='2'!J48 -> -10462
C18: Աջափնյակ վարչական շրջանի «Սպանդարյան» կայարանի երկաթգծին հարակից 15 հեկտար մակերեսով հողատարածքում երկրաբանական հետազոտական ծառայություններ | D18: ='2'!G50 -> 0 | E18: ='2'!H50 -> 10462 | F18: ='2'!I50 -> 10462 | G18: ='2'!J50 -> 10462
A19: 1228 | B19: 31002 | C19: Հակակոռուպցիոն դատարանի շենքային պայմանների ապահովում | D19: =D21 -> 0 | E19: =E21 -> 0 | F19: =F21 -> 0 | G19: =G21 -> 0
C20: այդ թվում` ըստ կատարողների
C21: ՀՀ քաղաքաշինության կոմիտե | D21: =SUM(D23:D26) -> 0 | E21: =SUM(E23:E26) -> 0 | F21: =SUM(F23:F26) -> 0 | G21: =SUM(G23:G26) -> 0
C22: այդ թվում` ըստ ուղղությունների
C23: Աջափնյակ վարչական շրջանի «Սպանդարյան» կայարանի երկաթգծին հարակից 15 հեկտար մակերեսով հողատարածքում Հակակոռուպցիոն դատարանի գործունեության համար անհրաժեշտ շենքային պայմանների ապահովում | D23: =-(D24+D25+D26) -> 0 | E23: =-(E24+E25+E26) -> -84514.6 | F23: =-(F24+F25+F26) -> -278638 | G23: =-(G24+G25+G26) -> -374276.3
C24: Երևանի Աջափնյակ համայնքի Արա Սարգսյան 5/1 հասցեում տեղակայված շենքի վերակառուցում | D24: 0 | E24: ='2'!H30 -> 60024.6 | F24: ='2'!I30 -> 254148 | G24: ='2'!J30 -> 349786.3
C25: Երևանի Աջափնյակ համայնքի Արա Սարգսյան 5/1 հասցեում տեղակայված շենքի վերակառուցման նախագծանախահաշվային փաստաթղթերի կազմման խորհրդատվական ծառայություններ | D25: 0 | E25: 4800 | F25: 4800 | G25: 4800
C26: Երևանի Աջափնյակ Սիլիկյան թաղամաս 12-րդ փողոց, 86 հասցեում տեղակայված տարածքում Հակակոռուպցիոն մասնագիտացված դատարանի շենքի կառուցման նախագծանախահաշվային փաստաթղթերի կազմման խորհրդատվական ծառայություններ | D26: 0 | E26: =5000+14690 -> 19690 | F26: =5000+14690 -> 19690 | G26: =5000+14690 -> 19690

Sheet 4
F2: Հավելված № 4
F3: ՀՀ կառավարության 2022թվականի
F4: ___________ ___-ի N _______ որոշման
A8: ՀԱՅԱՍՏԱՆԻ ՀԱՆՐԱՊԵՏՈՒԹՅԱՆ ԿԱՌԱՎԱՐՈՒԹՅԱՆ 2021 ԹՎԱԿԱՆԻ ԴԵԿՏԵՄԲԵՐԻ 23-Ի N 2121-Ն ՈՐՈՇՄԱՆ N 9 ՀԱՎԵԼՎԱԾԻ 9.9 ԱՂՅՈՒՍԱԿՈՒՄ ԿԱՏԱՐՎՈՂ ՓՈՓՈԽՈՒԹՅՈՒՆՆԵՐԸ ԵՎ ԼՐԱՑՈՒՄՆԵՐԸ
A10: ՀՀ արդարադատության նախարարություն
A12: ՄԱՍ 2. ՊԵՏԱԿԱՆ ՄԱՐՄՆԻ ԳԾՈՎ ԱՐԴՅՈՒՆՔԱՅԻՆ (ԿԱՏԱՐՈՂԱԿԱՆ) ՑՈՒՑԱՆԻՇՆԵՐԸ
A15: Ծրագրի դասիչը | B15: Ծրագրի անվանումը
A16: 1228 | B16: Հակակոռուպցիոն քաղաքականության մշակում,ծրագրերի համակարգում և մոնիտրինգի իրականացում
A18: Ծրագրի միջոցառումները
A20: Ծրագրի դասիչը` | B20: 1228 | C20: Ցուցանիշների փոփոխությունը (ավելացումները նշված են դրական նշանով, իսկ նվազեցումները` փակագծերում)
A21: Միջոցառման դասիչը` | B21: 31001 | C21: Առաջին եռամսյակ | D21: Առաջին կիսամյակ | E21: Ինն ամիս | F21: Տարի
A22: Միջոցառման անվանումը` | B22: Հակակոռուպցիոն կոմիտեի շենքային պայմանների ապահովում
A23: Նկարագրությունը` | B23: Ժամանակակից իրավապահ մարմնի կարիքները սպասարկող շենքի կառուցում հաշվի առնելով Հակակոռուպցիոն կոմիտեի գործառութները
A24: Միջոցառման տեսակը` | B24: Պետական մարմինների կողմից օգտագործվող ոչ ֆինանսական ակտիվների հետ գործառնություններ
A25: Ակտիվն օգտագործող կազմակերպության(ների) անվանում(ներ)ը | B25: Հակակոռուպցիոն կոմիտե
A26: Արդյունքի չափորոշիչներ
A27: Շինարարության աշխատանքների ավարտվածության աստիճանը, տոկոս | F27: -5
A28: Աջափնյակ վարչական շրջանի «Սպանդարյան» կայարանի երկաթգծին հարակից 15 հեկտար մակերեսով հողատարածքում երկրաբանական հետախուզական ծառայություններ | F28: 1
A29: Միջոցառման վրա կատարվող ծախսը (հազար դրամ) | C29: ='2'!G40 -> 0 | D29: ='2'!H40 -> 0 | E29: ='2'!I40 -> 0 | F29: ='2'!J40 -> 0
A32: Ծրագրի դասիչը` | B32: 1228 | C32: Ցուցանիշների փոփոխությունը (ավելացումները նշված են դրական նշանով, իսկ նվազեցումները` փակագծերում)
A33: Միջոցառման դասիչը` | B33: 31002 | C33: Առաջին եռամսյակ | D33: Առաջին կիսամյակ | E33: Ինն ամիս | F33: Տարի
A34: Միջոցառման անվանումը` | B34: Հակակոռուպցիոն դատարանի շենքային պայմանների ապահովում
A35: Նկարագրությունը` | B35: Հակակոռուպցիոն դատարանի կարիքները սպասարկող նոր շենքի կառուցում
A36: Միջոցառման տեսակը` | B36: Պետական մարմինների կողմից օգտագործվող ոչ ֆինանսական ակտիվների հետ գործառնություններ
A37: Ակտիվն օգտագործող կազմակերպության(ների) անվանում(ներ)ը | B37: Հակակոռուպցիոն դատարան
A38: Արդյունքի չափորոշիչներ
A39: Աջափնյակ վարչական շրջանի «Սպանդարյան» կայարանի երկաթգծին հարակից 15 հա մակերեսով հողատարածքում Հակակոռուպցիոն դատարանի նախագծահետազոտական փաստաթղթեր, հատ | F39: -1
A40: Երևանի Աջափնյակ Սիլիկյան թաղամաս 12-րդ փողոց, 86 հասցեում տեղակայված տարածքում Հակակոռուպցիոն մասնագիտացված դատարանի շենքի կառուցման նախագծանախահաշվային փաստաթղթերի կազմման խորհրդատվական ծառայություններ | F40: 1
A41: Շինարարական աշխատանքների ավարտվածության աստիճանը, տոկոս | F41: -7
A42: Երևանի Աջափնյակ համայնքի Արա Սարգսյան 5/1 հասցեում տեղակայված շենքի վերակառուցում, հատ | F42: 1
A43: Վերակառուցվող մակերես, քմ | F43: 1757.7
A44: Վերակառուցվող աշխատանքների ավարտվածության աստիճանը, տոկոս | F44: 100
A45: Միջոցառման վրա կատարվող ծախսը (հազար դրամ) | C45: ='2'!G21 -> 0 | D45: ='2'!H21 -> 0 | E45: ='2'!I21 -> 0 | F45: ='2'!J21 -> 0

Sheet 5
F2: Հավելված № 5
F3: ՀՀ կառավարության 2022 թվականի
F4: ___________ ___-ի N _______ որոշման
A8: ՀԱՅԱՍՏԱՆԻ ՀԱՆՐԱՊԵՏՈՒԹՅԱՆ ԿԱՌԱՎԱՐՈՒԹՅԱՆ 2021 ԹՎԱԿԱՆԻ ԴԵԿՏԵՄԲԵՐԻ 23-Ի N 2121-Ն ՈՐՈՇՄԱՆ N 9.1 ՀԱՎԵԼՎԱԾԻ 9.1.42 ԱՂՅՈՒՍԱԿՈՒՄ ԿԱՏԱՐՎՈՂ ՓՈՓՈԽՈՒԹՅՈՒՆՆԵՐԸ ԵՎ ԼՐԱՑՈՒՄՆԵՐԸ
A10: ՀՀ քաղաքաշինության կոմիտե
A12: ՄԱՍ 1. ՊԵՏԱԿԱՆ ՄԱՐՄՆԻ ԳԾՈՎ ԱՐԴՅՈՒՆՔԱՅԻՆ (ԿԱՏԱՐՈՂԱԿԱՆ) ՑՈՒՑԱՆԻՇՆԵՐԸ
A14: Ծրագրի դասիչը | B14: Ծրագրի անվանումը
A15: 1228 | B15: Հակակոռուպցիոն քաղաքականության մշակում,ծրագրերի համակարգում և մոնիտրինգի իրականացում
A17: Ծրագրի միջոցառումները
A19: Ծրագրի դասիչը` | B19: 1228 | C19: Ցուցանիշների փոփոխությունը (ավելացումները նշված են դրական նշանով, իսկ նվազեցումները` փակագծերում)
A20: Միջոցառման դասիչը` | B20: 31001 | C20: Առաջին եռամսյակ | D20: Առաջին կիսամյակ | E20: Ինն ամիս | F20: Տարի
A21: Միջոցառման անվանումը` | B21: Հակակոռուպցիոն կոմիտեի շենքային պայմանների ապահովում
A22: Նկարագրությունը` | B22: Ժամանակակից իրավապահ մարմնի կարիքները սպասարկող շենքի կառուցում հաշվի առնելով Հակակոռուպցիոն կոմիտեի գործառութները
A23: Միջոցառման տեսակը` | B23: Պետական մարմինների կողմից օգտագործվող ոչ ֆինանսական ակտիվների հետ գործառնություններ
A24: Ակտիվն օգտագործող կազմակերպության(ների) անվանում(ներ)ը | B24: Հակակոռուպցիոն կոմիտե
A25: Արդյունքի չափորոշիչներ
A26: Շինարարության աշխատանքների ավարտվածության աստիճանը, տոկոս | F26: -5
A27: Աջափնյակ վարչական շրջանի «Սպանդարյան» կայարանի երկաթգծին հարակից 15 հեկտար մակերեսով հողատարածքում երկրաբանական հետախուզական ծառայություններ | F27: 1
A28: Միջոցառման վրա կատարվող ծախսը (հազար դրամ) | C28: ='2'!G39 -> 0 | D28: ='2'!H39 -> 0 | E28: ='2'!I39 -> 0 | F28: ='2'!J39 -> 0
A31: Ծրագրի դասիչը` | B31: 1228 | C31: Ցուցանիշների փոփոխությունը (ավելացումները նշված են դրական նշանով, իսկ նվազեցումները` փակագծերում)
A32: Միջոցառման դասիչը` | B32: 31002 | C32: Առաջին եռամսյակ | D32: Առաջին կիսամյակ | E32: Ինն ամիս | F32: Տարի
A33: Միջոցառման անվանումը` | B33: Հակակոռուպցիոն դատարանի շենքային պայմանների ապահովում
A34: Նկարագրությունը` | B34: Հակակոռուպցիոն դատարանի կարիքները սպասարկող նոր շենքի կառուցում
A35: Միջոցառման տեսակը` | B35: Պետական մարմինների կողմից օգտագործվող ոչ ֆինանսական ակտիվների հետ գործառնություններ
A36: Ակտիվն օգտագործող կազմակերպության(ների) անվանում(ներ)ը | B36: Հակակոռուպցիոն դատարան
A37: Արդյունքի չափորոշիչներ
A38: Աջափնյակ վարչական շրջանի «Սպանդարյան» կայարանի երկաթգծին հարակից 15 հա մակերեսով հողատարածքում Հակակոռուպցիոն դատարանի նախագծահետազոտական փաստաթղթեր, հատ | F38: -1
A39: Երևանի Աջափնյակ Սիլիկյան թաղամաս 12-րդ փողոց, 86 հասցեում տեղակայված տարածքում Հակակոռուպցիոն մասնագիտացված դատարանի շենքի կառուցման նախագծանախահաշվային փաստաթղթերի կազմման խորհրդատվական ծառայություններ | F39: 1
A40: Շինարարական աշխատանքների ավարտվածության աստիճանը, տոկոս | F40: -7
A41: Երևանի Աջափնյակ համայնքի Արա Սարգսյան 5/1 հասցեում տեղակայված շենքի վերակառուցում, հատ | F41: 1
A42: Վերակառուցվող մակերես, քմ | F42: 1757.7
A43: Վերակառուցվող աշխատանքների ավարտվածության աստիճանը, տոկոս | F43: 100
A44: Միջոցառման վրա կատարվող ծախսը (հազար դրամ) | C44: ='2'!G20 -> 0 | D44: ='2'!H20 -> 0 | E44: ='2'!I20 -> 0 | F44: ='2'!J20 -> 0

Sheet 6
E1: Հավելված № 6
E2: ՀՀ կառավարության
E3: 2022 թվականի __________
E4: N -Ն որոշման
A5: ՀԱՅԱՍՏԱՆԻ ՀԱՆՐԱՊԵՏՈՒԹՅԱՆ ԿԱՌԱՎԱՐՈՒԹՅԱՆ 2021 ԹՎԱԿԱՆԻ ԴԵԿՏԵՄԲԵՐԻ 23-Ի N 2121-Ն ՈՐՈՇՄԱՆ N 10 ՀԱՎԵԼՎԱԾԻ ՑՈՒՑԱՆԻՇՆԵՐՈՒՄ ԿԱՏԱՐՎՈՂ ՓՈՓՈԽՈՒԹՅՈՒՆՆԵՐԸ
A7: Կոդը | B7: Անվանումը | C7: Գնման ձևը | D7: Չափի միավորը | E7: միավորի գինը | F7: Ցուցանիշների փոփոխությունը (ավելացումները նշված են դրական նշանով, իսկ նվազեցումները` փակագծերում)
F8: քանակը | G8: գումարը (հազար դրամով)
A9: 1 | B9: 2 | C9: 3 | D9: 4 | E9: 5 | F9: 6 | G9: 7
A10: ՀՀ քաղաքաշինության կոմիտե | G10: =G12+G22 -> 0
A11: Բաժին N 03 Խումբ N 03 Դաս N 01 Դատարաններ
A12: 1228 | B12: 31002 | C12: Հակակոռուպցիոն դատարանների շենքային պայմանների ապահովում | G12: =G13+G16 -> 0
B13: ՄԱՍ II. ԱՇԽԱՏԱՆՔՆԵՐ | G13: =G14+G15 -> -22687.6
A14: 45611300-1 | B14: այլ շենքերի, շինությունների հիմնանորոգում | C14: ԲՄ | D14: դրամ | G14: ='2'!J29 -> -359586.3
A15: 45221142 | B15: ընդհանուր շինարարական աշխատանքներ | C15: ՀԲՄ | D15: դրամ | E15: 336898700 | F15: 1 | G15: =E15*F15/1000 -> 336898.7
B16: ՄԱՍ III. ԾԱՌԱՅՈՒԹՅՈՒՆՆԵՐ | G16: =G17+G18+G19+G20 -> 22687.6
A17: 71241200-1 | B17: նախագծերի պատրաստում, ծախսերի գնահատում | C17: ԳՀ | D17: դրամ | E17: 5000000 | G17: 5000
A18: 71241200 | B18: նախագծերի պատրաստում, ծախսերի գնահատում | C18: ՄԱ | D18: դրամ | E18: 4800000 | F18: 1 | G18: =E18*F18/1000 -> 4800
A19: 71351540 | B19: տեխնիկական հսկողության ծառայություններ | C19: ԳՀ | D19: դրամ | E19: 10379000 | F19: 1 | G19: =E19*F19/1000 -> 10379
A20: 98111140 | B20: հեղինակային հսկողության ծառայություններ | C20: ՄԱ | D20: դրամ | E20: 2508600 | F20: 1 | G20: =E20*F20/1000 -> 2508.6
A21: Բաժին N 03 Խումբ N 07 Դաս N 01 Նախաքննություն
A22: 1228 | B22: 31001 | C22: Հակակոռուպցիոն կոմիտեի շենքային պայմանների ապահովում | G22: =G23 -> 0
B23: ՄԱՍ II. ԱՇԽԱՏԱՆՔՆԵՐ | G23: =G24+G25 -> 0
A24: 45611300-1 | B24: այլ շենքերի, շինությունների հիմնանորոգում | C24: ԲՄ | D24: դրամ | G24: ='2'!J48 -> -10462
A25: 71351230 | B25: երկրաբանական հետազոտական ծառայություններ | C25: ՄԱ | D25: դրամ | E25: 10462000 | F25: 1 | G25: =E25*F25/1000 -> 10462
