Workbook
Name _tab10: #REF!
Name _tab10: #REF!
Name _tab10: #REF!
Name _tab10: #REF!
Name _tab10: #REF!
Name _tab11: #REF!
Name _tab11: #REF!
Name _tab11: #REF!
Name _tab11: #REF!
Name _tab11: #REF!
Name _tab12: #REF!
Name _tab12: #REF!
Name _tab12: #REF!
Name _tab12: #REF!
Name _tab12: #REF!
Name _tab13: #REF!
Name _tab13: #REF!
Name _tab13: #REF!
Name _tab13: #REF!
Name _tab13: #REF!
Name _tab14: #REF!
Name _tab14: #REF!
Name _tab14: #REF!
Name _tab14: #REF!
Name _tab14: #REF!
Name _tab15: #REF!
Name _tab15: #REF!
Name _tab15: #REF!
Name _tab15: #REF!
Name _tab15: #REF!
Name _tab16: #REF!
Name _tab16: #REF!
Name _tab16: #REF!
Name _tab16: #REF!
Name _tab16: #REF!
Name _tab17: #REF!
Name _tab17: #REF!
Name _tab17: #REF!
Name _tab17: #REF!
Name _tab17: #REF!
Name _tab18: #REF!
Name _tab18: #REF!
Name _tab18: #REF!
Name _tab18: #REF!
Name _tab18: #REF!
Name _tab19: #REF!
Name _tab19: #REF!
Name _tab19: #REF!
Name _tab19: #REF!
Name _tab19: #REF!
Name _tab20: #REF!
Name _tab20: #REF!
Name _tab20: #REF!
Name _tab20: #REF!
Name _tab20: #REF!
Name _tab21: #REF!
Name _tab21: #REF!
Name _tab21: #REF!
Name _tab21: #REF!
Name _tab21: #REF!

Sheet 1
F1: Հավելված N 1
F2: ՀՀ կառավարության 2022 թվականի
F3: ___________ ___-ի N _______ -Ն որոշման
A7: «ՀԱՅԱՍՏԱՆԻ ՀԱՆՐԱՊԵՏՈՒԹՅԱՆ 2022 ԹՎԱԿԱՆԻ ՊԵՏԱԿԱՆ ԲՅՈՒՋԵԻ ՄԱՍԻՆ» ՀԱՅԱՍՏԱՆԻ ՀԱՆՐԱՊԵՏՈՒԹՅԱՆ ՕՐԵՆՔԻ N 1 ՀԱՎԵԼՎԱԾԻ N 2 ԱՂՅՈՒՍԱԿՈՒՄ ԿԱՏԱՐՎՈՂ ՎԵՐԱԲԱՇԽՈՒՄԸ ԵՎ ՀԱՅԱՍՏԱՆԻ ՀԱՆՐԱՊԵՏՈՒԹՅԱՆ ԿԱՌԱՎԱՐՈՒԹՅԱՆ 2021 ԹՎԱԿԱՆԻ ԴԵԿՏԵՄԲԵՐԻ 23-Ի N 2121-Ն ՈՐՈՇՄԱՆ N 5 ՀԱՎԵԼՎԱԾԻ N 1 ԱՂՅՈՒՍԱԿՈՒՄ ԿԱՏԱՐՎՈՂ ՓՈՓՈԽՈՒԹՅՈՒՆՆԵՐԸ
F8: (հազ.դրամ)
A9: Ծրագրային դասիչը | C9: Բյուջետային հատկացումների գլխավոր կարգադրիչների, ծրագրերի և միջոցառումների անվանումները | D9: Ցուցանիշների փոփոխությունը (ավելացումները նշված են դրական նշանով, իսկ նվազեցումները՝ փակագծերում)
D10: Առաջին կիսամյակ | E10: Ինն ամիս | F10: Տարի
A11: Ծրագիր | B11: Միջոցառում
C12: Ընդամենը | D12: =D27+D13 -> 0 | E12: =E27+E13 -> 0 | F12: =F27+F13 -> 0
C13: ՀՀ կառավարություն | D13: =+D15 -> 0 | E13: =+E15 -> 0 | F13: =+F15 -> -2789884.4
A14: 1139 | C14: Ծրագրի անվանումը`
C15: ՀՀ կառավարության պահուստային ֆոնդ | D15: =D21 -> 0 | E15: =E21 -> 0 | F15: =F21 -> -2789884.4
C16: Ծրագրի նպատակը`
C17: Պետական բյուջեում չկանխատեսված, ինչպես նաեւ բյուջետային երաշխիքների ապահովման ծախսերի ֆինանսավորման ապահովում
C18: Վերջնական արդյունքի նկարագրությունը`
C19: Պահուստային ֆոնդի կառավարման արդյունավետության և թափանցիկության ապահովում
A20: Ծրագրի միջոցառումներ
B21: 11001 | C21: Միջոցառման անվանումը` | D21: =+'2'!G24 -> 0 | E21: =+'2'!H24 -> 0 | F21: =+'2'!I24 -> -2789884.4
C22: ՀՀ կառավարության պահուստային ֆոնդ
C23: Միջոցառման նկարագրությունը`
C24: ՀՀ պետական բյուջեում նախատեսված ելքերի լրացուցիչ ֆինանսավորման, պետական բյուջեում չկանխատեսված ելքերի, ինչպես նաև բյուջետային երաշխիքների ապահովման ելքերի ֆինանսավորման ապահովում
C25: Միջոցառման տեսակը
C26: Ծառայությունների մատուցում
C27: ՀՀ պաշտպանության նախարարություն | D27: =+D29 -> 0 | E27: =+E29 -> 0 | F27: =+F29 -> 2789884.4
C28: Ծրագրի անվանումը՝
A29: 1169 | C29: ՀՀ պաշտպանության ապահովում | D29: =D35 -> 0 | E29: =E35 -> 0 | F29: =F35 -> 2789884.4
C30: Ծրագրի նպատակը՝
C31: ՀՀ ԶՈւ ռազմավարական ծավալումն ապահովող մարտական պատրաստականության պահպանում՝ արտաքին թշնամուց ՀՀ պետական սահմանների պաշտպանության ապահովում
C32: Վերջնական արդյունքի նկարագրությունը՝
C33: ՀՀ ԶՈւ ռազմավարական ծավալումն ապահովող մարտական պատրաստականության պահպանում
A34: Ծրագրի միջոցառումներ
B35: 11001 | C35: Միջոցառման անվանումը՝ | D35: =+'2'!G40 -> 0 | E35: =+'2'!H40 -> 0 | F35: =+'2'!I40 -> 2789884.4
C36: Ռազմական կարիքների բավարարում
C37: Միջոցառման նկարագրությունը՝
C38: Ընթացիկ գործունեության ապահովման գործողություններ
C39: Միջոցառման տեսակը
C40: Ծառայությունների մատուցում

Sheet 2
I1: Հավելված N 2
F2: ՀՀ կառավարության 2022 թվականի
F3: ___________ ___-ի N _______ -Ն որոշման
A7: ՀԱՅԱՍՏԱՆԻ ՀԱՆՐԱՊԵՏՈՒԹՅԱՆ ԿԱՌԱՎԱՐՈՒԹՅԱՆ 2021 ԹՎԱԿԱՆԻ ԴԵԿՏԵՄԲԵՐԻ 23-Ի N 2121-Ն ՈՐՈՇՄԱՆ N 3 և 4 ՀԱՎԵԼՎԱԾՆԵՐՈՒՄ ԿԱՏԱՐՎՈՂ ՓՈՓՈԽՈՒԹՅՈՒՆՆԵՐԸ
I8: (հազ.դրամ)
A10: Գործառական դասիչը | D10: Ծրագրային դասիչը | F10: Բյուջետային ծախսերի գործառական դասակարգման բաժինների, խմբերի և դասերի, բյուջետային ծրագրերի միջոցառումների, բյուջետային հատկացումների գլխավոր կարգադրիչների անվանումները | G10: Ցուցանիշների փոփոխությունը (ավելացումները նշված են դրական նշանով, իսկ նվազեցումները՝ փակագծերում)
G11: Առաջին կիսամյակ | H11: Ինն ամիս | I11: Տարի
A12: Բաժին | B12: Խումբ | C12: Դաս | D12: Ծրագիր | E12: Միջոցառում
F13: ԸՆԴԱՄԵՆԸ ԾԱԽՍԵՐ այդ թվում՝ | G13: =G32+G14 -> 0 | H13: =H32+H14 -> 0 | I13: =I32+I14 -> 0
A14: 11 | F14: ՀԻՄՆԱԿԱՆ ԲԱԺԻՆՆԵՐԻՆ ՉԴԱՍՎՈՂ ՊԱՀՈՒՍՏԱՅԻՆ ՖՈՆԴԵՐ | G14: =+G16 -> 0 | H14: =+H16 -> 0 | I14: =+I16 -> -2789884.4
F15: այդ թվում`
B16: 01 | F16: ՀՀ կառավարության պահուստային ֆոնդ | G16: =+G18 -> 0 | H16: =+H18 -> 0 | I16: =+I18 -> -2789884.4
F17: այդ թվում`
C18: 01 | F18: ՀՀ կառավարության պահուստային ֆոնդ | G18: =+G20 -> 0 | H18: =+H20 -> 0 | I18: =+I20 -> -2789884.4
F19: այդ թվում`
F20: ՀՀ կառավարություն | G20: =+G22 -> 0 | H20: =+H22 -> 0 | I20: =+I22 -> -2789884.4
F21: այդ թվում`
D22: 1139 | F22: ՀՀ կառավարության պահուստային ֆոնդ | G22: =+G24 -> 0 | H22: =+H24 -> 0 | I22: =+I24 -> -2789884.4
F23: այդ թվում`
E24: 11001 | F24: ՀՀ կառավարության պահուստային ֆոնդ | G24: =+G26 -> 0 | H24: =+H26 -> 0 | I24: =+I26 -> -2789884.4
F25: այդ թվում` ըստ կատարողների
F26: ՀՀ կառավարություն | G26: =+G28 -> 0 | H26: =+H28 -> 0 | I26: =+I28 -> -2789884.4
F27: այդ թվում` բյուջետային ծախսերի տնտեսագիտական դասակարգման հոդվածներ
F28: ԸՆԴԱՄԵՆԸ ԾԱԽՍԵՐ | G28: =+G29 -> 0 | H28: =+H29 -> 0 | I28: =+I29 -> -2789884.4
F29: ԸՆԹԱՑԻԿ ԾԱԽՍԵՐ | G29: =+G30 -> 0 | H29: =+H30 -> 0 | I29: =+I30 -> -2789884.4
F30: ԱՅԼ ԾԱԽՍԵՐ | G30: =+G31 -> 0 | H30: =+H31 -> 0 | I30: =+I31 -> -2789884.4
F31: - Պահուստային միջոցներ | G31: 0 | H31: 0 | I31: -2789884.4
A32: 02 | F32: ՊԱՇՏՊԱՆՈՒԹՅՈՒՆ | G32: =+G34 -> 0 | H32: =+H34 -> 0 | I32: =+I34 -> 2789884.4
F33: այդ թվում`
B34: 01 | F34: Ռազմական պաշտպանություն | G34: =+G36 -> 0 | H34: =+H36 -> 0 | I34: =+I36 -> 2789884.4
F35: այդ թվում`
C36: 01 | F36: Ռազմական պաշտպանություն | G36: =+G38 -> 0 | H36: =+H38 -> 0 | I36: =+I38 -> 2789884.4
F37: այդ թվում`
F38: ՀՀ պաշտպանության նախարարություն | G38: =+G39 -> 0 | H38: =+H39 -> 0 | I38: =+I39 -> 2789884.4
D39: 1169 | F39: ՀՀ պաշտպանության ապահովում | G39: =G40 -> 0 | H39: =H40 -> 0 | I39: =I40 -> 2789884.4
E40: 11001 | F40: Ռազմական կարիքների բավարարում | G40: =+G42 -> 0 | H40: =+H42 -> 0 | I40: =+I42 -> 2789884.4
F41: այդ թվում` ըստ կատարողների
F42: ՀՀ պաշտպանության նախարարություն | G42: =+G44 -> 0 | H42: =+H44 -> 0 | I42: =+I44 -> 2789884.4
F43: այդ թվում` բյուջետային ծախսերի տնտեսագիտական դասակարգման հոդվածներ
F44: ԸՆԴԱՄԵՆԸ ԾԱԽՍԵՐ | G44: =+G45 -> 0 | H44: =+H45 -> 0 | I44: =+I45 -> 2789884.4
F45: ԸՆԹԱՑԻԿ ԾԱԽՍԵՐ | G45: =+G46 -> 0 | H45: =+H46 -> 0 | I45: =+I46 -> 2789884.4
F46: ԱՅԼ ԾԱԽՍԵՐ | G46: =+G47 -> 0 | H46: =+H47 -> 0 | I46: =+I47 -> 2789884.4
F47: - Այլ ծախսեր | G47: 0 | H47: 0 | I47: 2789884.4

Sheet 3
E1: Հավելված N 3
B2: ՀՀ կառավարության 2022 թվականի
B3: ______________ ի ___Ն որոշման
A6: ՀԱՅԱՍՏԱՆԻ ՀԱՆՐԱՊԵՏՈՒԹՅԱՆ ԿԱՌԱՎԱՐՈՒԹՅԱՆ 2021 ԹՎԱԿԱՆԻ ԴԵԿՏԵՄԲԵՐԻ 23-Ի N 2121-Ն ՈՐՈՇՄԱՆ N 9 ՀԱՎԵԼՎԱԾԻ N 9.15 ԵՎ N 9.1 ՀԱՎԵԼՎԱԾԻ N 9.1.15 ԱՂՅՈՒՍԱԿՆԵՐՈՒՄ ԿԱՏԱՐՎՈՂ ՓՈՓՈԽՈՒԹՅՈՒՆՆԵՐԸ
A7: ՀՀ պաշտպանության նախարարություն
A9: Ծրագրի դասիչը | B9: Ծրագրի անվանումը
A10: 1169 | B10: ՀՀ պաշտպանության ապահովում
A12: Ծրագրի միջոցառումները
A14: Ծրագրի դասիչը` | B14: 1169 | C14: Ցուցանիշների փոփոխությունը (ավելացումները նշված են դրական նշանով)
A15: Միջոցառման դասիչը` | B15: 11001 | C15: Առաջին կիսամյակ | D15: Ինն ամիս | E15: Տարի
A16: Միջոցառման անվանումը` | B16: Ռազմական կարիքների բավարարում
A17: Նկարագրությունը` | B17: Ընթացիկ գործունեության ապահովման գործողություններ
A18: Միջոցառման տեսակը` | B18: Ծառայությունների մատուցում
A19: Միջոցառումն իրականացնողի անվանումը | B19: ՀՀ պաշտպանության նախարարություն
A20: Արդյունքի չափորոշիչներ
A21: չի սահմանվում
A22: Միջոցառման վրա կատարվող ծախսը (հազար դրամ) | C22: =+'2'!G40 -> 0 | D22: =+'2'!H40 -> 0 | E22: =+'2'!I40 -> 2789884.4

Sheet 4
E1: Հավելված N 4
B2: ՀՀ կառավարության 2022 թվականի
B3: ______________ ի ___Ն որոշման
A6: ՀԱՅԱՍՏԱՆԻ ՀԱՆՐԱՊԵՏՈՒԹՅԱՆ ԿԱՌԱՎԱՐՈՒԹՅԱՆ 2021 ԹՎԱԿԱՆԻ ԴԵԿՏԵՄԲԵՐԻ 23-Ի N 2121-Ն ՈՐՈՇՄԱՆ N 9 ՀԱՎԵԼՎԱԾԻ N 9.47 ԵՎ N 9.1 ՀԱՎԵԼՎԱԾԻ N 9.1.58 ԱՂՅՈՒՍԱԿՆԵՐՈՒՄ ԿԱՏԱՐՎՈՂ ՓՈՓՈԽՈՒԹՅՈՒՆՆԵՐԸ
A7: ՀՀ կառավարություն
A9: Ծրագրի դասիչը | B9: Ծրագրի անվանումը
A10: 1139 | B10: ՀՀ կառավարության պահուստային ֆոնդ
A12: Ծրագրի միջոցառումները
A14: Ծրագրի դասիչը` | B14: 1139 | C14: Ցուցանիշների փոփոխությունը (նվազեցումները նշված են փակագծերում)
A15: Միջոցառման դասիչը` | B15: 11001 | C15: Առաջին կիսամյակ | D15: Ինն ամիս | E15: Տարի
A16: Միջոցառման անվանումը` | B16: ՀՀ կառավարության պահուստային ֆոնդ
A17: Նկարագրությունը` | B17: ՀՀ պետական բյուջեում նախատեսված ելքերի լրացուցիչ ֆինանսավորման, պետական բյուջեում չկանխատեսված ելքերի, ինչպես նաև բյուջետային երաշխիքների ապահովման ելքերի ֆինանսավորման ապահովում
A18: Միջոցառման տեսակը` | B18: Ծառայությունների մատուցում
A19: Միջոցառումն իրականացնողի անվանումը | B19: ՀՀ կառավարություն
A20: Արդյունքի չափորոշիչներ
A21: Միջոցառման վրա կատարվող ծախսը (հազար դրամ) | C21: =+'2'!G24 -> 0 | D21: =+'2'!H24 -> 0 | E21: =+'2'!I24 -> -2789884.4

Sheet Sheet1
A1: 4239 | B1: 20939.6
A2: 4252 | B2: 4001.2
A3: 4261 | B3: 24221.5
A4: 4264 | B4: 658398.2
A5: 4267 | B5: 51113.2
A6: 4269 | B6: 58135.2
A7: 5121 | B7: 34800
A8: 5122 | B8: 30780.6
A9: 5129 | B9: 165718.2
A10: 5132 | B10: 33.2
